{"text_format":"1","workbook":"xlsx","n_sheets":6,"sheets":["Instructions","Input","Calc_Data","Ref_Speeds","Calc_WHDHC","Output_WHDHC"],"not_rendered":{"charts":0,"images":0,"macros":1,"external_links":0,"defined_names":0,"comments":0,"pivot_tables":0},"unopened":[],"bounds":{"document_bytes":16777216,"sheet_cells":100000,"rows_first":2000,"rows_last":500,"rows_between":2000,"halvings":0,"cell_chars":16384,"cell_head_chars":4096},"cells_cut":0,"cells_raw":0,"read":"whole","date_system":"1900"}

{"sheet":"Instructions","index":0,"n_rows":24,"n_cols":4,"rows_kept":24,"cut":false,"hidden":false,"merged":[[2,0,2,12],[4,0,6,0],[8,0,9,0],[13,0,14,0]]}
[]
[]
["4 steps to calculate the WHDHC from full load curve data"]
[]
[1,"Input the requested data into the green fields in worksheet \"Input\" (pay attention to the respective unit)."]
[null,"Start with the header fields of general data in row 1-5."]
[null,"The value for \"Transmission type\" has to be selected in the drop down menu that appears when clicking on the respective input cell."]
[]
[2,"Then input the full load data beginning with row 11."]
[null,"Concerning the full load data, the values have to be entered in increasing order starting from idle speed."]
[]
[3,"If all requested data is entered correctly, click the button \"Generate WHDHC from Full load data\"."]
[]
[4,"A message box appears when the calculation of the WHDHC is finished and the results are shown in the worksheet \"Output_WHDHC\"."]
[null,"The worksheets \"Calc_Data\", \"Ref_Speeds\" and \"Calc_WHDHC\" are only needed for calculation purposes and provide additional interim results."]
[]
[]
[]
[]
[]
["Contact information:"]
[]
[null,"Gérard Silberholz",null,"silberholz@ivt.tugraz.at"]
[null,"Stefan Hausberger",null,"hausberger@ivt.tugraz.at"]

{"sheet":"Input","index":1,"n_rows":35,"n_cols":3,"rows_kept":35,"cut":false,"hidden":false,"merged":[[7,0,7,2]]}
["P rated [kW]:",{"$f":"329.68","v":329.68}]
["n rated [min-1]:",1900]
["n @ idling [min-1]:",560]
["Transmission type:",null,"     Transmission efficiency for direct transmission is 0.98 and 0.95 for others, in addition 0.95 for the final reduction gear (acc. to Japanese Kokujikan No. 281 of 16.03.2007)"]
["Wheel radius [m]:",0.95799999999999996]
[]
[]
["Full load data"]
["n [min-1]:"," Pe [kW]","Pmot [kW]"]
["speed","power","motoring power"]
[560,57.603000000000002,-8.2420000000000009]
[627,76.356999999999999,-9.0660000000000007]
[694,96.766999999999996,-9.9440000000000008]
[761,117.504,-10.882999999999999]
[828,139.81,-11.929]
[895,164.28,-13.035]
[962,196.50800000000001,-14.222]
[1029,219.56399999999999,-15.66]
[1096,237.762,-17.184000000000001]
[1163,255.63800000000001,-18.798999999999999]
[1230,271.024,-20.567]
[1297,286.35399999999998,-22.433]
[1364,301.00700000000001,-24.477]
[1431,311.57400000000001,-26.704000000000001]
[1498,318.678,-29.103000000000002]
[1565,322.64299999999997,-32.003999999999998]
[1632,325.03199999999998,-34.884999999999998]
[1699,326.56900000000002,-37.756]
[1766,327.36900000000003,-40.656999999999996]
[1833,327.86700000000002,-43.683]
[1900,329.53399999999999,-46.814999999999998]
[1967,301.029,-50.606000000000002]
[2034,260.54199999999997,-54.503999999999998]
[2101,216.62200000000001,-58.526000000000003]
[2168,161.435,-62.639000000000003]

{"sheet":"Calc_Data","index":2,"n_rows":166,"n_cols":11,"rows_kept":166,"cut":false,"hidden":false,"merged":[[1,0,1,10]]}
[]
["For calculation purposes only"]
[]
["n [min-1]","P_max [W]","T_max [Nm]","P_mot [W]","T_mot [Nm]",null,"n [min-1]","P_max [W]","T_max [Nm]","T_mot [Nm]","T_sum [Nm]"]
[560,57603,982,-8242,-141,null,560,57603,982,-141,0]
[627,76357,1163,-9066,-138,null,570,60402,1009,-141,9820]
[694,96767,1331,-9944,-137,null,580,63201,1036,-140,19910]
[761,117504,1474,-10883,-137,null,590,66000,1063,-140,30270]
[828,139810,1612,-11929,-138,null,600,68799,1090,-139,40900]
[895,164280,1753,-13035,-139,null,610,71599,1117,-139,51800]
[962,196508,1951,-14222,-141,null,620,74398,1144,-138,62970]
[1029,219564,2038,-15660,-145,null,630,77271,1171,-138,74410]
[1096,237762,2072,-17184,-150,null,640,80317,1196,-138,86120]
[1163,255638,2099,-18799,-154,null,650,83363,1221,-138,98080]
[1230,271024,2104,-20567,-160,null,660,86410,1246,-138,110290]
[1297,286354,2108,-22433,-165,null,670,89456,1271,-137,122750]
[1364,301007,2107,-24477,-171,null,680,92502,1296,-137,135460]
[1431,311574,2079,-26704,-178,null,690,95548,1321,-137,148420]
[1498,318678,2031,-29103,-186,null,700,98624,1344,-137,161630]
[1565,322643,1969,-32004,-195,null,710,101719,1365,-137,175070]
[1632,325032,1902,-34885,-204,null,720,104814,1386,-137,188720]
[1699,326569,1835,-37756,-212,null,730,107909,1408,-137,202580]
[1766,327369,1770,-40657,-220,null,740,111004,1429,-137,216660]
[1833,327867,1708,-43683,-228,null,750,114099,1451,-137,230950]
[1900,329534,1656,-46815,-235,null,760,117194,1472,-137,245460]
[1967,301029,1461,-50606,-246,null,770,120500,1493,-137,260180]
[2034,260542,1223,-54504,-256,null,780,123830,1513,-137,275110]
[2101,216622,985,-58526,-266,null,790,127159,1534,-137,290240]
[2168,161435,711,-62639,-276,null,800,130488,1554,-138,305580]
[null,null,null,null,null,null,810,133817,1575,-138,321120]
[null,null,null,null,null,null,820,137147,1596,-138,336870]
[null,null,null,null,null,null,830,140540,1616,-138,352830]
[null,null,null,null,null,null,840,144193,1637,-138,368990]
[null,null,null,null,null,null,850,147845,1658,-138,385360]
[null,null,null,null,null,null,860,151497,1679,-138,401940]
[null,null,null,null,null,null,870,155149,1700,-139,418730]
[null,null,null,null,null,null,880,158802,1721,-139,435730]
[null,null,null,null,null,null,890,162454,1742,-139,452940]
[null,null,null,null,null,null,900,166685,1768,-139,470360]
[null,null,null,null,null,null,910,171495,1797,-139,488040]
[null,null,null,null,null,null,920,176305,1827,-140,506010]
[null,null,null,null,null,null,930,181116,1856,-140,524280]
[null,null,null,null,null,null,940,185926,1886,-140,542840]
[null,null,null,null,null,null,950,190736,1916,-141,561700]
[null,null,null,null,null,null,960,195546,1945,-141,580860]
[null,null,null,null,null,null,970,199261,1961,-141,600310]
[null,null,null,null,null,null,980,202702,1974,-142,619920]
[null,null,null,null,null,null,990,206143,1987,-143,639660]
[null,null,null,null,null,null,1000,209585,2000,-143,659530]
[null,null,null,null,null,null,1010,213026,2013,-144,679530]
[null,null,null,null,null,null,1020,216467,2026,-144,699660]
[null,null,null,null,null,null,1030,219836,2039,-145,719920]
[null,null,null,null,null,null,1040,222552,2044,-146,740310]
[null,null,null,null,null,null,1050,225268,2049,-147,760750]
[null,null,null,null,null,null,1060,227984,2054,-147,781240]
[null,null,null,null,null,null,1070,230700,2059,-148,801780]
[null,null,null,null,null,null,1080,233416,2064,-149,822370]
[null,null,null,null,null,null,1090,236132,2069,-150,843010]
[null,null,null,null,null,null,1100,238829,2074,-150,863700]
[null,null,null,null,null,null,1110,241497,2078,-151,884440]
[null,null,null,null,null,null,1120,244165,2082,-151,905220]
[null,null,null,null,null,null,1130,246833,2086,-152,926040]
[null,null,null,null,null,null,1140,249501,2090,-153,946900]
[null,null,null,null,null,null,1150,252170,2094,-153,967800]
[null,null,null,null,null,null,1160,254838,2098,-154,988740]
[null,null,null,null,null,null,1170,257245,2100,-155,1009720]
[null,null,null,null,null,null,1180,259542,2100,-156,1030720]
[null,null,null,null,null,null,1190,261838,2101,-156,1051720]
[null,null,null,null,null,null,1200,264135,2102,-157,1072730]
[null,null,null,null,null,null,1210,266431,2103,-158,1093750]
[null,null,null,null,null,null,1220,268728,2103,-159,1114780]
[null,null,null,null,null,null,1230,271024,2104,-160,1135810]
[null,null,null,null,null,null,1240,273312,2105,-161,1156850]
[null,null,null,null,null,null,1250,275600,2105,-161,1177900]
[null,null,null,null,null,null,1260,277888,2106,-162,1198950]
[null,null,null,null,null,null,1270,280176,2106,-163,1220010]
[null,null,null,null,null,null,1280,282464,2107,-164,1241070]
[null,null,null,null,null,null,1290,284752,2108,-164,1262140]
[null,null,null,null,null,null,1300,287010,2108,-165,1283220]
[null,null,null,null,null,null,1310,289197,2108,-166,1304300]
[null,null,null,null,null,null,1320,291384,2108,-167,1325380]
[null,null,null,null,null,null,1330,293571,2108,-168,1346460]
[null,null,null,null,null,null,1340,295758,2107,-169,1367540]
[null,null,null,null,null,null,1350,297945,2107,-170,1388610]
[null,null,null,null,null,null,1360,300132,2107,-171,1409680]
[null,null,null,null,null,null,1370,301953,2104,-172,1430750]
[null,null,null,null,null,null,1380,303530,2100,-173,1451790]
[null,null,null,null,null,null,1390,305108,2096,-174,1472790]
[null,null,null,null,null,null,1400,306685,2092,-175,1493750]
[null,null,null,null,null,null,1410,308262,2088,-176,1514670]
[null,null,null,null,null,null,1420,309839,2084,-177,1535550]
[null,null,null,null,null,null,1430,311416,2079,-178,1556390]
[null,null,null,null,null,null,1440,312528,2073,-179,1577180]
[null,null,null,null,null,null,1450,313589,2065,-180,1597910]
[null,null,null,null,null,null,1460,314649,2058,-181,1618560]
[null,null,null,null,null,null,1470,315709,2051,-183,1639140]
[null,null,null,null,null,null,1480,316769,2044,-184,1659650]
[null,null,null,null,null,null,1490,317830,2037,-185,1680090]
[null,null,null,null,null,null,1500,318796,2029,-186,1700460]
[null,null,null,null,null,null,1510,319388,2020,-188,1720750]
[null,null,null,null,null,null,1520,319980,2011,-189,1740950]
[null,null,null,null,null,null,1530,320572,2001,-190,1761060]
[null,null,null,null,null,null,1540,321164,1992,-192,1781070]
[null,null,null,null,null,null,1550,321755,1983,-193,1800990]
[null,null,null,null,null,null,1560,322347,1974,-194,1820820]
[null,null,null,null,null,null,1570,322821,1964,-196,1840560]
[null,null,null,null,null,null,1580,323178,1954,-197,1860200]
[null,null,null,null,null,null,1590,323534,1944,-198,1879740]
[null,null,null,null,null,null,1600,323891,1934,-200,1899180]
[null,null,null,null,null,null,1610,324248,1924,-201,1918520]
[null,null,null,null,null,null,1620,324604,1914,-202,1937760]
[null,null,null,null,null,null,1630,324961,1904,-204,1956900]
[null,null,null,null,null,null,1640,325216,1894,-205,1975940]
[null,null,null,null,null,null,1650,325445,1884,-206,1994880]
[null,null,null,null,null,null,1660,325674,1874,-207,2013720]
[null,null,null,null,null,null,1670,325904,1864,-209,2032460]
[null,null,null,null,null,null,1680,326133,1854,-210,2051100]
[null,null,null,null,null,null,1690,326363,1844,-211,2069640]
[null,null,null,null,null,null,1700,326581,1834,-212,2088080]
[null,null,null,null,null,null,1710,326700,1824,-213,2106420]
[null,null,null,null,null,null,1720,326820,1815,-215,2124660]
[null,null,null,null,null,null,1730,326939,1805,-216,2142810]
[null,null,null,null,null,null,1740,327059,1795,-217,2160860]
[null,null,null,null,null,null,1750,327178,1786,-218,2178810]
[null,null,null,null,null,null,1760,327297,1776,-219,2196670]
[null,null,null,null,null,null,1770,327399,1766,-220,2214430]
[null,null,null,null,null,null,1780,327473,1757,-222,2232090]
[null,null,null,null,null,null,1790,327547,1748,-223,2249660]
[null,null,null,null,null,null,1800,327622,1739,-224,2267140]
[null,null,null,null,null,null,1810,327696,1729,-225,2284530]
[null,null,null,null,null,null,1820,327770,1720,-226,2301820]
[null,null,null,null,null,null,1830,327845,1711,-228,2319020]
[null,null,null,null,null,null,1840,328041,1703,-229,2336130]
[null,null,null,null,null,null,1850,328290,1695,-230,2353160]
[null,null,null,null,null,null,1860,328539,1687,-231,2370110]
[null,null,null,null,null,null,1870,328788,1679,-232,2386980]
[null,null,null,null,null,null,1880,329036,1672,-233,2403770]
[null,null,null,null,null,null,1890,329285,1664,-234,2420490]
[null,null,null,null,null,null,1900,329534,1656,-235,2437130]
[null,null,null,null,null,null,1910,325280,1627,-237,2453690]
[null,null,null,null,null,null,1920,321025,1598,-238,2469960]
[null,null,null,null,null,null,1930,316771,1569,-240,2485940]
[null,null,null,null,null,null,1940,312516,1540,-242,2501630]
[null,null,null,null,null,null,1950,308262,1510,-243,2517030]
[null,null,null,null,null,null,1960,304007,1481,-245,2532130]
[null,null,null,null,null,null,1970,299216,1450,-246,2546940]
[null,null,null,null,null,null,1980,293173,1415,-248,2561440]
[null,null,null,null,null,null,1990,287130,1379,-249,2575590]
[null,null,null,null,null,null,2000,281088,1344,-251,2589380]
[null,null,null,null,null,null,2010,275045,1308,-252,2602820]
[null,null,null,null,null,null,2020,269002,1273,-254,2615900]
[null,null,null,null,null,null,2030,262959,1237,-255,2628630]
[null,null,null,null,null,null,2040,256609,1202,-257,2641000]
[null,null,null,null,null,null,2050,250054,1166,-258,2653020]
[null,null,null,null,null,null,2060,243498,1131,-260,2664680]
[null,null,null,null,null,null,2070,236943,1095,-261,2675990]
[null,null,null,null,null,null,2080,230388,1060,-263,2686940]
[null,null,null,null,null,null,2090,223833,1024,-264,2697540]
[null,null,null,null,null,null,2100,217278,989,-266,2707780]
[null,null,null,null,null,null,2110,209209,948,-267,2717670]
[null,null,null,null,null,null,2120,200972,907,-269,2727150]
[null,null,null,null,null,null,2130,192735,866,-270,2736220]
[null,null,null,null,null,null,2140,184498,826,-272,2744880]
[null,null,null,null,null,null,2150,176261,785,-273,2753140]
[null,null,null,null,null,null,2160,168024,744,-275,2760990]
[null,null,null,null,null,null,2168,161435,711,-276,2768430]

{"sheet":"Ref_Speeds","index":3,"n_rows":6,"n_cols":12,"rows_kept":6,"cut":false,"hidden":false,"merged":[[1,0,1,11]]}
[]
["For calculation purposes only"]
[]
["n_Idle","n_Lo","n_Pref","n_95h","n_Hi",null,null,"n_50l","n_ETC_A","n_ETC_B","n_ETC_C","n_ETC_Ref"]
["[rpm]","[rpm]","[rpm]","[rpm]","[rpm]",null,null,"[rpm]","[rpm]","[rpm]","[rpm]","[rpm]"]
[560,930,1296,1939,2080,null,null,895,1191,1488,1784,2021]

{"sheet":"Calc_WHDHC","index":4,"n_rows":1806,"n_cols":10,"rows_kept":1806,"cut":false,"hidden":false,"merged":[[3,0,3,3],[3,5,3,9],[1,0,1,9]]}
[]
["For calculation purposes only"]
[]
["Normalized WHTC / WHDHC",null,null,null,null,"Denormalized WHDHC - raw data"]
["time [s]","n_norm","T_norm","P_neg_norm",null,"time [s]","n [min-1]","T [Nm]","P_neg [kW]","v_WHVC [km/h]"]
[0,0,0,0,null,0,560,0,0,0]
[1,0,0,0,null,1,560,0,0,0]
[2,0,0,0,null,2,560,0,0,0]
[3,0,0,0,null,3,560,0,0,0]
[4,0,0,0,null,4,560,0,0,0]
[5,0,0,0,null,5,560,0,0,0]
[6,0,0,0,null,6,560,0,0,0]
[7,1.5,8.9,0,null,7,580,92,0,2.35]
[8,15.8,30.9,0,null,8,769,461,0,5.57]
[9,27.4,1.3,0,null,9,922,24,0,8.18]
[10,32.6,0.7,0,null,10,991,14,0,9.3699999999999992]
[11,34.799999999999997,1.2,0,null,11,1020,24,0,9.86]
[12,36.200000000000003,7.4,0,null,12,1038,151,0,10.18]
[13,37.1,6.2,0,null,13,1050,127,0,10.38]
[14,37.9,10.199999999999999,0,null,14,1061,210,0,10.57]
[15,39.6,12.3,0,null,15,1083,254,0,10.95]
[16,42.3,12.5,0,null,16,1119,260,0,11.56]
[17,45.3,12.6,0,null,17,1158,264,0,12.22]
[18,48.6,6,0,null,18,1202,126,0,12.97]
[19,40.799999999999997,0,0,null,19,1099,0,0,14.33]
[20,33,16.3,0,null,20,996,325,0,16.38]
[21,42.5,27.4,0,null,21,1121,571,0,18.399999999999999]
[22,49.3,26.7,0,null,22,1211,562,0,19.86]
[23,54,18,0,null,23,1273,379,0,20.85]
[24,57.1,12.9,0,null,24,1314,272,0,21.52]
[25,58.9,8.6,0,null,25,1338,181,0,21.89]
[26,59.3,6,0,null,26,1343,126,0,21.98]
[27,59,4.9000000000000004,0,null,27,1339,103,0,21.91]
[28,57.9,-1,-3.2846422307692305E-3,null,28,1325,-168,-0.335999995470047,21.68]
[29,55.7,-1,-2.2218968769230771E-2,null,29,1296,-165,-2.2730000019073486,21.21]
[30,52.1,-1,-6.0430717769230771E-2,null,30,1248,-161,-6.1830000877380371,20.440000000000001]
[31,46.4,-1,-9.7480975000000011E-2,null,31,1173,-155,-9.9739999771118164,19.239999999999998]
[32,38.6,-1,-0.11577680384615384,null,32,1070,-148,-11.845999717712402,17.57]
[33,29,-1,-7.9347865615384622E-2,null,33,943,-140,-8.1190004348754883,15.53]
[34,20.8,-1,-1.2518344076923076E-2,null,34,835,-138,-1.281000018119812,13.77]
[35,16.899999999999999,-1,0,null,35,783,-137,0,12.95]
[36,16.899999999999999,42.5,0,null,36,783,646,0,12.95]
[37,18.8,38.4,0,null,37,808,603,0,13.35]
[38,20.7,32.9,0,null,38,833,534,0,13.75]
[39,21,0,0,null,39,837,0,0,13.82]
[40,19.100000000000001,0,0,null,40,812,0,0,13.41]
[41,13.7,0,0,null,41,741,0,0,12.26]
[42,2.2000000000000002,0,0,null,42,589,0,0,9.82]
[43,0,0,0,null,43,560,0,0,5.96]
[44,0,0,0,null,44,560,0,0,2.2000000000000002]
[45,0,0,0,null,45,560,0,0,0]
[46,0,0,0,null,46,560,0,0,0]
[47,0,0,0,null,47,560,0,0,0]
[48,0,0,0,null,48,560,0,0,0]
[49,0,0,0,null,49,560,0,0,0]
[50,0,13.1,0,null,50,560,129,0,1.87]
[51,13.1,30.1,0,null,51,733,426,0,4.97]
[52,26.3,25.5,0,null,52,907,456,0,8.4]
[53,35,32.200000000000003,0,null,53,1022,653,0,9.9]
[54,41.7,14.3,0,null,54,1111,297,0,11.42]
[55,42.2,0,0,null,55,1117,0,0,15.11]
[56,42.8,11.6,0,null,56,1125,242,0,18.46]
[57,51,20.9,0,null,57,1234,440,0,20.21]
[58,60,9.6,0,null,58,1352,202,0,22.13]
[59,49.4,0,0,null,59,1212,0,0,24.17]
[60,38.9,16.600000000000001,0,null,60,1074,342,0,25.56]
[61,43.4,30.8,0,null,61,1133,643,0,26.97]
[62,49.4,14.2,0,null,62,1212,299,0,28.83]
[63,40.5,0,0,null,63,1095,0,0,31.05]
[64,31.5,43.5,0,null,64,976,856,0,33.72]
[65,36.6,78.2,0,null,65,1043,1600,0,36]
[66,40.799999999999997,67.599999999999994,0,null,66,1099,1402,0,37.909999999999997]
[67,44.7,59.1,0,null,67,1150,1238,0,39.65]
[68,48.3,52,0,null,68,1198,1093,0,41.23]
[69,51.9,63.8,0,null,69,1245,1343,0,42.85]
[70,54.7,27.9,0,null,70,1282,588,0,44.1]
[71,55.3,18.3,0,null,71,1290,386,0,44.37]
[72,55.1,16.3,0,null,72,1288,344,0,44.3]
[73,54.8,11.1,0,null,73,1284,234,0,44.17]
[74,54.7,11.5,0,null,74,1282,242,0,44.13]
[75,54.8,17.5,0,null,75,1284,369,0,44.17]
[76,55.6,18,0,null,76,1294,379,0,44.51]
[77,57,14.1,0,null,77,1313,297,0,45.16]
[78,58.1,7,0,null,78,1327,148,0,45.64]
[79,43.3,0,0,null,79,1132,0,0,46.16]
[80,28.5,25,0,null,80,936,468,0,46.99]
[81,30.4,47.8,0,null,81,961,930,0,48.19]
[82,32.1,39.200000000000003,0,null,82,984,776,0,49.32]
[83,32.700000000000003,39.299999999999997,0,null,83,992,782,0,49.7]
[84,32.4,17.3,0,null,84,988,343,0,49.5]
[85,31.6,11.4,0,null,85,977,225,0,48.98]
[86,31.1,10.199999999999999,0,null,86,971,200,0,48.65]
[87,31.1,19.5,0,null,87,971,383,0,48.65]
[88,31.4,22.5,0,null,88,975,443,0,48.87]
[89,31.6,22.9,0,null,89,977,451,0,48.97]
[90,31.6,24.3,0,null,90,977,479,0,48.96]
[91,31.9,26.9,0,null,91,981,531,0,49.15]
[92,32.4,30.6,0,null,92,988,607,0,49.51]
[93,32.799999999999997,32.700000000000003,0,null,93,993,651,0,49.74]
[94,33.700000000000003,32.5,0,null,94,1005,652,0,50.31]
[95,34.4,29.5,0,null,95,1014,595,0,50.78]
[96,34.299999999999997,26.5,0,null,96,1013,534,0,50.75]
[97,34.4,24.7,0,null,97,1014,498,0,50.78]
[98,35,24.9,0,null,98,1022,505,0,51.21]
[99,35.6,25.2,0,null,99,1030,514,0,51.6]
[100,36.1,24.8,0,null,100,1037,507,0,51.89]
[101,36.299999999999997,24,0,null,101,1039,490,0,52.04]
[102,36.200000000000003,23.6,0,null,102,1038,482,0,51.99]
[103,36.200000000000003,23.5,0,null,103,1038,480,0,51.99]
[104,36.799999999999997,22.7,0,null,104,1046,465,0,52.36]
[105,37.200000000000003,20.9,0,null,105,1051,428,0,52.58]
[106,37,19.2,0,null,106,1049,393,0,52.47]
[107,36.299999999999997,18.399999999999999,0,null,107,1039,376,0,52.03]
[108,35.4,17.600000000000001,0,null,108,1028,358,0,51.46]
[109,35.200000000000003,14.9,0,null,109,1025,303,0,51.31]
[110,35.4,9.9,0,null,110,1028,202,0,51.45]
[111,35.5,4.3,0,null,111,1029,88,0,51.48]
[112,35.200000000000003,6.6,0,null,112,1025,134,0,51.29]
[113,34.9,10,0,null,113,1021,203,0,51.12]
[114,34.700000000000003,25.1,0,null,114,1018,508,0,50.96]
[115,34.4,29.3,0,null,115,1014,591,0,50.81]
[116,34.5,20.7,0,null,116,1016,418,0,50.86]
[117,35.200000000000003,16.600000000000001,0,null,117,1025,337,0,51.34]
[118,35.799999999999997,16.2,0,null,118,1033,331,0,51.68]
[119,35.6,20.3,0,null,119,1030,414,0,51.58]
[120,35.299999999999997,22.5,0,null,120,1026,458,0,51.36]
[121,35.299999999999997,23.4,0,null,121,1026,476,0,51.39]
[122,34.700000000000003,11.9,0,null,122,1018,241,0,50.98]
[123,45.5,0,0,null,123,1161,0,0,48.63]
[124,56.3,-1,-0.87049758692307688,null,124,1304,-165,-89.06500244140625,44.83]
[125,46.2,-1,-0.79984184615384613,null,125,1170,-155,-81.83599853515625,40.299999999999997]
[126,50.1,0,0,null,126,1222,0,0,35.65]
[127,54,-1,-0.77230803299999995,null,127,1273,-163,-79.018997192382812,30.23]
[128,40.5,-1,-0.49488026607692309,null,128,1095,-150,-50.633998870849609,24.08]
[129,27,-1,-0.34684172142307695,null,129,917,-140,-35.48699951171875,18.96]
[130,13.5,-1,-0.2711943731538462,null,130,738,-137,-27.746999740600586,14.19]
[131,0,0,0,null,131,560,0,0,8.7200000000000006]
[132,0,0,0,null,132,560,0,0,3.41]
[133,0,0,0,null,133,560,0,0,0.64]
[134,0,0,0,null,134,560,0,0,0]
[135,0,0,0,null,135,560,0,0,0]
[136,0,0,0,null,136,560,0,0,0]
[137,0,0,0,null,137,560,0,0,0]
[138,0,0,0,null,138,560,0,0,0]
[139,0,0,0,null,139,560,0,0,0]
[140,0,0,0,null,140,560,0,0,0]
[141,0,0,0,null,141,560,0,0,0]
[142,0,4.9000000000000004,0,null,142,560,48,0,0.63]
[143,0,7.3,0,null,143,560,72,0,1.56]
[144,4.4000000000000004,28.7,0,null,144,618,327,0,2.99]
[145,11.1,26.4,0,null,145,707,359,0,4.5]
[146,15,9.4,0,null,146,758,138,0,5.39]
[147,15.9,0,0,null,147,770,0,0,5.59]
[148,15.3,0,0,null,148,762,0,0,5.45]
[149,14.2,0,0,null,149,748,0,0,5.2]
[150,13.2,0,0,null,150,734,0,0,4.9800000000000004]
[151,11.6,0,0,null,151,713,0,0,4.6100000000000003]
[152,8.4,0,0,null,152,671,0,0,3.89]
[153,5.4,0,0,null,153,631,0,0,3.21]
[154,4.3,5.6,0,null,154,617,64,0,2.98]
[155,5.8,24.4,0,null,155,637,290,0,3.31]
[156,9.6999999999999993,20.7,0,null,156,688,272,0,4.18]
[157,13.6,21.1,0,null,157,740,302,0,5.07]
[158,15.6,21.5,0,null,158,766,319,0,5.52]
[159,16.5,21.9,0,null,159,778,330,0,5.73]
[160,18,22.3,0,null,160,798,346,0,6.06]
[161,21.1,46.9,0,null,161,839,767,0,6.76]
[162,25.2,33.6,0,null,162,893,588,0,7.7]
[163,28.1,16.600000000000001,0,null,163,931,309,0,8.34]
[164,28.8,7,0,null,164,940,132,0,8.51]
[165,27.5,5,0,null,165,923,92,0,8.2200000000000006]
[166,23.1,3,0,null,166,865,51,0,7.22]
[167,16.899999999999999,1.9,0,null,167,783,29,0,5.82]
[168,12.2,2.6,0,null,168,721,36,0,4.75]
[169,9.9,3.2,0,null,169,691,42,0,4.24]
[170,9.1,4,0,null,170,680,52,0,4.05]
[171,8.8000000000000007,3.8,0,null,171,676,49,0,3.98]
[172,8.5,12.2,0,null,172,672,156,0,3.91]
[173,8.1999999999999993,29.4,0,null,173,668,372,0,3.86]
[174,9.6,20.100000000000001,0,null,174,687,264,0,4.17]
[175,14.7,16.3,0,null,175,754,238,0,5.32]
[176,24.5,8.6999999999999993,0,null,176,884,150,0,7.53]
[177,39.4,3.3,0,null,177,1080,68,0,10.89]
[178,39,2.9,0,null,178,1075,60,0,14.81]
[179,38.5,5.9,0,null,179,1068,121,0,17.559999999999999]
[180,42.4,8,0,null,180,1120,167,0,18.38]
[181,38.200000000000003,6,0,null,181,1064,123,0,17.489999999999998]
[182,41.4,3.8,0,null,182,1107,79,0,15.18]
[183,44.6,5.4,0,null,183,1149,113,0,13.08]
[184,38.799999999999997,8.1999999999999993,0,null,184,1072,169,0,12.23]
[185,37.5,8.9,0,null,185,1055,183,0,12.03]
[186,35.4,7.3,0,null,186,1028,149,0,11.72]
[187,28.4,7,0,null,187,935,131,0,10.69]
[188,14.8,7,0,null,188,755,102,0,8.68]
[189,0,5.9,0,null,189,560,58,0,6.2]
[190,0,0,0,null,190,560,0,0,4.07]
[191,0,0,0,null,191,560,0,0,2.65]
[192,0,0,0,null,192,560,0,0,1.92]
[193,0,0,0,null,193,560,0,0,1.69]
[194,0,0,0,null,194,560,0,0,1.68]
[195,0,0,0,null,195,560,0,0,1.66]
[196,0,0,0,null,196,560,0,0,1.53]
[197,0,0,0,null,197,560,0,0,1.3]
[198,0,0,0,null,198,560,0,0,1]
[199,0,0,0,null,199,560,0,0,0.77]
[200,0,0,0,null,200,560,0,0,0.63]
[201,0,0,0,null,201,560,0,0,0.59]
[202,0,0,0,null,202,560,0,0,0.59]
[203,0,0,0,null,203,560,0,0,0.56999999999999995]
[204,0,0,0,null,204,560,0,0,0.53]
[205,0,0,0,null,205,560,0,0,0.5]
[206,0,0,0,null,206,560,0,0,0]
[207,0,0,0,null,207,560,0,0,0]
[208,0,0,0,null,208,560,0,0,0]
[209,0,0,0,null,209,560,0,0,0]
[210,0,0,0,null,210,560,0,0,0]
[211,0,0,0,null,211,560,0,0,0]
[212,0,0,0,null,212,560,0,0,0]
[213,0,0,0,null,213,560,0,0,0]
[214,0,0,0,null,214,560,0,0,0]
[215,0,0,0,null,215,560,0,0,0]
[216,0,0,0,null,216,560,0,0,0]
[217,0,0,0,null,217,560,0,0,0]
[218,0,0,0,null,218,560,0,0,0]
[219,0,0,0,null,219,560,0,0,0]
[220,0,0,0,null,220,560,0,0,0]
[221,0,0,0,null,221,560,0,0,0]
[222,0,0,0,null,222,560,0,0,0]
[223,0,0,0,null,223,560,0,0,0]
[224,0,0,0,null,224,560,0,0,0]
[225,0,0,0,null,225,560,0,0,0]
[226,0,0,0,null,226,560,0,0,0.73]
[227,0,0,0,null,227,560,0,0,0.73]
[228,0,0,0,null,228,560,0,0,0]
[229,0,0,0,null,229,560,0,0,0]
[230,0,0,0,null,230,560,0,0,0]
[231,0,0,0,null,231,560,0,0,0]
[232,0,0,0,null,232,560,0,0,0]
[233,0,0,0,null,233,560,0,0,0]
[234,0,0,0,null,234,560,0,0,0]
[235,0,0,0,null,235,560,0,0,0]
[236,0,0,0,null,236,560,0,0,0]
[237,0,0,0,null,237,560,0,0,0]
[238,0,0,0,null,238,560,0,0,0]
[239,0,0,0,null,239,560,0,0,0]
[240,0,0,0,null,240,560,0,0,0]
[241,0,0,0,null,241,560,0,0,0]
[242,0,0,0,null,242,560,0,0,0]
[243,0,0,0,null,243,560,0,0,0]
[244,0,0,0,null,244,560,0,0,0]
[245,0,0,0,null,245,560,0,0,0]
[246,0,0,0,null,246,560,0,0,0]
[247,0,0,0,null,247,560,0,0,0]
[248,0,0,0,null,248,560,0,0,0]
[249,0,0,0,null,249,560,0,0,0]
[250,0,0,0,null,250,560,0,0,0]
[251,0,0,0,null,251,560,0,0,0]
[252,0,0,0,null,252,560,0,0,0]
[253,0,31.6,0,null,253,560,310,0,1.51]
[254,9.4,13.6,0,null,254,684,178,0,4.12]
[255,22.2,16.899999999999999,0,null,255,853,281,0,7.02]
[256,33,53.5,0,null,256,996,1067,0,9.4499999999999993]
[257,43.7,22.1,0,null,257,1137,462,0,11.86]
[258,39.799999999999997,0,0,null,258,1086,0,0,14.52]
[259,36,45.7,0,null,259,1035,933,0,17.010000000000002]
[260,47.6,75.900000000000006,0,null,260,1189,1595,0,19.48]
[261,61.2,70.400000000000006,0,null,261,1368,1482,0,22.38]
[262,72.3,70.400000000000006,0,null,262,1515,1419,0,24.75]
[263,76,-1,-9.7201115384615397E-4,null,263,1564,-195,-9.8999999463558197E-2,25.55]
[264,74.3,-1,-8.4609348076923066E-2,null,264,1541,-192,-8.6569995880126953,25.18]
[265,68.5,-1,-0.11939355384615384,null,265,1465,-182,-12.215999603271484,23.94]
[266,61,-1,-5.4369922769230764E-2,null,266,1366,-172,-5.5630002021789551,22.35]
[267,56,-1,-1.6962312307692306E-3,null,267,1300,-165,-0.17399999499320984,21.28]
[268,54,-1,0,null,268,1273,-163,0,20.86]
[269,53,-1,-3.0191659999999998E-3,null,269,1260,-162,-0.30899998545646667,20.65]
[270,50.8,-1,-2.6957873846153842E-2,null,270,1231,-160,-2.7579998970031738,20.18]
[271,46.8,-1,-4.6298289230769236E-2,null,271,1178,-156,-4.7369999885559082,19.329999999999998]
[272,41.7,-1,-5.4286818923076921E-2,null,272,1111,-151,-5.5539999008178711,18.23]
[273,35.9,-1,-6.3804317692307683E-2,null,273,1034,-145,-6.5279998779296875,16.989999999999998]
[274,29.2,-1,-8.2350584615384609E-2,null,274,946,-141,-8.425999641418457,15.56]
[275,20.7,-1,-9.6363125692307677E-2,null,275,833,-138,-9.8590002059936523,13.76]
[276,10.1,-1,-0.10025324166153847,null,276,693,-137,-10.256999969482422,11.5]
[277,0,-1,-8.3840692523076937E-2,null,277,560,-141,-8.5780000686645508,8.68]
[278,0,0,0,null,278,560,0,0,5.2]
[279,0,0,0,null,279,560,0,0,1.99]
[280,0,0,0,null,280,560,0,0,0]
[281,0,0,0,null,281,560,0,0,0]
[282,0,0,0,null,282,560,0,0,0]
[283,0,0,0,null,283,560,0,0,0.5]
[284,0,0,0,null,284,560,0,0,0.56999999999999995]
[285,0,0,0,null,285,560,0,0,0.6]
[286,0,0,0,null,286,560,0,0,0.57999999999999996]
[287,0,0,0,null,287,560,0,0,0]
[288,0,0,0,null,288,560,0,0,0]
[289,0,0,0,null,289,560,0,0,0]
[290,0,0,0,null,290,560,0,0,0]
[291,0,0,0,null,291,560,0,0,0]
[292,0,0,0,null,292,560,0,0,0]
[293,0,0,0,null,293,560,0,0,0]
[294,0,0,0,null,294,560,0,0,0]
[295,0,0,0,null,295,560,0,0,0]
[296,0,0,0,null,296,560,0,0,0]
[297,0,0,0,null,297,560,0,0,0]
[298,0,0,0,null,298,560,0,0,0]
[299,0,0,0,null,299,560,0,0,0]
[300,0,0,0,null,300,560,0,0,0]
[301,0,0,0,null,301,560,0,0,0]
[302,0,0,0,null,302,560,0,0,0]
[303,0,0,0,null,303,560,0,0,0]
[304,0,0,0,null,304,560,0,0,0]
[305,0,0,0,null,305,560,0,0,0]
[306,0,0,0,null,306,560,0,0,0]
[307,0,0,0,null,307,560,0,0,0]
[308,0,0,0,null,308,560,0,0,0]
[309,0,0,0,null,309,560,0,0,0]
[310,0,0,0,null,310,560,0,0,0]
[311,0,0,0,null,311,560,0,0,0]
[312,0,0,0,null,312,560,0,0,0]
[313,0,0,0,null,313,560,0,0,0]
[314,0,0,0,null,314,560,0,0,0]
[315,0,0,0,null,315,560,0,0,0]
[316,0,0,0,null,316,560,0,0,0]
[317,0,0,0,null,317,560,0,0,0]
[318,0,0,0,null,318,560,0,0,0]
[319,0,0,0,null,319,560,0,0,0]
[320,0,0,0,null,320,560,0,0,0]
[321,0,0,0,null,321,560,0,0,0]
[322,0,0,0,null,322,560,0,0,0]
[323,0,0,0,null,323,560,0,0,0]
[324,4.5,41,0,null,324,619,468,0,3.01]
[325,17.2,38.9,0,null,325,787,594,0,8.14]
[326,30.1,36.799999999999997,0,null,326,958,714,0,13.88]
[327,41,34.700000000000003,0,null,327,1101,720,0,18.079999999999998]
[328,50,32.6,0,null,328,1220,686,0,20.010000000000002]
[329,51.4,0.1,0,null,329,1239,2,0,20.3]
[330,47.8,-1,-9.3140777923076915E-2,null,330,1191,-156,-9.5299997329711914,19.53]
[331,40.200000000000003,-1,-9.4883120000000001E-2,null,331,1091,-150,-9.7080001831054687,17.920000000000002]
[332,32,-1,-7.3449726769230769E-2,null,332,983,-142,-7.5149998664855957,16.170000000000002]
[333,24.4,-1,-6.3610532153846169E-2,null,333,882,-139,-6.5079998970031738,14.55]
[334,16.8,-1,-6.5616806307692302E-2,null,334,782,-137,-6.7140002250671387,12.92]
[335,8.1,-1,-8.2770361538461554E-2,null,335,667,-137,-8.4689998626708984,11.07]
[336,0,-1,-8.0002712107692303E-2,null,336,560,-141,-8.185999870300293,8.5399999999999991]
[337,0,0,0,null,337,560,0,0,5.15]
[338,0,0,0,null,338,560,0,0,1.96]
[339,0,0,0,null,339,560,0,0,0]
[340,0,0,0,null,340,560,0,0,0]
[341,0,0,0,null,341,560,0,0,0]
[342,0,0,0,null,342,560,0,0,0]
[343,0,0,0,null,343,560,0,0,0]
[344,0,0,0,null,344,560,0,0,0]
[345,0,0,0,null,345,560,0,0,0]
[346,0,0,0,null,346,560,0,0,0]
[347,0,0,0,null,347,560,0,0,0]
[348,0,0,0,null,348,560,0,0,0]
[349,0,0,0,null,349,560,0,0,0]
[350,0,0,0,null,350,560,0,0,0]
[351,0,0,0,null,351,560,0,0,0]
[352,0,0,0,null,352,560,0,0,0]
[353,0,0,0,null,353,560,0,0,0]
[354,0,0.5,0,null,354,560,5,0,0.9]
[355,0,4.9000000000000004,0,null,355,560,48,0,2]
[356,9.1999999999999993,61.3,0,null,356,681,796,0,4.08]
[357,22.4,40.4,0,null,357,856,675,0,7.07]
[358,36.5,50.1,0,null,358,1042,1025,0,10.25]
[359,47.7,21,0,null,359,1190,441,0,12.77]
[360,38.799999999999997,0,0,null,360,1072,0,0,14.44]
[361,30,37,0,null,361,956,715,0,15.73]
[362,37,63.6,0,null,362,1049,1303,0,17.23]
[363,45.5,90.8,0,null,363,1161,1905,0,19.04]
[364,54.5,40.9,0,null,364,1280,862,0,20.96]
[365,45.9,0,0,null,365,1166,0,0,22.94]
[366,37.200000000000003,47.5,0,null,366,1051,974,0,25.05]
[367,44.5,84.4,0,null,367,1148,1767,0,27.31]
[368,51.7,32.4,0,null,368,1243,682,0,29.54]
[369,58.1,15.2,0,null,369,1327,320,0,31.52]
[370,45.9,0,0,null,370,1166,0,0,33.19]
[371,33.6,35.799999999999997,0,null,371,1004,718,0,34.67]
[372,36.9,67,0,null,372,1047,1372,0,36.130000000000003]
[373,40.200000000000003,84.7,0,null,373,1091,1753,0,37.630000000000003]
[374,43.4,84.3,0,null,374,1133,1760,0,39.07]
[375,45.7,84.3,0,null,375,1164,1769,0,40.08]
[376,46.5,-1,0,null,376,1174,-155,0,40.44]
[377,46.1,-1,-9.5369851538461545E-2,null,377,1169,-155,-9.758000373840332,40.26]
[378,43.9,-1,-0.3028020523076923,null,378,1140,-153,-30.981000900268555,39.29]
[379,39.299999999999997,-1,-0.46829325999999993,null,379,1079,-149,-47.91400146484375,37.229999999999997]
[380,47,-1,-0.56096170384615385,null,380,1181,-156,-57.395000457763672,34.14]
[381,54.6,-1,-0.55712135538461538,null,381,1281,-164,-57.001998901367188,30.18]
[382,62,-1,-0.42807213223076929,null,382,1379,-173,-43.798000335693359,25.71]
[383,52,-1,-0.25298152384615386,null,383,1247,-161,-25.884000778198242,21.58]
[384,43,-1,-0.11723979461538463,null,384,1128,-152,-11.994999885559082,18.5]
[385,33.9,-1,-4.2500961615384622E-2,null,385,1008,-144,-4.3489999771118164,16.559999999999999]
[386,28.4,-1,-5.5297254461538449E-3,null,386,935,-140,-0.56599998474121094,15.39]
[387,25.5,-1,0,null,387,897,-139,0,14.77]
[388,24.6,11,0,null,388,885,190,0,14.58]
[389,25.2,14.7,0,null,389,893,257,0,14.72]
[390,28.6,28.4,0,null,390,938,534,0,15.44]
[391,35.5,65,0,null,391,1029,1325,0,16.920000000000002]
[392,43.8,75.3,0,null,392,1138,1573,0,18.690000000000001]
[393,51.2,34.200000000000003,0,null,393,1236,720,0,20.260000000000002]
[394,40.700000000000003,0,0,null,394,1098,0,0,21.63]
[395,30.3,45.4,0,null,395,960,883,0,22.91]
[396,34.200000000000003,83.1,0,null,396,1012,1675,0,24.13]
[397,37.6,85.3,0,null,397,1057,1751,0,25.18]
[398,40.799999999999997,87.5,0,null,398,1099,1814,0,26.16]
[399,44.8,89.7,0,null,399,1152,1879,0,27.41]
[400,50.6,91.9,0,null,400,1228,1933,0,29.18]
[401,57.6,94.1,0,null,401,1321,1984,0,31.36]
[402,64.599999999999994,44.6,0,null,402,1413,931,0,33.51]
[403,51.6,0,0,null,403,1241,0,0,35.33]
[404,38.700000000000003,37.4,0,null,404,1071,770,0,36.94]
[405,42.4,70.3,0,null,405,1120,1464,0,38.6]
[406,46.5,89.1,0,null,406,1174,1871,0,40.44]
[407,50.6,93.9,0,null,407,1228,1975,0,42.29]
[408,53.8,33,0,null,408,1271,695,0,43.73]
[409,55.5,20.3,0,null,409,1293,428,0,44.47]
[410,55.8,5.2,0,null,410,1297,110,0,44.62]
[411,55.4,-1,-6.8046160769230776E-3,null,411,1292,-164,-0.69599997997283936,44.41]
[412,54.4,-1,-1.8988219869230764E-2,null,412,1278,-164,-1.9429999589920044,43.96]
[413,53.1,-1,-2.3760687938461537E-2,null,413,1261,-162,-2.4309999942779541,43.41]
[414,51.8,-1,-4.1509518261538467E-2,null,414,1244,-161,-4.2470002174377441,42.83]
[415,50.3,-1,-8.0683591538461538E-2,null,415,1224,-159,-8.255000114440918,42.15]
[416,48.4,-1,-0.12842117769230771,null,416,1199,-157,-13.138999938964844,41.28]
[417,45.9,-1,-0.15653155230769228,null,417,1166,-155,-16.016000747680664,40.17]
[418,43.1,-1,-0.1584804415384615,null,418,1129,-152,-16.215000152587891,38.9]
[419,40.1,-1,-0.13210651153846154,null,419,1090,-150,-13.517000198364258,37.590000000000003]
[420,37.4,-1,-0.10262116084615382,null,420,1054,-147,-10.5,36.39]
[421,35.1,-1,-9.4029496000000004E-2,null,421,1024,-144,-9.6210002899169922,35.33]
[422,32.799999999999997,-1,-0.12488506846153848,null,422,993,-143,-12.777999877929687,34.299999999999997]
[423,45.3,0,0,null,423,1158,0,0,33.07]
[424,57.8,-1,-0.26296990999999997,null,424,1323,-167,-26.906000137329102,31.41]
[425,50.6,-1,-0.31555979153846153,null,425,1228,-160,-32.286998748779297,29.18]
[426,41.6,-1,-0.31056230999999995,null,426,1109,-151,-31.774999618530273,26.41]
[427,47.9,0,0,null,427,1193,0,0,23.4]
[428,54.2,-1,-7.4844357846153842E-2,null,428,1276,-164,-7.6579999923706055,20.9]
[429,48.1,-1,0,null,429,1195,-156,0,19.59]
[430,47,31.3,0,null,430,1181,657,0,19.36]
[431,49,38.299999999999997,0,null,431,1207,805,0,19.79]
[432,52,40.1,0,null,432,1247,844,0,20.43]
[433,53.3,14.5,0,null,433,1264,305,0,20.71]
[434,52.6,0.8,0,null,434,1255,17,0,20.56]
[435,49.8,-1,0,null,435,1218,-159,0,19.96]
[436,51,18.600000000000001,0,null,436,1234,391,0,20.22]
[437,56.9,38.9,0,null,437,1311,820,0,21.48]
[438,67.2,45,0,null,438,1447,930,0,23.67]
[439,78.599999999999994,21.5,0,null,439,1598,416,0,26.09]
[440,65.5,0,0,null,440,1425,0,0,28.16]
[441,52.4,31.3,0,null,441,1252,659,0,29.75]
[442,56.4,60.1,0,null,442,1305,1267,0,30.97]
[443,59.7,29.2,0,null,443,1348,615,0,31.99]
[444,45.1,0,0,null,444,1156,0,0,32.840000000000003]
[445,30.6,4.2,0,null,445,964,82,0,33.33]
[446,30.9,8.4,0,null,446,968,164,0,33.450000000000003]
[447,30.5,4.3,0,null,447,963,84,0,33.270000000000003]
[448,44.6,0,0,null,448,1149,0,0,32.659999999999997]
[449,58.8,-1,-0.10093109,null,449,1337,-169,-10.326999664306641,31.73]
[450,55.1,-1,-0.13110219846153848,null,450,1288,-164,-13.413999557495117,30.58]
[451,50.6,-1,-0.16073999384615384,null,451,1228,-160,-16.445999145507812,29.2]
[452,45.3,-1,-0.17715542384615382,null,452,1158,-154,-18.125999450683594,27.56]
[453,39.299999999999997,-1,-0.17574951076923079,null,453,1079,-149,-17.982000350952148,25.71]
[454,49.1,0,0,null,454,1208,0,0,23.76]
[455,58.8,-1,-0.12162110015384615,null,455,1337,-169,-12.444000244140625,21.87]
[456,50.7,-1,-0.11416090999999999,null,456,1230,-160,-11.680000305175781,20.149999999999999]
[457,42.4,-1,-0.15767616246153848,null,457,1120,-151,-16.132999420166016,18.38]
[458,44.1,0,0,null,458,1142,0,0,15.93]
[459,45.7,-1,-0.17957385769230771,null,459,1164,-154,-18.37299919128418,12.33]
[460,32.5,-1,-7.7886511384615387E-2,null,460,989,-143,-7.9689998626708984,7.99]
[461,20.7,-1,-1.2506542076923076E-2,null,461,833,-138,-1.2799999713897705,4.1900000000000004]
[462,10,-1,0,null,462,692,-137,0,1.77]
[463,0,0,0,null,463,560,0,0,0.69]
[464,0,1.5,0,null,464,560,15,0,1.1299999999999999]
[465,0.9,41.1,0,null,465,572,417,0,2.2000000000000002]
[466,7,46.3,0,null,466,652,568,0,3.59]
[467,12.8,48.5,0,null,467,729,682,0,4.88]
[468,17,50.7,0,null,468,785,772,0,5.85]
[469,20.9,52.9,0,null,469,836,862,0,6.72]
[470,26.7,55,0,null,470,913,993,0,8.02]
[471,35.5,57.2,0,null,471,1029,1166,0,10.02]
[472,46.9,23.8,0,null,472,1179,500,0,12.59]
[473,44.5,0,0,null,473,1148,0,0,15.43]
[474,42.1,45.7,0,null,474,1116,951,0,18.32]
[475,55.6,77.400000000000006,0,null,475,1294,1632,0,21.19]
[476,68.8,100,0,null,476,1469,2052,0,24]
[477,81.7,47.9,0,null,477,1639,908,0,26.75]
[478,71.2,0,0,null,478,1500,0,0,29.53]
[479,60.7,38.299999999999997,0,null,479,1362,807,0,32.31]
[480,68.8,72.7,0,null,480,1469,1492,0,34.799999999999997]
[481,75,-1,0,null,481,1550,-193,0,36.729999999999997]
[482,61.3,-1,0,null,482,1370,-172,0,38.08]
[483,53.5,-1,0,null,483,1267,-163,0,39.11]
[484,45.9,58,0,null,484,1166,1218,0,40.159999999999997]
[485,48.1,80,0,null,485,1195,1681,0,41.18]
[486,49.4,97.9,0,null,486,1212,2059,0,41.75]
[487,49.7,-1,-5.6808179230769234E-3,null,487,1216,-159,-0.58099997043609619,41.87]
[488,48.7,-1,-0.19452956615384615,null,488,1203,-157,-19.902999877929688,41.43]
[489,45.5,-1,-0.35097454461538469,null,489,1161,-154,-35.909999847412109,39.99]
[490,40.4,-1,-0.42002759000000006,null,490,1094,-150,-42.974998474121094,37.71]
[491,49.7,0,0,null,491,1216,0,0,34.93]
[492,59,-1,-0.40146671076923085,null,492,1339,-169,-41.076000213623047,31.79]
[493,48.9,-1,-0.30477790769230767,null,493,1206,-158,-31.184000015258789,28.65]
[494,40,-1,-0.18504442538461538,null,494,1088,-150,-18.933000564575195,25.92]
[495,33.5,-1,-6.500742384615385E-2,null,495,1002,-143,-6.6510000228881836,23.91]
[496,30,-1,0,null,496,956,-141,0,22.81]
[497,29.1,12,0,null,497,944,228,0,22.53]
[498,29.3,40.4,0,null,498,947,770,0,22.62]
[499,30.4,29.3,0,null,499,961,570,0,22.95]
[500,32.200000000000003,15.4,0,null,500,985,305,0,23.51]
[501,33.9,15.8,0,null,501,1008,318,0,24.04]
[502,35.299999999999997,14.9,0,null,502,1026,303,0,24.45]
[503,36.4,15.1,0,null,503,1041,309,0,24.81]
[504,38,15.3,0,null,504,1062,314,0,25.29]
[505,40.299999999999997,50.9,0,null,505,1092,1054,0,25.99]
[506,43,39.700000000000003,0,null,506,1128,828,0,26.83]
[507,45.5,20.6,0,null,507,1161,432,0,27.6]
[508,47.3,20.6,0,null,508,1185,433,0,28.17]
[509,48.8,22.1,0,null,509,1204,465,0,28.63]
[510,50.1,22.1,0,null,510,1222,465,0,29.04]
[511,51.4,42.4,0,null,511,1239,892,0,29.43]
[512,52.5,31.9,0,null,512,1253,672,0,29.78]
[513,53.7,21.6,0,null,513,1269,455,0,30.13]
[514,55.1,11.6,0,null,514,1288,245,0,30.57]
[515,56.8,5.7,0,null,515,1310,120,0,31.1]
[516,42.4,0,0,null,516,1120,0,0,31.65]
[517,27.9,8.1999999999999993,0,null,517,928,152,0,32.14]
[518,29,15.9,0,null,518,943,301,0,32.619999999999997]
[519,30.4,25.1,0,null,519,961,489,0,33.25]
[520,32.6,60.5,0,null,520,991,1203,0,34.200000000000003]
[521,35.4,72.7,0,null,521,1028,1480,0,35.46]
[522,38.4,88.2,0,null,522,1067,1815,0,36.81]
[523,41,65.099999999999994,0,null,523,1101,1350,0,37.979999999999997]
[524,42.9,25.6,0,null,524,1127,534,0,38.840000000000003]
[525,44.2,15.8,0,null,525,1144,330,0,39.43]
[526,44.9,2.9,0,null,526,1153,61,0,39.729999999999997]
[527,45.1,-1,0,null,527,1156,-154,0,39.799999999999997]
[528,44.8,-1,-3.2138676923076925E-3,null,528,1152,-153,-0.32899999618530273,39.69]
[529,43.9,-1,-4.0569887461538459E-2,null,529,1140,-153,-4.1510000228881836,39.29]
[530,42.4,-1,-8.9816302307692317E-2,null,530,1120,-151,-9.1899995803833008,38.590000000000003]
[531,40.200000000000003,-1,-0.17110490923076924,null,531,1091,-150,-17.506999969482422,37.630000000000003]
[532,37.1,-1,-0.28711149384615386,null,532,1050,-147,-29.375999450683594,36.22]
[533,47,0,0,null,533,1181,0,0,34.11]
[534,57,-1,-0.46728046230769227,null,534,1313,-166,-47.810001373291016,31.16]
[535,45.1,-1,-0.42861406618461539,null,535,1156,-154,-43.854000091552734,27.49]
[536,32.6,-1,-0.32130015453846156,null,536,991,-143,-32.874000549316406,23.63]
[537,46.8,0,0,null,537,1178,0,0,20.16]
[538,61.5,-1,-0.14704922069230769,null,538,1372,-172,-15.045000076293945,17.27]
[539,56.7,-1,-0.10517369507692308,null,539,1309,-166,-10.76099967956543,14.81]
[540,46.9,-1,-7.9223274307692299E-2,null,540,1179,-156,-8.1059999465942383,12.59]
[541,37.5,-1,-3.769367738461539E-2,null,541,1055,-147,-3.8570001125335693,10.47]
[542,30.3,-1,-1.9181605692307692E-3,null,542,960,-141,-0.19599999487400055,8.85]
[543,27.3,32.299999999999997,0,null,543,921,591,0,8.16]
[544,30.8,60.3,0,null,544,967,1180,0,8.9499999999999993]
[545,41.2,62.3,0,null,545,1104,1293,0,11.3]
[546,36,0,0,null,546,1035,0,0,14.11]
[547,30.8,32.299999999999997,0,null,547,967,632,0,15.91]
[548,33.9,60.3,0,null,548,1008,1212,0,16.57]
[549,34.6,38.4,0,null,549,1017,776,0,16.73]
[550,37,16.600000000000001,0,null,550,1049,340,0,17.239999999999998]
[551,42.7,62.3,0,null,551,1124,1298,0,18.45]
[552,50.4,28.1,0,null,552,1226,591,0,20.09]
[553,40.1,0,0,null,553,1090,0,0,21.63]
[554,29.9,8,0,null,554,955,154,0,22.78]
[555,32.5,15,0,null,555,989,298,0,23.59]
[556,34.6,63.1,0,null,556,1017,1276,0,24.23]
[557,36.700000000000003,58,0,null,557,1045,1187,0,24.9]
[558,39.4,52.9,0,null,558,1080,1092,0,25.72]
[559,42.8,47.8,0,null,559,1125,996,0,26.77]
[560,46.8,42.7,0,null,560,1178,897,0,28.01]
[561,50.7,27.5,0,null,561,1230,579,0,29.23]
[562,53.4,20.7,0,null,562,1265,436,0,30.06]
[563,54.2,13.1,0,null,563,1276,276,0,30.31]
[564,54.2,0.4,0,null,564,1276,8,0,30.29]
[565,53.4,0,0,null,565,1265,0,0,30.05]
[566,51.4,-1,-4.7398018769230776E-2,null,566,1239,-161,-4.8499999046325684,29.44]
[567,48.7,-1,-6.3943458530769229E-2,null,567,1203,-157,-6.5419998168945313,28.6]
[568,45.6,-1,-6.0926947769230771E-2,null,568,1162,-154,-6.2340002059936523,27.63]
[569,42.4,-1,-1.7171005584615383E-2,null,569,1120,-151,-1.7569999694824219,26.66]
[570,40.4,-1,0,null,570,1094,-150,0,26.03]
[571,39.799999999999997,5.8,0,null,571,1086,120,0,25.85]
[572,40.700000000000003,39.700000000000003,0,null,572,1098,823,0,26.14]
[573,43.8,37.1,0,null,573,1138,775,0,27.08]
[574,48.1,39.1,0,null,574,1195,822,0,28.42]
[575,52,22,0,null,575,1247,463,0,29.61]
[576,54.7,13.2,0,null,576,1282,278,0,30.46]
[577,56.4,13.2,0,null,577,1305,278,0,30.99]
[578,57.5,6.6,0,null,578,1319,139,0,31.33]
[579,42.6,0,0,null,579,1123,0,0,31.65]
[580,27.7,10.9,0,null,580,926,201,0,32.020000000000003]
[581,28.5,21.3,0,null,581,936,399,0,32.39]
[582,29.2,23.9,0,null,582,946,455,0,32.68]
[583,29.5,15.2,0,null,583,950,291,0,32.840000000000003]
[584,29.7,8.8000000000000007,0,null,584,952,169,0,32.93]
[585,30.4,20.8,0,null,585,961,405,0,33.22]
[586,31.9,22.9,0,null,586,981,452,0,33.89]
[587,34.299999999999997,61.4,0,null,587,1013,1238,0,34.96]
[588,37.200000000000003,76.599999999999994,0,null,588,1051,1570,0,36.28]
[589,40.1,27.5,0,null,589,1090,569,0,37.58]
[590,42.3,25.4,0,null,590,1119,529,0,38.58]
[591,43.5,32,0,null,591,1134,668,0,39.1]
[592,43.8,6,0,null,592,1138,125,0,39.22]
[593,43.5,-1,0,null,593,1134,-152,0,39.11]
[594,42.8,-1,-9.4725179230769237E-3,null,594,1125,-152,-0.96899998188018799,38.799999999999997]
[595,41.7,-1,-2.0287521538461535E-2,null,595,1111,-151,-2.0759999752044678,38.31]
[596,40.4,-1,-9.2887537692307696E-3,null,596,1094,-150,-0.94999998807907104,37.729999999999997]
[597,39.299999999999997,-1,0,null,597,1079,-149,0,37.24]
[598,38.9,12.9,0,null,598,1074,266,0,37.06]
[599,39,18.399999999999999,0,null,599,1075,379,0,37.1]
[600,39.700000000000003,39.200000000000003,0,null,600,1084,810,0,37.42]
[601,41.4,60,0,null,601,1107,1246,0,38.17]
[602,43.7,54.5,0,null,602,1137,1138,0,39.19]
[603,46.2,64.2,0,null,603,1170,1348,0,40.31]
[604,48.8,73.3,0,null,604,1204,1541,0,41.46]
[605,51,82.3,0,null,605,1234,1732,0,42.44]
[606,52.1,0,0,null,606,1248,0,0,42.95]
[607,52,-1,-8.7350646153846155E-3,null,607,1247,-161,-0.89399999380111694,42.9]
[608,50.9,-1,-4.3077385445172305E-2,null,608,1232,-160,-4.4070000648498535,42.43]
[609,49.4,-1,-4.4515820953846146E-2,null,609,1212,-158,-4.554999828338623,41.74]
[610,47.8,-1,-1.8289570307692307E-2,null,610,1191,-156,-1.8710000514984131,41.04]
[611,46.6,-1,0,null,611,1175,-156,0,40.49]
[612,47.3,35.299999999999997,0,null,612,1185,741,0,40.799999999999997]
[613,49.2,74.099999999999994,0,null,613,1210,1558,0,41.66]
[614,51.1,95.2,0,null,614,1235,2003,0,42.48]
[615,51.7,-1,-2.9407330769230769E-3,null,615,1243,-161,-0.30099999904632568,42.78]
[616,50.8,-1,-0.2361885446153846,null,616,1231,-160,-24.166000366210938,42.39]
[617,47.3,-1,-0.51061336153846149,null,617,1185,-156,-52.243999481201172,40.78]
[618,41.8,-1,-0.70656201230769233,null,618,1112,-151,-72.291999816894531,37.72]
[619,36.4,-1,-0.7885896592153846,null,619,1041,-146,-80.68499755859375,33.29]
[620,30.9,-1,-0.70630839023076919,null,620,968,-141,-72.265998840332031,27.66]
[621,25.5,37.1,0,null,621,897,653,0,21.43]
[622,33.799999999999997,38.4,0,null,622,1006,771,0,15.62]
[623,42.1,-1,-5.5132517230769222E-2,null,623,1116,-151,-5.6409997940063477,11.51]
[624,34.1,-1,0,null,624,1010,-144,0,9.69]
[625,33,37.1,0,null,625,996,740,0,9.4600000000000009]
[626,36.4,38.4,0,null,626,1041,785,0,10.210000000000001]
[627,43.3,17.100000000000001,0,null,627,1132,357,0,11.78]
[628,35.700000000000003,0,0,null,628,1031,0,0,13.6]
[629,28.1,11.6,0,null,629,931,216,0,15.33]
[630,36.5,19.2,0,null,630,1042,393,0,17.12]
[631,45.2,8.3000000000000007,0,null,631,1157,174,0,18.98]
[632,36.5,0,0,null,632,1042,0,0,20.73]
[633,27.9,32.6,0,null,633,928,603,0,22.17]
[634,31.5,59.6,0,null,634,976,1173,0,23.29]
[635,34.4,65.2,0,null,635,1014,1316,0,24.19]
[636,37,59.6,0,null,636,1049,1221,0,24.97]
[637,39,49,0,null,637,1075,1010,0,25.6]
[638,40.200000000000003,-1,0,null,638,1091,-150,0,25.96]
[639,39.799999999999997,-1,-7.9972580706923077E-2,null,639,1086,-150,-8.1820001602172852,25.86]
[640,36,-1,-0.26744166615384612,null,640,1035,-146,-27.363000869750977,24.69]
[641,29.7,-1,-0.37640631707692312,null,641,952,-141,-38.512001037597656,21.85]
[642,21.5,-1,-0.33314061915384613,null,642,844,-138,-34.084999084472656,17.45]
[643,14.1,-1,-0.19669087262076923,null,643,746,-137,-20.125,12.34]
[644,0,0,0,null,644,560,0,0,7.59]
[645,0,0,0,null,645,560,0,0,4]
[646,0,0,0,null,646,560,0,0,1.76]
[647,0,0,0,null,647,560,0,0,0]
[648,0,0,0,null,648,560,0,0,0]
[649,0,0,0,null,649,560,0,0,0]
[650,0,0,0,null,650,560,0,0,0]
[651,0,0,0,null,651,560,0,0,0]
[652,0,0,0,null,652,560,0,0,0]
[653,0,0,0,null,653,560,0,0,0]
[654,0,0,0,null,654,560,0,0,0]
[655,0,0,0,null,655,560,0,0,0]
[656,0,3.4,0,null,656,560,33,0,0]
[657,1.4,22,0,null,657,578,227,0,0]
[658,10.1,45.3,0,null,658,693,602,0,2.96]
[659,21.5,10,0,null,659,844,165,0,7.9]
[660,32.200000000000003,0,0,null,660,985,0,0,13.49]
[661,42.3,46,0,null,661,1119,958,0,18.36]
[662,57.1,74.099999999999994,0,null,662,1314,1562,0,22.59]
[663,72.099999999999994,34.200000000000003,0,null,663,1512,690,0,26.26]
[664,66.900000000000006,0,0,null,664,1444,0,0,29.4]
[665,60.4,41.8,0,null,665,1358,881,0,32.229999999999997]
[666,69.099999999999994,79,0,null,666,1473,1619,0,34.909999999999997]
[667,77.099999999999994,38.299999999999997,0,null,667,1578,749,0,37.39]
[668,63.1,0,0,null,668,1393,0,0,39.61]
[669,49.1,47.9,0,null,669,1208,1007,0,41.61]
[670,53.4,91.3,0,null,670,1265,1923,0,43.51]
[671,57.5,85.7,0,null,671,1319,1807,0,45.36]
[672,61.5,89.2,0,null,672,1372,1876,0,47.17]
[673,65.5,85.9,0,null,673,1425,1788,0,48.95]
[674,69.5,89.5,0,null,674,1478,1831,0,50.73]
[675,73.099999999999994,75.5,0,null,675,1525,1515,0,52.36]
[676,76.2,73.599999999999994,0,null,676,1566,1448,0,53.74]
[677,79.099999999999994,75.599999999999994,0,null,677,1605,1458,0,55.02]
[678,81.8,78.2,0,null,678,1640,1481,0,56.24]
[679,84.1,39,0,null,679,1671,727,0,57.29]
[680,69.599999999999994,0,0,null,680,1479,0,0,58.18]
[681,55,25.2,0,null,681,1286,531,0,58.95]
[682,55.8,49.9,0,null,682,1297,1052,0,59.49]
[683,56.7,46.4,0,null,683,1309,978,0,59.86]
[684,57.6,76.3,0,null,684,1321,1608,0,60.3]
[685,58.4,92.7,0,null,685,1331,1954,0,61.01]
[686,59.3,99.9,0,null,686,1343,2105,0,61.96]
[687,60.1,95,0,null,687,1354,2002,0,63.05]
[688,61,46.7,0,null,688,1366,983,0,64.16]
[689,46.6,0,0,null,689,1175,0,0,65.14]
[690,32.299999999999997,34.6,0,null,690,987,686,0,65.849999999999994]
[691,32.700000000000003,68.599999999999994,0,null,691,992,1365,0,66.22]
[692,32.6,67,0,null,692,991,1332,0,66.12]
[693,31.3,-1,-0.72859238461538456,null,693,973,-141,-74.545997619628906,65.010000000000005]
[694,28.1,-1,-1.2948375507692309,null,694,931,-140,-132.48199462890625,62.22]
[695,43,0,0,null,695,1128,0,0,57.44]
[696,58,-1,-1.2355136523076924,null,696,1326,-168,-126.41200256347656,51.47]
[697,58.9,-1,-0.83983610307692325,null,697,1338,-169,-85.928001403808594,45.98]
[698,49.4,-1,-0.61214788076923088,null,698,1212,-158,-62.631999969482422,41.72]
[699,41.5,-1,-0.56821506307692304,null,699,1108,-151,-58.137001037597656,38.22]
[700,48.4,0,0,null,700,1199,0,0,34.65]
[701,55.3,-1,-0.53195370099999995,null,701,1290,-164,-54.426998138427734,30.65]
[702,41.8,-1,-0.44543061484615393,null,702,1112,-151,-45.574001312255859,26.46]
[703,31.6,-1,-0.36680714023076927,null,703,977,-142,-37.529998779296875,22.32]
[704,24.6,-1,-0.29821577215384615,null,704,885,-139,-30.511999130249023,18.149999999999999]
[705,15.2,-1,-0.21735119527692309,null,705,761,-137,-22.238000869750977,13.79]
[706,7,-1,-0.11425127676923076,null,706,652,-138,-11.689999580383301,9.2899999999999991]
[707,0,0,0,null,707,560,0,0,4.9800000000000004]
[708,0,0,0,null,708,560,0,0,1.71]
[709,0,0,0,null,709,560,0,0,0]
[710,0,0,0,null,710,560,0,0,0]
[711,0,0,0,null,711,560,0,0,0]
[712,0,0,0,null,712,560,0,0,0]
[713,0,0,0,null,713,560,0,0,0]
[714,0,0,0,null,714,560,0,0,0]
[715,0,0,0,null,715,560,0,0,0]
[716,0,0,0,null,716,560,0,0,0]
[717,0,0,0,null,717,560,0,0,0]
[718,0,0,0,null,718,560,0,0,0]
[719,0,0,0,null,719,560,0,0,0]
[720,0,0,0,null,720,560,0,0,0]
[721,0,0,0,null,721,560,0,0,0]
[722,0,0,0,null,722,560,0,0,0]
[723,0,0,0,null,723,560,0,0,0]
[724,0,0,0,null,724,560,0,0,0]
[725,0,0,0,null,725,560,0,0,0]
[726,0,0,0,null,726,560,0,0,0]
[727,0,0,0,null,727,560,0,0,0]
[728,0,0,0,null,728,560,0,0,0]
[729,0,0,0,null,729,560,0,0,0]
[730,0,0,0,null,730,560,0,0,0]
[731,0,0,0,null,731,560,0,0,0]
[732,0,0,0,null,732,560,0,0,0]
[733,0,0,0,null,733,560,0,0,0]
[734,0,0,0,null,734,560,0,0,0]
[735,0,0,0,null,735,560,0,0,0]
[736,0,0,0,null,736,560,0,0,0]
[737,0,0,0,null,737,560,0,0,0]
[738,0,0,0,null,738,560,0,0,0]
[739,0,0,0,null,739,560,0,0,0]
[740,0,0,0,null,740,560,0,0,0]
[741,0,0,0,null,741,560,0,0,0]
[742,0,0,0,null,742,560,0,0,0]
[743,0,0,0,null,743,560,0,0,0]
[744,0,0,0,null,744,560,0,0,0]
[745,0,0,0,null,745,560,0,0,0]
[746,0,0,0,null,746,560,0,0,0]
[747,0,0,0,null,747,560,0,0,0]
[748,0,0,0,null,748,560,0,0,0]
[749,0,0,0,null,749,560,0,0,0]
[750,0,0,0,null,750,560,0,0,0]
[751,0,0,0,null,751,560,0,0,0]
[752,0,0,0,null,752,560,0,0,0]
[753,0,0,0,null,753,560,0,0,0]
[754,0,0,0,null,754,560,0,0,0]
[755,0,0,0,null,755,560,0,0,0]
[756,0,0,0,null,756,560,0,0,0]
[757,0,0,0,null,757,560,0,0,0]
[758,0,0,0,null,758,560,0,0,0]
[759,0,0,0,null,759,560,0,0,0]
[760,0,0,0,null,760,560,0,0,0]
[761,0,0,0,null,761,560,0,0,0]
[762,0,0,0,null,762,560,0,0,0]
[763,0,0,0,null,763,560,0,0,0]
[764,0,0,0,null,764,560,0,0,0]
[765,0,0,0,null,765,560,0,0,0]
[766,0,0,0,null,766,560,0,0,0]
[767,0,0,0,null,767,560,0,0,0]
[768,0,0,0,null,768,560,0,0,0]
[769,0,0,0,null,769,560,0,0,0]
[770,0,0,0,null,770,560,0,0,0]
[771,0,22,0,null,771,560,216,0,0]
[772,4.5,25.8,0,null,772,619,294,0,1.6]
[773,15.5,42.8,0,null,773,765,635,0,5.03]
[774,30.5,46.8,0,null,774,963,913,0,9.49]
[775,45.5,29.3,0,null,775,1161,615,0,13]
[776,49.2,13.6,0,null,776,1210,286,0,14.65]
[777,39.5,0,0,null,777,1082,0,0,15.15]
[778,29.7,15.1,0,null,778,952,290,0,15.67]
[779,34.799999999999997,26.9,0,null,779,1020,545,0,16.760000000000002]
[780,40,13.6,0,null,780,1088,281,0,17.88]
[781,42.2,-1,0,null,781,1117,-151,0,18.329999999999998]
[782,42.1,-1,0,null,782,1116,-151,0,18.309999999999999]
[783,40.799999999999997,-1,-9.6140697692307688E-3,null,783,1099,-150,-0.98400002717971802,18.05]
[784,37.700000000000003,37.6,0,null,784,1058,772,0,17.39]
[785,47,35,0,null,785,1181,735,0,16.350000000000001]
[786,48.8,33.4,0,null,786,1204,702,0,14.71]
[787,41.7,-1,-0.14909191821538462,null,787,1111,-151,-15.253999710083008,11.71]
[788,27.7,-1,-4.7932308307692316E-2,null,788,926,-140,-4.9039998054504395,7.81]
[789,17.2,-1,0,null,789,787,-137,0,5.25]
[790,14,37.6,0,null,790,745,541,0,4.62]
[791,18.399999999999999,25,0,null,791,803,390,0,5.62]
[792,27.6,17.7,0,null,792,924,325,0,8.24]
[793,39.799999999999997,6.8,0,null,793,1086,141,0,10.98]
[794,34.299999999999997,0,0,null,794,1013,0,0,13.15]
[795,28.7,26.5,0,null,795,939,499,0,15.47]
[796,41.5,40.9,0,null,796,1108,850,0,18.190000000000001]
[797,53.7,17.5,0,null,797,1269,369,0,20.79]
[798,42.4,0,0,null,798,1120,0,0,22.5]
[799,31.2,27.3,0,null,799,972,536,0,23.19]
[800,32.299999999999997,53.2,0,null,800,987,1055,0,23.54]
[801,34.5,60.6,0,null,801,1016,1225,0,24.2]
[802,37.6,68,0,null,802,1057,1396,0,25.17]
[803,41.2,75.400000000000006,0,null,803,1104,1565,0,26.28]
[804,45.8,82.8,0,null,804,1165,1738,0,27.69]
[805,52.3,38.200000000000003,0,null,805,1251,804,0,29.72]
[806,42.5,0,0,null,806,1121,0,0,32.17]
[807,32.6,30.5,0,null,807,991,606,0,34.22]
[808,35,57.9,0,null,808,1022,1175,0,35.31]
[809,36,77.3,0,null,809,1035,1578,0,35.74]
[810,37.1,96.8,0,null,810,1050,1983,0,36.229999999999997]
[811,39.6,80.8,0,null,811,1083,1669,0,37.340000000000003]
[812,43.4,78.3,0,null,812,1133,1634,0,39.049999999999997]
[813,47.2,73.400000000000006,0,null,813,1183,1542,0,40.76]
[814,49.6,66.900000000000006,0,null,814,1215,1407,0,41.82]
[815,50.2,62,0,null,815,1223,1304,0,42.12]
[816,50.2,57.7,0,null,816,1223,1214,0,42.08]
[817,50.6,62.1,0,null,817,1228,1306,0,42.27]
[818,52.3,62.9,0,null,818,1251,1324,0,43.03]
[819,54.8,37.5,0,null,819,1284,790,0,44.14]
[820,57,18.3,0,null,820,1313,386,0,45.13]
[821,42.3,0,0,null,821,1119,0,0,45.84]
[822,27.6,29.1,0,null,822,924,535,0,46.4]
[823,28.4,57,0,null,823,935,1066,0,46.89]
[824,29.1,51.8,0,null,824,944,983,0,47.34]
[825,29.6,35.299999999999997,0,null,825,951,677,0,47.66]
[826,29.7,33.299999999999997,0,null,826,952,640,0,47.77]
[827,29.8,17.7,0,null,827,954,341,0,47.78]
[828,29.5,-1,-4.0498484615384611E-3,null,828,950,-141,-0.414000004529953,47.64]
[829,28.9,-1,-2.3108959538461538E-2,null,829,942,-140,-2.3640000820159912,47.23]
[830,43,0,0,null,830,1128,0,0,46.66]
[831,57.1,-1,-3.3862034384615387E-2,null,831,1314,-166,-3.4649999141693115,46.08]
[832,57.7,-1,-6.1271390846153843E-2,null,832,1322,-167,-6.2690000534057617,45.45]
[833,56,-1,-0.10492369276923078,null,833,1300,-165,-10.734999656677246,44.69]
[834,53.8,-1,-0.15074987469230769,null,834,1271,-163,-15.423999786376953,43.73]
[835,51.2,-1,-0.19525628769230768,null,835,1236,-161,-19.978000640869141,42.55]
[836,48.1,-1,-0.22326714538461537,null,836,1195,-156,-22.843999862670898,41.14]
[837,44.5,-1,-0.22354118153846156,null,837,1148,-153,-22.871999740600586,39.56]
[838,40.9,-1,-0.14080181384615381,null,838,1100,-150,-14.406000137329102,37.93]
[839,38.1,-1,-4.1095657692307693E-3,null,839,1063,-147,-0.41999998688697815,36.69]
[840,37.200000000000003,42.7,0,null,840,1051,875,0,36.270000000000003]
[841,37.5,70.8,0,null,841,1055,1452,0,36.42]
[842,39.1,48.6,0,null,842,1076,1002,0,37.14]
[843,41.3,0.1,0,null,843,1105,2,0,38.130000000000003]
[844,42.3,-1,0,null,844,1119,-151,0,38.549999999999997]
[845,42,-1,-1.3786858461538463E-2,null,845,1115,-151,-1.4110000133514404,38.42]
[846,40.799999999999997,-1,-9.570301423076924E-2,null,846,1099,-150,-9.7919998168945313,37.89]
[847,38.6,-1,-0.15860613769230769,null,847,1070,-148,-16.228000640869141,36.89]
[848,35.5,-1,-0.18007867538461544,null,848,1029,-145,-18.424999237060547,35.53]
[849,32.1,-1,-0.10696894915384615,null,849,984,-142,-10.944999694824219,34.01]
[850,29.6,-1,-1.222672E-3,null,850,951,-141,-0.125,32.880000000000003]
[851,28.8,39.9,0,null,851,940,753,0,32.520000000000003]
[852,29.2,52.9,0,null,852,946,1007,0,32.700000000000003]
[853,30.9,76.099999999999994,0,null,853,968,1490,0,33.479999999999997]
[854,34.299999999999997,76.5,0,null,854,1013,1543,0,34.97]
[855,38.299999999999997,75.5,0,null,855,1066,1553,0,36.78]
[856,42.5,74.8,0,null,856,1121,1558,0,38.64]
[857,46.6,74.2,0,null,857,1175,1558,0,40.479999999999997]
[858,50.7,76.2,0,null,858,1230,1603,0,42.34]
[859,54.8,75.099999999999994,0,null,859,1284,1583,0,44.16]
[860,58.7,36.299999999999997,0,null,860,1335,765,0,45.9]
[861,45.2,0,0,null,861,1157,0,0,47.55]
[862,31.8,37.200000000000003,0,null,862,980,734,0,49.09]
[863,33.799999999999997,71.2,0,null,863,1006,1430,0,50.42]
[864,35.5,46.4,0,null,864,1029,945,0,51.49]
[865,36.6,33.6,0,null,865,1043,687,0,52.23]
[866,37.200000000000003,20,0,null,866,1051,410,0,52.58]
[867,37.200000000000003,-1,0,null,867,1051,-147,0,52.63]
[868,37,-1,0,null,868,1049,-147,0,52.49]
[869,36.6,-1,-1.7960306923076924E-3,null,869,1043,-146,-0.18400000035762787,52.19]
[870,36,-1,-2.9785030769230768E-3,null,870,1035,-146,-0.30500000715255737,51.82]
[871,35.4,-1,-4.1423592307692301E-3,null,871,1028,-145,-0.42399999499320984,51.43]
[872,34.700000000000003,-1,-4.1464292307692311E-3,null,872,1018,-144,-0.42399999499320984,51.02]
[873,34.1,-1,-7.5284700000000017E-4,null,873,1010,-144,-7.6999999582767487E-2,50.61]
[874,33.6,-1,0,null,874,1004,-143,0,50.26]
[875,33.299999999999997,-1,0,null,875,1000,-143,0,50.06]
[876,33.1,-1,0,null,876,997,-143,0,49.97]
[877,32.700000000000003,-1,-7.9295406538461538E-2,null,877,992,-143,-8.1129999160766602,49.67]
[878,31.4,-1,-0.20520587384615385,null,878,975,-142,-20.996000289916992,48.86]
[879,45,0,0,null,879,1154,0,0,47.53]
[880,58.5,-1,-0.37796789384615381,null,880,1333,-168,-38.672000885009766,45.82]
[881,53.7,-1,-0.48394525615384626,null,881,1269,-163,-49.514999389648438,43.66]
[882,47.5,-1,-0.52644967538461551,null,882,1187,-156,-53.863998413085938,40.909999999999997]
[883,40.6,-1,-0.44042411384615388,null,883,1096,-150,-45.062000274658203,37.78]
[884,34.1,-1,-0.29107823846153841,null,884,1010,-144,-29.781999588012695,34.89]
[885,45.3,0,0,null,885,1158,0,0,32.69]
[886,56.4,-1,-0.17842927076923074,null,886,1305,-166,-18.256000518798828,30.99]
[887,51,-1,-0.2144862123076923,null,887,1234,-160,-21.944999694824219,29.31]
[888,44.5,-1,-0.25851377769230766,null,888,1148,-153,-26.450000762939453,27.29]
[889,36.4,-1,-0.28889347999999998,null,889,1041,-146,-29.558000564575195,24.79]
[890,26.6,-1,-0.27369253907692304,null,890,911,-139,-28.003000259399414,21.78]
[891,20,-1,-0.23490950207692307,null,891,824,-138,-24.034999847412109,18.510000000000002]
[892,13.3,-1,-0.21904532899938461,null,892,736,-137,-22.41200065612793,15.1]
[893,6.7,-1,-0.16839031368461538,null,893,648,-138,-17.229000091552734,11.06]
[894,0,0,0,null,894,560,0,0,6.28]
[895,0,0,0,null,895,560,0,0,2.2400000000000002]
[896,0,0,0,null,896,560,0,0,0]
[897,0,0,0,null,897,560,0,0,0]
[898,0,0,0,null,898,560,0,0,0]
[899,0,0,0,null,899,560,0,0,0]
[900,0,0,0,null,900,560,0,0,0]
[901,0,5.8,0,null,901,560,57,0,0]
[902,2.5,27.9,0,null,902,593,299,0,2.56]
[903,12.4,29,0,null,903,724,404,0,4.8099999999999996]
[904,19.399999999999999,30.1,0,null,904,816,478,0,6.38]
[905,29.3,31.2,0,null,905,947,595,0,8.6199999999999992]
[906,37.1,10.4,0,null,906,1050,213,0,10.37]
[907,40.6,4.9000000000000004,0,null,907,1096,102,0,11.17]
[908,35.799999999999997,0,0,null,908,1033,0,0,13.32]
[909,30.9,7.6,0,null,909,968,149,0,15.94]
[910,35.4,13.8,0,null,910,1028,281,0,16.89]
[911,36.5,11.1,0,null,911,1042,227,0,17.13]
[912,40.799999999999997,48.5,0,null,912,1099,1006,0,18.04]
[913,49.8,3.7,0,null,913,1218,78,0,19.96]
[914,41.2,0,0,null,914,1104,0,0,22.05]
[915,32.700000000000003,29.7,0,null,915,992,591,0,23.65]
[916,39.4,52.1,0,null,916,1080,1075,0,25.72]
[917,48.8,22.7,0,null,917,1204,477,0,28.62]
[918,41.6,0,0,null,918,1109,0,0,31.99]
[919,34.5,46.6,0,null,919,1016,942,0,35.07]
[920,39.700000000000003,84.4,0,null,920,1084,1744,0,37.42]
[921,44.7,83.2,0,null,921,1150,1742,0,39.65]
[922,49.5,78.900000000000006,0,null,922,1214,1659,0,41.78]
[923,52.3,83.8,0,null,923,1251,1764,0,43.04]
[924,53.4,77.7,0,null,924,1265,1636,0,43.55]
[925,52.1,69.599999999999994,0,null,925,1248,1465,0,42.97]
[926,47.9,63.6,0,null,926,1193,1336,0,41.08]
[927,46.4,55.2,0,null,927,1173,1159,0,40.380000000000003]
[928,46.5,53.6,0,null,928,1174,1126,0,40.43]
[929,46.4,62.3,0,null,929,1173,1308,0,40.4]
[930,46.1,58.2,0,null,930,1169,1222,0,40.25]
[931,46.2,61.8,0,null,931,1170,1298,0,40.32]
[932,47.3,62.3,0,null,932,1185,1309,0,40.799999999999997]
[933,49.3,57.1,0,null,933,1211,1201,0,41.71]
[934,52.6,58.1,0,null,934,1255,1223,0,43.16]
[935,56.3,56,0,null,935,1304,1180,0,44.84]
[936,59.9,27.2,0,null,936,1351,573,0,46.42]
[937,45.8,0,0,null,937,1165,0,0,47.91]
[938,31.8,28.8,0,null,938,980,569,0,49.08]
[939,32.700000000000003,56.5,0,null,939,992,1124,0,49.66]
[940,33.4,62.8,0,null,940,1001,1257,0,50.15]
[941,34.6,68.2,0,null,941,1017,1379,0,50.94]
[942,35.799999999999997,68.599999999999994,0,null,942,1033,1400,0,51.69]
[943,38.6,65,0,null,943,1070,1338,0,53.5]
[944,42.3,61.9,0,null,944,1119,1289,0,55.9]
[945,44.1,65.3,0,null,945,1142,1365,0,57.11]
[946,45.3,63.2,0,null,946,1158,1325,0,57.88]
[947,46.5,30.6,0,null,947,1174,643,0,58.63]
[948,46.7,11.1,0,null,948,1177,233,0,58.75]
[949,45.9,16.100000000000001,0,null,949,1166,338,0,58.26]
[950,45.6,21.8,0,null,950,1162,457,0,58.03]
[951,45.9,24.2,0,null,951,1166,508,0,58.28]
[952,46.5,24.7,0,null,952,1174,519,0,58.67]
[953,46.7,24.7,0,null,953,1177,519,0,58.76]
[954,46.8,28.2,0,null,954,1178,592,0,58.82]
[955,47.2,31.2,0,null,955,1183,655,0,59.09]
[956,47.6,29.6,0,null,956,1189,622,0,59.38]
[957,48.2,31.2,0,null,957,1197,656,0,59.72]
[958,48.6,33.5,0,null,958,1202,704,0,60.04]
[959,48.8,-1,-8.5734450153846162E-2,null,959,1204,-157,-8.7720003128051758,60.13]
[960,47.6,-1,-8.8135173461538457E-2,null,960,1189,-156,-9.0179996490478516,59.33]
[961,46.3,-1,-5.7127649769230758E-2,null,961,1171,-155,-5.8449997901916504,58.52]
[962,45.2,-1,-0.18258388030769229,null,962,1157,-154,-18.680999755859375,57.82]
[963,43.5,-1,-0.23106295153846157,null,963,1134,-152,-23.641000747680664,56.68]
[964,41.4,-1,-6.4106651153846159E-2,null,964,1107,-151,-6.5590000152587891,55.36]
[965,40.299999999999997,-1,-2.9789500000000003E-2,null,965,1092,-150,-3.0480000972747803,54.63]
[966,39.4,-1,-0.10595636023076924,null,966,1080,-149,-10.840999603271484,54.04]
[967,38,-1,-0.16877737307692309,null,967,1062,-147,-17.268999099731445,53.15]
[968,36.299999999999997,-1,-4.2516924923076918E-2,null,968,1039,-146,-4.3499999046325684,52.02]
[969,35.299999999999997,5.8,0,null,969,1026,118,0,51.37]
[970,35.4,30.2,0,null,970,1028,615,0,51.41]
[971,36.6,55.6,0,null,971,1043,1137,0,52.2]
[972,38.6,48.5,0,null,972,1070,999,0,53.52]
[973,39.9,41.8,0,null,973,1087,864,0,54.34]
[974,40.299999999999997,38.200000000000003,0,null,974,1092,791,0,54.59]
[975,40.799999999999997,35,0,null,975,1099,726,0,54.92]
[976,41.9,32.4,0,null,976,1113,674,0,55.69]
[977,43.2,26.4,0,null,977,1131,551,0,56.51]
[978,43.5,-1,-3.3339784615384616E-3,null,978,1134,-152,-0.34099999070167542,56.73]
[979,42.9,-1,-0.12533564076923079,null,979,1127,-152,-12.824000358581543,56.33]
[980,41.5,-1,-2.7956361538461535E-3,null,980,1108,-151,-0.28600001335144043,55.38]
[981,40.9,-1,0,null,981,1100,-150,0,54.99]
[982,40.5,-1,-4.0422138869230767E-2,null,982,1095,-150,-4.1360001564025879,54.75]
[983,39.5,-1,-7.8852417646153861E-2,null,983,1082,-149,-8.0679998397827148,54.11]
[984,38.299999999999997,-1,-0.11046976307692308,null,984,1066,-148,-11.303000450134277,53.32]
[985,36.9,-1,-0.12240440615384615,null,985,1047,-147,-12.52400016784668,52.41]
[986,35.4,-1,-2.9116453076923079E-2,null,986,1028,-145,-2.9790000915527344,51.45]
[987,34.5,-1,-2.4415469230769232E-3,null,987,1016,-144,-0.25,50.86]
[988,33.9,-1,-9.7823035384615384E-2,null,988,1008,-144,-10.008999824523926,50.48]
[989,32.6,-1,-0.13885172261538464,null,989,991,-143,-14.206999778747559,49.6]
[990,30.9,-1,-4.6997326999999998E-2,null,990,968,-141,-4.8090000152587891,48.55]
[991,29.9,-1,-6.9653257461538467E-3,null,991,955,-141,-0.71299999952316284,47.87]
[992,29.2,-1,-2.1961995615384609E-2,null,992,946,-141,-2.246999979019165,47.42]
[993,44.1,0,0,null,993,1142,0,0,46.86]
[994,59.1,-1,-0.11979562269230769,null,994,1341,-169,-12.256999969482422,46.08]
[995,56.8,-1,-0.22429966307692306,null,995,1310,-166,-22.948999404907227,45.07]
[996,53.5,-1,-0.43926345846153841,null,996,1267,-163,-44.943000793457031,43.58]
[997,47.8,-1,-0.43467946538461544,null,997,1191,-156,-44.4739990234375,41.04]
[998,41.9,-1,-0.41338552769230763,null,998,1113,-151,-42.296001434326172,38.39]
[999,35.9,-1,-0.43460389076923084,null,999,1034,-145,-44.466999053955078,35.69]
[1000,44.3,0,0,null,1000,1145,0,0,32.68]
[1001,52.6,-1,-0.33506981923076923,null,1001,1255,-162,-34.283000946044922,29.82]
[1002,43.4,-1,-0.30885182,null,1002,1133,-152,-31.600000381469727,26.97]
[1003,50.6,0,0,null,1003,1228,0,0,24.03]
[1004,57.8,-1,-8.0795548999999994E-2,null,1004,1323,-167,-8.2670001983642578,21.67]
[1005,51.6,-1,-8.4913403846153854E-2,null,1005,1241,-161,-8.6879997253417969,20.34]
[1006,44.8,-1,-0.18299264169230772,null,1006,1152,-153,-18.722999572753906,18.899999999999999]
[1007,48.6,0,0,null,1007,1202,0,0,16.21]
[1008,52.4,-1,-5.838129476923077E-2,null,1008,1252,-161,-5.9730000495910645,13.84]
[1009,45.4,-1,-6.2313289000000001E-2,null,1009,1160,-154,-6.375999927520752,12.25]
[1010,37.200000000000003,-1,-7.1910040692307692E-2,null,1010,1051,-147,-7.3579998016357422,10.4]
[1011,26.3,-1,-2.9636185615384614E-2,null,1011,907,-139,-3.0320000648498535,7.94]
[1012,17.899999999999999,-1,0,null,1012,796,-138,0,6.05]
[1013,16.2,1.9,0,null,1013,774,29,0,5.67]
[1014,17.8,7.5,0,null,1014,795,116,0,6.03]
[1015,25.2,18,0,null,1015,893,315,0,7.68]
[1016,39.700000000000003,6.5,0,null,1016,1084,134,0,10.97]
[1017,38.6,0,0,null,1017,1070,0,0,14.72]
[1018,37.4,5.4,0,null,1018,1054,111,0,17.32]
[1019,43.4,9.6999999999999993,0,null,1019,1133,202,0,18.59]
[1020,46.9,15.7,0,null,1020,1179,330,0,19.350000000000001]
[1021,52.5,13.1,0,null,1021,1253,276,0,20.54]
[1022,56.2,6.3,0,null,1022,1302,133,0,21.33]
[1023,44,0,0,null,1023,1141,0,0,22.06]
[1024,31.8,20.9,0,null,1024,980,413,0,23.39]
[1025,38.700000000000003,36.299999999999997,0,null,1025,1071,748,0,25.52]
[1026,47.7,47.5,0,null,1026,1190,998,0,28.28]
[1027,54.5,22,0,null,1027,1280,464,0,30.38]
[1028,41.3,0,0,null,1028,1105,0,0,31.22]
[1029,28.1,26.8,0,null,1029,931,498,0,32.22]
[1030,31.6,49.2,0,null,1030,977,969,0,33.78]
[1031,34.5,39.5,0,null,1031,1016,798,0,35.08]
[1032,36.4,24,0,null,1032,1041,491,0,35.909999999999997]
[1033,36.700000000000003,-1,-1.6347407000000001E-2,null,1033,1045,-146,-1.6729999780654907,36.06]
[1034,35.5,-1,-4.3387053592307691E-2,null,1034,1029,-145,-4.439000129699707,35.5]
[1035,33.799999999999997,-1,0,null,1035,1006,-144,0,34.76]
[1036,33.700000000000003,19.8,0,null,1036,1005,397,0,34.700000000000003]
[1037,35.299999999999997,35.1,0,null,1037,1026,714,0,35.409999999999997]
[1038,38,33.9,0,null,1038,1062,697,0,36.65]
[1039,40.1,34.5,0,null,1039,1090,714,0,37.57]
[1040,42.2,40.4,0,null,1040,1117,841,0,38.51]
[1041,45.2,44,0,null,1041,1157,923,0,39.880000000000003]
[1042,48.3,35.9,0,null,1042,1198,755,0,41.25]
[1043,50.1,29.6,0,null,1043,1222,623,0,42.07]
[1044,52.3,38.5,0,null,1044,1251,810,0,43.03]
[1045,55.3,57.7,0,null,1045,1290,1216,0,44.4]
[1046,57,50.7,0,null,1046,1313,1069,0,45.14]
[1047,57.7,25.2,0,null,1047,1322,531,0,45.44]
[1048,42.9,0,0,null,1048,1127,0,0,46.13]
[1049,28.2,15.7,0,null,1049,932,292,0,46.79]
[1050,29.2,30.5,0,null,1050,946,581,0,47.45]
[1051,31.1,52.6,0,null,1051,971,1032,0,48.68]
[1052,33.4,60.7,0,null,1052,1001,1215,0,50.13]
[1053,35,61.4,0,null,1053,1022,1246,0,51.16]
[1054,35.299999999999997,18.2,0,null,1054,1026,370,0,51.37]
[1055,35.200000000000003,14.9,0,null,1055,1025,303,0,51.3]
[1056,34.9,11.7,0,null,1056,1021,237,0,51.15]
[1057,34.5,12.9,0,null,1057,1016,261,0,50.88]
[1058,34.1,15.5,0,null,1058,1010,312,0,50.63]
[1059,33.5,-1,-0.14770523153846155,null,1059,1002,-143,-15.11299991607666,50.2]
[1060,31.8,-1,-0.15003641846153848,null,1060,980,-142,-15.35099983215332,49.12]
[1061,30.1,-1,0,null,1061,958,-141,0,48.02]
[1062,29.6,10.3,0,null,1062,951,198,0,47.7]
[1063,30,26.5,0,null,1063,956,512,0,47.93]
[1064,31,18.8,0,null,1064,969,368,0,48.57]
[1065,31.5,26.5,0,null,1065,976,522,0,48.88]
[1066,31.7,-1,0,null,1066,979,-142,0,49.03]
[1067,31.5,-1,-3.3645298692307694E-2,null,1067,976,-142,-3.4419999122619629,48.94]
[1068,30.6,-1,-8.9968453846153837E-4,null,1068,964,-141,-9.2000000178813934E-2,48.32]
[1069,30,-1,0,null,1069,956,-141,0,47.97]
[1070,30,-1,-2.5292315384615387E-3,null,1070,956,-141,-0.25900000333786011,47.92]
[1071,29.4,-1,-6.2316934538461544E-2,null,1071,948,-141,-6.375999927520752,47.54]
[1072,44.3,0,0,null,1072,1145,0,0,46.79]
[1073,59.2,-1,-3.5047799999999999E-3,null,1073,1342,-169,-0.35899999737739563,46.13]
[1074,58.3,-1,-2.104789746153846E-2,null,1074,1330,-168,-2.1540000438690186,45.73]
[1075,57.1,-1,-5.6470095846153846E-2,null,1075,1314,-166,-5.7779998779296875,45.17]
[1076,55.4,-1,-7.7792783769230767E-2,null,1076,1292,-164,-7.9590001106262207,44.43]
[1077,53.5,-1,-9.1795331461538454E-2,null,1077,1267,-163,-9.3920001983642578,43.59]
[1078,51.5,-1,-6.4534122769230776E-2,null,1078,1240,-161,-6.6030001640319824,42.68]
[1079,49.7,-1,-6.5598033769230762E-2,null,1079,1216,-159,-6.7119998931884766,41.89]
[1080,47.9,-1,-4.5993926384615386E-2,null,1080,1193,-156,-4.7059998512268066,41.09]
[1081,46.4,-1,-2.8609684615384613E-3,null,1081,1173,-155,-0.29300001263618469,40.380000000000003]
[1082,45.5,-1,0,null,1082,1161,-154,0,39.99]
[1083,45.2,-1,-2.3945169230769228E-3,null,1083,1157,-154,-0.24500000476837158,39.840000000000003]
[1084,44.3,-1,0,null,1084,1145,-153,0,39.46]
[1085,43.6,-1,0,null,1085,1136,-153,0,39.15]
[1086,43.1,-1,0,null,1086,1129,-152,0,38.9]
[1087,42.5,25.6,0,null,1087,1121,533,0,38.67]
[1088,43.3,25.7,0,null,1088,1132,536,0,39.03]
[1089,46.3,24,0,null,1089,1171,504,0,40.369999999999997]
[1090,47.8,20.6,0,null,1090,1191,433,0,41.03]
[1091,47.2,3.8,0,null,1091,1183,80,0,40.76]
[1092,45.6,4.4000000000000004,0,null,1092,1162,92,0,40.020000000000003]
[1093,44.6,4.0999999999999996,0,null,1093,1149,86,0,39.6]
[1094,44.1,-1,-1.4530804153846154E-2,null,1094,1142,-153,-1.4869999885559082,39.369999999999997]
[1095,42.9,-1,-8.1618276000000003E-2,null,1095,1127,-152,-8.3509998321533203,38.840000000000003]
[1096,40.9,-1,-4.6728270000000002E-2,null,1096,1100,-150,-4.7810001373291016,37.93]
[1097,39.200000000000003,-1,-9.0215280769230771E-2,null,1097,1078,-149,-9.2299995422363281,37.19]
[1098,37,-1,-7.1581981076923068E-2,null,1098,1049,-147,-7.3239998817443848,36.21]
[1099,35.1,2,0,null,1099,1024,41,0,35.32]
[1100,35.6,43.3,0,null,1100,1030,883,0,35.56]
[1101,38.700000000000003,47.6,0,null,1101,1071,980,0,36.96]
[1102,41.3,40.4,0,null,1102,1105,839,0,38.119999999999997]
[1103,42.6,45.7,0,null,1103,1123,952,0,38.71]
[1104,43.9,43.3,0,null,1104,1140,905,0,39.26]
[1105,46.9,41.2,0,null,1105,1179,865,0,40.64]
[1106,52.4,40.1,0,null,1106,1252,844,0,43.09]
[1107,56.3,39.299999999999997,0,null,1107,1304,828,0,44.83]
[1108,57.4,25.5,0,null,1108,1318,538,0,45.33]
[1109,57.2,25.4,0,null,1109,1315,535,0,45.24]
[1110,57,25.4,0,null,1110,1313,535,0,45.14]
[1111,56.8,25.3,0,null,1111,1310,533,0,45.06]
[1112,56.3,25.3,0,null,1112,1304,533,0,44.82]
[1113,55.6,25.2,0,null,1113,1294,531,0,44.53]
[1114,56.2,25.2,0,null,1114,1302,531,0,44.77]
[1115,58,12.4,0,null,1115,1326,261,0,45.6]
[1116,43.4,0,0,null,1116,1133,0,0,46.28]
[1117,28.8,26.2,0,null,1117,940,494,0,47.18]
[1118,30.9,49.9,0,null,1118,968,977,0,48.49]
[1119,32.299999999999997,40.5,0,null,1119,987,803,0,49.42]
[1120,32.5,12.4,0,null,1120,989,246,0,49.56]
[1121,32.4,12.2,0,null,1121,988,242,0,49.47]
[1122,32.1,6.4,0,null,1122,984,127,0,49.28]
[1123,31,12.4,0,null,1123,969,243,0,48.58]
[1124,30.1,18.5,0,null,1124,958,359,0,48.03]
[1125,30.4,35.6,0,null,1125,961,693,0,48.2]
[1126,31.2,30.1,0,null,1126,972,591,0,48.72]
[1127,31.5,30.8,0,null,1127,976,606,0,48.91]
[1128,31.5,26.9,0,null,1128,976,530,0,48.93]
[1129,31.7,33.9,0,null,1129,979,669,0,49.05]
[1130,32,29.9,0,null,1130,983,591,0,49.23]
[1131,32.1,-1,-6.0407659230769239E-3,null,1131,984,-142,-0.61799997091293335,49.28]
[1132,31.4,-1,-5.4929399615384608E-2,null,1132,975,-142,-5.619999885559082,48.84]
[1133,30.3,-1,0,null,1133,960,-141,0,48.12]
[1134,29.8,-1,-2.4525230769230771E-3,null,1134,954,-141,-0.25099998712539673,47.8]
[1135,44.3,0,0,null,1135,1145,0,0,47.42]
[1136,58.9,-1,-0.56935113384615399,null,1136,1338,-169,-58.252998352050781,45.98]
[1137,52.1,-1,-0.64435046153846165,null,1137,1248,-161,-65.927001953125,42.96]
[1138,44.1,-1,-0.5833380661538462,null,1138,1142,-153,-59.685001373291016,39.380000000000003]
[1139,51.7,0,0,null,1139,1243,0,0,35.82]
[1140,59.2,-1,-0.6632124109238462,null,1140,1342,-169,-67.857002258300781,31.85]
[1141,47.2,-1,-0.60052370653846154,null,1141,1183,-156,-61.443000793457031,26.87]
[1142,35.1,0,0,null,1142,1024,0,0,21.41]
[1143,23.1,-1,-0.23200573592307688,null,1143,865,-138,-23.738000869750977,16.41]
[1144,13.1,-1,-8.1282851615384608E-2,null,1144,733,-137,-8.3159999847412109,12.56]
[1145,5,-1,-2.6740860223076923E-2,null,1145,626,-138,-2.7360000610351562,10.41]
[1146,0,0,0,null,1146,560,0,0,9.07]
[1147,0,0,0,null,1147,560,0,0,7.69]
[1148,0,0,0,null,1148,560,0,0,6.28]
[1149,0,0,0,null,1149,560,0,0,5.08]
[1150,0,0,0,null,1150,560,0,0,4.32]
[1151,0,0,0,null,1151,560,0,0,3.32]
[1152,0,0,0,null,1152,560,0,0,1.92]
[1153,0,0,0,null,1153,560,0,0,1.07]
[1154,0,0,0,null,1154,560,0,0,0.66]
[1155,0,0,0,null,1155,560,0,0,0]
[1156,0,0,0,null,1156,560,0,0,0]
[1157,0,0,0,null,1157,560,0,0,0]
[1158,0,0,0,null,1158,560,0,0,0]
[1159,0,0,0,null,1159,560,0,0,0]
[1160,0,0,0,null,1160,560,0,0,0]
[1161,0,0,0,null,1161,560,0,0,0]
[1162,0,0,0,null,1162,560,0,0,0]
[1163,0,0,0,null,1163,560,0,0,0]
[1164,0,0,0,null,1164,560,0,0,0]
[1165,0,0,0,null,1165,560,0,0,0]
[1166,0,0,0,null,1166,560,0,0,0]
[1167,0,0,0,null,1167,560,0,0,0]
[1168,0,0,0,null,1168,560,0,0,0]
[1169,0,0,0,null,1169,560,0,0,0]
[1170,0,0,0,null,1170,560,0,0,0]
[1171,0,0,0,null,1171,560,0,0,0]
[1172,0,0,0,null,1172,560,0,0,0]
[1173,0,0,0,null,1173,560,0,0,0]
[1174,0,0,0,null,1174,560,0,0,0]
[1175,0,0,0,null,1175,560,0,0,0]
[1176,0,0,0,null,1176,560,0,0,0]
[1177,0,0,0,null,1177,560,0,0,0]
[1178,0,0,0,null,1178,560,0,0,0]
[1179,0,0,0,null,1179,560,0,0,0]
[1180,0,0,0,null,1180,560,0,0,0]
[1181,0,0,0,null,1181,560,0,0,0]
[1182,0,0,0,null,1182,560,0,0,0]
[1183,0,0,0,null,1183,560,0,0,0]
[1184,0,0,0,null,1184,560,0,0,0]
[1185,0,0,0,null,1185,560,0,0,0]
[1186,0,0,0,null,1186,560,0,0,0]
[1187,0,0,0,null,1187,560,0,0,0]
[1188,0,0,0,null,1188,560,0,0,0]
[1189,0,0,0,null,1189,560,0,0,0]
[1190,0,0,0,null,1190,560,0,0,0]
[1191,0,0,0,null,1191,560,0,0,0]
[1192,0,0,0,null,1192,560,0,0,0]
[1193,0,0,0,null,1193,560,0,0,0]
[1194,0,0,0,null,1194,560,0,0,0]
[1195,0,0,0,null,1195,560,0,0,0]
[1196,0,20.399999999999999,0,null,1196,560,200,0,1.54]
[1197,12.6,41.2,0,null,1197,726,576,0,4.8499999999999996]
[1198,27.3,20.399999999999999,0,null,1198,921,373,0,9.06]
[1199,40.4,7.6,0,null,1199,1094,157,0,11.8]
[1200,46.1,-1,0,null,1200,1169,-155,0,12.42]
[1201,44.6,-1,-7.5993630769230768E-5,null,1201,1149,-153,-8.0000003799796104E-3,12.07]
[1202,42.7,14.7,0,null,1202,1124,306,0,11.64]
[1203,42.9,7.3,0,null,1203,1127,152,0,11.69]
[1204,36.1,0,0,null,1204,1037,0,0,12.91]
[1205,29.3,15,0,null,1205,947,286,0,15.58]
[1206,43.8,22.6,0,null,1206,1138,472,0,18.690000000000001]
[1207,54.9,9.9,0,null,1207,1285,209,0,21.04]
[1208,44.9,0,0,null,1208,1153,0,0,22.62]
[1209,34.9,47.4,0,null,1209,1021,961,0,24.34]
[1210,42.7,82.7,0,null,1210,1124,1723,0,26.74]
[1211,52,81.2,0,null,1211,1247,1709,0,29.62]
[1212,61.8,82.7,0,null,1212,1376,1738,0,32.65]
[1213,71.3,39.1,0,null,1213,1502,793,0,35.57]
[1214,58.1,0,0,null,1214,1327,0,0,38.07]
[1215,44.9,42.5,0,null,1215,1153,890,0,39.71]
[1216,46.3,83.3,0,null,1216,1171,1749,0,40.36]
[1217,46.8,74.099999999999994,0,null,1217,1178,1556,0,40.6]
[1218,48.1,75.7,0,null,1218,1195,1591,0,41.15]
[1219,50.5,75.8,0,null,1219,1227,1595,0,42.23]
[1220,53.6,76.7,0,null,1220,1268,1615,0,43.61]
[1221,56.9,77.099999999999994,0,null,1221,1311,1625,0,45.08]
[1222,60.2,78.7,0,null,1222,1355,1658,0,46.58]
[1223,63.7,78,0,null,1223,1401,1631,0,48.13]
[1224,67.2,79.599999999999994,0,null,1224,1447,1646,0,49.7]
[1225,70.7,80.900000000000006,0,null,1225,1494,1645,0,51.27]
[1226,74.099999999999994,81.099999999999994,0,null,1226,1539,1616,0,52.8]
[1227,77.5,83.6,0,null,1227,1584,1630,0,54.3]
[1228,80.8,85.6,0,null,1228,1627,1632,0,55.8]
[1229,84.1,81.599999999999994,0,null,1229,1671,1520,0,57.29]
[1230,87.4,88.3,0,null,1230,1714,1607,0,58.73]
[1231,90.5,91.9,0,null,1231,1755,1637,0,60.12]
[1232,93.5,94.1,0,null,1232,1795,1641,0,61.5]
[1233,96.8,96.6,0,null,1233,1838,1647,0,62.94]
[1234,100,-1,0,null,1234,1881,-233,0,64.39]
[1235,96,-1,0,null,1235,1828,-228,0,65.52]
[1236,81.900000000000006,-1,0,null,1236,1642,-205,0,66.069999999999993]
[1237,68.099999999999994,-1,0,null,1237,1459,-181,0,66.19]
[1238,58.1,84.7,0,null,1238,1327,1785,0,66.19]
[1239,58.5,85.4,0,null,1239,1333,1800,0,66.430000000000007]
[1240,59.5,85.6,0,null,1240,1346,1804,0,67.069999999999993]
[1241,61,86.6,0,null,1241,1366,1823,0,68.040000000000006]
[1242,62.6,86.8,0,null,1242,1387,1820,0,69.12]
[1243,64.099999999999994,87.6,0,null,1243,1407,1830,0,70.08]
[1244,65.400000000000006,87.5,0,null,1244,1424,1822,0,70.91]
[1245,66.7,87.8,0,null,1245,1441,1819,0,71.73]
[1246,68.099999999999994,43.5,0,null,1246,1459,896,0,72.66]
[1247,55.2,0,0,null,1247,1289,0,0,73.67]
[1248,42.3,37.200000000000003,0,null,1248,1119,774,0,74.55]
[1249,43,73.599999999999994,0,null,1249,1128,1535,0,75.180000000000007]
[1250,43.5,65.099999999999994,0,null,1250,1134,1359,0,75.59]
[1251,43.8,53.1,0,null,1251,1138,1109,0,75.819999999999993]
[1252,43.9,54.6,0,null,1252,1140,1141,0,75.900000000000006]
[1253,43.9,41.2,0,null,1253,1140,861,0,75.92]
[1254,43.8,34.799999999999997,0,null,1254,1138,727,0,75.87]
[1255,43.6,30.3,0,null,1255,1136,633,0,75.680000000000007]
[1256,43.3,21.9,0,null,1256,1132,457,0,75.37]
[1257,42.8,19.899999999999999,0,null,1257,1125,415,0,75.010000000000005]
[1258,42.3,-1,-7.1168758692307682E-2,null,1258,1119,-151,-7.2820000648498535,74.55]
[1259,41.4,-1,-0.19036678415384617,null,1259,1107,-151,-19.476999282836914,73.8]
[1260,40.200000000000003,-1,-0.27402122307692311,null,1260,1091,-150,-28.03700065612793,72.709999999999994]
[1261,38.700000000000003,-1,-0.28949007769230772,null,1261,1071,-148,-29.618999481201172,71.39]
[1262,37.1,-1,-0.26489672615384613,null,1262,1050,-147,-27.103000640869141,70.02]
[1263,35.6,-1,-0.2204288629230769,null,1263,1030,-145,-22.552999496459961,68.709999999999994]
[1264,34.200000000000003,-1,-0.18117441307692309,null,1264,1012,-144,-18.53700065612793,67.52]
[1265,32.9,-1,-0.14942654076923076,null,1265,994,-143,-15.288999557495117,66.44]
[1266,31.8,-1,-0.13871355838461541,null,1266,980,-142,-14.192999839782715,65.45]
[1267,30.7,-1,-0.13482552638461537,null,1267,965,-141,-13.795000076293945,64.489999999999995]
[1268,29.6,-1,-0.13064834615384613,null,1268,951,-141,-13.366999626159668,63.54]
[1269,40.4,0,0,null,1269,1094,0,0,62.6]
[1270,51.2,-1,-0.14155478307692307,null,1270,1236,-161,-14.482999801635742,61.67]
[1271,49.6,-1,-0.16186480307692308,null,1271,1215,-158,-16.561000823974609,60.69]
[1272,48,-1,-0.15701154153846156,null,1272,1194,-156,-16.065000534057617,59.64]
[1273,46.4,-1,-0.13155079538461539,null,1273,1173,-155,-13.460000038146973,58.6]
[1274,45,-1,-9.8515019153846167E-2,null,1274,1154,-153,-10.079999923706055,57.64]
[1275,43.6,-1,-9.5056802538461521E-2,null,1275,1136,-153,-9.7259998321533203,56.79]
[1276,42.3,-1,-9.9701959230769216E-2,null,1276,1119,-151,-10.201000213623047,55.95]
[1277,41,-1,-0.10717920976923079,null,1277,1101,-150,-10.965999603271484,55.09]
[1278,39.6,-1,-0.10069598198461537,null,1278,1083,-149,-10.303000450134277,54.2]
[1279,38.299999999999997,-1,-8.3707849615384619E-2,null,1279,1066,-148,-8.5649995803833008,53.33]
[1280,37.1,-1,-7.2494987423076931E-2,null,1280,1050,-147,-7.4169998168945313,52.52]
[1281,35.9,-1,-8.7217256923076913E-2,null,1281,1034,-145,-8.9239997863769531,51.75]
[1282,34.6,-1,-0.13410039193076925,null,1282,1017,-144,-13.720999717712402,50.92]
[1283,33,-1,-0.18183898692307696,null,1283,996,-143,-18.604999542236328,49.9]
[1284,31.1,-1,-0.18974234000000004,null,1284,971,-141,-19.413999557495117,48.68]
[1285,29.2,-1,-0.100121311,null,1285,946,-141,-10.244000434875488,47.41]
[1286,43.3,0,0,null,1286,1132,0,0,46.5]
[1287,57.4,32.799999999999997,0,null,1287,1318,691,0,46.22]
[1288,59.9,65.400000000000006,0,null,1288,1351,1378,0,46.44]
[1289,61.9,76.099999999999994,0,null,1289,1377,1599,0,47.35]
[1290,65.599999999999994,73.7,0,null,1290,1426,1534,0,49.01]
[1291,69.900000000000006,79.3,0,null,1291,1483,1619,0,50.93]
[1292,74.099999999999994,81.3,0,null,1292,1539,1620,0,52.79]
[1293,78.3,83.2,0,null,1293,1594,1614,0,54.66]
[1294,82.6,86,0,null,1294,1651,1619,0,56.6]
[1295,87,89.5,0,null,1295,1709,1633,0,58.55]
[1296,91.2,90.8,0,null,1296,1764,1609,0,60.47]
[1297,95.3,45.9,0,null,1297,1819,790,0,62.28]
[1298,81,0,0,null,1298,1630,0,0,63.9]
[1299,66.599999999999994,38.200000000000003,0,null,1299,1440,792,0,65.2]
[1300,67.900000000000006,75.5,0,null,1300,1457,1555,0,66.02]
[1301,68.400000000000006,80.5,0,null,1301,1463,1655,0,66.39]
[1302,69,85.5,0,null,1302,1471,1753,0,66.739999999999995]
[1303,70,85.2,0,null,1303,1484,1739,0,67.430000000000007]
[1304,71.599999999999994,85.9,0,null,1304,1506,1738,0,68.44]
[1305,73.3,86.2,0,null,1305,1528,1727,0,69.52]
[1306,74.8,86.5,0,null,1306,1548,1717,0,70.53]
[1307,76.3,42.9,0,null,1307,1568,843,0,71.47]
[1308,63.3,0,0,null,1308,1396,0,0,72.319999999999993]
[1309,50.4,21.2,0,null,1309,1226,446,0,72.89]
[1310,50.6,42.3,0,null,1310,1228,890,0,73.069999999999993]
[1311,50.6,53.7,0,null,1311,1228,1130,0,73.03]
[1312,50.4,90.1,0,null,1312,1226,1895,0,72.94]
[1313,50.5,97.1,0,null,1313,1227,2043,0,73.010000000000005]
[1314,51,100,0,null,1314,1234,2104,0,73.44]
[1315,51.9,100,0,null,1315,1245,2105,0,74.19]
[1316,52.6,100,0,null,1316,1255,2106,0,74.81]
[1317,52.8,32.4,0,null,1317,1257,682,0,75.010000000000005]
[1318,47.7,0,0,null,1318,1190,0,0,74.989999999999995]
[1319,42.6,27.4,0,null,1319,1123,571,0,74.790000000000006]
[1320,42.1,53.5,0,null,1320,1116,1113,0,74.41]
[1321,41.8,44.5,0,null,1321,1112,925,0,74.069999999999993]
[1322,41.4,41.1,0,null,1322,1107,854,0,73.77]
[1323,41,21,0,null,1323,1101,436,0,73.38]
[1324,40.299999999999997,0,0,null,1324,1092,0,0,72.790000000000006]
[1325,39.299999999999997,1,0,null,1325,1079,21,0,71.95]
[1326,38.299999999999997,15.2,0,null,1326,1066,313,0,71.06]
[1327,37.6,57.8,0,null,1327,1057,1186,0,70.45]
[1328,37.299999999999997,73.2,0,null,1328,1053,1501,0,70.23]
[1329,37.299999999999997,59.8,0,null,1329,1053,1226,0,70.239999999999995]
[1330,37.4,52.2,0,null,1330,1054,1071,0,70.319999999999993]
[1331,37.4,16.899999999999999,0,null,1331,1054,347,0,70.3]
[1332,37.1,34.299999999999997,0,null,1332,1050,703,0,70.05]
[1333,36.700000000000003,51.9,0,null,1333,1045,1062,0,69.66]
[1334,36.200000000000003,25.3,0,null,1334,1038,517,0,69.260000000000005]
[1335,35.6,-1,-0.10552956461538462,null,1335,1030,-145,-10.796999931335449,68.73]
[1336,34.6,-1,-0.22255116000000003,null,1336,1017,-144,-22.770000457763672,67.88]
[1337,33.200000000000003,-1,-0.28363351769230766,null,1337,998,-143,-29.020000457763672,66.680000000000007]
[1338,31.6,-1,-0.26330769307692314,null,1338,977,-142,-26.940000534057617,65.290000000000006]
[1339,30.1,-1,-0.18583641561538461,null,1339,958,-141,-19.013999938964844,63.95]
[1340,28.8,-1,-3.8550518538461538E-2,null,1340,940,-140,-3.9440000057220459,62.84]
[1341,28,29.5,0,null,1341,930,548,0,62.21]
[1342,28.6,100,0,null,1342,938,1880,0,62.04]
[1343,28.8,97.3,0,null,1343,940,1835,0,62.26]
[1344,28.8,73.400000000000006,0,null,1344,940,1384,0,62.87]
[1345,29.6,56.9,0,null,1345,951,1092,0,63.55]
[1346,30.3,91.7,0,null,1346,960,1784,0,64.12]
[1347,31,90.5,0,null,1347,969,1773,0,64.73]
[1348,31.8,81.7,0,null,1348,980,1613,0,65.45]
[1349,32.6,79.5,0,null,1349,991,1581,0,66.180000000000007]
[1350,33.5,86.9,0,null,1350,1002,1740,0,66.97]
[1351,34.6,100,0,null,1351,1017,2022,0,67.849999999999994]
[1352,35.6,78.7,0,null,1352,1030,1605,0,68.739999999999995]
[1353,36.4,50.5,0,null,1353,1041,1032,0,69.45]
[1354,37,57,0,null,1354,1049,1168,0,69.92]
[1355,37.299999999999997,69.099999999999994,0,null,1355,1053,1417,0,70.239999999999995]
[1356,37.6,49.5,0,null,1356,1057,1016,0,70.489999999999995]
[1357,37.799999999999997,44.4,0,null,1357,1059,912,0,70.63]
[1358,37.799999999999997,43.4,0,null,1358,1059,891,0,70.680000000000007]
[1359,37.799999999999997,34.799999999999997,0,null,1359,1059,715,0,70.650000000000006]
[1360,37.6,24,0,null,1360,1057,493,0,70.489999999999995]
[1361,37.200000000000003,-1,-6.9059931261538463E-2,null,1361,1051,-147,-7.0659999847412109,70.09]
[1362,36.299999999999997,-1,-0.18286312615384614,null,1362,1039,-146,-18.709999084472656,69.349999999999994]
[1363,35.1,-1,-0.21620814800000002,null,1363,1024,-144,-22.121000289916992,68.27]
[1364,33.700000000000003,-1,-0.19749840153846152,null,1364,1005,-144,-20.207000732421875,67.09]
[1365,32.4,-1,-0.18230775538461536,null,1365,988,-143,-18.652999877929688,65.959999999999994]
[1366,31.1,-1,-0.17753625000000001,null,1366,971,-141,-18.165000915527344,64.87]
[1367,29.9,-1,-0.14065741961538461,null,1367,955,-141,-14.390999794006348,63.79]
[1368,28.7,-1,0,null,1368,939,-140,0,62.82]
[1369,29,58.6,0,null,1369,943,1110,0,63.03]
[1370,29.7,88.5,0,null,1370,952,1701,0,63.62]
[1371,31,86.3,0,null,1371,969,1691,0,64.8]
[1372,31.8,43.4,0,null,1372,980,857,0,65.5]
[1373,31.7,-1,-0.31534207153846155,null,1373,979,-142,-32.263999938964844,65.33]
[1374,29.9,-1,-0.27506137230769229,null,1374,955,-141,-28.142999649047852,63.83]
[1375,40.200000000000003,0,0,null,1375,1091,0,0,62.44]
[1376,50.4,-1,-0.33708650307692312,null,1376,1226,-160,-34.488998413085938,61.2]
[1377,47.9,-1,-0.41222150692307691,null,1377,1193,-156,-42.176998138427734,59.58]
[1378,45,-1,-0.22290751076923077,null,1378,1154,-153,-22.806999206542969,57.68]
[1379,43,-1,-0.30289278769230771,null,1379,1128,-152,-30.990999221801758,56.4]
[1380,40.6,-1,-0.42264991923076928,null,1380,1096,-150,-43.243999481201172,54.82]
[1381,55.5,0,0,null,1381,1293,0,0,52.77]
[1382,70.400000000000006,41.7,0,null,1382,1490,849,0,52.22]
[1383,73.400000000000006,83.2,0,null,1383,1529,1666,0,52.48]
[1384,74,83.7,0,null,1384,1537,1670,0,52.74]
[1385,74.900000000000006,41.7,0,null,1385,1549,827,0,53.14]
[1386,60,0,0,null,1386,1352,0,0,53.03]
[1387,45.1,41.6,0,null,1387,1156,872,0,52.55]
[1388,47.7,84.2,0,null,1388,1190,1769,0,52.19]
[1389,50.4,50.2,0,null,1389,1226,1056,0,51.09]
[1390,53,26.1,0,null,1390,1260,550,0,49.88]
[1391,59.5,0,0,null,1391,1346,0,0,49.37]
[1392,66.2,38.4,0,null,1392,1434,797,0,49.26]
[1393,66.400000000000006,76.7,0,null,1393,1437,1591,0,49.37]
[1394,67.599999999999994,100,0,null,1394,1453,2063,0,49.88]
[1395,68.400000000000006,76.599999999999994,0,null,1395,1463,1575,0,50.25]
[1396,68.2,47.2,0,null,1396,1461,971,0,50.17]
[1397,69,81.400000000000006,0,null,1397,1471,1669,0,50.5]
[1398,69.7,40.6,0,null,1398,1480,830,0,50.83]
[1399,54.7,0,0,null,1399,1282,0,0,51.23]
[1400,39.799999999999997,19.899999999999999,0,null,1400,1086,411,0,51.67]
[1401,36.299999999999997,40,0,null,1401,1039,817,0,51.53]
[1402,36.700000000000003,59.4,0,null,1402,1045,1216,0,50.17]
[1403,36.6,77.5,0,null,1403,1043,1585,0,49.99]
[1404,36.799999999999997,94.3,0,null,1404,1046,1930,0,50.32]
[1405,36.799999999999997,100,0,null,1405,1046,2047,0,51.05]
[1406,36.4,100,0,null,1406,1041,2044,0,51.45]
[1407,36.299999999999997,79.7,0,null,1407,1039,1629,0,52]
[1408,36.700000000000003,49.5,0,null,1408,1045,1013,0,52.3]
[1409,36.6,39.299999999999997,0,null,1409,1043,804,0,52.22]
[1410,37.299999999999997,62.8,0,null,1410,1053,1288,0,52.66]
[1411,38.1,73.400000000000006,0,null,1411,1063,1509,0,53.18]
[1412,39,72.900000000000006,0,null,1412,1075,1503,0,53.8]
[1413,40.200000000000003,72,0,null,1413,1091,1490,0,54.53]
[1414,41.5,71.2,0,null,1414,1108,1479,0,55.37]
[1415,42.9,77.3,0,null,1415,1127,1612,0,56.29]
[1416,44.4,76.599999999999994,0,null,1416,1146,1603,0,57.31]
[1417,45.4,43.1,0,null,1417,1160,904,0,57.94]
[1418,45.3,53.9,0,null,1418,1158,1130,0,57.86]
[1419,45.1,64.8,0,null,1419,1156,1358,0,57.75]
[1420,46.5,74.2,0,null,1420,1174,1558,0,58.67]
[1421,47.7,75.2,0,null,1421,1190,1580,0,59.4]
[1422,48.1,75.5,0,null,1422,1195,1587,0,59.69]
[1423,48.6,75.8,0,null,1423,1202,1593,0,60.02]
[1424,48.9,76.3,0,null,1424,1206,1604,0,60.21]
[1425,49.9,75.5,0,null,1425,1219,1588,0,60.83]
[1426,50.4,75.2,0,null,1426,1226,1582,0,61.16]
[1427,51.1,74.599999999999994,0,null,1427,1235,1570,0,61.6]
[1428,51.9,75,0,null,1428,1245,1579,0,62.15]
[1429,52.7,37.200000000000003,0,null,1429,1256,783,0,62.7]
[1430,41.6,0,0,null,1430,1109,0,0,63.65]
[1431,30.4,36.6,0,null,1431,961,712,0,64.27]
[1432,30.5,73.2,0,null,1432,963,1427,0,64.31]
[1433,30.3,81.599999999999994,0,null,1433,960,1587,0,64.13]
[1434,30.4,89.3,0,null,1434,961,1738,0,64.27]
[1435,31.5,90.4,0,null,1435,976,1780,0,65.22]
[1436,32.700000000000003,88.5,0,null,1436,992,1761,0,66.25]
[1437,33.700000000000003,97.2,0,null,1437,1005,1950,0,67.09]
[1438,35.200000000000003,99.7,0,null,1438,1025,2026,0,68.37]
[1439,36.299999999999997,98.8,0,null,1439,1039,2019,0,69.36]
[1440,37.700000000000003,100,0,null,1440,1058,2053,0,70.569999999999993]
[1441,39.200000000000003,100,0,null,1441,1078,2063,0,71.89]
[1442,40.9,100,0,null,1442,1100,2074,0,73.349999999999994]
[1443,42.4,99.5,0,null,1443,1120,2072,0,74.64]
[1444,43.8,98.7,0,null,1444,1138,2062,0,75.81]
[1445,45.4,97.3,0,null,1445,1160,2041,0,77.239999999999995]
[1446,47,96.6,0,null,1446,1181,2029,0,78.63]
[1447,47.8,96.2,0,null,1447,1191,2021,0,79.319999999999993]
[1448,48.8,96.3,0,null,1448,1204,2025,0,80.2]
[1449,50.5,95.1,0,null,1449,1227,2001,0,81.67]
[1450,51,95.9,0,null,1450,1234,2018,0,82.11]
[1451,52,94.3,0,null,1451,1247,1985,0,82.91]
[1452,52.6,94.6,0,null,1452,1255,1992,0,83.43]
[1453,53,65.5,0,null,1453,1260,1379,0,83.79]
[1454,53.2,0,0,null,1454,1263,0,0,83.5]
[1455,53.2,-1,-1.6664191769230768E-2,null,1455,1263,-162,-1.7050000429153442,84.01]
[1456,52.6,-1,-2.0478066230769231E-3,null,1456,1255,-162,-0.20999999344348907,83.43]
[1457,52.1,-1,0,null,1457,1248,-161,0,82.99]
[1458,51.8,-1,-2.2434592307692307E-3,null,1458,1244,-161,-0.23000000417232513,82.77]
[1459,51.3,-1,-1.2656714923076923E-2,null,1459,1237,-161,-1.2949999570846558,82.33]
[1460,50.7,-1,0,null,1460,1230,-160,0,81.78]
[1461,50.7,-1,-6.9592230153846163E-2,null,1461,1230,-160,-7.119999885559082,81.81]
[1462,49.8,-1,0,null,1462,1218,-159,0,81.05]
[1463,49.4,-1,0,null,1463,1212,-158,0,80.72]
[1464,49.3,-1,0,null,1464,1211,-158,0,80.61]
[1465,49.1,-1,0,null,1465,1208,-158,0,80.459999999999994]
[1466,49.1,-1,0,null,1466,1208,-158,0,80.42]
[1467,49.1,8.3000000000000007,0,null,1467,1208,175,0,80.42]
[1468,48.9,16.8,0,null,1468,1206,353,0,80.239999999999995]
[1469,48.8,21.3,0,null,1469,1204,448,0,80.13]
[1470,49.1,22.1,0,null,1470,1208,465,0,80.39]
[1471,49.4,26.3,0,null,1471,1212,553,0,80.72]
[1472,49.8,39.200000000000003,0,null,1472,1218,824,0,81.010000000000005]
[1473,50.4,83.4,0,null,1473,1226,1754,0,81.52]
[1474,51.4,90.6,0,null,1474,1239,1907,0,82.4]
[1475,52.3,93.8,0,null,1475,1251,1975,0,83.21]
[1476,53.3,94,0,null,1476,1264,1980,0,84.05]
[1477,54.2,94.1,0,null,1477,1276,1982,0,84.85]
[1478,54.9,94.3,0,null,1478,1285,1987,0,85.42]
[1479,55.7,94.6,0,null,1479,1296,1994,0,86.18]
[1480,56.1,94.9,0,null,1480,1301,2000,0,86.45]
[1481,56.3,86.2,0,null,1481,1304,1817,0,86.64]
[1482,56.2,64.099999999999994,0,null,1482,1302,1351,0,86.57]
[1483,56,46.1,0,null,1483,1300,972,0,86.43]
[1484,56.2,33.4,0,null,1484,1302,704,0,86.58]
[1485,56.5,23.6,0,null,1485,1306,497,0,86.8]
[1486,56.3,18.600000000000001,0,null,1486,1304,392,0,86.65]
[1487,55.7,16.2,0,null,1487,1296,341,0,86.14]
[1488,56,15.9,0,null,1488,1300,335,0,86.36]
[1489,55.9,21.8,0,null,1489,1298,460,0,86.32]
[1490,55.8,20.9,0,null,1490,1297,441,0,86.25]
[1491,55.4,18.399999999999999,0,null,1491,1292,388,0,85.92]
[1492,55.7,25.1,0,null,1492,1296,529,0,86.14]
[1493,56,27.7,0,null,1493,1300,584,0,86.36]
[1494,55.8,22.4,0,null,1494,1297,472,0,86.25]
[1495,56.1,20,0,null,1495,1301,422,0,86.5]
[1496,55.7,17.399999999999999,0,null,1496,1296,367,0,86.14]
[1497,55.9,20.9,0,null,1497,1298,441,0,86.29]
[1498,56,22.9,0,null,1498,1300,483,0,86.4]
[1499,56,21.1,0,null,1499,1300,445,0,86.36]
[1500,55.1,19.2,0,null,1500,1288,405,0,85.63]
[1501,55.6,24.2,0,null,1501,1294,510,0,86.03]
[1502,55.4,25.6,0,null,1502,1292,540,0,85.92]
[1503,55.7,24.7,0,null,1503,1296,521,0,86.14]
[1504,55.9,24,0,null,1504,1298,506,0,86.32]
[1505,55.4,23.5,0,null,1505,1292,495,0,85.92]
[1506,55.7,30.9,0,null,1506,1296,651,0,86.11]
[1507,55.4,42.5,0,null,1507,1292,896,0,85.91]
[1508,55.3,25.8,0,null,1508,1290,544,0,85.83]
[1509,55.4,1.3,0,null,1509,1292,27,0,85.86]
[1510,55,-1,-1.0056493076923077E-2,null,1510,1286,-164,-1.0290000438690186,85.5]
[1511,54.4,-1,0,null,1511,1278,-164,0,84.97]
[1512,54.2,-1,-2.0421869769230772E-2,null,1512,1276,-164,-2.0889999866485596,84.8]
[1513,53.5,-1,-0.13484924715384616,null,1513,1267,-163,-13.796999931335449,84.2]
[1514,52.4,-1,-6.783888461538462E-3,null,1514,1252,-161,-0.6940000057220459,83.26]
[1515,51.8,-1,-0.15550772115384615,null,1515,1244,-161,-15.91100025177002,82.77]
[1516,50.7,-1,-2.7847549230769229E-2,null,1516,1230,-160,-2.8489999771118164,81.78]
[1517,49.9,-1,-6.3010548876923075E-2,null,1517,1219,-159,-6.4470000267028809,81.16]
[1518,49.1,-1,-0.2408845654615385,null,1518,1208,-158,-24.645999908447266,80.42]
[1519,47.7,-1,0,null,1519,1190,-156,0,79.209999999999994]
[1520,47.3,-1,0,null,1520,1185,-156,0,78.83]
[1521,46.9,-1,0,null,1521,1179,-156,0,78.52]
[1522,46.9,-1,0,null,1522,1179,-156,0,78.52]
[1523,47.2,-1,0,null,1523,1183,-156,0,78.81]
[1524,47.8,-1,0,null,1524,1191,-156,0,79.260000000000005]
[1525,48.2,0,0,null,1525,1197,0,0,79.61]
[1526,48.8,23,0,null,1526,1204,484,0,80.150000000000006]
[1527,49.1,67.900000000000006,0,null,1527,1208,1428,0,80.39]
[1528,49.4,73.7,0,null,1528,1212,1550,0,80.72]
[1529,49.8,75,0,null,1529,1218,1577,0,81.010000000000005]
[1530,50.4,75.8,0,null,1530,1226,1595,0,81.52]
[1531,51.4,73.900000000000006,0,null,1531,1239,1556,0,82.4]
[1532,52.3,72.2,0,null,1532,1251,1520,0,83.21]
[1533,53.3,71.2,0,null,1533,1264,1499,0,84.05]
[1534,54.6,71.2,0,null,1534,1281,1500,0,85.15]
[1535,55.4,68.7,0,null,1535,1292,1448,0,85.92]
[1536,56.7,67,0,null,1536,1309,1412,0,86.98]
[1537,57.2,64.599999999999994,0,null,1537,1315,1362,0,87.45]
[1538,57.3,61.9,0,null,1538,1317,1305,0,87.54]
[1539,57,59.5,0,null,1539,1313,1254,0,87.25]
[1540,56.7,57,0,null,1540,1309,1202,0,87.04]
[1541,56.7,69.8,0,null,1541,1309,1471,0,86.98]
[1542,56.8,58.5,0,null,1542,1310,1233,0,87.05]
[1543,56.8,47.2,0,null,1543,1310,995,0,87.1]
[1544,57,38.5,0,null,1544,1313,812,0,87.25]
[1545,57,32.799999999999997,0,null,1545,1313,691,0,87.25]
[1546,56.8,30.2,0,null,1546,1310,637,0,87.07]
[1547,57,27,0,null,1547,1313,569,0,87.29]
[1548,56.9,26.2,0,null,1548,1311,552,0,87.14]
[1549,56.7,26.2,0,null,1549,1309,552,0,87.03]
[1550,57,26.6,0,null,1550,1313,561,0,87.25]
[1551,56.7,27.8,0,null,1551,1309,586,0,87.03]
[1552,56.7,29.7,0,null,1552,1309,626,0,87.03]
[1553,56.8,32.1,0,null,1553,1310,677,0,87.07]
[1554,56.5,34.9,0,null,1554,1306,736,0,86.81]
[1555,56.6,34.9,0,null,1555,1307,736,0,86.92]
[1556,56.3,35.799999999999997,0,null,1556,1304,755,0,86.66]
[1557,56.6,36.6,0,null,1557,1307,772,0,86.92]
[1558,56.2,37.6,0,null,1558,1302,793,0,86.59]
[1559,56.6,38.200000000000003,0,null,1559,1307,805,0,86.92]
[1560,56.2,37.9,0,null,1560,1302,799,0,86.59]
[1561,56.6,37.5,0,null,1561,1307,790,0,86.88]
[1562,56.4,36.700000000000003,0,null,1562,1305,774,0,86.7]
[1563,56.5,34.799999999999997,0,null,1563,1306,734,0,86.81]
[1564,56.5,35.799999999999997,0,null,1564,1306,755,0,86.81]
[1565,56.5,36.200000000000003,0,null,1565,1306,763,0,86.81]
[1566,56.5,36.700000000000003,0,null,1566,1306,774,0,86.81]
[1567,56.7,37.799999999999997,0,null,1567,1309,797,0,86.99]
[1568,56.7,37.799999999999997,0,null,1568,1309,797,0,87.03]
[1569,56.6,36.6,0,null,1569,1307,772,0,86.92]
[1570,56.8,36.1,0,null,1570,1310,761,0,87.1]
[1571,56.5,36.799999999999997,0,null,1571,1306,776,0,86.85]
[1572,56.9,35.9,0,null,1572,1311,757,0,87.14]
[1573,56.7,35,0,null,1573,1309,738,0,86.96]
[1574,56.5,36,0,null,1574,1306,759,0,86.85]
[1575,56.4,36.5,0,null,1575,1305,769,0,86.77]
[1576,56.5,38,0,null,1576,1306,801,0,86.81]
[1577,56.5,39.9,0,null,1577,1306,841,0,86.85]
[1578,56.4,42.1,0,null,1578,1305,887,0,86.74]
[1579,56.5,47,0,null,1579,1306,991,0,86.81]
[1580,56.4,48,0,null,1580,1305,1012,0,86.7]
[1581,56.1,49.1,0,null,1581,1301,1035,0,86.52]
[1582,56.4,48.9,0,null,1582,1305,1031,0,86.7]
[1583,56.4,48.2,0,null,1583,1305,1016,0,86.74]
[1584,56.5,48.3,0,null,1584,1306,1018,0,86.81]
[1585,56.5,47.9,0,null,1585,1306,1010,0,86.85]
[1586,56.6,46.8,0,null,1586,1307,987,0,86.92]
[1587,56.6,46.2,0,null,1587,1307,974,0,86.88]
[1588,56.5,44.4,0,null,1588,1306,936,0,86.85]
[1589,56.8,42.9,0,null,1589,1310,904,0,87.1]
[1590,56.5,42.8,0,null,1590,1306,902,0,86.81]
[1591,56.7,43.2,0,null,1591,1309,911,0,86.99]
[1592,56.5,42.8,0,null,1592,1306,902,0,86.81]
[1593,56.9,42.2,0,null,1593,1311,890,0,87.14]
[1594,56.5,43.1,0,null,1594,1306,909,0,86.81]
[1595,56.5,42.9,0,null,1595,1306,904,0,86.85]
[1596,56.7,42.7,0,null,1596,1309,900,0,87.03]
[1597,56.6,41.5,0,null,1597,1307,875,0,86.92]
[1598,56.9,41.8,0,null,1598,1311,881,0,87.14]
[1599,56.6,41.9,0,null,1599,1307,883,0,86.92]
[1600,56.7,42.6,0,null,1600,1309,898,0,87.03]
[1601,56.7,42.6,0,null,1601,1309,898,0,86.99]
[1602,56.7,41.5,0,null,1602,1309,875,0,86.96]
[1603,56.7,42.2,0,null,1603,1309,890,0,87.03]
[1604,56.5,42.2,0,null,1604,1306,890,0,86.85]
[1605,56.8,41.9,0,null,1605,1310,883,0,87.1]
[1606,56.5,42,0,null,1606,1306,885,0,86.81]
[1607,56.7,42.1,0,null,1607,1309,887,0,87.03]
[1608,56.4,41.9,0,null,1608,1305,883,0,86.77]
[1609,56.7,42.9,0,null,1609,1309,904,0,86.99]
[1610,56.7,41.8,0,null,1610,1309,881,0,86.96]
[1611,56.7,41.9,0,null,1611,1309,883,0,86.96]
[1612,56.8,42,0,null,1612,1310,885,0,87.07]
[1613,56.7,41.5,0,null,1613,1309,875,0,86.96]
[1614,56.6,41.9,0,null,1614,1307,883,0,86.92]
[1615,56.8,41.6,0,null,1615,1310,877,0,87.07]
[1616,56.6,41.6,0,null,1616,1307,877,0,86.92]
[1617,56.9,42,0,null,1617,1311,885,0,87.14]
[1618,56.7,40.700000000000003,0,null,1618,1309,858,0,86.96]
[1619,56.7,39.299999999999997,0,null,1619,1309,828,0,87.03]
[1620,56.5,41.4,0,null,1620,1306,873,0,86.85]
[1621,56.4,44.9,0,null,1621,1305,946,0,86.77]
[1622,56.8,45.2,0,null,1622,1310,953,0,87.1]
[1623,56.6,43.6,0,null,1623,1307,919,0,86.92]
[1624,56.8,42.2,0,null,1624,1310,890,0,87.07]
[1625,56.5,42.3,0,null,1625,1306,892,0,86.85]
[1626,56.5,44.4,0,null,1626,1306,936,0,86.81]
[1627,56.9,45.1,0,null,1627,1311,951,0,87.14]
[1628,56.4,45,0,null,1628,1305,949,0,86.77]
[1629,56.7,46.3,0,null,1629,1309,976,0,87.03]
[1630,56.7,45.5,0,null,1630,1309,959,0,86.96]
[1631,56.8,45,0,null,1631,1310,949,0,87.1]
[1632,56.7,44.9,0,null,1632,1309,946,0,86.99]
[1633,56.6,45.2,0,null,1633,1307,953,0,86.92]
[1634,56.8,46,0,null,1634,1310,970,0,87.1]
[1635,56.5,46.6,0,null,1635,1306,982,0,86.85]
[1636,56.6,48.3,0,null,1636,1307,1018,0,86.92]
[1637,56.4,48.6,0,null,1637,1305,1024,0,86.77]
[1638,56.6,50.3,0,null,1638,1307,1060,0,86.88]
[1639,56.3,51.9,0,null,1639,1304,1094,0,86.63]
[1640,56.5,54.1,0,null,1640,1306,1140,0,86.85]
[1641,56.3,54.9,0,null,1641,1304,1157,0,86.63]
[1642,56.4,55,0,null,1642,1305,1159,0,86.77]
[1643,56.4,56.2,0,null,1643,1305,1185,0,86.77]
[1644,56.2,58.6,0,null,1644,1302,1235,0,86.55]
[1645,56.2,59.1,0,null,1645,1302,1246,0,86.59]
[1646,56.2,62.5,0,null,1646,1302,1318,0,86.55]
[1647,56.4,62.8,0,null,1647,1305,1324,0,86.7]
[1648,56,64.7,0,null,1648,1300,1364,0,86.44]
[1649,56.4,65.599999999999994,0,null,1649,1305,1383,0,86.7]
[1650,56.2,67.7,0,null,1650,1302,1427,0,86.55]
[1651,55.9,68.900000000000006,0,null,1651,1298,1452,0,86.33]
[1652,56.1,68.900000000000006,0,null,1652,1301,1452,0,86.48]
[1653,55.8,69.5,0,null,1653,1297,1465,0,86.19]
[1654,56,69.8,0,null,1654,1300,1471,0,86.37]
[1655,56.2,69.3,0,null,1655,1302,1461,0,86.59]
[1656,56.2,69.8,0,null,1656,1302,1471,0,86.55]
[1657,56.4,69.2,0,null,1657,1305,1459,0,86.7]
[1658,56.3,68.7,0,null,1658,1304,1448,0,86.63]
[1659,56.2,69.400000000000006,0,null,1659,1302,1463,0,86.55]
[1660,56.2,69.5,0,null,1660,1302,1465,0,86.59]
[1661,56.2,70,0,null,1661,1302,1476,0,86.55]
[1662,56.4,69.7,0,null,1662,1305,1469,0,86.7]
[1663,56.2,70.2,0,null,1663,1302,1480,0,86.55]
[1664,56.4,70.5,0,null,1664,1305,1486,0,86.7]
[1665,56.1,70.5,0,null,1665,1301,1486,0,86.52]
[1666,56.5,69.7,0,null,1666,1306,1469,0,86.85]
[1667,56.2,69.3,0,null,1667,1302,1461,0,86.55]
[1668,56.5,70.900000000000006,0,null,1668,1306,1495,0,86.81]
[1669,56.4,70.8,0,null,1669,1305,1492,0,86.74]
[1670,56.3,71.099999999999994,0,null,1670,1304,1499,0,86.63]
[1671,56.4,71,0,null,1671,1305,1497,0,86.77]
[1672,56.7,68.599999999999994,0,null,1672,1309,1446,0,87.03]
[1673,56.8,68.599999999999994,0,null,1673,1310,1446,0,87.07]
[1674,56.6,68,0,null,1674,1307,1433,0,86.92]
[1675,56.8,65.099999999999994,0,null,1675,1310,1372,0,87.07]
[1676,56.9,60.9,0,null,1676,1311,1284,0,87.18]
[1677,57.1,57.4,0,null,1677,1314,1210,0,87.32]
[1678,57.1,54.3,0,null,1678,1314,1145,0,87.36]
[1679,57,48.6,0,null,1679,1313,1024,0,87.29]
[1680,57.4,44.1,0,null,1680,1318,930,0,87.58]
[1681,57.4,40.200000000000003,0,null,1681,1318,847,0,87.61]
[1682,57.6,36.9,0,null,1682,1321,778,0,87.76]
[1683,57.5,34.200000000000003,0,null,1683,1319,721,0,87.65]
[1684,57.4,31.1,0,null,1684,1318,656,0,87.61]
[1685,57.5,25.9,0,null,1685,1319,546,0,87.65]
[1686,57.5,20.7,0,null,1686,1319,436,0,87.65]
[1687,57.6,16.399999999999999,0,null,1687,1321,346,0,87.76]
[1688,57.6,12.4,0,null,1688,1321,261,0,87.76]
[1689,57.6,8.9,0,null,1689,1321,188,0,87.8]
[1690,57.5,8,0,null,1690,1319,169,0,87.72]
[1691,57.5,5.8,0,null,1691,1319,122,0,87.69]
[1692,57.3,5.8,0,null,1692,1317,122,0,87.54]
[1693,57.6,5.5,0,null,1693,1321,116,0,87.76]
[1694,57.3,4.5,0,null,1694,1317,95,0,87.5]
[1695,57.2,3.2,0,null,1695,1315,67,0,87.43]
[1696,57.2,3.1,0,null,1696,1315,65,0,87.47]
[1697,57.3,4.9000000000000004,0,null,1697,1317,103,0,87.5]
[1698,57.3,4.2,0,null,1698,1317,89,0,87.5]
[1699,56.9,5.5,0,null,1699,1311,116,0,87.18]
[1700,57.1,5.0999999999999996,0,null,1700,1314,108,0,87.36]
[1701,57,5.2,0,null,1701,1313,110,0,87.29]
[1702,56.9,5.5,0,null,1702,1311,116,0,87.18]
[1703,56.6,5.4,0,null,1703,1307,114,0,86.92]
[1704,57.1,6.1,0,null,1704,1314,129,0,87.36]
[1705,56.7,5.7,0,null,1705,1309,120,0,87.03]
[1706,56.8,5.8,0,null,1706,1310,122,0,87.07]
[1707,57,6.1,0,null,1707,1313,129,0,87.29]
[1708,56.7,5.9,0,null,1708,1309,124,0,86.99]
[1709,57,6.6,0,null,1709,1313,139,0,87.25]
[1710,56.9,6.4,0,null,1710,1311,135,0,87.14]
[1711,56.7,6.7,0,null,1711,1309,141,0,86.96]
[1712,56.9,6.9,0,null,1712,1311,145,0,87.14]
[1713,56.8,5.6,0,null,1713,1310,118,0,87.07]
[1714,56.6,5.0999999999999996,0,null,1714,1307,108,0,86.92]
[1715,56.6,6.5,0,null,1715,1307,137,0,86.88]
[1716,56.5,10,0,null,1716,1306,211,0,86.85]
[1717,56.6,12.4,0,null,1717,1307,261,0,86.92]
[1718,56.5,14.5,0,null,1718,1306,306,0,86.81]
[1719,56.6,16.3,0,null,1719,1307,344,0,86.88]
[1720,56.3,18.100000000000001,0,null,1720,1304,382,0,86.66]
[1721,56.6,20.7,0,null,1721,1307,436,0,86.92]
[1722,56.1,22.6,0,null,1722,1301,476,0,86.48]
[1723,56.3,25.8,0,null,1723,1304,544,0,86.66]
[1724,56.4,27.7,0,null,1724,1305,584,0,86.74]
[1725,56,29.7,0,null,1725,1300,626,0,86.37]
[1726,56.1,32.6,0,null,1726,1301,687,0,86.48]
[1727,55.9,34.9,0,null,1727,1298,736,0,86.33]
[1728,55.9,36.4,0,null,1728,1298,767,0,86.3]
[1729,56,39.200000000000003,0,null,1729,1300,826,0,86.44]
[1730,55.9,41.4,0,null,1730,1298,873,0,86.33]
[1731,55.5,44.2,0,null,1731,1293,932,0,86]
[1732,55.9,46.4,0,null,1732,1298,978,0,86.33]
[1733,55.8,48.3,0,null,1733,1297,1018,0,86.22]
[1734,55.6,49.1,0,null,1734,1294,1035,0,86.08]
[1735,55.8,49.3,0,null,1735,1297,1039,0,86.22]
[1736,55.9,47.7,0,null,1736,1298,1006,0,86.33]
[1737,55.9,47.4,0,null,1737,1298,999,0,86.33]
[1738,55.8,46.9,0,null,1738,1297,989,0,86.26]
[1739,56.1,46.8,0,null,1739,1301,987,0,86.48]
[1740,56.1,45.8,0,null,1740,1301,965,0,86.48]
[1741,56.2,46,0,null,1741,1302,970,0,86.55]
[1742,56.3,45.9,0,null,1742,1304,968,0,86.66]
[1743,56.3,45.9,0,null,1743,1304,968,0,86.66]
[1744,56.2,44.6,0,null,1744,1302,940,0,86.59]
[1745,56.2,46,0,null,1745,1302,970,0,86.55]
[1746,56.4,46.2,0,null,1746,1305,974,0,86.74]
[1747,55.8,-1,0,null,1747,1297,-165,0,86.21]
[1748,55.5,-1,-3.1824730000000003E-3,null,1748,1293,-164,-0.32600000500679016,85.96]
[1749,55,-1,-5.6252737461538457E-2,null,1749,1286,-164,-5.7560000419616699,85.5]
[1750,54.1,-1,0,null,1750,1274,-163,0,84.77]
[1751,54,-1,-1.2148727692307692E-2,null,1751,1273,-163,-1.2430000305175781,84.65]
[1752,53.3,-1,-3.1234607692307688E-2,null,1752,1264,-162,-3.1960000991821289,84.1]
[1753,52.6,-1,-4.5580143846153838E-2,null,1753,1255,-162,-4.6640000343322754,83.46]
[1754,51.8,-1,-0.15550772115384615,null,1754,1244,-161,-15.91100025177002,82.77]
[1755,50.7,-1,-2.7847549230769229E-2,null,1755,1230,-160,-2.8489999771118164,81.78]
[1756,49.9,-1,-6.3010548876923075E-2,null,1756,1219,-159,-6.4470000267028809,81.16]
[1757,49.1,-1,-0.2408845654615385,null,1757,1208,-158,-24.645999908447266,80.42]
[1758,47.7,-1,-6.1358604615384608E-2,null,1758,1190,-156,-6.2779998779296875,79.209999999999994]
[1759,46.8,-1,-0.15576286076923079,null,1759,1178,-156,-15.937000274658203,78.48]
[1760,45.7,-1,-8.6566266153846161E-2,null,1760,1164,-154,-8.8570003509521484,77.489999999999995]
[1761,44.8,-1,-7.6727286076923071E-2,null,1761,1152,-153,-7.8499999046325684,76.69]
[1762,43.9,-1,-0.10117466953846153,null,1762,1140,-153,-10.35200023651123,75.92]
[1763,42.9,-1,-0.23644068076923075,null,1763,1127,-152,-24.191999435424805,75.08]
[1764,41.5,-1,-0.42440125692307701,null,1764,1108,-151,-43.423000335693359,73.87]
[1765,39.5,-1,-0.68349587307692317,null,1765,1082,-149,-69.931999206542969,72.150000000000006]
[1766,36.700000000000003,-1,-0.68421047692307702,null,1766,1045,-146,-70.004997253417969,69.69]
[1767,33.799999999999997,-1,-0.62895701999999987,null,1767,1006,-144,-64.351997375488281,67.17]
[1768,31,-1,-0.53881989153846144,null,1768,969,-141,-55.130001068115234,64.75]
[1769,40,0,0,null,1769,1088,0,0,62.55]
[1770,49.1,-1,-0.40780125307692305,null,1770,1208,-158,-41.7239990234375,60.32]
[1771,46.2,-1,-0.43983281230769228,null,1771,1170,-155,-45.001998901367188,58.45]
[1772,43.1,-1,-0.44239476,null,1772,1129,-152,-45.263999938964844,56.43]
[1773,39.9,-1,-0.44068548307692301,null,1773,1087,-150,-45.089000701904297,54.35]
[1774,36.6,-1,-0.38323356230769234,null,1774,1043,-146,-39.21099853515625,52.22]
[1775,33.6,-1,-0.38151150076923074,null,1775,1004,-143,-39.034999847412109,50.25]
[1776,30.5,-1,-0.29568281153846149,null,1776,963,-141,-30.253000259399414,48.23]
[1777,42.8,0,0,null,1777,1125,0,0,46.51]
[1778,55.2,-1,-0.41290811384615372,null,1778,1289,-164,-42.247001647949219,44.35]
[1779,49.9,-1,-0.4429352369230769,null,1779,1219,-159,-45.319000244140625,41.97]
[1780,44,-1,-0.45303201692307687,null,1780,1141,-153,-46.352001190185547,39.33]
[1781,37.6,-1,-0.38821696538461536,null,1781,1057,-147,-39.721000671386719,36.479999999999997]
[1782,47.2,0,0,null,1782,1183,0,0,33.799999999999997]
[1783,56.8,-1,-0.35072056769230764,null,1783,1310,-166,-35.883998870849609,31.09]
[1784,47.5,-1,-0.12665602223076922,null,1784,1187,-156,-12.958999633789063,28.24]
[1785,42.9,-1,-0.37137206592307692,null,1785,1127,-152,-37.997001647949219,26.81]
[1786,31.6,-1,-0.39993856807692318,null,1786,977,-142,-40.919998168945313,23.33]
[1787,25.8,-1,-0.28673205830769233,null,1787,901,-139,-29.336999893188477,19.010000000000002]
[1788,19.899999999999999,-1,-0.15525887407692304,null,1788,823,-138,-15.885000228881836,15.05]
[1789,14,-1,-9.7751065692307709E-2,null,1789,745,-137,-10.00100040435791,12.09]
[1790,8.1,-1,-7.0761433769230775E-2,null,1790,667,-137,-7.2399997711181641,9.49]
[1791,2.2000000000000002,-1,-3.4487460930769237E-2,null,1791,589,-140,-3.5290000438690186,6.81]
[1792,0,0,0,null,1792,560,0,0,4.28]
[1793,0,0,0,null,1793,560,0,0,2.09]
[1794,0,0,0,null,1794,560,0,0,0.88]
[1795,0,0,0,null,1795,560,0,0,0.88]
[1796,0,0,0,null,1796,560,0,0,0]
[1797,0,0,0,null,1797,560,0,0,0]
[1798,0,0,0,null,1798,560,0,0,0]
[1799,0,0,0,null,1799,560,0,0,0]
[1800,0,0,0,null,1800,560,0,0,0]

{"sheet":"Output_WHDHC","index":5,"n_rows":1805,"n_cols":17,"rows_kept":1805,"cut":false,"hidden":false,"merged":[[2,1,2,3],[1,1,1,3],[1,4,1,6],[0,0,0,6],[0,8,0,17],[1,9,1,11],[1,15,1,17],[2,9,2,11],[1,12,1,14],[2,12,2,14]]}
["Denormalized WHDHC\nOption A (Powerpack output shaft)",null,null,null,null,null,null,null,"Denormalized WHDHC\nOption B (Wheel hubs)"]
["cycle time","speed at powerpack output shaft",null,null,"power at powerpack output shaft",null,null,null,"cycle time","speed at wheelhubs",null,null,"speed at wheelhubs acc. to WHVC",null,null,"power at powerpack output shaft"]
[null,"acc. to WHTC (ECE/TRANS/180/Add.4)",null,null,null,null,null,null,null,"acc. to WHTC (ECE/TRANS/180/Add.4)\n(will be calculated acc. to respective\ntransmission ratios in HILS model)",null,null,"(calculated with wheel radius)"]
["time [s]",null,"n [min-1]",null,null,"P [kW]",null,null,"time [s]",null,"n [min-1]",null,null,"n [min-1]",null,null,"P [kW]"]
[0,null,{"$f":"Calc_WHDHC!G6","v":560},null,null,{"$f":"ROUND(IF(Calc_WHDHC!H6<0,Calc_WHDHC!I6*IF(Input!$B$4=\"Other\",0.95*0.95,0.98*0.95),2*PI()*Calc_WHDHC!G6/60*Calc_WHDHC!H6/1000),3)","v":0},null,null,0,null,"-",null,null,{"$f":"Calc_WHDHC!J6/3.6/(2*Input!$B$5*PI())*60","v":0},null,null,{"$f":"ROUND(IF(Calc_WHDHC!H6<0,Calc_WHDHC!I6,2*PI()*Calc_WHDHC!G6/60*Calc_WHDHC!H6/1000*IF(Input!$B$4=\"Other\",0.95*0.95,0.98*0.95)),3)","v":0}]
[1,null,{"$f":"Calc_WHDHC!G7","v":560},null,null,{"$f":"ROUND(IF(Calc_WHDHC!H7<0,Calc_WHDHC!I7*IF(Input!$B$4=\"Other\",0.95*0.95,0.98*0.95),2*PI()*Calc_WHDHC!G7/60*Calc_WHDHC!H7/1000),3)","v":0},null,null,1,null,"-",null,null,{"$f":"Calc_WHDHC!J7/3.6/(2*Input!$B$5*PI())*60","v":0},null,null,{"$f":"ROUND(IF(Calc_WHDHC!H7<0,Calc_WHDHC!I7,2*PI()*Calc_WHDHC!G7/60*Calc_WHDHC!H7/1000*IF(Input!$B$4=\"Other\",0.95*0.95,0.98*0.95)),3)","v":0}]
[2,null,{"$f":"Calc_WHDHC!G8","v":560},null,null,{"$f":"ROUND(IF(Calc_WHDHC!H8<0,Calc_WHDHC!I8*IF(Input!$B$4=\"Other\",0.95*0.95,0.98*0.95),2*PI()*Calc_WHDHC!G8/60*Calc_WHDHC!H8/1000),3)","v":0},null,null,2,null,"-",null,null,{"$f":"Calc_WHDHC!J8/3.6/(2*Input!$B$5*PI())*60","v":0},null,null,{"$f":"ROUND(IF(Calc_WHDHC!H8<0,Calc_WHDHC!I8,2*PI()*Calc_WHDHC!G8/60*Calc_WHDHC!H8/1000*IF(Input!$B$4=\"Other\",0.95*0.95,0.98*0.95)),3)","v":0}]
[3,null,{"$f":"Calc_WHDHC!G9","v":560},null,null,{"$f":"ROUND(IF(Calc_WHDHC!H9<0,Calc_WHDHC!I9*IF(Input!$B$4=\"Other\",0.95*0.95,0.98*0.95),2*PI()*Calc_WHDHC!G9/60*Calc_WHDHC!H9/1000),3)","v":0},null,null,3,null,"-",null,null,{"$f":"Calc_WHDHC!J9/3.6/(2*Input!$B$5*PI())*60","v":0},null,null,{"$f":"ROUND(IF(Calc_WHDHC!H9<0,Calc_WHDHC!I9,2*PI()*Calc_WHDHC!G9/60*Calc_WHDHC!H9/1000*IF(Input!$B$4=\"Other\",0.95*0.95,0.98*0.95)),3)","v":0}]
[4,null,{"$f":"Calc_WHDHC!G10","v":560},null,null,{"$f":"ROUND(IF(Calc_WHDHC!H10<0,Calc_WHDHC!I10*IF(Input!$B$4=\"Other\",0.95*0.95,0.98*0.95),2*PI()*Calc_WHDHC!G10/60*Calc_WHDHC!H10/1000),3)","v":0},null,null,4,null,"-",null,null,{"$f":"Calc_WHDHC!J10/3.6/(2*Input!$B$5*PI())*60","v":0},null,null,{"$f":"ROUND(IF(Calc_WHDHC!H10<0,Calc_WHDHC!I10,2*PI()*Calc_WHDHC!G10/60*Calc_WHDHC!H10/1000*IF(Input!$B$4=\"Other\",0.95*0.95,0.98*0.95)),3)","v":0}]
[5,null,{"$f":"Calc_WHDHC!G11","v":560},null,null,{"$f":"ROUND(IF(Calc_WHDHC!H11<0,Calc_WHDHC!I11*IF(Input!$B$4=\"Other\",0.95*0.95,0.98*0.95),2*PI()*Calc_WHDHC!G11/60*Calc_WHDHC!H11/1000),3)","v":0},null,null,5,null,"-",null,null,{"$f":"Calc_WHDHC!J11/3.6/(2*Input!$B$5*PI())*60","v":0},null,null,{"$f":"ROUND(IF(Calc_WHDHC!H11<0,Calc_WHDHC!I11,2*PI()*Calc_WHDHC!G11/60*Calc_WHDHC!H11/1000*IF(Input!$B$4=\"Other\",0.95*0.95,0.98*0.95)),3)","v":0}]
[6,null,{"$f":"Calc_WHDHC!G12","v":560},null,null,{"$f":"ROUND(IF(Calc_WHDHC!H12<0,Calc_WHDHC!I12*IF(Input!$B$4=\"Other\",0.95*0.95,0.98*0.95),2*PI()*Calc_WHDHC!G12/60*Calc_WHDHC!H12/1000),3)","v":0},null,null,6,null,"-",null,null,{"$f":"Calc_WHDHC!J12/3.6/(2*Input!$B$5*PI())*60","v":0},null,null,{"$f":"ROUND(IF(Calc_WHDHC!H12<0,Calc_WHDHC!I12,2*PI()*Calc_WHDHC!G12/60*Calc_WHDHC!H12/1000*IF(Input!$B$4=\"Other\",0.95*0.95,0.98*0.95)),3)","v":0}]
[7,null,{"$f":"Calc_WHDHC!G13","v":580},null,null,{"$f":"ROUND(IF(Calc_WHDHC!H13<0,Calc_WHDHC!I13*IF(Input!$B$4=\"Other\",0.95*0.95,0.98*0.95),2*PI()*Calc_WHDHC!G13/60*Calc_WHDHC!H13/1000),3)","v":5.5880000000000001},null,null,7,null,"-",null,null,{"$f":"Calc_WHDHC!J13/3.6/(2*Input!$B$5*PI())*60","v":6.506856580827316},null,null,{"$f":"ROUND(IF(Calc_WHDHC!H13<0,Calc_WHDHC!I13,2*PI()*Calc_WHDHC!G13/60*Calc_WHDHC!H13/1000*IF(Input!$B$4=\"Other\",0.95*0.95,0.98*0.95)),3)","v":5.202}]
[8,null,{"$f":"Calc_WHDHC!G14","v":769},null,null,{"$f":"ROUND(IF(Calc_WHDHC!H14<0,Calc_WHDHC!I14*IF(Input!$B$4=\"Other\",0.95*0.95,0.98*0.95),2*PI()*Calc_WHDHC!G14/60*Calc_WHDHC!H14/1000),3)","v":37.124000000000002},null,null,8,null,"-",null,null,{"$f":"Calc_WHDHC!J14/3.6/(2*Input!$B$5*PI())*60","v":15.422634534131126},null,null,{"$f":"ROUND(IF(Calc_WHDHC!H14<0,Calc_WHDHC!I14,2*PI()*Calc_WHDHC!G14/60*Calc_WHDHC!H14/1000*IF(Input!$B$4=\"Other\",0.95*0.95,0.98*0.95)),3)","v":34.563000000000002}]
[9,null,{"$f":"Calc_WHDHC!G15","v":922},null,null,{"$f":"ROUND(IF(Calc_WHDHC!H15<0,Calc_WHDHC!I15*IF(Input!$B$4=\"Other\",0.95*0.95,0.98*0.95),2*PI()*Calc_WHDHC!G15/60*Calc_WHDHC!H15/1000),3)","v":2.3170000000000002},null,null,9,null,"-",null,null,{"$f":"Calc_WHDHC!J15/3.6/(2*Input!$B$5*PI())*60","v":22.649398651560613},null,null,{"$f":"ROUND(IF(Calc_WHDHC!H15<0,Calc_WHDHC!I15,2*PI()*Calc_WHDHC!G15/60*Calc_WHDHC!H15/1000*IF(Input!$B$4=\"Other\",0.95*0.95,0.98*0.95)),3)","v":2.157}]
[10,null,{"$f":"Calc_WHDHC!G16","v":991},null,null,{"$f":"ROUND(IF(Calc_WHDHC!H16<0,Calc_WHDHC!I16*IF(Input!$B$4=\"Other\",0.95*0.95,0.98*0.95),2*PI()*Calc_WHDHC!G16/60*Calc_WHDHC!H16/1000),3)","v":1.4530000000000001},null,null,10,null,"-",null,null,{"$f":"Calc_WHDHC!J16/3.6/(2*Input!$B$5*PI())*60","v":25.944360069085931},null,null,{"$f":"ROUND(IF(Calc_WHDHC!H16<0,Calc_WHDHC!I16,2*PI()*Calc_WHDHC!G16/60*Calc_WHDHC!H16/1000*IF(Input!$B$4=\"Other\",0.95*0.95,0.98*0.95)),3)","v":1.353}]
[11,null,{"$f":"Calc_WHDHC!G17","v":1020},null,null,{"$f":"ROUND(IF(Calc_WHDHC!H17<0,Calc_WHDHC!I17*IF(Input!$B$4=\"Other\",0.95*0.95,0.98*0.95),2*PI()*Calc_WHDHC!G17/60*Calc_WHDHC!H17/1000),3)","v":2.5640000000000001},null,null,11,null,"-",null,null,{"$f":"Calc_WHDHC!J17/3.6/(2*Input!$B$5*PI())*60","v":27.301108888066945},null,null,{"$f":"ROUND(IF(Calc_WHDHC!H17<0,Calc_WHDHC!I17,2*PI()*Calc_WHDHC!G17/60*Calc_WHDHC!H17/1000*IF(Input!$B$4=\"Other\",0.95*0.95,0.98*0.95)),3)","v":2.387}]
[12,null,{"$f":"Calc_WHDHC!G18","v":1038},null,null,{"$f":"ROUND(IF(Calc_WHDHC!H18<0,Calc_WHDHC!I18*IF(Input!$B$4=\"Other\",0.95*0.95,0.98*0.95),2*PI()*Calc_WHDHC!G18/60*Calc_WHDHC!H18/1000),3)","v":16.414000000000001},null,null,12,null,"-",null,null,{"$f":"Calc_WHDHC!J18/3.6/(2*Input!$B$5*PI())*60","v":28.187148933115772},null,null,{"$f":"ROUND(IF(Calc_WHDHC!H18<0,Calc_WHDHC!I18,2*PI()*Calc_WHDHC!G18/60*Calc_WHDHC!H18/1000*IF(Input!$B$4=\"Other\",0.95*0.95,0.98*0.95)),3)","v":15.281000000000001}]
[13,null,{"$f":"Calc_WHDHC!G19","v":1050},null,null,{"$f":"ROUND(IF(Calc_WHDHC!H19<0,Calc_WHDHC!I19*IF(Input!$B$4=\"Other\",0.95*0.95,0.98*0.95),2*PI()*Calc_WHDHC!G19/60*Calc_WHDHC!H19/1000),3)","v":13.964},null,null,13,null,"-",null,null,{"$f":"Calc_WHDHC!J19/3.6/(2*Input!$B$5*PI())*60","v":28.740923961271289},null,null,{"$f":"ROUND(IF(Calc_WHDHC!H19<0,Calc_WHDHC!I19,2*PI()*Calc_WHDHC!G19/60*Calc_WHDHC!H19/1000*IF(Input!$B$4=\"Other\",0.95*0.95,0.98*0.95)),3)","v":13.000999999999999}]
[14,null,{"$f":"Calc_WHDHC!G20","v":1061},null,null,{"$f":"ROUND(IF(Calc_WHDHC!H20<0,Calc_WHDHC!I20*IF(Input!$B$4=\"Other\",0.95*0.95,0.98*0.95),2*PI()*Calc_WHDHC!G20/60*Calc_WHDHC!H20/1000),3)","v":23.332999999999998},null,null,14,null,"-",null,null,{"$f":"Calc_WHDHC!J20/3.6/(2*Input!$B$5*PI())*60","v":29.267010238019033},null,null,{"$f":"ROUND(IF(Calc_WHDHC!H20<0,Calc_WHDHC!I20,2*PI()*Calc_WHDHC!G20/60*Calc_WHDHC!H20/1000*IF(Input!$B$4=\"Other\",0.95*0.95,0.98*0.95)),3)","v":21.722999999999999}]
[15,null,{"$f":"Calc_WHDHC!G21","v":1083},null,null,{"$f":"ROUND(IF(Calc_WHDHC!H21<0,Calc_WHDHC!I21*IF(Input!$B$4=\"Other\",0.95*0.95,0.98*0.95),2*PI()*Calc_WHDHC!G21/60*Calc_WHDHC!H21/1000),3)","v":28.806999999999999},null,null,15,null,"-",null,null,{"$f":"Calc_WHDHC!J21/3.6/(2*Input!$B$5*PI())*60","v":30.31918279151451},null,null,{"$f":"ROUND(IF(Calc_WHDHC!H21<0,Calc_WHDHC!I21,2*PI()*Calc_WHDHC!G21/60*Calc_WHDHC!H21/1000*IF(Input!$B$4=\"Other\",0.95*0.95,0.98*0.95)),3)","v":26.818999999999999}]
[16,null,{"$f":"Calc_WHDHC!G22","v":1119},null,null,{"$f":"ROUND(IF(Calc_WHDHC!H22<0,Calc_WHDHC!I22*IF(Input!$B$4=\"Other\",0.95*0.95,0.98*0.95),2*PI()*Calc_WHDHC!G22/60*Calc_WHDHC!H22/1000),3)","v":30.466999999999999},null,null,16,null,"-",null,null,{"$f":"Calc_WHDHC!J22/3.6/(2*Input!$B$5*PI())*60","v":32.008196627388834},null,null,{"$f":"ROUND(IF(Calc_WHDHC!H22<0,Calc_WHDHC!I22,2*PI()*Calc_WHDHC!G22/60*Calc_WHDHC!H22/1000*IF(Input!$B$4=\"Other\",0.95*0.95,0.98*0.95)),3)","v":28.364999999999998}]
[17,null,{"$f":"Calc_WHDHC!G23","v":1158},null,null,{"$f":"ROUND(IF(Calc_WHDHC!H23<0,Calc_WHDHC!I23*IF(Input!$B$4=\"Other\",0.95*0.95,0.98*0.95),2*PI()*Calc_WHDHC!G23/60*Calc_WHDHC!H23/1000),3)","v":32.014000000000003},null,null,17,null,"-",null,null,{"$f":"Calc_WHDHC!J23/3.6/(2*Input!$B$5*PI())*60","v":33.835654220302033},null,null,{"$f":"ROUND(IF(Calc_WHDHC!H23<0,Calc_WHDHC!I23,2*PI()*Calc_WHDHC!G23/60*Calc_WHDHC!H23/1000*IF(Input!$B$4=\"Other\",0.95*0.95,0.98*0.95)),3)","v":29.805}]
[18,null,{"$f":"Calc_WHDHC!G24","v":1202},null,null,{"$f":"ROUND(IF(Calc_WHDHC!H24<0,Calc_WHDHC!I24*IF(Input!$B$4=\"Other\",0.95*0.95,0.98*0.95),2*PI()*Calc_WHDHC!G24/60*Calc_WHDHC!H24/1000),3)","v":15.86},null,null,18,null,"-",null,null,{"$f":"Calc_WHDHC!J24/3.6/(2*Input!$B$5*PI())*60","v":35.912310575885222},null,null,{"$f":"ROUND(IF(Calc_WHDHC!H24<0,Calc_WHDHC!I24,2*PI()*Calc_WHDHC!G24/60*Calc_WHDHC!H24/1000*IF(Input!$B$4=\"Other\",0.95*0.95,0.98*0.95)),3)","v":14.766}]
[19,null,{"$f":"Calc_WHDHC!G25","v":1099},null,null,{"$f":"ROUND(IF(Calc_WHDHC!H25<0,Calc_WHDHC!I25*IF(Input!$B$4=\"Other\",0.95*0.95,0.98*0.95),2*PI()*Calc_WHDHC!G25/60*Calc_WHDHC!H25/1000),3)","v":0},null,null,19,null,"-",null,null,{"$f":"Calc_WHDHC!J25/3.6/(2*Input!$B$5*PI())*60","v":39.677980767342731},null,null,{"$f":"ROUND(IF(Calc_WHDHC!H25<0,Calc_WHDHC!I25,2*PI()*Calc_WHDHC!G25/60*Calc_WHDHC!H25/1000*IF(Input!$B$4=\"Other\",0.95*0.95,0.98*0.95)),3)","v":0}]
[20,null,{"$f":"Calc_WHDHC!G26","v":996},null,null,{"$f":"ROUND(IF(Calc_WHDHC!H26<0,Calc_WHDHC!I26*IF(Input!$B$4=\"Other\",0.95*0.95,0.98*0.95),2*PI()*Calc_WHDHC!G26/60*Calc_WHDHC!H26/1000),3)","v":33.898000000000003},null,null,20,null,"-",null,null,{"$f":"Calc_WHDHC!J26/3.6/(2*Input!$B$5*PI())*60","v":45.354174805936772},null,null,{"$f":"ROUND(IF(Calc_WHDHC!H26<0,Calc_WHDHC!I26,2*PI()*Calc_WHDHC!G26/60*Calc_WHDHC!H26/1000*IF(Input!$B$4=\"Other\",0.95*0.95,0.98*0.95)),3)","v":31.559000000000001}]
[21,null,{"$f":"Calc_WHDHC!G27","v":1121},null,null,{"$f":"ROUND(IF(Calc_WHDHC!H27<0,Calc_WHDHC!I27*IF(Input!$B$4=\"Other\",0.95*0.95,0.98*0.95),2*PI()*Calc_WHDHC!G27/60*Calc_WHDHC!H27/1000),3)","v":67.03},null,null,21,null,"-",null,null,{"$f":"Calc_WHDHC!J27/3.6/(2*Input!$B$5*PI())*60","v":50.947302590307487},null,null,{"$f":"ROUND(IF(Calc_WHDHC!H27<0,Calc_WHDHC!I27,2*PI()*Calc_WHDHC!G27/60*Calc_WHDHC!H27/1000*IF(Input!$B$4=\"Other\",0.95*0.95,0.98*0.95)),3)","v":62.405000000000001}]
[22,null,{"$f":"Calc_WHDHC!G28","v":1211},null,null,{"$f":"ROUND(IF(Calc_WHDHC!H28<0,Calc_WHDHC!I28*IF(Input!$B$4=\"Other\",0.95*0.95,0.98*0.95),2*PI()*Calc_WHDHC!G28/60*Calc_WHDHC!H28/1000),3)","v":71.27},null,null,22,null,"-",null,null,{"$f":"Calc_WHDHC!J28/3.6/(2*Input!$B$5*PI())*60","v":54.989860295842753},null,null,{"$f":"ROUND(IF(Calc_WHDHC!H28<0,Calc_WHDHC!I28,2*PI()*Calc_WHDHC!G28/60*Calc_WHDHC!H28/1000*IF(Input!$B$4=\"Other\",0.95*0.95,0.98*0.95)),3)","v":66.352999999999994}]
[23,null,{"$f":"Calc_WHDHC!G29","v":1273},null,null,{"$f":"ROUND(IF(Calc_WHDHC!H29<0,Calc_WHDHC!I29*IF(Input!$B$4=\"Other\",0.95*0.95,0.98*0.95),2*PI()*Calc_WHDHC!G29/60*Calc_WHDHC!H29/1000),3)","v":50.524000000000001},null,null,23,null,"-",null,null,{"$f":"Calc_WHDHC!J29/3.6/(2*Input!$B$5*PI())*60","v":57.731046685212569},null,null,{"$f":"ROUND(IF(Calc_WHDHC!H29<0,Calc_WHDHC!I29,2*PI()*Calc_WHDHC!G29/60*Calc_WHDHC!H29/1000*IF(Input!$B$4=\"Other\",0.95*0.95,0.98*0.95)),3)","v":47.037999999999997}]
[24,null,{"$f":"Calc_WHDHC!G30","v":1314},null,null,{"$f":"ROUND(IF(Calc_WHDHC!H30<0,Calc_WHDHC!I30*IF(Input!$B$4=\"Other\",0.95*0.95,0.98*0.95),2*PI()*Calc_WHDHC!G30/60*Calc_WHDHC!H30/1000),3)","v":37.427999999999997},null,null,24,null,"-",null,null,{"$f":"Calc_WHDHC!J30/3.6/(2*Input!$B$5*PI())*60","v":59.58619302953354},null,null,{"$f":"ROUND(IF(Calc_WHDHC!H30<0,Calc_WHDHC!I30,2*PI()*Calc_WHDHC!G30/60*Calc_WHDHC!H30/1000*IF(Input!$B$4=\"Other\",0.95*0.95,0.98*0.95)),3)","v":34.844999999999999}]
[25,null,{"$f":"Calc_WHDHC!G31","v":1338},null,null,{"$f":"ROUND(IF(Calc_WHDHC!H31<0,Calc_WHDHC!I31*IF(Input!$B$4=\"Other\",0.95*0.95,0.98*0.95),2*PI()*Calc_WHDHC!G31/60*Calc_WHDHC!H31/1000),3)","v":25.361000000000001},null,null,25,null,"-",null,null,{"$f":"Calc_WHDHC!J31/3.6/(2*Input!$B$5*PI())*60","v":60.610676831621255},null,null,{"$f":"ROUND(IF(Calc_WHDHC!H31<0,Calc_WHDHC!I31,2*PI()*Calc_WHDHC!G31/60*Calc_WHDHC!H31/1000*IF(Input!$B$4=\"Other\",0.95*0.95,0.98*0.95)),3)","v":23.611000000000001}]
[26,null,{"$f":"Calc_WHDHC!G32","v":1343},null,null,{"$f":"ROUND(IF(Calc_WHDHC!H32<0,Calc_WHDHC!I32*IF(Input!$B$4=\"Other\",0.95*0.95,0.98*0.95),2*PI()*Calc_WHDHC!G32/60*Calc_WHDHC!H32/1000),3)","v":17.72},null,null,26,null,"-",null,null,{"$f":"Calc_WHDHC!J32/3.6/(2*Input!$B$5*PI())*60","v":60.859875594291225},null,null,{"$f":"ROUND(IF(Calc_WHDHC!H32<0,Calc_WHDHC!I32,2*PI()*Calc_WHDHC!G32/60*Calc_WHDHC!H32/1000*IF(Input!$B$4=\"Other\",0.95*0.95,0.98*0.95)),3)","v":16.498000000000001}]
[27,null,{"$f":"Calc_WHDHC!G33","v":1339},null,null,{"$f":"ROUND(IF(Calc_WHDHC!H33<0,Calc_WHDHC!I33*IF(Input!$B$4=\"Other\",0.95*0.95,0.98*0.95),2*PI()*Calc_WHDHC!G33/60*Calc_WHDHC!H33/1000),3)","v":14.443},null,null,27,null,"-",null,null,{"$f":"Calc_WHDHC!J33/3.6/(2*Input!$B$5*PI())*60","v":60.666054334436794},null,null,{"$f":"ROUND(IF(Calc_WHDHC!H33<0,Calc_WHDHC!I33,2*PI()*Calc_WHDHC!G33/60*Calc_WHDHC!H33/1000*IF(Input!$B$4=\"Other\",0.95*0.95,0.98*0.95)),3)","v":13.446}]
[28,null,{"$f":"Calc_WHDHC!G34","v":1325},null,null,{"$f":"ROUND(IF(Calc_WHDHC!H34<0,Calc_WHDHC!I34*IF(Input!$B$4=\"Other\",0.95*0.95,0.98*0.95),2*PI()*Calc_WHDHC!G34/60*Calc_WHDHC!H34/1000),3)","v":-0.313},null,null,28,null,"-",null,null,{"$f":"Calc_WHDHC!J34/3.6/(2*Input!$B$5*PI())*60","v":60.029213052057962},null,null,{"$f":"ROUND(IF(Calc_WHDHC!H34<0,Calc_WHDHC!I34,2*PI()*Calc_WHDHC!G34/60*Calc_WHDHC!H34/1000*IF(Input!$B$4=\"Other\",0.95*0.95,0.98*0.95)),3)","v":-0.33600000000000002}]
[29,null,{"$f":"Calc_WHDHC!G35","v":1296},null,null,{"$f":"ROUND(IF(Calc_WHDHC!H35<0,Calc_WHDHC!I35*IF(Input!$B$4=\"Other\",0.95*0.95,0.98*0.95),2*PI()*Calc_WHDHC!G35/60*Calc_WHDHC!H35/1000),3)","v":-2.1160000000000001},null,null,29,null,"-",null,null,{"$f":"Calc_WHDHC!J35/3.6/(2*Input!$B$5*PI())*60","v":58.727841735892497},null,null,{"$f":"ROUND(IF(Calc_WHDHC!H35<0,Calc_WHDHC!I35,2*PI()*Calc_WHDHC!G35/60*Calc_WHDHC!H35/1000*IF(Input!$B$4=\"Other\",0.95*0.95,0.98*0.95)),3)","v":-2.2730000000000001}]
[30,null,{"$f":"Calc_WHDHC!G36","v":1248},null,null,{"$f":"ROUND(IF(Calc_WHDHC!H36<0,Calc_WHDHC!I36*IF(Input!$B$4=\"Other\",0.95*0.95,0.98*0.95),2*PI()*Calc_WHDHC!G36/60*Calc_WHDHC!H36/1000),3)","v":-5.7560000000000002},null,null,30,null,"-",null,null,{"$f":"Calc_WHDHC!J36/3.6/(2*Input!$B$5*PI())*60","v":56.595807877493755},null,null,{"$f":"ROUND(IF(Calc_WHDHC!H36<0,Calc_WHDHC!I36,2*PI()*Calc_WHDHC!G36/60*Calc_WHDHC!H36/1000*IF(Input!$B$4=\"Other\",0.95*0.95,0.98*0.95)),3)","v":-6.1829999999999998}]
[31,null,{"$f":"Calc_WHDHC!G37","v":1173},null,null,{"$f":"ROUND(IF(Calc_WHDHC!H37<0,Calc_WHDHC!I37*IF(Input!$B$4=\"Other\",0.95*0.95,0.98*0.95),2*PI()*Calc_WHDHC!G37/60*Calc_WHDHC!H37/1000),3)","v":-9.2859999999999996},null,null,31,null,"-",null,null,{"$f":"Calc_WHDHC!J37/3.6/(2*Input!$B$5*PI())*60","v":53.273157708560653},null,null,{"$f":"ROUND(IF(Calc_WHDHC!H37<0,Calc_WHDHC!I37,2*PI()*Calc_WHDHC!G37/60*Calc_WHDHC!H37/1000*IF(Input!$B$4=\"Other\",0.95*0.95,0.98*0.95)),3)","v":-9.9740000000000002}]
[32,null,{"$f":"Calc_WHDHC!G38","v":1070},null,null,{"$f":"ROUND(IF(Calc_WHDHC!H38<0,Calc_WHDHC!I38*IF(Input!$B$4=\"Other\",0.95*0.95,0.98*0.95),2*PI()*Calc_WHDHC!G38/60*Calc_WHDHC!H38/1000),3)","v":-11.029},null,null,32,null,"-",null,null,{"$f":"Calc_WHDHC!J38/3.6/(2*Input!$B$5*PI())*60","v":48.649136223462094},null,null,{"$f":"ROUND(IF(Calc_WHDHC!H38<0,Calc_WHDHC!I38,2*PI()*Calc_WHDHC!G38/60*Calc_WHDHC!H38/1000*IF(Input!$B$4=\"Other\",0.95*0.95,0.98*0.95)),3)","v":-11.846}]
[33,null,{"$f":"Calc_WHDHC!G39","v":943},null,null,{"$f":"ROUND(IF(Calc_WHDHC!H39<0,Calc_WHDHC!I39*IF(Input!$B$4=\"Other\",0.95*0.95,0.98*0.95),2*PI()*Calc_WHDHC!G39/60*Calc_WHDHC!H39/1000),3)","v":-7.5590000000000002},null,null,33,null,"-",null,null,{"$f":"Calc_WHDHC!J39/3.6/(2*Input!$B$5*PI())*60","v":43.000630936275826},null,null,{"$f":"ROUND(IF(Calc_WHDHC!H39<0,Calc_WHDHC!I39,2*PI()*Calc_WHDHC!G39/60*Calc_WHDHC!H39/1000*IF(Input!$B$4=\"Other\",0.95*0.95,0.98*0.95)),3)","v":-8.1189999999999998}]
[34,null,{"$f":"Calc_WHDHC!G40","v":835},null,null,{"$f":"ROUND(IF(Calc_WHDHC!H40<0,Calc_WHDHC!I40*IF(Input!$B$4=\"Other\",0.95*0.95,0.98*0.95),2*PI()*Calc_WHDHC!G40/60*Calc_WHDHC!H40/1000),3)","v":-1.1930000000000001},null,null,34,null,"-",null,null,{"$f":"Calc_WHDHC!J40/3.6/(2*Input!$B$5*PI())*60","v":38.127410688507283},null,null,{"$f":"ROUND(IF(Calc_WHDHC!H40<0,Calc_WHDHC!I40,2*PI()*Calc_WHDHC!G40/60*Calc_WHDHC!H40/1000*IF(Input!$B$4=\"Other\",0.95*0.95,0.98*0.95)),3)","v":-1.2809999999999999}]
[35,null,{"$f":"Calc_WHDHC!G41","v":783},null,null,{"$f":"ROUND(IF(Calc_WHDHC!H41<0,Calc_WHDHC!I41*IF(Input!$B$4=\"Other\",0.95*0.95,0.98*0.95),2*PI()*Calc_WHDHC!G41/60*Calc_WHDHC!H41/1000),3)","v":0},null,null,35,null,"-",null,null,{"$f":"Calc_WHDHC!J41/3.6/(2*Input!$B$5*PI())*60","v":35.856933073069669},null,null,{"$f":"ROUND(IF(Calc_WHDHC!H41<0,Calc_WHDHC!I41,2*PI()*Calc_WHDHC!G41/60*Calc_WHDHC!H41/1000*IF(Input!$B$4=\"Other\",0.95*0.95,0.98*0.95)),3)","v":0}]
[36,null,{"$f":"Calc_WHDHC!G42","v":783},null,null,{"$f":"ROUND(IF(Calc_WHDHC!H42<0,Calc_WHDHC!I42*IF(Input!$B$4=\"Other\",0.95*0.95,0.98*0.95),2*PI()*Calc_WHDHC!G42/60*Calc_WHDHC!H42/1000),3)","v":52.969000000000001},null,null,36,null,"-",null,null,{"$f":"Calc_WHDHC!J42/3.6/(2*Input!$B$5*PI())*60","v":35.856933073069669},null,null,{"$f":"ROUND(IF(Calc_WHDHC!H42<0,Calc_WHDHC!I42,2*PI()*Calc_WHDHC!G42/60*Calc_WHDHC!H42/1000*IF(Input!$B$4=\"Other\",0.95*0.95,0.98*0.95)),3)","v":49.314}]
[37,null,{"$f":"Calc_WHDHC!G43","v":808},null,null,{"$f":"ROUND(IF(Calc_WHDHC!H43<0,Calc_WHDHC!I43*IF(Input!$B$4=\"Other\",0.95*0.95,0.98*0.95),2*PI()*Calc_WHDHC!G43/60*Calc_WHDHC!H43/1000),3)","v":51.021999999999998},null,null,37,null,"-",null,null,{"$f":"Calc_WHDHC!J43/3.6/(2*Input!$B$5*PI())*60","v":36.964483129380703},null,null,{"$f":"ROUND(IF(Calc_WHDHC!H43<0,Calc_WHDHC!I43,2*PI()*Calc_WHDHC!G43/60*Calc_WHDHC!H43/1000*IF(Input!$B$4=\"Other\",0.95*0.95,0.98*0.95)),3)","v":47.500999999999998}]
[38,null,{"$f":"Calc_WHDHC!G44","v":833},null,null,{"$f":"ROUND(IF(Calc_WHDHC!H44<0,Calc_WHDHC!I44*IF(Input!$B$4=\"Other\",0.95*0.95,0.98*0.95),2*PI()*Calc_WHDHC!G44/60*Calc_WHDHC!H44/1000),3)","v":46.582000000000001},null,null,38,null,"-",null,null,{"$f":"Calc_WHDHC!J44/3.6/(2*Input!$B$5*PI())*60","v":38.072033185691737},null,null,{"$f":"ROUND(IF(Calc_WHDHC!H44<0,Calc_WHDHC!I44,2*PI()*Calc_WHDHC!G44/60*Calc_WHDHC!H44/1000*IF(Input!$B$4=\"Other\",0.95*0.95,0.98*0.95)),3)","v":43.368000000000002}]
[39,null,{"$f":"Calc_WHDHC!G45","v":837},null,null,{"$f":"ROUND(IF(Calc_WHDHC!H45<0,Calc_WHDHC!I45*IF(Input!$B$4=\"Other\",0.95*0.95,0.98*0.95),2*PI()*Calc_WHDHC!G45/60*Calc_WHDHC!H45/1000),3)","v":0},null,null,39,null,"-",null,null,{"$f":"Calc_WHDHC!J45/3.6/(2*Input!$B$5*PI())*60","v":38.265854445546175},null,null,{"$f":"ROUND(IF(Calc_WHDHC!H45<0,Calc_WHDHC!I45,2*PI()*Calc_WHDHC!G45/60*Calc_WHDHC!H45/1000*IF(Input!$B$4=\"Other\",0.95*0.95,0.98*0.95)),3)","v":0}]
[40,null,{"$f":"Calc_WHDHC!G46","v":812},null,null,{"$f":"ROUND(IF(Calc_WHDHC!H46<0,Calc_WHDHC!I46*IF(Input!$B$4=\"Other\",0.95*0.95,0.98*0.95),2*PI()*Calc_WHDHC!G46/60*Calc_WHDHC!H46/1000),3)","v":0},null,null,40,null,"-",null,null,{"$f":"Calc_WHDHC!J46/3.6/(2*Input!$B$5*PI())*60","v":37.130615637827361},null,null,{"$f":"ROUND(IF(Calc_WHDHC!H46<0,Calc_WHDHC!I46,2*PI()*Calc_WHDHC!G46/60*Calc_WHDHC!H46/1000*IF(Input!$B$4=\"Other\",0.95*0.95,0.98*0.95)),3)","v":0}]
[41,null,{"$f":"Calc_WHDHC!G47","v":741},null,null,{"$f":"ROUND(IF(Calc_WHDHC!H47<0,Calc_WHDHC!I47*IF(Input!$B$4=\"Other\",0.95*0.95,0.98*0.95),2*PI()*Calc_WHDHC!G47/60*Calc_WHDHC!H47/1000),3)","v":0},null,null,41,null,"-",null,null,{"$f":"Calc_WHDHC!J47/3.6/(2*Input!$B$5*PI())*60","v":33.946409225933138},null,null,{"$f":"ROUND(IF(Calc_WHDHC!H47<0,Calc_WHDHC!I47,2*PI()*Calc_WHDHC!G47/60*Calc_WHDHC!H47/1000*IF(Input!$B$4=\"Other\",0.95*0.95,0.98*0.95)),3)","v":0}]
[42,null,{"$f":"Calc_WHDHC!G48","v":589},null,null,{"$f":"ROUND(IF(Calc_WHDHC!H48<0,Calc_WHDHC!I48*IF(Input!$B$4=\"Other\",0.95*0.95,0.98*0.95),2*PI()*Calc_WHDHC!G48/60*Calc_WHDHC!H48/1000),3)","v":0},null,null,42,null,"-",null,null,{"$f":"Calc_WHDHC!J48/3.6/(2*Input!$B$5*PI())*60","v":27.190353882435844},null,null,{"$f":"ROUND(IF(Calc_WHDHC!H48<0,Calc_WHDHC!I48,2*PI()*Calc_WHDHC!G48/60*Calc_WHDHC!H48/1000*IF(Input!$B$4=\"Other\",0.95*0.95,0.98*0.95)),3)","v":0}]
[43,null,{"$f":"Calc_WHDHC!G49","v":560},null,null,{"$f":"ROUND(IF(Calc_WHDHC!H49<0,Calc_WHDHC!I49*IF(Input!$B$4=\"Other\",0.95*0.95,0.98*0.95),2*PI()*Calc_WHDHC!G49/60*Calc_WHDHC!H49/1000),3)","v":0},null,null,43,null,"-",null,null,{"$f":"Calc_WHDHC!J49/3.6/(2*Input!$B$5*PI())*60","v":16.502495839034381},null,null,{"$f":"ROUND(IF(Calc_WHDHC!H49<0,Calc_WHDHC!I49,2*PI()*Calc_WHDHC!G49/60*Calc_WHDHC!H49/1000*IF(Input!$B$4=\"Other\",0.95*0.95,0.98*0.95)),3)","v":0}]
[44,null,{"$f":"Calc_WHDHC!G50","v":560},null,null,{"$f":"ROUND(IF(Calc_WHDHC!H50<0,Calc_WHDHC!I50*IF(Input!$B$4=\"Other\",0.95*0.95,0.98*0.95),2*PI()*Calc_WHDHC!G50/60*Calc_WHDHC!H50/1000),3)","v":0},null,null,44,null,"-",null,null,{"$f":"Calc_WHDHC!J50/3.6/(2*Input!$B$5*PI())*60","v":6.0915253097106783},null,null,{"$f":"ROUND(IF(Calc_WHDHC!H50<0,Calc_WHDHC!I50,2*PI()*Calc_WHDHC!G50/60*Calc_WHDHC!H50/1000*IF(Input!$B$4=\"Other\",0.95*0.95,0.98*0.95)),3)","v":0}]
[45,null,{"$f":"Calc_WHDHC!G51","v":560},null,null,{"$f":"ROUND(IF(Calc_WHDHC!H51<0,Calc_WHDHC!I51*IF(Input!$B$4=\"Other\",0.95*0.95,0.98*0.95),2*PI()*Calc_WHDHC!G51/60*Calc_WHDHC!H51/1000),3)","v":0},null,null,45,null,"-",null,null,{"$f":"Calc_WHDHC!J51/3.6/(2*Input!$B$5*PI())*60","v":0},null,null,{"$f":"ROUND(IF(Calc_WHDHC!H51<0,Calc_WHDHC!I51,2*PI()*Calc_WHDHC!G51/60*Calc_WHDHC!H51/1000*IF(Input!$B$4=\"Other\",0.95*0.95,0.98*0.95)),3)","v":0}]
[46,null,{"$f":"Calc_WHDHC!G52","v":560},null,null,{"$f":"ROUND(IF(Calc_WHDHC!H52<0,Calc_WHDHC!I52*IF(Input!$B$4=\"Other\",0.95*0.95,0.98*0.95),2*PI()*Calc_WHDHC!G52/60*Calc_WHDHC!H52/1000),3)","v":0},null,null,46,null,"-",null,null,{"$f":"Calc_WHDHC!J52/3.6/(2*Input!$B$5*PI())*60","v":0},null,null,{"$f":"ROUND(IF(Calc_WHDHC!H52<0,Calc_WHDHC!I52,2*PI()*Calc_WHDHC!G52/60*Calc_WHDHC!H52/1000*IF(Input!$B$4=\"Other\",0.95*0.95,0.98*0.95)),3)","v":0}]
[47,null,{"$f":"Calc_WHDHC!G53","v":560},null,null,{"$f":"ROUND(IF(Calc_WHDHC!H53<0,Calc_WHDHC!I53*IF(Input!$B$4=\"Other\",0.95*0.95,0.98*0.95),2*PI()*Calc_WHDHC!G53/60*Calc_WHDHC!H53/1000),3)","v":0},null,null,47,null,"-",null,null,{"$f":"Calc_WHDHC!J53/3.6/(2*Input!$B$5*PI())*60","v":0},null,null,{"$f":"ROUND(IF(Calc_WHDHC!H53<0,Calc_WHDHC!I53,2*PI()*Calc_WHDHC!G53/60*Calc_WHDHC!H53/1000*IF(Input!$B$4=\"Other\",0.95*0.95,0.98*0.95)),3)","v":0}]
[48,null,{"$f":"Calc_WHDHC!G54","v":560},null,null,{"$f":"ROUND(IF(Calc_WHDHC!H54<0,Calc_WHDHC!I54*IF(Input!$B$4=\"Other\",0.95*0.95,0.98*0.95),2*PI()*Calc_WHDHC!G54/60*Calc_WHDHC!H54/1000),3)","v":0},null,null,48,null,"-",null,null,{"$f":"Calc_WHDHC!J54/3.6/(2*Input!$B$5*PI())*60","v":0},null,null,{"$f":"ROUND(IF(Calc_WHDHC!H54<0,Calc_WHDHC!I54,2*PI()*Calc_WHDHC!G54/60*Calc_WHDHC!H54/1000*IF(Input!$B$4=\"Other\",0.95*0.95,0.98*0.95)),3)","v":0}]
[49,null,{"$f":"Calc_WHDHC!G55","v":560},null,null,{"$f":"ROUND(IF(Calc_WHDHC!H55<0,Calc_WHDHC!I55*IF(Input!$B$4=\"Other\",0.95*0.95,0.98*0.95),2*PI()*Calc_WHDHC!G55/60*Calc_WHDHC!H55/1000),3)","v":0},null,null,49,null,"-",null,null,{"$f":"Calc_WHDHC!J55/3.6/(2*Input!$B$5*PI())*60","v":0},null,null,{"$f":"ROUND(IF(Calc_WHDHC!H55<0,Calc_WHDHC!I55,2*PI()*Calc_WHDHC!G55/60*Calc_WHDHC!H55/1000*IF(Input!$B$4=\"Other\",0.95*0.95,0.98*0.95)),3)","v":0}]
[50,null,{"$f":"Calc_WHDHC!G56","v":560},null,null,{"$f":"ROUND(IF(Calc_WHDHC!H56<0,Calc_WHDHC!I56*IF(Input!$B$4=\"Other\",0.95*0.95,0.98*0.95),2*PI()*Calc_WHDHC!G56/60*Calc_WHDHC!H56/1000),3)","v":7.5650000000000004},null,null,50,null,"-",null,null,{"$f":"Calc_WHDHC!J56/3.6/(2*Input!$B$5*PI())*60","v":5.1777965132540764},null,null,{"$f":"ROUND(IF(Calc_WHDHC!H56<0,Calc_WHDHC!I56,2*PI()*Calc_WHDHC!G56/60*Calc_WHDHC!H56/1000*IF(Input!$B$4=\"Other\",0.95*0.95,0.98*0.95)),3)","v":7.0430000000000001}]
[51,null,{"$f":"Calc_WHDHC!G57","v":733},null,null,{"$f":"ROUND(IF(Calc_WHDHC!H57<0,Calc_WHDHC!I57*IF(Input!$B$4=\"Other\",0.95*0.95,0.98*0.95),2*PI()*Calc_WHDHC!G57/60*Calc_WHDHC!H57/1000),3)","v":32.700000000000003},null,null,51,null,"-",null,null,{"$f":"Calc_WHDHC!J57/3.6/(2*Input!$B$5*PI())*60","v":13.761309449664578},null,null,{"$f":"ROUND(IF(Calc_WHDHC!H57<0,Calc_WHDHC!I57,2*PI()*Calc_WHDHC!G57/60*Calc_WHDHC!H57/1000*IF(Input!$B$4=\"Other\",0.95*0.95,0.98*0.95)),3)","v":30.443000000000001}]
[52,null,{"$f":"Calc_WHDHC!G58","v":907},null,null,{"$f":"ROUND(IF(Calc_WHDHC!H58<0,Calc_WHDHC!I58*IF(Input!$B$4=\"Other\",0.95*0.95,0.98*0.95),2*PI()*Calc_WHDHC!G58/60*Calc_WHDHC!H58/1000),3)","v":43.311},null,null,52,null,"-",null,null,{"$f":"Calc_WHDHC!J58/3.6/(2*Input!$B$5*PI())*60","v":23.258551182531683},null,null,{"$f":"ROUND(IF(Calc_WHDHC!H58<0,Calc_WHDHC!I58,2*PI()*Calc_WHDHC!G58/60*Calc_WHDHC!H58/1000*IF(Input!$B$4=\"Other\",0.95*0.95,0.98*0.95)),3)","v":40.323}]
[53,null,{"$f":"Calc_WHDHC!G59","v":1022},null,null,{"$f":"ROUND(IF(Calc_WHDHC!H59<0,Calc_WHDHC!I59*IF(Input!$B$4=\"Other\",0.95*0.95,0.98*0.95),2*PI()*Calc_WHDHC!G59/60*Calc_WHDHC!H59/1000),3)","v":69.885999999999996},null,null,53,null,"-",null,null,{"$f":"Calc_WHDHC!J59/3.6/(2*Input!$B$5*PI())*60","v":27.411863893698055},null,null,{"$f":"ROUND(IF(Calc_WHDHC!H59<0,Calc_WHDHC!I59,2*PI()*Calc_WHDHC!G59/60*Calc_WHDHC!H59/1000*IF(Input!$B$4=\"Other\",0.95*0.95,0.98*0.95)),3)","v":65.063999999999993}]
[54,null,{"$f":"Calc_WHDHC!G60","v":1111},null,null,{"$f":"ROUND(IF(Calc_WHDHC!H60<0,Calc_WHDHC!I60*IF(Input!$B$4=\"Other\",0.95*0.95,0.98*0.95),2*PI()*Calc_WHDHC!G60/60*Calc_WHDHC!H60/1000),3)","v":34.554000000000002},null,null,54,null,"-",null,null,{"$f":"Calc_WHDHC!J60/3.6/(2*Input!$B$5*PI())*60","v":31.620554107679975},null,null,{"$f":"ROUND(IF(Calc_WHDHC!H60<0,Calc_WHDHC!I60,2*PI()*Calc_WHDHC!G60/60*Calc_WHDHC!H60/1000*IF(Input!$B$4=\"Other\",0.95*0.95,0.98*0.95)),3)","v":32.17}]
[55,null,{"$f":"Calc_WHDHC!G61","v":1117},null,null,{"$f":"ROUND(IF(Calc_WHDHC!H61<0,Calc_WHDHC!I61*IF(Input!$B$4=\"Other\",0.95*0.95,0.98*0.95),2*PI()*Calc_WHDHC!G61/60*Calc_WHDHC!H61/1000),3)","v":0},null,null,55,null,"-",null,null,{"$f":"Calc_WHDHC!J61/3.6/(2*Input!$B$5*PI())*60","v":41.837703377149246},null,null,{"$f":"ROUND(IF(Calc_WHDHC!H61<0,Calc_WHDHC!I61,2*PI()*Calc_WHDHC!G61/60*Calc_WHDHC!H61/1000*IF(Input!$B$4=\"Other\",0.95*0.95,0.98*0.95)),3)","v":0}]
[56,null,{"$f":"Calc_WHDHC!G62","v":1125},null,null,{"$f":"ROUND(IF(Calc_WHDHC!H62<0,Calc_WHDHC!I62*IF(Input!$B$4=\"Other\",0.95*0.95,0.98*0.95),2*PI()*Calc_WHDHC!G62/60*Calc_WHDHC!H62/1000),3)","v":28.51},null,null,56,null,"-",null,null,{"$f":"Calc_WHDHC!J62/3.6/(2*Input!$B$5*PI())*60","v":51.113435098754152},null,null,{"$f":"ROUND(IF(Calc_WHDHC!H62<0,Calc_WHDHC!I62,2*PI()*Calc_WHDHC!G62/60*Calc_WHDHC!H62/1000*IF(Input!$B$4=\"Other\",0.95*0.95,0.98*0.95)),3)","v":26.542999999999999}]
[57,null,{"$f":"Calc_WHDHC!G63","v":1234},null,null,{"$f":"ROUND(IF(Calc_WHDHC!H63<0,Calc_WHDHC!I63*IF(Input!$B$4=\"Other\",0.95*0.95,0.98*0.95),2*PI()*Calc_WHDHC!G63/60*Calc_WHDHC!H63/1000),3)","v":56.859000000000002},null,null,57,null,"-",null,null,{"$f":"Calc_WHDHC!J63/3.6/(2*Input!$B$5*PI())*60","v":55.958966595114916},null,null,{"$f":"ROUND(IF(Calc_WHDHC!H63<0,Calc_WHDHC!I63,2*PI()*Calc_WHDHC!G63/60*Calc_WHDHC!H63/1000*IF(Input!$B$4=\"Other\",0.95*0.95,0.98*0.95)),3)","v":52.935000000000002}]
[58,null,{"$f":"Calc_WHDHC!G64","v":1352},null,null,{"$f":"ROUND(IF(Calc_WHDHC!H64<0,Calc_WHDHC!I64*IF(Input!$B$4=\"Other\",0.95*0.95,0.98*0.95),2*PI()*Calc_WHDHC!G64/60*Calc_WHDHC!H64/1000),3)","v":28.599},null,null,58,null,"-",null,null,{"$f":"Calc_WHDHC!J64/3.6/(2*Input!$B$5*PI())*60","v":61.275206865407867},null,null,{"$f":"ROUND(IF(Calc_WHDHC!H64<0,Calc_WHDHC!I64,2*PI()*Calc_WHDHC!G64/60*Calc_WHDHC!H64/1000*IF(Input!$B$4=\"Other\",0.95*0.95,0.98*0.95)),3)","v":26.626000000000001}]
[59,null,{"$f":"Calc_WHDHC!G65","v":1212},null,null,{"$f":"ROUND(IF(Calc_WHDHC!H65<0,Calc_WHDHC!I65*IF(Input!$B$4=\"Other\",0.95*0.95,0.98*0.95),2*PI()*Calc_WHDHC!G65/60*Calc_WHDHC!H65/1000),3)","v":0},null,null,59,null,"-",null,null,{"$f":"Calc_WHDHC!J65/3.6/(2*Input!$B$5*PI())*60","v":66.923712152594135},null,null,{"$f":"ROUND(IF(Calc_WHDHC!H65<0,Calc_WHDHC!I65,2*PI()*Calc_WHDHC!G65/60*Calc_WHDHC!H65/1000*IF(Input!$B$4=\"Other\",0.95*0.95,0.98*0.95)),3)","v":0}]
[60,null,{"$f":"Calc_WHDHC!G66","v":1074},null,null,{"$f":"ROUND(IF(Calc_WHDHC!H66<0,Calc_WHDHC!I66*IF(Input!$B$4=\"Other\",0.95*0.95,0.98*0.95),2*PI()*Calc_WHDHC!G66/60*Calc_WHDHC!H66/1000),3)","v":38.463999999999999},null,null,60,null,"-",null,null,{"$f":"Calc_WHDHC!J66/3.6/(2*Input!$B$5*PI())*60","v":70.772448598274963},null,null,{"$f":"ROUND(IF(Calc_WHDHC!H66<0,Calc_WHDHC!I66,2*PI()*Calc_WHDHC!G66/60*Calc_WHDHC!H66/1000*IF(Input!$B$4=\"Other\",0.95*0.95,0.98*0.95)),3)","v":35.81}]
[61,null,{"$f":"Calc_WHDHC!G67","v":1133},null,null,{"$f":"ROUND(IF(Calc_WHDHC!H67<0,Calc_WHDHC!I67*IF(Input!$B$4=\"Other\",0.95*0.95,0.98*0.95),2*PI()*Calc_WHDHC!G67/60*Calc_WHDHC!H67/1000),3)","v":76.290000000000006},null,null,61,null,"-",null,null,{"$f":"Calc_WHDHC!J67/3.6/(2*Input!$B$5*PI())*60","v":74.676562546771365},null,null,{"$f":"ROUND(IF(Calc_WHDHC!H67<0,Calc_WHDHC!I67,2*PI()*Calc_WHDHC!G67/60*Calc_WHDHC!H67/1000*IF(Input!$B$4=\"Other\",0.95*0.95,0.98*0.95)),3)","v":71.025999999999996}]
[62,null,{"$f":"Calc_WHDHC!G68","v":1212},null,null,{"$f":"ROUND(IF(Calc_WHDHC!H68<0,Calc_WHDHC!I68*IF(Input!$B$4=\"Other\",0.95*0.95,0.98*0.95),2*PI()*Calc_WHDHC!G68/60*Calc_WHDHC!H68/1000),3)","v":37.948999999999998},null,null,62,null,"-",null,null,{"$f":"Calc_WHDHC!J68/3.6/(2*Input!$B$5*PI())*60","v":79.826670308617651},null,null,{"$f":"ROUND(IF(Calc_WHDHC!H68<0,Calc_WHDHC!I68,2*PI()*Calc_WHDHC!G68/60*Calc_WHDHC!H68/1000*IF(Input!$B$4=\"Other\",0.95*0.95,0.98*0.95)),3)","v":35.331000000000003}]
[63,null,{"$f":"Calc_WHDHC!G69","v":1095},null,null,{"$f":"ROUND(IF(Calc_WHDHC!H69<0,Calc_WHDHC!I69*IF(Input!$B$4=\"Other\",0.95*0.95,0.98*0.95),2*PI()*Calc_WHDHC!G69/60*Calc_WHDHC!H69/1000),3)","v":0},null,null,63,null,"-",null,null,{"$f":"Calc_WHDHC!J69/3.6/(2*Input!$B$5*PI())*60","v":85.973573121143886},null,null,{"$f":"ROUND(IF(Calc_WHDHC!H69<0,Calc_WHDHC!I69,2*PI()*Calc_WHDHC!G69/60*Calc_WHDHC!H69/1000*IF(Input!$B$4=\"Other\",0.95*0.95,0.98*0.95)),3)","v":0}]
[64,null,{"$f":"Calc_WHDHC!G70","v":976},null,null,{"$f":"ROUND(IF(Calc_WHDHC!H70<0,Calc_WHDHC!I70*IF(Input!$B$4=\"Other\",0.95*0.95,0.98*0.95),2*PI()*Calc_WHDHC!G70/60*Calc_WHDHC!H70/1000),3)","v":87.489000000000004},null,null,64,null,"-",null,null,{"$f":"Calc_WHDHC!J70/3.6/(2*Input!$B$5*PI())*60","v":93.36646974702002},null,null,{"$f":"ROUND(IF(Calc_WHDHC!H70<0,Calc_WHDHC!I70,2*PI()*Calc_WHDHC!G70/60*Calc_WHDHC!H70/1000*IF(Input!$B$4=\"Other\",0.95*0.95,0.98*0.95)),3)","v":81.451999999999998}]
[65,null,{"$f":"Calc_WHDHC!G71","v":1043},null,null,{"$f":"ROUND(IF(Calc_WHDHC!H71<0,Calc_WHDHC!I71*IF(Input!$B$4=\"Other\",0.95*0.95,0.98*0.95),2*PI()*Calc_WHDHC!G71/60*Calc_WHDHC!H71/1000),3)","v":174.756},null,null,65,null,"-",null,null,{"$f":"Calc_WHDHC!J71/3.6/(2*Input!$B$5*PI())*60","v":99.67950506799292},null,null,{"$f":"ROUND(IF(Calc_WHDHC!H71<0,Calc_WHDHC!I71,2*PI()*Calc_WHDHC!G71/60*Calc_WHDHC!H71/1000*IF(Input!$B$4=\"Other\",0.95*0.95,0.98*0.95)),3)","v":162.69800000000001}]
[66,null,{"$f":"Calc_WHDHC!G72","v":1099},null,null,{"$f":"ROUND(IF(Calc_WHDHC!H72<0,Calc_WHDHC!I72*IF(Input!$B$4=\"Other\",0.95*0.95,0.98*0.95),2*PI()*Calc_WHDHC!G72/60*Calc_WHDHC!H72/1000),3)","v":161.352},null,null,66,null,"-",null,null,{"$f":"Calc_WHDHC!J72/3.6/(2*Input!$B$5*PI())*60","v":104.96805658687809},null,null,{"$f":"ROUND(IF(Calc_WHDHC!H72<0,Calc_WHDHC!I72,2*PI()*Calc_WHDHC!G72/60*Calc_WHDHC!H72/1000*IF(Input!$B$4=\"Other\",0.95*0.95,0.98*0.95)),3)","v":150.21899999999999}]
[67,null,{"$f":"Calc_WHDHC!G73","v":1150},null,null,{"$f":"ROUND(IF(Calc_WHDHC!H73<0,Calc_WHDHC!I73*IF(Input!$B$4=\"Other\",0.95*0.95,0.98*0.95),2*PI()*Calc_WHDHC!G73/60*Calc_WHDHC!H73/1000),3)","v":149.09},null,null,67,null,"-",null,null,{"$f":"Calc_WHDHC!J73/3.6/(2*Input!$B$5*PI())*60","v":109.78589933183108},null,null,{"$f":"ROUND(IF(Calc_WHDHC!H73<0,Calc_WHDHC!I73,2*PI()*Calc_WHDHC!G73/60*Calc_WHDHC!H73/1000*IF(Input!$B$4=\"Other\",0.95*0.95,0.98*0.95)),3)","v":138.80199999999999}]
[68,null,{"$f":"Calc_WHDHC!G74","v":1198},null,null,{"$f":"ROUND(IF(Calc_WHDHC!H74<0,Calc_WHDHC!I74*IF(Input!$B$4=\"Other\",0.95*0.95,0.98*0.95),2*PI()*Calc_WHDHC!G74/60*Calc_WHDHC!H74/1000),3)","v":137.12200000000001},null,null,68,null,"-",null,null,{"$f":"Calc_WHDHC!J74/3.6/(2*Input!$B$5*PI())*60","v":114.16072205425967},null,null,{"$f":"ROUND(IF(Calc_WHDHC!H74<0,Calc_WHDHC!I74,2*PI()*Calc_WHDHC!G74/60*Calc_WHDHC!H74/1000*IF(Input!$B$4=\"Other\",0.95*0.95,0.98*0.95)),3)","v":127.66}]
[69,null,{"$f":"Calc_WHDHC!G75","v":1245},null,null,{"$f":"ROUND(IF(Calc_WHDHC!H75<0,Calc_WHDHC!I75*IF(Input!$B$4=\"Other\",0.95*0.95,0.98*0.95),2*PI()*Calc_WHDHC!G75/60*Calc_WHDHC!H75/1000),3)","v":175.095},null,null,69,null,"-",null,null,{"$f":"Calc_WHDHC!J75/3.6/(2*Input!$B$5*PI())*60","v":118.64629978231936},null,null,{"$f":"ROUND(IF(Calc_WHDHC!H75<0,Calc_WHDHC!I75,2*PI()*Calc_WHDHC!G75/60*Calc_WHDHC!H75/1000*IF(Input!$B$4=\"Other\",0.95*0.95,0.98*0.95)),3)","v":163.01400000000001}]
[70,null,{"$f":"Calc_WHDHC!G76","v":1282},null,null,{"$f":"ROUND(IF(Calc_WHDHC!H76<0,Calc_WHDHC!I76*IF(Input!$B$4=\"Other\",0.95*0.95,0.98*0.95),2*PI()*Calc_WHDHC!G76/60*Calc_WHDHC!H76/1000),3)","v":78.938999999999993},null,null,70,null,"-",null,null,{"$f":"Calc_WHDHC!J76/3.6/(2*Input!$B$5*PI())*60","v":122.10739370829133},null,null,{"$f":"ROUND(IF(Calc_WHDHC!H76<0,Calc_WHDHC!I76,2*PI()*Calc_WHDHC!G76/60*Calc_WHDHC!H76/1000*IF(Input!$B$4=\"Other\",0.95*0.95,0.98*0.95)),3)","v":73.492999999999995}]
[71,null,{"$f":"Calc_WHDHC!G77","v":1290},null,null,{"$f":"ROUND(IF(Calc_WHDHC!H77<0,Calc_WHDHC!I77*IF(Input!$B$4=\"Other\",0.95*0.95,0.98*0.95),2*PI()*Calc_WHDHC!G77/60*Calc_WHDHC!H77/1000),3)","v":52.143999999999998},null,null,71,null,"-",null,null,{"$f":"Calc_WHDHC!J77/3.6/(2*Input!$B$5*PI())*60","v":122.85498999630124},null,null,{"$f":"ROUND(IF(Calc_WHDHC!H77<0,Calc_WHDHC!I77,2*PI()*Calc_WHDHC!G77/60*Calc_WHDHC!H77/1000*IF(Input!$B$4=\"Other\",0.95*0.95,0.98*0.95)),3)","v":48.545999999999999}]
[72,null,{"$f":"Calc_WHDHC!G78","v":1288},null,null,{"$f":"ROUND(IF(Calc_WHDHC!H78<0,Calc_WHDHC!I78*IF(Input!$B$4=\"Other\",0.95*0.95,0.98*0.95),2*PI()*Calc_WHDHC!G78/60*Calc_WHDHC!H78/1000),3)","v":46.398000000000003},null,null,72,null,"-",null,null,{"$f":"Calc_WHDHC!J78/3.6/(2*Input!$B$5*PI())*60","v":122.66116873644683},null,null,{"$f":"ROUND(IF(Calc_WHDHC!H78<0,Calc_WHDHC!I78,2*PI()*Calc_WHDHC!G78/60*Calc_WHDHC!H78/1000*IF(Input!$B$4=\"Other\",0.95*0.95,0.98*0.95)),3)","v":43.197000000000003}]
[73,null,{"$f":"Calc_WHDHC!G79","v":1284},null,null,{"$f":"ROUND(IF(Calc_WHDHC!H79<0,Calc_WHDHC!I79*IF(Input!$B$4=\"Other\",0.95*0.95,0.98*0.95),2*PI()*Calc_WHDHC!G79/60*Calc_WHDHC!H79/1000),3)","v":31.463999999999999},null,null,73,null,"-",null,null,{"$f":"Calc_WHDHC!J79/3.6/(2*Input!$B$5*PI())*60","v":122.30121496814576},null,null,{"$f":"ROUND(IF(Calc_WHDHC!H79<0,Calc_WHDHC!I79,2*PI()*Calc_WHDHC!G79/60*Calc_WHDHC!H79/1000*IF(Input!$B$4=\"Other\",0.95*0.95,0.98*0.95)),3)","v":29.292999999999999}]
[74,null,{"$f":"Calc_WHDHC!G80","v":1282},null,null,{"$f":"ROUND(IF(Calc_WHDHC!H80<0,Calc_WHDHC!I80*IF(Input!$B$4=\"Other\",0.95*0.95,0.98*0.95),2*PI()*Calc_WHDHC!G80/60*Calc_WHDHC!H80/1000),3)","v":32.488999999999997},null,null,74,null,"-",null,null,{"$f":"Calc_WHDHC!J80/3.6/(2*Input!$B$5*PI())*60","v":122.19045996251465},null,null,{"$f":"ROUND(IF(Calc_WHDHC!H80<0,Calc_WHDHC!I80,2*PI()*Calc_WHDHC!G80/60*Calc_WHDHC!H80/1000*IF(Input!$B$4=\"Other\",0.95*0.95,0.98*0.95)),3)","v":30.247}]
[75,null,{"$f":"Calc_WHDHC!G81","v":1284},null,null,{"$f":"ROUND(IF(Calc_WHDHC!H81<0,Calc_WHDHC!I81*IF(Input!$B$4=\"Other\",0.95*0.95,0.98*0.95),2*PI()*Calc_WHDHC!G81/60*Calc_WHDHC!H81/1000),3)","v":49.616},null,null,75,null,"-",null,null,{"$f":"Calc_WHDHC!J81/3.6/(2*Input!$B$5*PI())*60","v":122.30121496814576},null,null,{"$f":"ROUND(IF(Calc_WHDHC!H81<0,Calc_WHDHC!I81,2*PI()*Calc_WHDHC!G81/60*Calc_WHDHC!H81/1000*IF(Input!$B$4=\"Other\",0.95*0.95,0.98*0.95)),3)","v":46.192}]
[76,null,{"$f":"Calc_WHDHC!G82","v":1294},null,null,{"$f":"ROUND(IF(Calc_WHDHC!H82<0,Calc_WHDHC!I82*IF(Input!$B$4=\"Other\",0.95*0.95,0.98*0.95),2*PI()*Calc_WHDHC!G82/60*Calc_WHDHC!H82/1000),3)","v":51.356999999999999},null,null,76,null,"-",null,null,{"$f":"Calc_WHDHC!J82/3.6/(2*Input!$B$5*PI())*60","v":123.2426325160101},null,null,{"$f":"ROUND(IF(Calc_WHDHC!H82<0,Calc_WHDHC!I82,2*PI()*Calc_WHDHC!G82/60*Calc_WHDHC!H82/1000*IF(Input!$B$4=\"Other\",0.95*0.95,0.98*0.95)),3)","v":47.814}]
[77,null,{"$f":"Calc_WHDHC!G83","v":1313},null,null,{"$f":"ROUND(IF(Calc_WHDHC!H83<0,Calc_WHDHC!I83*IF(Input!$B$4=\"Other\",0.95*0.95,0.98*0.95),2*PI()*Calc_WHDHC!G83/60*Calc_WHDHC!H83/1000),3)","v":40.837000000000003},null,null,77,null,"-",null,null,{"$f":"Calc_WHDHC!J83/3.6/(2*Input!$B$5*PI())*60","v":125.04240135751553},null,null,{"$f":"ROUND(IF(Calc_WHDHC!H83<0,Calc_WHDHC!I83,2*PI()*Calc_WHDHC!G83/60*Calc_WHDHC!H83/1000*IF(Input!$B$4=\"Other\",0.95*0.95,0.98*0.95)),3)","v":38.018999999999998}]
[78,null,{"$f":"Calc_WHDHC!G84","v":1327},null,null,{"$f":"ROUND(IF(Calc_WHDHC!H84<0,Calc_WHDHC!I84*IF(Input!$B$4=\"Other\",0.95*0.95,0.98*0.95),2*PI()*Calc_WHDHC!G84/60*Calc_WHDHC!H84/1000),3)","v":20.567},null,null,78,null,"-",null,null,{"$f":"Calc_WHDHC!J84/3.6/(2*Input!$B$5*PI())*60","v":126.3714614250888},null,null,{"$f":"ROUND(IF(Calc_WHDHC!H84<0,Calc_WHDHC!I84,2*PI()*Calc_WHDHC!G84/60*Calc_WHDHC!H84/1000*IF(Input!$B$4=\"Other\",0.95*0.95,0.98*0.95)),3)","v":19.146999999999998}]
[79,null,{"$f":"Calc_WHDHC!G85","v":1132},null,null,{"$f":"ROUND(IF(Calc_WHDHC!H85<0,Calc_WHDHC!I85*IF(Input!$B$4=\"Other\",0.95*0.95,0.98*0.95),2*PI()*Calc_WHDHC!G85/60*Calc_WHDHC!H85/1000),3)","v":0},null,null,79,null,"-",null,null,{"$f":"Calc_WHDHC!J85/3.6/(2*Input!$B$5*PI())*60","v":127.81127649829313},null,null,{"$f":"ROUND(IF(Calc_WHDHC!H85<0,Calc_WHDHC!I85,2*PI()*Calc_WHDHC!G85/60*Calc_WHDHC!H85/1000*IF(Input!$B$4=\"Other\",0.95*0.95,0.98*0.95)),3)","v":0}]
[80,null,{"$f":"Calc_WHDHC!G86","v":936},null,null,{"$f":"ROUND(IF(Calc_WHDHC!H86<0,Calc_WHDHC!I86*IF(Input!$B$4=\"Other\",0.95*0.95,0.98*0.95),2*PI()*Calc_WHDHC!G86/60*Calc_WHDHC!H86/1000),3)","v":45.872},null,null,80,null,"-",null,null,{"$f":"Calc_WHDHC!J86/3.6/(2*Input!$B$5*PI())*60","v":130.10944286513853},null,null,{"$f":"ROUND(IF(Calc_WHDHC!H86<0,Calc_WHDHC!I86,2*PI()*Calc_WHDHC!G86/60*Calc_WHDHC!H86/1000*IF(Input!$B$4=\"Other\",0.95*0.95,0.98*0.95)),3)","v":42.707000000000001}]
[81,null,{"$f":"Calc_WHDHC!G87","v":961},null,null,{"$f":"ROUND(IF(Calc_WHDHC!H87<0,Calc_WHDHC!I87*IF(Input!$B$4=\"Other\",0.95*0.95,0.98*0.95),2*PI()*Calc_WHDHC!G87/60*Calc_WHDHC!H87/1000),3)","v":93.590999999999994},null,null,81,null,"-",null,null,{"$f":"Calc_WHDHC!J87/3.6/(2*Input!$B$5*PI())*60","v":133.43209303407161},null,null,{"$f":"ROUND(IF(Calc_WHDHC!H87<0,Calc_WHDHC!I87,2*PI()*Calc_WHDHC!G87/60*Calc_WHDHC!H87/1000*IF(Input!$B$4=\"Other\",0.95*0.95,0.98*0.95)),3)","v":87.132999999999996}]
[82,null,{"$f":"Calc_WHDHC!G88","v":984},null,null,{"$f":"ROUND(IF(Calc_WHDHC!H88<0,Calc_WHDHC!I88*IF(Input!$B$4=\"Other\",0.95*0.95,0.98*0.95),2*PI()*Calc_WHDHC!G88/60*Calc_WHDHC!H88/1000),3)","v":79.962000000000003},null,null,82,null,"-",null,null,{"$f":"Calc_WHDHC!J88/3.6/(2*Input!$B$5*PI())*60","v":136.56092194315028},null,null,{"$f":"ROUND(IF(Calc_WHDHC!H88<0,Calc_WHDHC!I88,2*PI()*Calc_WHDHC!G88/60*Calc_WHDHC!H88/1000*IF(Input!$B$4=\"Other\",0.95*0.95,0.98*0.95)),3)","v":74.444999999999993}]
[83,null,{"$f":"Calc_WHDHC!G89","v":992},null,null,{"$f":"ROUND(IF(Calc_WHDHC!H89<0,Calc_WHDHC!I89*IF(Input!$B$4=\"Other\",0.95*0.95,0.98*0.95),2*PI()*Calc_WHDHC!G89/60*Calc_WHDHC!H89/1000),3)","v":81.236000000000004},null,null,83,null,"-",null,null,{"$f":"Calc_WHDHC!J89/3.6/(2*Input!$B$5*PI())*60","v":137.61309449664577},null,null,{"$f":"ROUND(IF(Calc_WHDHC!H89<0,Calc_WHDHC!I89,2*PI()*Calc_WHDHC!G89/60*Calc_WHDHC!H89/1000*IF(Input!$B$4=\"Other\",0.95*0.95,0.98*0.95)),3)","v":75.63}]
[84,null,{"$f":"Calc_WHDHC!G90","v":988},null,null,{"$f":"ROUND(IF(Calc_WHDHC!H90<0,Calc_WHDHC!I90*IF(Input!$B$4=\"Other\",0.95*0.95,0.98*0.95),2*PI()*Calc_WHDHC!G90/60*Calc_WHDHC!H90/1000),3)","v":35.488},null,null,84,null,"-",null,null,{"$f":"Calc_WHDHC!J90/3.6/(2*Input!$B$5*PI())*60","v":137.05931946849026},null,null,{"$f":"ROUND(IF(Calc_WHDHC!H90<0,Calc_WHDHC!I90,2*PI()*Calc_WHDHC!G90/60*Calc_WHDHC!H90/1000*IF(Input!$B$4=\"Other\",0.95*0.95,0.98*0.95)),3)","v":33.039000000000001}]
[85,null,{"$f":"Calc_WHDHC!G91","v":977},null,null,{"$f":"ROUND(IF(Calc_WHDHC!H91<0,Calc_WHDHC!I91*IF(Input!$B$4=\"Other\",0.95*0.95,0.98*0.95),2*PI()*Calc_WHDHC!G91/60*Calc_WHDHC!H91/1000),3)","v":23.02},null,null,85,null,"-",null,null,{"$f":"Calc_WHDHC!J91/3.6/(2*Input!$B$5*PI())*60","v":135.6195043952859},null,null,{"$f":"ROUND(IF(Calc_WHDHC!H91<0,Calc_WHDHC!I91,2*PI()*Calc_WHDHC!G91/60*Calc_WHDHC!H91/1000*IF(Input!$B$4=\"Other\",0.95*0.95,0.98*0.95)),3)","v":21.431999999999999}]
[86,null,{"$f":"Calc_WHDHC!G92","v":971},null,null,{"$f":"ROUND(IF(Calc_WHDHC!H92<0,Calc_WHDHC!I92*IF(Input!$B$4=\"Other\",0.95*0.95,0.98*0.95),2*PI()*Calc_WHDHC!G92/60*Calc_WHDHC!H92/1000),3)","v":20.337},null,null,86,null,"-",null,null,{"$f":"Calc_WHDHC!J92/3.6/(2*Input!$B$5*PI())*60","v":134.70577559882932},null,null,{"$f":"ROUND(IF(Calc_WHDHC!H92<0,Calc_WHDHC!I92,2*PI()*Calc_WHDHC!G92/60*Calc_WHDHC!H92/1000*IF(Input!$B$4=\"Other\",0.95*0.95,0.98*0.95)),3)","v":18.933}]
[87,null,{"$f":"Calc_WHDHC!G93","v":971},null,null,{"$f":"ROUND(IF(Calc_WHDHC!H93<0,Calc_WHDHC!I93*IF(Input!$B$4=\"Other\",0.95*0.95,0.98*0.95),2*PI()*Calc_WHDHC!G93/60*Calc_WHDHC!H93/1000),3)","v":38.945},null,null,87,null,"-",null,null,{"$f":"Calc_WHDHC!J93/3.6/(2*Input!$B$5*PI())*60","v":134.70577559882932},null,null,{"$f":"ROUND(IF(Calc_WHDHC!H93<0,Calc_WHDHC!I93,2*PI()*Calc_WHDHC!G93/60*Calc_WHDHC!H93/1000*IF(Input!$B$4=\"Other\",0.95*0.95,0.98*0.95)),3)","v":36.256999999999998}]
[88,null,{"$f":"Calc_WHDHC!G94","v":975},null,null,{"$f":"ROUND(IF(Calc_WHDHC!H94<0,Calc_WHDHC!I94*IF(Input!$B$4=\"Other\",0.95*0.95,0.98*0.95),2*PI()*Calc_WHDHC!G94/60*Calc_WHDHC!H94/1000),3)","v":45.231000000000002},null,null,88,null,"-",null,null,{"$f":"Calc_WHDHC!J94/3.6/(2*Input!$B$5*PI())*60","v":135.31492812980039},null,null,{"$f":"ROUND(IF(Calc_WHDHC!H94<0,Calc_WHDHC!I94,2*PI()*Calc_WHDHC!G94/60*Calc_WHDHC!H94/1000*IF(Input!$B$4=\"Other\",0.95*0.95,0.98*0.95)),3)","v":42.11}]
[89,null,{"$f":"Calc_WHDHC!G95","v":977},null,null,{"$f":"ROUND(IF(Calc_WHDHC!H95<0,Calc_WHDHC!I95*IF(Input!$B$4=\"Other\",0.95*0.95,0.98*0.95),2*PI()*Calc_WHDHC!G95/60*Calc_WHDHC!H95/1000),3)","v":46.142000000000003},null,null,89,null,"-",null,null,{"$f":"Calc_WHDHC!J95/3.6/(2*Input!$B$5*PI())*60","v":135.59181564387816},null,null,{"$f":"ROUND(IF(Calc_WHDHC!H95<0,Calc_WHDHC!I95,2*PI()*Calc_WHDHC!G95/60*Calc_WHDHC!H95/1000*IF(Input!$B$4=\"Other\",0.95*0.95,0.98*0.95)),3)","v":42.959000000000003}]
[90,null,{"$f":"Calc_WHDHC!G96","v":977},null,null,{"$f":"ROUND(IF(Calc_WHDHC!H96<0,Calc_WHDHC!I96*IF(Input!$B$4=\"Other\",0.95*0.95,0.98*0.95),2*PI()*Calc_WHDHC!G96/60*Calc_WHDHC!H96/1000),3)","v":49.006999999999998},null,null,90,null,"-",null,null,{"$f":"Calc_WHDHC!J96/3.6/(2*Input!$B$5*PI())*60","v":135.56412689247037},null,null,{"$f":"ROUND(IF(Calc_WHDHC!H96<0,Calc_WHDHC!I96,2*PI()*Calc_WHDHC!G96/60*Calc_WHDHC!H96/1000*IF(Input!$B$4=\"Other\",0.95*0.95,0.98*0.95)),3)","v":45.625999999999998}]
[91,null,{"$f":"Calc_WHDHC!G97","v":981},null,null,{"$f":"ROUND(IF(Calc_WHDHC!H97<0,Calc_WHDHC!I97*IF(Input!$B$4=\"Other\",0.95*0.95,0.98*0.95),2*PI()*Calc_WHDHC!G97/60*Calc_WHDHC!H97/1000),3)","v":54.55},null,null,91,null,"-",null,null,{"$f":"Calc_WHDHC!J97/3.6/(2*Input!$B$5*PI())*60","v":136.09021316921809},null,null,{"$f":"ROUND(IF(Calc_WHDHC!H97<0,Calc_WHDHC!I97,2*PI()*Calc_WHDHC!G97/60*Calc_WHDHC!H97/1000*IF(Input!$B$4=\"Other\",0.95*0.95,0.98*0.95)),3)","v":50.786000000000001}]
[92,null,{"$f":"Calc_WHDHC!G98","v":988},null,null,{"$f":"ROUND(IF(Calc_WHDHC!H98<0,Calc_WHDHC!I98*IF(Input!$B$4=\"Other\",0.95*0.95,0.98*0.95),2*PI()*Calc_WHDHC!G98/60*Calc_WHDHC!H98/1000),3)","v":62.802},null,null,92,null,"-",null,null,{"$f":"Calc_WHDHC!J98/3.6/(2*Input!$B$5*PI())*60","v":137.08700821989802},null,null,{"$f":"ROUND(IF(Calc_WHDHC!H98<0,Calc_WHDHC!I98,2*PI()*Calc_WHDHC!G98/60*Calc_WHDHC!H98/1000*IF(Input!$B$4=\"Other\",0.95*0.95,0.98*0.95)),3)","v":58.469000000000001}]
[93,null,{"$f":"Calc_WHDHC!G99","v":993},null,null,{"$f":"ROUND(IF(Calc_WHDHC!H99<0,Calc_WHDHC!I99*IF(Input!$B$4=\"Other\",0.95*0.95,0.98*0.95),2*PI()*Calc_WHDHC!G99/60*Calc_WHDHC!H99/1000),3)","v":67.694999999999993},null,null,93,null,"-",null,null,{"$f":"Calc_WHDHC!J99/3.6/(2*Input!$B$5*PI())*60","v":137.72384950227689},null,null,{"$f":"ROUND(IF(Calc_WHDHC!H99<0,Calc_WHDHC!I99,2*PI()*Calc_WHDHC!G99/60*Calc_WHDHC!H99/1000*IF(Input!$B$4=\"Other\",0.95*0.95,0.98*0.95)),3)","v":63.024000000000001}]
[94,null,{"$f":"Calc_WHDHC!G100","v":1005},null,null,{"$f":"ROUND(IF(Calc_WHDHC!H100<0,Calc_WHDHC!I100*IF(Input!$B$4=\"Other\",0.95*0.95,0.98*0.95),2*PI()*Calc_WHDHC!G100/60*Calc_WHDHC!H100/1000),3)","v":68.619},null,null,94,null,"-",null,null,{"$f":"Calc_WHDHC!J100/3.6/(2*Input!$B$5*PI())*60","v":139.30210833252011},null,null,{"$f":"ROUND(IF(Calc_WHDHC!H100<0,Calc_WHDHC!I100,2*PI()*Calc_WHDHC!G100/60*Calc_WHDHC!H100/1000*IF(Input!$B$4=\"Other\",0.95*0.95,0.98*0.95)),3)","v":63.884}]
[95,null,{"$f":"Calc_WHDHC!G101","v":1014},null,null,{"$f":"ROUND(IF(Calc_WHDHC!H101<0,Calc_WHDHC!I101*IF(Input!$B$4=\"Other\",0.95*0.95,0.98*0.95),2*PI()*Calc_WHDHC!G101/60*Calc_WHDHC!H101/1000),3)","v":63.180999999999997},null,null,95,null,"-",null,null,{"$f":"Calc_WHDHC!J101/3.6/(2*Input!$B$5*PI())*60","v":140.60347964868555},null,null,{"$f":"ROUND(IF(Calc_WHDHC!H101<0,Calc_WHDHC!I101,2*PI()*Calc_WHDHC!G101/60*Calc_WHDHC!H101/1000*IF(Input!$B$4=\"Other\",0.95*0.95,0.98*0.95)),3)","v":58.820999999999998}]
[96,null,{"$f":"Calc_WHDHC!G102","v":1013},null,null,{"$f":"ROUND(IF(Calc_WHDHC!H102<0,Calc_WHDHC!I102*IF(Input!$B$4=\"Other\",0.95*0.95,0.98*0.95),2*PI()*Calc_WHDHC!G102/60*Calc_WHDHC!H102/1000),3)","v":56.646999999999998},null,null,96,null,"-",null,null,{"$f":"Calc_WHDHC!J102/3.6/(2*Input!$B$5*PI())*60","v":140.52041339446222},null,null,{"$f":"ROUND(IF(Calc_WHDHC!H102<0,Calc_WHDHC!I102,2*PI()*Calc_WHDHC!G102/60*Calc_WHDHC!H102/1000*IF(Input!$B$4=\"Other\",0.95*0.95,0.98*0.95)),3)","v":52.738999999999997}]
[97,null,{"$f":"Calc_WHDHC!G103","v":1014},null,null,{"$f":"ROUND(IF(Calc_WHDHC!H103<0,Calc_WHDHC!I103*IF(Input!$B$4=\"Other\",0.95*0.95,0.98*0.95),2*PI()*Calc_WHDHC!G103/60*Calc_WHDHC!H103/1000),3)","v":52.881},null,null,97,null,"-",null,null,{"$f":"Calc_WHDHC!J103/3.6/(2*Input!$B$5*PI())*60","v":140.60347964868555},null,null,{"$f":"ROUND(IF(Calc_WHDHC!H103<0,Calc_WHDHC!I103,2*PI()*Calc_WHDHC!G103/60*Calc_WHDHC!H103/1000*IF(Input!$B$4=\"Other\",0.95*0.95,0.98*0.95)),3)","v":49.231999999999999}]
[98,null,{"$f":"Calc_WHDHC!G104","v":1022},null,null,{"$f":"ROUND(IF(Calc_WHDHC!H104<0,Calc_WHDHC!I104*IF(Input!$B$4=\"Other\",0.95*0.95,0.98*0.95),2*PI()*Calc_WHDHC!G104/60*Calc_WHDHC!H104/1000),3)","v":54.046999999999997},null,null,98,null,"-",null,null,{"$f":"Calc_WHDHC!J104/3.6/(2*Input!$B$5*PI())*60","v":141.7940959592199},null,null,{"$f":"ROUND(IF(Calc_WHDHC!H104<0,Calc_WHDHC!I104,2*PI()*Calc_WHDHC!G104/60*Calc_WHDHC!H104/1000*IF(Input!$B$4=\"Other\",0.95*0.95,0.98*0.95)),3)","v":50.317999999999998}]
[99,null,{"$f":"Calc_WHDHC!G105","v":1030},null,null,{"$f":"ROUND(IF(Calc_WHDHC!H105<0,Calc_WHDHC!I105*IF(Input!$B$4=\"Other\",0.95*0.95,0.98*0.95),2*PI()*Calc_WHDHC!G105/60*Calc_WHDHC!H105/1000),3)","v":55.441000000000003},null,null,99,null,"-",null,null,{"$f":"Calc_WHDHC!J105/3.6/(2*Input!$B$5*PI())*60","v":142.87395726412319},null,null,{"$f":"ROUND(IF(Calc_WHDHC!H105<0,Calc_WHDHC!I105,2*PI()*Calc_WHDHC!G105/60*Calc_WHDHC!H105/1000*IF(Input!$B$4=\"Other\",0.95*0.95,0.98*0.95)),3)","v":51.615000000000002}]
[100,null,{"$f":"Calc_WHDHC!G106","v":1037},null,null,{"$f":"ROUND(IF(Calc_WHDHC!H106<0,Calc_WHDHC!I106*IF(Input!$B$4=\"Other\",0.95*0.95,0.98*0.95),2*PI()*Calc_WHDHC!G106/60*Calc_WHDHC!H106/1000),3)","v":55.057000000000002},null,null,100,null,"-",null,null,{"$f":"Calc_WHDHC!J106/3.6/(2*Input!$B$5*PI())*60","v":143.67693105494865},null,null,{"$f":"ROUND(IF(Calc_WHDHC!H106<0,Calc_WHDHC!I106,2*PI()*Calc_WHDHC!G106/60*Calc_WHDHC!H106/1000*IF(Input!$B$4=\"Other\",0.95*0.95,0.98*0.95)),3)","v":51.258000000000003}]
[101,null,{"$f":"Calc_WHDHC!G107","v":1039},null,null,{"$f":"ROUND(IF(Calc_WHDHC!H107<0,Calc_WHDHC!I107*IF(Input!$B$4=\"Other\",0.95*0.95,0.98*0.95),2*PI()*Calc_WHDHC!G107/60*Calc_WHDHC!H107/1000),3)","v":53.314},null,null,101,null,"-",null,null,{"$f":"Calc_WHDHC!J107/3.6/(2*Input!$B$5*PI())*60","v":144.09226232606531},null,null,{"$f":"ROUND(IF(Calc_WHDHC!H107<0,Calc_WHDHC!I107,2*PI()*Calc_WHDHC!G107/60*Calc_WHDHC!H107/1000*IF(Input!$B$4=\"Other\",0.95*0.95,0.98*0.95)),3)","v":49.634999999999998}]
[102,null,{"$f":"Calc_WHDHC!G108","v":1038},null,null,{"$f":"ROUND(IF(Calc_WHDHC!H108<0,Calc_WHDHC!I108*IF(Input!$B$4=\"Other\",0.95*0.95,0.98*0.95),2*PI()*Calc_WHDHC!G108/60*Calc_WHDHC!H108/1000),3)","v":52.393000000000001},null,null,102,null,"-",null,null,{"$f":"Calc_WHDHC!J108/3.6/(2*Input!$B$5*PI())*60","v":143.95381856902642},null,null,{"$f":"ROUND(IF(Calc_WHDHC!H108<0,Calc_WHDHC!I108,2*PI()*Calc_WHDHC!G108/60*Calc_WHDHC!H108/1000*IF(Input!$B$4=\"Other\",0.95*0.95,0.98*0.95)),3)","v":48.777999999999999}]
[103,null,{"$f":"Calc_WHDHC!G109","v":1038},null,null,{"$f":"ROUND(IF(Calc_WHDHC!H109<0,Calc_WHDHC!I109*IF(Input!$B$4=\"Other\",0.95*0.95,0.98*0.95),2*PI()*Calc_WHDHC!G109/60*Calc_WHDHC!H109/1000),3)","v":52.176000000000002},null,null,103,null,"-",null,null,{"$f":"Calc_WHDHC!J109/3.6/(2*Input!$B$5*PI())*60","v":143.95381856902642},null,null,{"$f":"ROUND(IF(Calc_WHDHC!H109<0,Calc_WHDHC!I109,2*PI()*Calc_WHDHC!G109/60*Calc_WHDHC!H109/1000*IF(Input!$B$4=\"Other\",0.95*0.95,0.98*0.95)),3)","v":48.575000000000003}]
[104,null,{"$f":"Calc_WHDHC!G110","v":1046},null,null,{"$f":"ROUND(IF(Calc_WHDHC!H110<0,Calc_WHDHC!I110*IF(Input!$B$4=\"Other\",0.95*0.95,0.98*0.95),2*PI()*Calc_WHDHC!G110/60*Calc_WHDHC!H110/1000),3)","v":50.935000000000002},null,null,104,null,"-",null,null,{"$f":"Calc_WHDHC!J110/3.6/(2*Input!$B$5*PI())*60","v":144.97830237111413},null,null,{"$f":"ROUND(IF(Calc_WHDHC!H110<0,Calc_WHDHC!I110,2*PI()*Calc_WHDHC!G110/60*Calc_WHDHC!H110/1000*IF(Input!$B$4=\"Other\",0.95*0.95,0.98*0.95)),3)","v":47.42}]
[105,null,{"$f":"Calc_WHDHC!G111","v":1051},null,null,{"$f":"ROUND(IF(Calc_WHDHC!H111<0,Calc_WHDHC!I111*IF(Input!$B$4=\"Other\",0.95*0.95,0.98*0.95),2*PI()*Calc_WHDHC!G111/60*Calc_WHDHC!H111/1000),3)","v":47.106000000000002},null,null,105,null,"-",null,null,{"$f":"Calc_WHDHC!J111/3.6/(2*Input!$B$5*PI())*60","v":145.5874549020852},null,null,{"$f":"ROUND(IF(Calc_WHDHC!H111<0,Calc_WHDHC!I111,2*PI()*Calc_WHDHC!G111/60*Calc_WHDHC!H111/1000*IF(Input!$B$4=\"Other\",0.95*0.95,0.98*0.95)),3)","v":43.856000000000002}]
[106,null,{"$f":"Calc_WHDHC!G112","v":1049},null,null,{"$f":"ROUND(IF(Calc_WHDHC!H112<0,Calc_WHDHC!I112*IF(Input!$B$4=\"Other\",0.95*0.95,0.98*0.95),2*PI()*Calc_WHDHC!G112/60*Calc_WHDHC!H112/1000),3)","v":43.170999999999999},null,null,106,null,"-",null,null,{"$f":"Calc_WHDHC!J112/3.6/(2*Input!$B$5*PI())*60","v":145.28287863659966},null,null,{"$f":"ROUND(IF(Calc_WHDHC!H112<0,Calc_WHDHC!I112,2*PI()*Calc_WHDHC!G112/60*Calc_WHDHC!H112/1000*IF(Input!$B$4=\"Other\",0.95*0.95,0.98*0.95)),3)","v":40.192999999999998}]
[107,null,{"$f":"Calc_WHDHC!G113","v":1039},null,null,{"$f":"ROUND(IF(Calc_WHDHC!H113<0,Calc_WHDHC!I113*IF(Input!$B$4=\"Other\",0.95*0.95,0.98*0.95),2*PI()*Calc_WHDHC!G113/60*Calc_WHDHC!H113/1000),3)","v":40.909999999999997},null,null,107,null,"-",null,null,{"$f":"Calc_WHDHC!J113/3.6/(2*Input!$B$5*PI())*60","v":144.06457357465754},null,null,{"$f":"ROUND(IF(Calc_WHDHC!H113<0,Calc_WHDHC!I113,2*PI()*Calc_WHDHC!G113/60*Calc_WHDHC!H113/1000*IF(Input!$B$4=\"Other\",0.95*0.95,0.98*0.95)),3)","v":38.087000000000003}]
[108,null,{"$f":"Calc_WHDHC!G114","v":1028},null,null,{"$f":"ROUND(IF(Calc_WHDHC!H114<0,Calc_WHDHC!I114*IF(Input!$B$4=\"Other\",0.95*0.95,0.98*0.95),2*PI()*Calc_WHDHC!G114/60*Calc_WHDHC!H114/1000),3)","v":38.539000000000001},null,null,108,null,"-",null,null,{"$f":"Calc_WHDHC!J114/3.6/(2*Input!$B$5*PI())*60","v":142.4863147444143},null,null,{"$f":"ROUND(IF(Calc_WHDHC!H114<0,Calc_WHDHC!I114,2*PI()*Calc_WHDHC!G114/60*Calc_WHDHC!H114/1000*IF(Input!$B$4=\"Other\",0.95*0.95,0.98*0.95)),3)","v":35.880000000000003}]
[109,null,{"$f":"Calc_WHDHC!G115","v":1025},null,null,{"$f":"ROUND(IF(Calc_WHDHC!H115<0,Calc_WHDHC!I115*IF(Input!$B$4=\"Other\",0.95*0.95,0.98*0.95),2*PI()*Calc_WHDHC!G115/60*Calc_WHDHC!H115/1000),3)","v":32.523000000000003},null,null,109,null,"-",null,null,{"$f":"Calc_WHDHC!J115/3.6/(2*Input!$B$5*PI())*60","v":142.0709834732977},null,null,{"$f":"ROUND(IF(Calc_WHDHC!H115<0,Calc_WHDHC!I115,2*PI()*Calc_WHDHC!G115/60*Calc_WHDHC!H115/1000*IF(Input!$B$4=\"Other\",0.95*0.95,0.98*0.95)),3)","v":30.279}]
[110,null,{"$f":"Calc_WHDHC!G116","v":1028},null,null,{"$f":"ROUND(IF(Calc_WHDHC!H116<0,Calc_WHDHC!I116*IF(Input!$B$4=\"Other\",0.95*0.95,0.98*0.95),2*PI()*Calc_WHDHC!G116/60*Calc_WHDHC!H116/1000),3)","v":21.745999999999999},null,null,110,null,"-",null,null,{"$f":"Calc_WHDHC!J116/3.6/(2*Input!$B$5*PI())*60","v":142.45862599300654},null,null,{"$f":"ROUND(IF(Calc_WHDHC!H116<0,Calc_WHDHC!I116,2*PI()*Calc_WHDHC!G116/60*Calc_WHDHC!H116/1000*IF(Input!$B$4=\"Other\",0.95*0.95,0.98*0.95)),3)","v":20.245000000000001}]
[111,null,{"$f":"Calc_WHDHC!G117","v":1029},null,null,{"$f":"ROUND(IF(Calc_WHDHC!H117<0,Calc_WHDHC!I117*IF(Input!$B$4=\"Other\",0.95*0.95,0.98*0.95),2*PI()*Calc_WHDHC!G117/60*Calc_WHDHC!H117/1000),3)","v":9.4830000000000005},null,null,111,null,"-",null,null,{"$f":"Calc_WHDHC!J117/3.6/(2*Input!$B$5*PI())*60","v":142.54169224722986},null,null,{"$f":"ROUND(IF(Calc_WHDHC!H117<0,Calc_WHDHC!I117,2*PI()*Calc_WHDHC!G117/60*Calc_WHDHC!H117/1000*IF(Input!$B$4=\"Other\",0.95*0.95,0.98*0.95)),3)","v":8.8279999999999994}]
[112,null,{"$f":"Calc_WHDHC!G118","v":1025},null,null,{"$f":"ROUND(IF(Calc_WHDHC!H118<0,Calc_WHDHC!I118*IF(Input!$B$4=\"Other\",0.95*0.95,0.98*0.95),2*PI()*Calc_WHDHC!G118/60*Calc_WHDHC!H118/1000),3)","v":14.382999999999999},null,null,112,null,"-",null,null,{"$f":"Calc_WHDHC!J118/3.6/(2*Input!$B$5*PI())*60","v":142.01560597048214},null,null,{"$f":"ROUND(IF(Calc_WHDHC!H118<0,Calc_WHDHC!I118,2*PI()*Calc_WHDHC!G118/60*Calc_WHDHC!H118/1000*IF(Input!$B$4=\"Other\",0.95*0.95,0.98*0.95)),3)","v":13.391}]
[113,null,{"$f":"Calc_WHDHC!G119","v":1021},null,null,{"$f":"ROUND(IF(Calc_WHDHC!H119<0,Calc_WHDHC!I119*IF(Input!$B$4=\"Other\",0.95*0.95,0.98*0.95),2*PI()*Calc_WHDHC!G119/60*Calc_WHDHC!H119/1000),3)","v":21.704999999999998},null,null,113,null,"-",null,null,{"$f":"Calc_WHDHC!J119/3.6/(2*Input!$B$5*PI())*60","v":141.54489719654993},null,null,{"$f":"ROUND(IF(Calc_WHDHC!H119<0,Calc_WHDHC!I119,2*PI()*Calc_WHDHC!G119/60*Calc_WHDHC!H119/1000*IF(Input!$B$4=\"Other\",0.95*0.95,0.98*0.95)),3)","v":20.207000000000001}]
[114,null,{"$f":"Calc_WHDHC!G120","v":1018},null,null,{"$f":"ROUND(IF(Calc_WHDHC!H120<0,Calc_WHDHC!I120*IF(Input!$B$4=\"Other\",0.95*0.95,0.98*0.95),2*PI()*Calc_WHDHC!G120/60*Calc_WHDHC!H120/1000),3)","v":54.155000000000001},null,null,114,null,"-",null,null,{"$f":"Calc_WHDHC!J120/3.6/(2*Input!$B$5*PI())*60","v":141.10187717402553},null,null,{"$f":"ROUND(IF(Calc_WHDHC!H120<0,Calc_WHDHC!I120,2*PI()*Calc_WHDHC!G120/60*Calc_WHDHC!H120/1000*IF(Input!$B$4=\"Other\",0.95*0.95,0.98*0.95)),3)","v":50.417999999999999}]
[115,null,{"$f":"Calc_WHDHC!G121","v":1014},null,null,{"$f":"ROUND(IF(Calc_WHDHC!H121<0,Calc_WHDHC!I121*IF(Input!$B$4=\"Other\",0.95*0.95,0.98*0.95),2*PI()*Calc_WHDHC!G121/60*Calc_WHDHC!H121/1000),3)","v":62.756},null,null,115,null,"-",null,null,{"$f":"Calc_WHDHC!J121/3.6/(2*Input!$B$5*PI())*60","v":140.68654590290888},null,null,{"$f":"ROUND(IF(Calc_WHDHC!H121<0,Calc_WHDHC!I121,2*PI()*Calc_WHDHC!G121/60*Calc_WHDHC!H121/1000*IF(Input!$B$4=\"Other\",0.95*0.95,0.98*0.95)),3)","v":58.426000000000002}]
[116,null,{"$f":"Calc_WHDHC!G122","v":1016},null,null,{"$f":"ROUND(IF(Calc_WHDHC!H122<0,Calc_WHDHC!I122*IF(Input!$B$4=\"Other\",0.95*0.95,0.98*0.95),2*PI()*Calc_WHDHC!G122/60*Calc_WHDHC!H122/1000),3)","v":44.472999999999999},null,null,116,null,"-",null,null,{"$f":"Calc_WHDHC!J122/3.6/(2*Input!$B$5*PI())*60","v":140.82498965994776},null,null,{"$f":"ROUND(IF(Calc_WHDHC!H122<0,Calc_WHDHC!I122,2*PI()*Calc_WHDHC!G122/60*Calc_WHDHC!H122/1000*IF(Input!$B$4=\"Other\",0.95*0.95,0.98*0.95)),3)","v":41.405000000000001}]
[117,null,{"$f":"Calc_WHDHC!G123","v":1025},null,null,{"$f":"ROUND(IF(Calc_WHDHC!H123<0,Calc_WHDHC!I123*IF(Input!$B$4=\"Other\",0.95*0.95,0.98*0.95),2*PI()*Calc_WHDHC!G123/60*Calc_WHDHC!H123/1000),3)","v":36.173000000000002},null,null,117,null,"-",null,null,{"$f":"Calc_WHDHC!J123/3.6/(2*Input!$B$5*PI())*60","v":142.154049727521},null,null,{"$f":"ROUND(IF(Calc_WHDHC!H123<0,Calc_WHDHC!I123,2*PI()*Calc_WHDHC!G123/60*Calc_WHDHC!H123/1000*IF(Input!$B$4=\"Other\",0.95*0.95,0.98*0.95)),3)","v":33.677}]
[118,null,{"$f":"Calc_WHDHC!G124","v":1033},null,null,{"$f":"ROUND(IF(Calc_WHDHC!H124<0,Calc_WHDHC!I124*IF(Input!$B$4=\"Other\",0.95*0.95,0.98*0.95),2*PI()*Calc_WHDHC!G124/60*Calc_WHDHC!H124/1000),3)","v":35.805999999999997},null,null,118,null,"-",null,null,{"$f":"Calc_WHDHC!J124/3.6/(2*Input!$B$5*PI())*60","v":143.09546727538537},null,null,{"$f":"ROUND(IF(Calc_WHDHC!H124<0,Calc_WHDHC!I124,2*PI()*Calc_WHDHC!G124/60*Calc_WHDHC!H124/1000*IF(Input!$B$4=\"Other\",0.95*0.95,0.98*0.95)),3)","v":33.335000000000001}]
[119,null,{"$f":"Calc_WHDHC!G125","v":1030},null,null,{"$f":"ROUND(IF(Calc_WHDHC!H125<0,Calc_WHDHC!I125*IF(Input!$B$4=\"Other\",0.95*0.95,0.98*0.95),2*PI()*Calc_WHDHC!G125/60*Calc_WHDHC!H125/1000),3)","v":44.655000000000001},null,null,119,null,"-",null,null,{"$f":"Calc_WHDHC!J125/3.6/(2*Input!$B$5*PI())*60","v":142.81857976130763},null,null,{"$f":"ROUND(IF(Calc_WHDHC!H125<0,Calc_WHDHC!I125,2*PI()*Calc_WHDHC!G125/60*Calc_WHDHC!H125/1000*IF(Input!$B$4=\"Other\",0.95*0.95,0.98*0.95)),3)","v":41.573}]
[120,null,{"$f":"Calc_WHDHC!G126","v":1026},null,null,{"$f":"ROUND(IF(Calc_WHDHC!H126<0,Calc_WHDHC!I126*IF(Input!$B$4=\"Other\",0.95*0.95,0.98*0.95),2*PI()*Calc_WHDHC!G126/60*Calc_WHDHC!H126/1000),3)","v":49.209000000000003},null,null,120,null,"-",null,null,{"$f":"Calc_WHDHC!J126/3.6/(2*Input!$B$5*PI())*60","v":142.20942723033656},null,null,{"$f":"ROUND(IF(Calc_WHDHC!H126<0,Calc_WHDHC!I126,2*PI()*Calc_WHDHC!G126/60*Calc_WHDHC!H126/1000*IF(Input!$B$4=\"Other\",0.95*0.95,0.98*0.95)),3)","v":45.813000000000002}]
[121,null,{"$f":"Calc_WHDHC!G127","v":1026},null,null,{"$f":"ROUND(IF(Calc_WHDHC!H127<0,Calc_WHDHC!I127*IF(Input!$B$4=\"Other\",0.95*0.95,0.98*0.95),2*PI()*Calc_WHDHC!G127/60*Calc_WHDHC!H127/1000),3)","v":51.143000000000001},null,null,121,null,"-",null,null,{"$f":"Calc_WHDHC!J127/3.6/(2*Input!$B$5*PI())*60","v":142.29249348455988},null,null,{"$f":"ROUND(IF(Calc_WHDHC!H127<0,Calc_WHDHC!I127,2*PI()*Calc_WHDHC!G127/60*Calc_WHDHC!H127/1000*IF(Input!$B$4=\"Other\",0.95*0.95,0.98*0.95)),3)","v":47.613999999999997}]
[122,null,{"$f":"Calc_WHDHC!G128","v":1018},null,null,{"$f":"ROUND(IF(Calc_WHDHC!H128<0,Calc_WHDHC!I128*IF(Input!$B$4=\"Other\",0.95*0.95,0.98*0.95),2*PI()*Calc_WHDHC!G128/60*Calc_WHDHC!H128/1000),3)","v":25.692},null,null,122,null,"-",null,null,{"$f":"Calc_WHDHC!J128/3.6/(2*Input!$B$5*PI())*60","v":141.15725467684106},null,null,{"$f":"ROUND(IF(Calc_WHDHC!H128<0,Calc_WHDHC!I128,2*PI()*Calc_WHDHC!G128/60*Calc_WHDHC!H128/1000*IF(Input!$B$4=\"Other\",0.95*0.95,0.98*0.95)),3)","v":23.919}]
[123,null,{"$f":"Calc_WHDHC!G129","v":1161},null,null,{"$f":"ROUND(IF(Calc_WHDHC!H129<0,Calc_WHDHC!I129*IF(Input!$B$4=\"Other\",0.95*0.95,0.98*0.95),2*PI()*Calc_WHDHC!G129/60*Calc_WHDHC!H129/1000),3)","v":0},null,null,123,null,"-",null,null,{"$f":"Calc_WHDHC!J129/3.6/(2*Input!$B$5*PI())*60","v":134.65039809601376},null,null,{"$f":"ROUND(IF(Calc_WHDHC!H129<0,Calc_WHDHC!I129,2*PI()*Calc_WHDHC!G129/60*Calc_WHDHC!H129/1000*IF(Input!$B$4=\"Other\",0.95*0.95,0.98*0.95)),3)","v":0}]
[124,null,{"$f":"Calc_WHDHC!G130","v":1304},null,null,{"$f":"ROUND(IF(Calc_WHDHC!H130<0,Calc_WHDHC!I130*IF(Input!$B$4=\"Other\",0.95*0.95,0.98*0.95),2*PI()*Calc_WHDHC!G130/60*Calc_WHDHC!H130/1000),3)","v":-82.92},null,null,124,null,"-",null,null,{"$f":"Calc_WHDHC!J130/3.6/(2*Input!$B$5*PI())*60","v":124.12867256105895},null,null,{"$f":"ROUND(IF(Calc_WHDHC!H130<0,Calc_WHDHC!I130,2*PI()*Calc_WHDHC!G130/60*Calc_WHDHC!H130/1000*IF(Input!$B$4=\"Other\",0.95*0.95,0.98*0.95)),3)","v":-89.064999999999998}]
[125,null,{"$f":"Calc_WHDHC!G131","v":1170},null,null,{"$f":"ROUND(IF(Calc_WHDHC!H131<0,Calc_WHDHC!I131*IF(Input!$B$4=\"Other\",0.95*0.95,0.98*0.95),2*PI()*Calc_WHDHC!G131/60*Calc_WHDHC!H131/1000),3)","v":-76.188999999999993},null,null,125,null,"-",null,null,{"$f":"Calc_WHDHC!J131/3.6/(2*Input!$B$5*PI())*60","v":111.5856681733365},null,null,{"$f":"ROUND(IF(Calc_WHDHC!H131<0,Calc_WHDHC!I131,2*PI()*Calc_WHDHC!G131/60*Calc_WHDHC!H131/1000*IF(Input!$B$4=\"Other\",0.95*0.95,0.98*0.95)),3)","v":-81.835999999999999}]
[126,null,{"$f":"Calc_WHDHC!G132","v":1222},null,null,{"$f":"ROUND(IF(Calc_WHDHC!H132<0,Calc_WHDHC!I132*IF(Input!$B$4=\"Other\",0.95*0.95,0.98*0.95),2*PI()*Calc_WHDHC!G132/60*Calc_WHDHC!H132/1000),3)","v":0},null,null,126,null,"-",null,null,{"$f":"Calc_WHDHC!J132/3.6/(2*Input!$B$5*PI())*60","v":98.710398768720751},null,null,{"$f":"ROUND(IF(Calc_WHDHC!H132<0,Calc_WHDHC!I132,2*PI()*Calc_WHDHC!G132/60*Calc_WHDHC!H132/1000*IF(Input!$B$4=\"Other\",0.95*0.95,0.98*0.95)),3)","v":0}]
[127,null,{"$f":"Calc_WHDHC!G133","v":1273},null,null,{"$f":"ROUND(IF(Calc_WHDHC!H133<0,Calc_WHDHC!I133*IF(Input!$B$4=\"Other\",0.95*0.95,0.98*0.95),2*PI()*Calc_WHDHC!G133/60*Calc_WHDHC!H133/1000),3)","v":-73.566999999999993},null,null,127,null,"-",null,null,{"$f":"Calc_WHDHC!J133/3.6/(2*Input!$B$5*PI())*60","v":83.703095505706273},null,null,{"$f":"ROUND(IF(Calc_WHDHC!H133<0,Calc_WHDHC!I133,2*PI()*Calc_WHDHC!G133/60*Calc_WHDHC!H133/1000*IF(Input!$B$4=\"Other\",0.95*0.95,0.98*0.95)),3)","v":-79.019000000000005}]
[128,null,{"$f":"Calc_WHDHC!G134","v":1095},null,null,{"$f":"ROUND(IF(Calc_WHDHC!H134<0,Calc_WHDHC!I134*IF(Input!$B$4=\"Other\",0.95*0.95,0.98*0.95),2*PI()*Calc_WHDHC!G134/60*Calc_WHDHC!H134/1000),3)","v":-47.14},null,null,128,null,"-",null,null,{"$f":"Calc_WHDHC!J134/3.6/(2*Input!$B$5*PI())*60","v":66.674513389924144},null,null,{"$f":"ROUND(IF(Calc_WHDHC!H134<0,Calc_WHDHC!I134,2*PI()*Calc_WHDHC!G134/60*Calc_WHDHC!H134/1000*IF(Input!$B$4=\"Other\",0.95*0.95,0.98*0.95)),3)","v":-50.634}]
[129,null,{"$f":"Calc_WHDHC!G135","v":917},null,null,{"$f":"ROUND(IF(Calc_WHDHC!H135<0,Calc_WHDHC!I135*IF(Input!$B$4=\"Other\",0.95*0.95,0.98*0.95),2*PI()*Calc_WHDHC!G135/60*Calc_WHDHC!H135/1000),3)","v":-33.037999999999997},null,null,129,null,"-",null,null,{"$f":"Calc_WHDHC!J135/3.6/(2*Input!$B$5*PI())*60","v":52.497872669142936},null,null,{"$f":"ROUND(IF(Calc_WHDHC!H135<0,Calc_WHDHC!I135,2*PI()*Calc_WHDHC!G135/60*Calc_WHDHC!H135/1000*IF(Input!$B$4=\"Other\",0.95*0.95,0.98*0.95)),3)","v":-35.487000000000002}]
[130,null,{"$f":"Calc_WHDHC!G136","v":738},null,null,{"$f":"ROUND(IF(Calc_WHDHC!H136<0,Calc_WHDHC!I136*IF(Input!$B$4=\"Other\",0.95*0.95,0.98*0.95),2*PI()*Calc_WHDHC!G136/60*Calc_WHDHC!H136/1000),3)","v":-25.832000000000001},null,null,130,null,"-",null,null,{"$f":"Calc_WHDHC!J136/3.6/(2*Input!$B$5*PI())*60","v":39.290338247633869},null,null,{"$f":"ROUND(IF(Calc_WHDHC!H136<0,Calc_WHDHC!I136,2*PI()*Calc_WHDHC!G136/60*Calc_WHDHC!H136/1000*IF(Input!$B$4=\"Other\",0.95*0.95,0.98*0.95)),3)","v":-27.747}]
[131,null,{"$f":"Calc_WHDHC!G137","v":560},null,null,{"$f":"ROUND(IF(Calc_WHDHC!H137<0,Calc_WHDHC!I137*IF(Input!$B$4=\"Other\",0.95*0.95,0.98*0.95),2*PI()*Calc_WHDHC!G137/60*Calc_WHDHC!H137/1000),3)","v":0},null,null,131,null,"-",null,null,{"$f":"Calc_WHDHC!J137/3.6/(2*Input!$B$5*PI())*60","v":24.144591227580509},null,null,{"$f":"ROUND(IF(Calc_WHDHC!H137<0,Calc_WHDHC!I137,2*PI()*Calc_WHDHC!G137/60*Calc_WHDHC!H137/1000*IF(Input!$B$4=\"Other\",0.95*0.95,0.98*0.95)),3)","v":0}]
[132,null,{"$f":"Calc_WHDHC!G138","v":560},null,null,{"$f":"ROUND(IF(Calc_WHDHC!H138<0,Calc_WHDHC!I138*IF(Input!$B$4=\"Other\",0.95*0.95,0.98*0.95),2*PI()*Calc_WHDHC!G138/60*Calc_WHDHC!H138/1000),3)","v":0},null,null,132,null,"-",null,null,{"$f":"Calc_WHDHC!J138/3.6/(2*Input!$B$5*PI())*60","v":9.4418642300515501},null,null,{"$f":"ROUND(IF(Calc_WHDHC!H138<0,Calc_WHDHC!I138,2*PI()*Calc_WHDHC!G138/60*Calc_WHDHC!H138/1000*IF(Input!$B$4=\"Other\",0.95*0.95,0.98*0.95)),3)","v":0}]
[133,null,{"$f":"Calc_WHDHC!G139","v":560},null,null,{"$f":"ROUND(IF(Calc_WHDHC!H139<0,Calc_WHDHC!I139*IF(Input!$B$4=\"Other\",0.95*0.95,0.98*0.95),2*PI()*Calc_WHDHC!G139/60*Calc_WHDHC!H139/1000),3)","v":0},null,null,133,null,"-",null,null,{"$f":"Calc_WHDHC!J139/3.6/(2*Input!$B$5*PI())*60","v":1.7720800900976519},null,null,{"$f":"ROUND(IF(Calc_WHDHC!H139<0,Calc_WHDHC!I139,2*PI()*Calc_WHDHC!G139/60*Calc_WHDHC!H139/1000*IF(Input!$B$4=\"Other\",0.95*0.95,0.98*0.95)),3)","v":0}]
[134,null,{"$f":"Calc_WHDHC!G140","v":560},null,null,{"$f":"ROUND(IF(Calc_WHDHC!H140<0,Calc_WHDHC!I140*IF(Input!$B$4=\"Other\",0.95*0.95,0.98*0.95),2*PI()*Calc_WHDHC!G140/60*Calc_WHDHC!H140/1000),3)","v":0},null,null,134,null,"-",null,null,{"$f":"Calc_WHDHC!J140/3.6/(2*Input!$B$5*PI())*60","v":0},null,null,{"$f":"ROUND(IF(Calc_WHDHC!H140<0,Calc_WHDHC!I140,2*PI()*Calc_WHDHC!G140/60*Calc_WHDHC!H140/1000*IF(Input!$B$4=\"Other\",0.95*0.95,0.98*0.95)),3)","v":0}]
[135,null,{"$f":"Calc_WHDHC!G141","v":560},null,null,{"$f":"ROUND(IF(Calc_WHDHC!H141<0,Calc_WHDHC!I141*IF(Input!$B$4=\"Other\",0.95*0.95,0.98*0.95),2*PI()*Calc_WHDHC!G141/60*Calc_WHDHC!H141/1000),3)","v":0},null,null,135,null,"-",null,null,{"$f":"Calc_WHDHC!J141/3.6/(2*Input!$B$5*PI())*60","v":0},null,null,{"$f":"ROUND(IF(Calc_WHDHC!H141<0,Calc_WHDHC!I141,2*PI()*Calc_WHDHC!G141/60*Calc_WHDHC!H141/1000*IF(Input!$B$4=\"Other\",0.95*0.95,0.98*0.95)),3)","v":0}]
[136,null,{"$f":"Calc_WHDHC!G142","v":560},null,null,{"$f":"ROUND(IF(Calc_WHDHC!H142<0,Calc_WHDHC!I142*IF(Input!$B$4=\"Other\",0.95*0.95,0.98*0.95),2*PI()*Calc_WHDHC!G142/60*Calc_WHDHC!H142/1000),3)","v":0},null,null,136,null,"-",null,null,{"$f":"Calc_WHDHC!J142/3.6/(2*Input!$B$5*PI())*60","v":0},null,null,{"$f":"ROUND(IF(Calc_WHDHC!H142<0,Calc_WHDHC!I142,2*PI()*Calc_WHDHC!G142/60*Calc_WHDHC!H142/1000*IF(Input!$B$4=\"Other\",0.95*0.95,0.98*0.95)),3)","v":0}]
[137,null,{"$f":"Calc_WHDHC!G143","v":560},null,null,{"$f":"ROUND(IF(Calc_WHDHC!H143<0,Calc_WHDHC!I143*IF(Input!$B$4=\"Other\",0.95*0.95,0.98*0.95),2*PI()*Calc_WHDHC!G143/60*Calc_WHDHC!H143/1000),3)","v":0},null,null,137,null,"-",null,null,{"$f":"Calc_WHDHC!J143/3.6/(2*Input!$B$5*PI())*60","v":0},null,null,{"$f":"ROUND(IF(Calc_WHDHC!H143<0,Calc_WHDHC!I143,2*PI()*Calc_WHDHC!G143/60*Calc_WHDHC!H143/1000*IF(Input!$B$4=\"Other\",0.95*0.95,0.98*0.95)),3)","v":0}]
[138,null,{"$f":"Calc_WHDHC!G144","v":560},null,null,{"$f":"ROUND(IF(Calc_WHDHC!H144<0,Calc_WHDHC!I144*IF(Input!$B$4=\"Other\",0.95*0.95,0.98*0.95),2*PI()*Calc_WHDHC!G144/60*Calc_WHDHC!H144/1000),3)","v":0},null,null,138,null,"-",null,null,{"$f":"Calc_WHDHC!J144/3.6/(2*Input!$B$5*PI())*60","v":0},null,null,{"$f":"ROUND(IF(Calc_WHDHC!H144<0,Calc_WHDHC!I144,2*PI()*Calc_WHDHC!G144/60*Calc_WHDHC!H144/1000*IF(Input!$B$4=\"Other\",0.95*0.95,0.98*0.95)),3)","v":0}]
[139,null,{"$f":"Calc_WHDHC!G145","v":560},null,null,{"$f":"ROUND(IF(Calc_WHDHC!H145<0,Calc_WHDHC!I145*IF(Input!$B$4=\"Other\",0.95*0.95,0.98*0.95),2*PI()*Calc_WHDHC!G145/60*Calc_WHDHC!H145/1000),3)","v":0},null,null,139,null,"-",null,null,{"$f":"Calc_WHDHC!J145/3.6/(2*Input!$B$5*PI())*60","v":0},null,null,{"$f":"ROUND(IF(Calc_WHDHC!H145<0,Calc_WHDHC!I145,2*PI()*Calc_WHDHC!G145/60*Calc_WHDHC!H145/1000*IF(Input!$B$4=\"Other\",0.95*0.95,0.98*0.95)),3)","v":0}]
[140,null,{"$f":"Calc_WHDHC!G146","v":560},null,null,{"$f":"ROUND(IF(Calc_WHDHC!H146<0,Calc_WHDHC!I146*IF(Input!$B$4=\"Other\",0.95*0.95,0.98*0.95),2*PI()*Calc_WHDHC!G146/60*Calc_WHDHC!H146/1000),3)","v":0},null,null,140,null,"-",null,null,{"$f":"Calc_WHDHC!J146/3.6/(2*Input!$B$5*PI())*60","v":0},null,null,{"$f":"ROUND(IF(Calc_WHDHC!H146<0,Calc_WHDHC!I146,2*PI()*Calc_WHDHC!G146/60*Calc_WHDHC!H146/1000*IF(Input!$B$4=\"Other\",0.95*0.95,0.98*0.95)),3)","v":0}]
[141,null,{"$f":"Calc_WHDHC!G147","v":560},null,null,{"$f":"ROUND(IF(Calc_WHDHC!H147<0,Calc_WHDHC!I147*IF(Input!$B$4=\"Other\",0.95*0.95,0.98*0.95),2*PI()*Calc_WHDHC!G147/60*Calc_WHDHC!H147/1000),3)","v":0},null,null,141,null,"-",null,null,{"$f":"Calc_WHDHC!J147/3.6/(2*Input!$B$5*PI())*60","v":0},null,null,{"$f":"ROUND(IF(Calc_WHDHC!H147<0,Calc_WHDHC!I147,2*PI()*Calc_WHDHC!G147/60*Calc_WHDHC!H147/1000*IF(Input!$B$4=\"Other\",0.95*0.95,0.98*0.95)),3)","v":0}]
[142,null,{"$f":"Calc_WHDHC!G148","v":560},null,null,{"$f":"ROUND(IF(Calc_WHDHC!H148<0,Calc_WHDHC!I148*IF(Input!$B$4=\"Other\",0.95*0.95,0.98*0.95),2*PI()*Calc_WHDHC!G148/60*Calc_WHDHC!H148/1000),3)","v":2.8149999999999999},null,null,142,null,"-",null,null,{"$f":"Calc_WHDHC!J148/3.6/(2*Input!$B$5*PI())*60","v":1.7443913386898759},null,null,{"$f":"ROUND(IF(Calc_WHDHC!H148<0,Calc_WHDHC!I148,2*PI()*Calc_WHDHC!G148/60*Calc_WHDHC!H148/1000*IF(Input!$B$4=\"Other\",0.95*0.95,0.98*0.95)),3)","v":2.621}]
[143,null,{"$f":"Calc_WHDHC!G149","v":560},null,null,{"$f":"ROUND(IF(Calc_WHDHC!H149<0,Calc_WHDHC!I149*IF(Input!$B$4=\"Other\",0.95*0.95,0.98*0.95),2*PI()*Calc_WHDHC!G149/60*Calc_WHDHC!H149/1000),3)","v":4.2220000000000004},null,null,143,null,"-",null,null,{"$f":"Calc_WHDHC!J149/3.6/(2*Input!$B$5*PI())*60","v":4.3194452196130264},null,null,{"$f":"ROUND(IF(Calc_WHDHC!H149<0,Calc_WHDHC!I149,2*PI()*Calc_WHDHC!G149/60*Calc_WHDHC!H149/1000*IF(Input!$B$4=\"Other\",0.95*0.95,0.98*0.95)),3)","v":3.931}]
[144,null,{"$f":"Calc_WHDHC!G150","v":618},null,null,{"$f":"ROUND(IF(Calc_WHDHC!H150<0,Calc_WHDHC!I150*IF(Input!$B$4=\"Other\",0.95*0.95,0.98*0.95),2*PI()*Calc_WHDHC!G150/60*Calc_WHDHC!H150/1000),3)","v":21.161999999999999},null,null,144,null,"-",null,null,{"$f":"Calc_WHDHC!J150/3.6/(2*Input!$B$5*PI())*60","v":8.278936670924967},null,null,{"$f":"ROUND(IF(Calc_WHDHC!H150<0,Calc_WHDHC!I150,2*PI()*Calc_WHDHC!G150/60*Calc_WHDHC!H150/1000*IF(Input!$B$4=\"Other\",0.95*0.95,0.98*0.95)),3)","v":19.702000000000002}]
[145,null,{"$f":"Calc_WHDHC!G151","v":707},null,null,{"$f":"ROUND(IF(Calc_WHDHC!H151<0,Calc_WHDHC!I151*IF(Input!$B$4=\"Other\",0.95*0.95,0.98*0.95),2*PI()*Calc_WHDHC!G151/60*Calc_WHDHC!H151/1000),3)","v":26.579000000000001},null,null,145,null,"-",null,null,{"$f":"Calc_WHDHC!J151/3.6/(2*Input!$B$5*PI())*60","v":12.459938133499115},null,null,{"$f":"ROUND(IF(Calc_WHDHC!H151<0,Calc_WHDHC!I151,2*PI()*Calc_WHDHC!G151/60*Calc_WHDHC!H151/1000*IF(Input!$B$4=\"Other\",0.95*0.95,0.98*0.95)),3)","v":24.745000000000001}]
[146,null,{"$f":"Calc_WHDHC!G152","v":758},null,null,{"$f":"ROUND(IF(Calc_WHDHC!H152<0,Calc_WHDHC!I152*IF(Input!$B$4=\"Other\",0.95*0.95,0.98*0.95),2*PI()*Calc_WHDHC!G152/60*Calc_WHDHC!H152/1000),3)","v":10.954000000000001},null,null,146,null,"-",null,null,{"$f":"Calc_WHDHC!J152/3.6/(2*Input!$B$5*PI())*60","v":14.92423700879116},null,null,{"$f":"ROUND(IF(Calc_WHDHC!H152<0,Calc_WHDHC!I152,2*PI()*Calc_WHDHC!G152/60*Calc_WHDHC!H152/1000*IF(Input!$B$4=\"Other\",0.95*0.95,0.98*0.95)),3)","v":10.198}]
[147,null,{"$f":"Calc_WHDHC!G153","v":770},null,null,{"$f":"ROUND(IF(Calc_WHDHC!H153<0,Calc_WHDHC!I153*IF(Input!$B$4=\"Other\",0.95*0.95,0.98*0.95),2*PI()*Calc_WHDHC!G153/60*Calc_WHDHC!H153/1000),3)","v":0},null,null,147,null,"-",null,null,{"$f":"Calc_WHDHC!J153/3.6/(2*Input!$B$5*PI())*60","v":15.478012036946676},null,null,{"$f":"ROUND(IF(Calc_WHDHC!H153<0,Calc_WHDHC!I153,2*PI()*Calc_WHDHC!G153/60*Calc_WHDHC!H153/1000*IF(Input!$B$4=\"Other\",0.95*0.95,0.98*0.95)),3)","v":0}]
[148,null,{"$f":"Calc_WHDHC!G154","v":762},null,null,{"$f":"ROUND(IF(Calc_WHDHC!H154<0,Calc_WHDHC!I154*IF(Input!$B$4=\"Other\",0.95*0.95,0.98*0.95),2*PI()*Calc_WHDHC!G154/60*Calc_WHDHC!H154/1000),3)","v":0},null,null,148,null,"-",null,null,{"$f":"Calc_WHDHC!J154/3.6/(2*Input!$B$5*PI())*60","v":15.090369517237814},null,null,{"$f":"ROUND(IF(Calc_WHDHC!H154<0,Calc_WHDHC!I154,2*PI()*Calc_WHDHC!G154/60*Calc_WHDHC!H154/1000*IF(Input!$B$4=\"Other\",0.95*0.95,0.98*0.95)),3)","v":0}]
[149,null,{"$f":"Calc_WHDHC!G155","v":748},null,null,{"$f":"ROUND(IF(Calc_WHDHC!H155<0,Calc_WHDHC!I155*IF(Input!$B$4=\"Other\",0.95*0.95,0.98*0.95),2*PI()*Calc_WHDHC!G155/60*Calc_WHDHC!H155/1000),3)","v":0},null,null,149,null,"-",null,null,{"$f":"Calc_WHDHC!J155/3.6/(2*Input!$B$5*PI())*60","v":14.398150732043421},null,null,{"$f":"ROUND(IF(Calc_WHDHC!H155<0,Calc_WHDHC!I155,2*PI()*Calc_WHDHC!G155/60*Calc_WHDHC!H155/1000*IF(Input!$B$4=\"Other\",0.95*0.95,0.98*0.95)),3)","v":0}]
[150,null,{"$f":"Calc_WHDHC!G156","v":734},null,null,{"$f":"ROUND(IF(Calc_WHDHC!H156<0,Calc_WHDHC!I156*IF(Input!$B$4=\"Other\",0.95*0.95,0.98*0.95),2*PI()*Calc_WHDHC!G156/60*Calc_WHDHC!H156/1000),3)","v":0},null,null,150,null,"-",null,null,{"$f":"Calc_WHDHC!J156/3.6/(2*Input!$B$5*PI())*60","v":13.788998201072355},null,null,{"$f":"ROUND(IF(Calc_WHDHC!H156<0,Calc_WHDHC!I156,2*PI()*Calc_WHDHC!G156/60*Calc_WHDHC!H156/1000*IF(Input!$B$4=\"Other\",0.95*0.95,0.98*0.95)),3)","v":0}]
[151,null,{"$f":"Calc_WHDHC!G157","v":713},null,null,{"$f":"ROUND(IF(Calc_WHDHC!H157<0,Calc_WHDHC!I157*IF(Input!$B$4=\"Other\",0.95*0.95,0.98*0.95),2*PI()*Calc_WHDHC!G157/60*Calc_WHDHC!H157/1000),3)","v":0},null,null,151,null,"-",null,null,{"$f":"Calc_WHDHC!J157/3.6/(2*Input!$B$5*PI())*60","v":12.76451439898465},null,null,{"$f":"ROUND(IF(Calc_WHDHC!H157<0,Calc_WHDHC!I157,2*PI()*Calc_WHDHC!G157/60*Calc_WHDHC!H157/1000*IF(Input!$B$4=\"Other\",0.95*0.95,0.98*0.95)),3)","v":0}]
[152,null,{"$f":"Calc_WHDHC!G158","v":671},null,null,{"$f":"ROUND(IF(Calc_WHDHC!H158<0,Calc_WHDHC!I158*IF(Input!$B$4=\"Other\",0.95*0.95,0.98*0.95),2*PI()*Calc_WHDHC!G158/60*Calc_WHDHC!H158/1000),3)","v":0},null,null,152,null,"-",null,null,{"$f":"Calc_WHDHC!J158/3.6/(2*Input!$B$5*PI())*60","v":10.77092429762479},null,null,{"$f":"ROUND(IF(Calc_WHDHC!H158<0,Calc_WHDHC!I158,2*PI()*Calc_WHDHC!G158/60*Calc_WHDHC!H158/1000*IF(Input!$B$4=\"Other\",0.95*0.95,0.98*0.95)),3)","v":0}]
[153,null,{"$f":"Calc_WHDHC!G159","v":631},null,null,{"$f":"ROUND(IF(Calc_WHDHC!H159<0,Calc_WHDHC!I159*IF(Input!$B$4=\"Other\",0.95*0.95,0.98*0.95),2*PI()*Calc_WHDHC!G159/60*Calc_WHDHC!H159/1000),3)","v":0},null,null,153,null,"-",null,null,{"$f":"Calc_WHDHC!J159/3.6/(2*Input!$B$5*PI())*60","v":8.8880892018960349},null,null,{"$f":"ROUND(IF(Calc_WHDHC!H159<0,Calc_WHDHC!I159,2*PI()*Calc_WHDHC!G159/60*Calc_WHDHC!H159/1000*IF(Input!$B$4=\"Other\",0.95*0.95,0.98*0.95)),3)","v":0}]
[154,null,{"$f":"Calc_WHDHC!G160","v":617},null,null,{"$f":"ROUND(IF(Calc_WHDHC!H160<0,Calc_WHDHC!I160*IF(Input!$B$4=\"Other\",0.95*0.95,0.98*0.95),2*PI()*Calc_WHDHC!G160/60*Calc_WHDHC!H160/1000),3)","v":4.1349999999999998},null,null,154,null,"-",null,null,{"$f":"Calc_WHDHC!J160/3.6/(2*Input!$B$5*PI())*60","v":8.2512479195171906},null,null,{"$f":"ROUND(IF(Calc_WHDHC!H160<0,Calc_WHDHC!I160,2*PI()*Calc_WHDHC!G160/60*Calc_WHDHC!H160/1000*IF(Input!$B$4=\"Other\",0.95*0.95,0.98*0.95)),3)","v":3.85}]
[155,null,{"$f":"Calc_WHDHC!G161","v":637},null,null,{"$f":"ROUND(IF(Calc_WHDHC!H161<0,Calc_WHDHC!I161*IF(Input!$B$4=\"Other\",0.95*0.95,0.98*0.95),2*PI()*Calc_WHDHC!G161/60*Calc_WHDHC!H161/1000),3)","v":19.344999999999999},null,null,155,null,"-",null,null,{"$f":"Calc_WHDHC!J161/3.6/(2*Input!$B$5*PI())*60","v":9.1649767159737934},null,null,{"$f":"ROUND(IF(Calc_WHDHC!H161<0,Calc_WHDHC!I161,2*PI()*Calc_WHDHC!G161/60*Calc_WHDHC!H161/1000*IF(Input!$B$4=\"Other\",0.95*0.95,0.98*0.95)),3)","v":18.010000000000002}]
[156,null,{"$f":"Calc_WHDHC!G162","v":688},null,null,{"$f":"ROUND(IF(Calc_WHDHC!H162<0,Calc_WHDHC!I162*IF(Input!$B$4=\"Other\",0.95*0.95,0.98*0.95),2*PI()*Calc_WHDHC!G162/60*Calc_WHDHC!H162/1000),3)","v":19.597000000000001},null,null,156,null,"-",null,null,{"$f":"Calc_WHDHC!J162/3.6/(2*Input!$B$5*PI())*60","v":11.573898088450287},null,null,{"$f":"ROUND(IF(Calc_WHDHC!H162<0,Calc_WHDHC!I162,2*PI()*Calc_WHDHC!G162/60*Calc_WHDHC!H162/1000*IF(Input!$B$4=\"Other\",0.95*0.95,0.98*0.95)),3)","v":18.245000000000001}]
[157,null,{"$f":"Calc_WHDHC!G163","v":740},null,null,{"$f":"ROUND(IF(Calc_WHDHC!H163<0,Calc_WHDHC!I163*IF(Input!$B$4=\"Other\",0.95*0.95,0.98*0.95),2*PI()*Calc_WHDHC!G163/60*Calc_WHDHC!H163/1000),3)","v":23.402999999999999},null,null,157,null,"-",null,null,{"$f":"Calc_WHDHC!J163/3.6/(2*Input!$B$5*PI())*60","v":14.038196963742337},null,null,{"$f":"ROUND(IF(Calc_WHDHC!H163<0,Calc_WHDHC!I163,2*PI()*Calc_WHDHC!G163/60*Calc_WHDHC!H163/1000*IF(Input!$B$4=\"Other\",0.95*0.95,0.98*0.95)),3)","v":21.788}]
[158,null,{"$f":"Calc_WHDHC!G164","v":766},null,null,{"$f":"ROUND(IF(Calc_WHDHC!H164<0,Calc_WHDHC!I164*IF(Input!$B$4=\"Other\",0.95*0.95,0.98*0.95),2*PI()*Calc_WHDHC!G164/60*Calc_WHDHC!H164/1000),3)","v":25.588999999999999},null,null,158,null,"-",null,null,{"$f":"Calc_WHDHC!J164/3.6/(2*Input!$B$5*PI())*60","v":15.284190777092245},null,null,{"$f":"ROUND(IF(Calc_WHDHC!H164<0,Calc_WHDHC!I164,2*PI()*Calc_WHDHC!G164/60*Calc_WHDHC!H164/1000*IF(Input!$B$4=\"Other\",0.95*0.95,0.98*0.95)),3)","v":23.823}]
[159,null,{"$f":"Calc_WHDHC!G165","v":778},null,null,{"$f":"ROUND(IF(Calc_WHDHC!H165<0,Calc_WHDHC!I165*IF(Input!$B$4=\"Other\",0.95*0.95,0.98*0.95),2*PI()*Calc_WHDHC!G165/60*Calc_WHDHC!H165/1000),3)","v":26.885999999999999},null,null,159,null,"-",null,null,{"$f":"Calc_WHDHC!J165/3.6/(2*Input!$B$5*PI())*60","v":15.865654556655542},null,null,{"$f":"ROUND(IF(Calc_WHDHC!H165<0,Calc_WHDHC!I165,2*PI()*Calc_WHDHC!G165/60*Calc_WHDHC!H165/1000*IF(Input!$B$4=\"Other\",0.95*0.95,0.98*0.95)),3)","v":25.030999999999999}]
[160,null,{"$f":"Calc_WHDHC!G166","v":798},null,null,{"$f":"ROUND(IF(Calc_WHDHC!H166<0,Calc_WHDHC!I166*IF(Input!$B$4=\"Other\",0.95*0.95,0.98*0.95),2*PI()*Calc_WHDHC!G166/60*Calc_WHDHC!H166/1000),3)","v":28.914000000000001},null,null,160,null,"-",null,null,{"$f":"Calc_WHDHC!J166/3.6/(2*Input!$B$5*PI())*60","v":16.779383353112138},null,null,{"$f":"ROUND(IF(Calc_WHDHC!H166<0,Calc_WHDHC!I166,2*PI()*Calc_WHDHC!G166/60*Calc_WHDHC!H166/1000*IF(Input!$B$4=\"Other\",0.95*0.95,0.98*0.95)),3)","v":26.919}]
[161,null,{"$f":"Calc_WHDHC!G167","v":839},null,null,{"$f":"ROUND(IF(Calc_WHDHC!H167<0,Calc_WHDHC!I167*IF(Input!$B$4=\"Other\",0.95*0.95,0.98*0.95),2*PI()*Calc_WHDHC!G167/60*Calc_WHDHC!H167/1000),3)","v":67.388999999999996},null,null,161,null,"-",null,null,{"$f":"Calc_WHDHC!J167/3.6/(2*Input!$B$5*PI())*60","v":18.717595951656449},null,null,{"$f":"ROUND(IF(Calc_WHDHC!H167<0,Calc_WHDHC!I167,2*PI()*Calc_WHDHC!G167/60*Calc_WHDHC!H167/1000*IF(Input!$B$4=\"Other\",0.95*0.95,0.98*0.95)),3)","v":62.738999999999997}]
[162,null,{"$f":"Calc_WHDHC!G168","v":893},null,null,{"$f":"ROUND(IF(Calc_WHDHC!H168<0,Calc_WHDHC!I168*IF(Input!$B$4=\"Other\",0.95*0.95,0.98*0.95),2*PI()*Calc_WHDHC!G168/60*Calc_WHDHC!H168/1000),3)","v":54.987000000000002},null,null,162,null,"-",null,null,{"$f":"Calc_WHDHC!J168/3.6/(2*Input!$B$5*PI())*60","v":21.320338583987375},null,null,{"$f":"ROUND(IF(Calc_WHDHC!H168<0,Calc_WHDHC!I168,2*PI()*Calc_WHDHC!G168/60*Calc_WHDHC!H168/1000*IF(Input!$B$4=\"Other\",0.95*0.95,0.98*0.95)),3)","v":51.192999999999998}]
[163,null,{"$f":"Calc_WHDHC!G169","v":931},null,null,{"$f":"ROUND(IF(Calc_WHDHC!H169<0,Calc_WHDHC!I169*IF(Input!$B$4=\"Other\",0.95*0.95,0.98*0.95),2*PI()*Calc_WHDHC!G169/60*Calc_WHDHC!H169/1000),3)","v":30.126000000000001},null,null,163,null,"-",null,null,{"$f":"Calc_WHDHC!J169/3.6/(2*Input!$B$5*PI())*60","v":23.092418674085021},null,null,{"$f":"ROUND(IF(Calc_WHDHC!H169<0,Calc_WHDHC!I169,2*PI()*Calc_WHDHC!G169/60*Calc_WHDHC!H169/1000*IF(Input!$B$4=\"Other\",0.95*0.95,0.98*0.95)),3)","v":28.047000000000001}]
[164,null,{"$f":"Calc_WHDHC!G170","v":940},null,null,{"$f":"ROUND(IF(Calc_WHDHC!H170<0,Calc_WHDHC!I170*IF(Input!$B$4=\"Other\",0.95*0.95,0.98*0.95),2*PI()*Calc_WHDHC!G170/60*Calc_WHDHC!H170/1000),3)","v":12.994},null,null,164,null,"-",null,null,{"$f":"Calc_WHDHC!J170/3.6/(2*Input!$B$5*PI())*60","v":23.563127448017216},null,null,{"$f":"ROUND(IF(Calc_WHDHC!H170<0,Calc_WHDHC!I170,2*PI()*Calc_WHDHC!G170/60*Calc_WHDHC!H170/1000*IF(Input!$B$4=\"Other\",0.95*0.95,0.98*0.95)),3)","v":12.097}]
[165,null,{"$f":"Calc_WHDHC!G171","v":923},null,null,{"$f":"ROUND(IF(Calc_WHDHC!H171<0,Calc_WHDHC!I171*IF(Input!$B$4=\"Other\",0.95*0.95,0.98*0.95),2*PI()*Calc_WHDHC!G171/60*Calc_WHDHC!H171/1000),3)","v":8.8919999999999995},null,null,165,null,"-",null,null,{"$f":"Calc_WHDHC!J171/3.6/(2*Input!$B$5*PI())*60","v":22.760153657191719},null,null,{"$f":"ROUND(IF(Calc_WHDHC!H171<0,Calc_WHDHC!I171,2*PI()*Calc_WHDHC!G171/60*Calc_WHDHC!H171/1000*IF(Input!$B$4=\"Other\",0.95*0.95,0.98*0.95)),3)","v":8.2789999999999999}]
[166,null,{"$f":"Calc_WHDHC!G172","v":865},null,null,{"$f":"ROUND(IF(Calc_WHDHC!H172<0,Calc_WHDHC!I172*IF(Input!$B$4=\"Other\",0.95*0.95,0.98*0.95),2*PI()*Calc_WHDHC!G172/60*Calc_WHDHC!H172/1000),3)","v":4.62},null,null,166,null,"-",null,null,{"$f":"Calc_WHDHC!J172/3.6/(2*Input!$B$5*PI())*60","v":19.991278516414134},null,null,{"$f":"ROUND(IF(Calc_WHDHC!H172<0,Calc_WHDHC!I172,2*PI()*Calc_WHDHC!G172/60*Calc_WHDHC!H172/1000*IF(Input!$B$4=\"Other\",0.95*0.95,0.98*0.95)),3)","v":4.3010000000000002}]
[167,null,{"$f":"Calc_WHDHC!G173","v":783},null,null,{"$f":"ROUND(IF(Calc_WHDHC!H173<0,Calc_WHDHC!I173*IF(Input!$B$4=\"Other\",0.95*0.95,0.98*0.95),2*PI()*Calc_WHDHC!G173/60*Calc_WHDHC!H173/1000),3)","v":2.3780000000000001},null,null,167,null,"-",null,null,{"$f":"Calc_WHDHC!J173/3.6/(2*Input!$B$5*PI())*60","v":16.114853319325519},null,null,{"$f":"ROUND(IF(Calc_WHDHC!H173<0,Calc_WHDHC!I173,2*PI()*Calc_WHDHC!G173/60*Calc_WHDHC!H173/1000*IF(Input!$B$4=\"Other\",0.95*0.95,0.98*0.95)),3)","v":2.214}]
[168,null,{"$f":"Calc_WHDHC!G174","v":721},null,null,{"$f":"ROUND(IF(Calc_WHDHC!H174<0,Calc_WHDHC!I174*IF(Input!$B$4=\"Other\",0.95*0.95,0.98*0.95),2*PI()*Calc_WHDHC!G174/60*Calc_WHDHC!H174/1000),3)","v":2.718},null,null,168,null,"-",null,null,{"$f":"Calc_WHDHC!J174/3.6/(2*Input!$B$5*PI())*60","v":13.15215691869351},null,null,{"$f":"ROUND(IF(Calc_WHDHC!H174<0,Calc_WHDHC!I174,2*PI()*Calc_WHDHC!G174/60*Calc_WHDHC!H174/1000*IF(Input!$B$4=\"Other\",0.95*0.95,0.98*0.95)),3)","v":2.5310000000000001}]
[169,null,{"$f":"Calc_WHDHC!G175","v":691},null,null,{"$f":"ROUND(IF(Calc_WHDHC!H175<0,Calc_WHDHC!I175*IF(Input!$B$4=\"Other\",0.95*0.95,0.98*0.95),2*PI()*Calc_WHDHC!G175/60*Calc_WHDHC!H175/1000),3)","v":3.0390000000000001},null,null,169,null,"-",null,null,{"$f":"Calc_WHDHC!J175/3.6/(2*Input!$B$5*PI())*60","v":11.740030596896943},null,null,{"$f":"ROUND(IF(Calc_WHDHC!H175<0,Calc_WHDHC!I175,2*PI()*Calc_WHDHC!G175/60*Calc_WHDHC!H175/1000*IF(Input!$B$4=\"Other\",0.95*0.95,0.98*0.95)),3)","v":2.8290000000000002}]
[170,null,{"$f":"Calc_WHDHC!G176","v":680},null,null,{"$f":"ROUND(IF(Calc_WHDHC!H176<0,Calc_WHDHC!I176*IF(Input!$B$4=\"Other\",0.95*0.95,0.98*0.95),2*PI()*Calc_WHDHC!G176/60*Calc_WHDHC!H176/1000),3)","v":3.7029999999999998},null,null,170,null,"-",null,null,{"$f":"Calc_WHDHC!J176/3.6/(2*Input!$B$5*PI())*60","v":11.213944320149203},null,null,{"$f":"ROUND(IF(Calc_WHDHC!H176<0,Calc_WHDHC!I176,2*PI()*Calc_WHDHC!G176/60*Calc_WHDHC!H176/1000*IF(Input!$B$4=\"Other\",0.95*0.95,0.98*0.95)),3)","v":3.4470000000000001}]
[171,null,{"$f":"Calc_WHDHC!G177","v":676},null,null,{"$f":"ROUND(IF(Calc_WHDHC!H177<0,Calc_WHDHC!I177*IF(Input!$B$4=\"Other\",0.95*0.95,0.98*0.95),2*PI()*Calc_WHDHC!G177/60*Calc_WHDHC!H177/1000),3)","v":3.4689999999999999},null,null,171,null,"-",null,null,{"$f":"Calc_WHDHC!J177/3.6/(2*Input!$B$5*PI())*60","v":11.020123060294774},null,null,{"$f":"ROUND(IF(Calc_WHDHC!H177<0,Calc_WHDHC!I177,2*PI()*Calc_WHDHC!G177/60*Calc_WHDHC!H177/1000*IF(Input!$B$4=\"Other\",0.95*0.95,0.98*0.95)),3)","v":3.2290000000000001}]
[172,null,{"$f":"Calc_WHDHC!G178","v":672},null,null,{"$f":"ROUND(IF(Calc_WHDHC!H178<0,Calc_WHDHC!I178*IF(Input!$B$4=\"Other\",0.95*0.95,0.98*0.95),2*PI()*Calc_WHDHC!G178/60*Calc_WHDHC!H178/1000),3)","v":10.978},null,null,172,null,"-",null,null,{"$f":"Calc_WHDHC!J178/3.6/(2*Input!$B$5*PI())*60","v":10.826301800440341},null,null,{"$f":"ROUND(IF(Calc_WHDHC!H178<0,Calc_WHDHC!I178,2*PI()*Calc_WHDHC!G178/60*Calc_WHDHC!H178/1000*IF(Input!$B$4=\"Other\",0.95*0.95,0.98*0.95)),3)","v":10.221}]
[173,null,{"$f":"Calc_WHDHC!G179","v":668},null,null,{"$f":"ROUND(IF(Calc_WHDHC!H179<0,Calc_WHDHC!I179*IF(Input!$B$4=\"Other\",0.95*0.95,0.98*0.95),2*PI()*Calc_WHDHC!G179/60*Calc_WHDHC!H179/1000),3)","v":26.021999999999998},null,null,173,null,"-",null,null,{"$f":"Calc_WHDHC!J179/3.6/(2*Input!$B$5*PI())*60","v":10.687858043401462},null,null,{"$f":"ROUND(IF(Calc_WHDHC!H179<0,Calc_WHDHC!I179,2*PI()*Calc_WHDHC!G179/60*Calc_WHDHC!H179/1000*IF(Input!$B$4=\"Other\",0.95*0.95,0.98*0.95)),3)","v":24.227}]
[174,null,{"$f":"Calc_WHDHC!G180","v":687},null,null,{"$f":"ROUND(IF(Calc_WHDHC!H180<0,Calc_WHDHC!I180*IF(Input!$B$4=\"Other\",0.95*0.95,0.98*0.95),2*PI()*Calc_WHDHC!G180/60*Calc_WHDHC!H180/1000),3)","v":18.992999999999999},null,null,174,null,"-",null,null,{"$f":"Calc_WHDHC!J180/3.6/(2*Input!$B$5*PI())*60","v":11.546209337042511},null,null,{"$f":"ROUND(IF(Calc_WHDHC!H180<0,Calc_WHDHC!I180,2*PI()*Calc_WHDHC!G180/60*Calc_WHDHC!H180/1000*IF(Input!$B$4=\"Other\",0.95*0.95,0.98*0.95)),3)","v":17.681999999999999}]
[175,null,{"$f":"Calc_WHDHC!G181","v":754},null,null,{"$f":"ROUND(IF(Calc_WHDHC!H181<0,Calc_WHDHC!I181*IF(Input!$B$4=\"Other\",0.95*0.95,0.98*0.95),2*PI()*Calc_WHDHC!G181/60*Calc_WHDHC!H181/1000),3)","v":18.792000000000002},null,null,175,null,"-",null,null,{"$f":"Calc_WHDHC!J181/3.6/(2*Input!$B$5*PI())*60","v":14.730415748936732},null,null,{"$f":"ROUND(IF(Calc_WHDHC!H181<0,Calc_WHDHC!I181,2*PI()*Calc_WHDHC!G181/60*Calc_WHDHC!H181/1000*IF(Input!$B$4=\"Other\",0.95*0.95,0.98*0.95)),3)","v":17.495999999999999}]
[176,null,{"$f":"Calc_WHDHC!G182","v":884},null,null,{"$f":"ROUND(IF(Calc_WHDHC!H182<0,Calc_WHDHC!I182*IF(Input!$B$4=\"Other\",0.95*0.95,0.98*0.95),2*PI()*Calc_WHDHC!G182/60*Calc_WHDHC!H182/1000),3)","v":13.885999999999999},null,null,176,null,"-",null,null,{"$f":"Calc_WHDHC!J182/3.6/(2*Input!$B$5*PI())*60","v":20.849629810055188},null,null,{"$f":"ROUND(IF(Calc_WHDHC!H182<0,Calc_WHDHC!I182,2*PI()*Calc_WHDHC!G182/60*Calc_WHDHC!H182/1000*IF(Input!$B$4=\"Other\",0.95*0.95,0.98*0.95)),3)","v":12.928000000000001}]
[177,null,{"$f":"Calc_WHDHC!G183","v":1080},null,null,{"$f":"ROUND(IF(Calc_WHDHC!H183<0,Calc_WHDHC!I183*IF(Input!$B$4=\"Other\",0.95*0.95,0.98*0.95),2*PI()*Calc_WHDHC!G183/60*Calc_WHDHC!H183/1000),3)","v":7.6909999999999998},null,null,177,null,"-",null,null,{"$f":"Calc_WHDHC!J183/3.6/(2*Input!$B$5*PI())*60","v":30.153050283067852},null,null,{"$f":"ROUND(IF(Calc_WHDHC!H183<0,Calc_WHDHC!I183,2*PI()*Calc_WHDHC!G183/60*Calc_WHDHC!H183/1000*IF(Input!$B$4=\"Other\",0.95*0.95,0.98*0.95)),3)","v":7.16}]
[178,null,{"$f":"Calc_WHDHC!G184","v":1075},null,null,{"$f":"ROUND(IF(Calc_WHDHC!H184<0,Calc_WHDHC!I184*IF(Input!$B$4=\"Other\",0.95*0.95,0.98*0.95),2*PI()*Calc_WHDHC!G184/60*Calc_WHDHC!H184/1000),3)","v":6.7539999999999996},null,null,178,null,"-",null,null,{"$f":"Calc_WHDHC!J184/3.6/(2*Input!$B$5*PI())*60","v":41.007040834915976},null,null,{"$f":"ROUND(IF(Calc_WHDHC!H184<0,Calc_WHDHC!I184,2*PI()*Calc_WHDHC!G184/60*Calc_WHDHC!H184/1000*IF(Input!$B$4=\"Other\",0.95*0.95,0.98*0.95)),3)","v":6.2880000000000003}]
[179,null,{"$f":"Calc_WHDHC!G185","v":1068},null,null,{"$f":"ROUND(IF(Calc_WHDHC!H185<0,Calc_WHDHC!I185*IF(Input!$B$4=\"Other\",0.95*0.95,0.98*0.95),2*PI()*Calc_WHDHC!G185/60*Calc_WHDHC!H185/1000),3)","v":13.532999999999999},null,null,179,null,"-",null,null,{"$f":"Calc_WHDHC!J185/3.6/(2*Input!$B$5*PI())*60","v":48.621447472054321},null,null,{"$f":"ROUND(IF(Calc_WHDHC!H185<0,Calc_WHDHC!I185,2*PI()*Calc_WHDHC!G185/60*Calc_WHDHC!H185/1000*IF(Input!$B$4=\"Other\",0.95*0.95,0.98*0.95)),3)","v":12.599}]
[180,null,{"$f":"Calc_WHDHC!G186","v":1120},null,null,{"$f":"ROUND(IF(Calc_WHDHC!H186<0,Calc_WHDHC!I186*IF(Input!$B$4=\"Other\",0.95*0.95,0.98*0.95),2*PI()*Calc_WHDHC!G186/60*Calc_WHDHC!H186/1000),3)","v":19.587},null,null,180,null,"-",null,null,{"$f":"Calc_WHDHC!J186/3.6/(2*Input!$B$5*PI())*60","v":50.891925087491934},null,null,{"$f":"ROUND(IF(Calc_WHDHC!H186<0,Calc_WHDHC!I186,2*PI()*Calc_WHDHC!G186/60*Calc_WHDHC!H186/1000*IF(Input!$B$4=\"Other\",0.95*0.95,0.98*0.95)),3)","v":18.234999999999999}]
[181,null,{"$f":"Calc_WHDHC!G187","v":1064},null,null,{"$f":"ROUND(IF(Calc_WHDHC!H187<0,Calc_WHDHC!I187*IF(Input!$B$4=\"Other\",0.95*0.95,0.98*0.95),2*PI()*Calc_WHDHC!G187/60*Calc_WHDHC!H187/1000),3)","v":13.705},null,null,181,null,"-",null,null,{"$f":"Calc_WHDHC!J187/3.6/(2*Input!$B$5*PI())*60","v":48.427626212199883},null,null,{"$f":"ROUND(IF(Calc_WHDHC!H187<0,Calc_WHDHC!I187,2*PI()*Calc_WHDHC!G187/60*Calc_WHDHC!H187/1000*IF(Input!$B$4=\"Other\",0.95*0.95,0.98*0.95)),3)","v":12.759}]
[182,null,{"$f":"Calc_WHDHC!G188","v":1107},null,null,{"$f":"ROUND(IF(Calc_WHDHC!H188<0,Calc_WHDHC!I188*IF(Input!$B$4=\"Other\",0.95*0.95,0.98*0.95),2*PI()*Calc_WHDHC!G188/60*Calc_WHDHC!H188/1000),3)","v":9.1579999999999995},null,null,182,null,"-",null,null,{"$f":"Calc_WHDHC!J188/3.6/(2*Input!$B$5*PI())*60","v":42.031524637003685},null,null,{"$f":"ROUND(IF(Calc_WHDHC!H188<0,Calc_WHDHC!I188,2*PI()*Calc_WHDHC!G188/60*Calc_WHDHC!H188/1000*IF(Input!$B$4=\"Other\",0.95*0.95,0.98*0.95)),3)","v":8.5259999999999998}]
[183,null,{"$f":"Calc_WHDHC!G189","v":1149},null,null,{"$f":"ROUND(IF(Calc_WHDHC!H189<0,Calc_WHDHC!I189*IF(Input!$B$4=\"Other\",0.95*0.95,0.98*0.95),2*PI()*Calc_WHDHC!G189/60*Calc_WHDHC!H189/1000),3)","v":13.596},null,null,183,null,"-",null,null,{"$f":"Calc_WHDHC!J189/3.6/(2*Input!$B$5*PI())*60","v":36.216886841370759},null,null,{"$f":"ROUND(IF(Calc_WHDHC!H189<0,Calc_WHDHC!I189,2*PI()*Calc_WHDHC!G189/60*Calc_WHDHC!H189/1000*IF(Input!$B$4=\"Other\",0.95*0.95,0.98*0.95)),3)","v":12.657999999999999}]
[184,null,{"$f":"Calc_WHDHC!G190","v":1072},null,null,{"$f":"ROUND(IF(Calc_WHDHC!H190<0,Calc_WHDHC!I190*IF(Input!$B$4=\"Other\",0.95*0.95,0.98*0.95),2*PI()*Calc_WHDHC!G190/60*Calc_WHDHC!H190/1000),3)","v":18.972000000000001},null,null,184,null,"-",null,null,{"$f":"Calc_WHDHC!J190/3.6/(2*Input!$B$5*PI())*60","v":33.863342971709812},null,null,{"$f":"ROUND(IF(Calc_WHDHC!H190<0,Calc_WHDHC!I190,2*PI()*Calc_WHDHC!G190/60*Calc_WHDHC!H190/1000*IF(Input!$B$4=\"Other\",0.95*0.95,0.98*0.95)),3)","v":17.663}]
[185,null,{"$f":"Calc_WHDHC!G191","v":1055},null,null,{"$f":"ROUND(IF(Calc_WHDHC!H191<0,Calc_WHDHC!I191*IF(Input!$B$4=\"Other\",0.95*0.95,0.98*0.95),2*PI()*Calc_WHDHC!G191/60*Calc_WHDHC!H191/1000),3)","v":20.218},null,null,185,null,"-",null,null,{"$f":"Calc_WHDHC!J191/3.6/(2*Input!$B$5*PI())*60","v":33.309567943554292},null,null,{"$f":"ROUND(IF(Calc_WHDHC!H191<0,Calc_WHDHC!I191,2*PI()*Calc_WHDHC!G191/60*Calc_WHDHC!H191/1000*IF(Input!$B$4=\"Other\",0.95*0.95,0.98*0.95)),3)","v":18.823}]
[186,null,{"$f":"Calc_WHDHC!G192","v":1028},null,null,{"$f":"ROUND(IF(Calc_WHDHC!H192<0,Calc_WHDHC!I192*IF(Input!$B$4=\"Other\",0.95*0.95,0.98*0.95),2*PI()*Calc_WHDHC!G192/60*Calc_WHDHC!H192/1000),3)","v":16.04},null,null,186,null,"-",null,null,{"$f":"Calc_WHDHC!J192/3.6/(2*Input!$B$5*PI())*60","v":32.451216649913249},null,null,{"$f":"ROUND(IF(Calc_WHDHC!H192<0,Calc_WHDHC!I192,2*PI()*Calc_WHDHC!G192/60*Calc_WHDHC!H192/1000*IF(Input!$B$4=\"Other\",0.95*0.95,0.98*0.95)),3)","v":14.933}]
[187,null,{"$f":"Calc_WHDHC!G193","v":935},null,null,{"$f":"ROUND(IF(Calc_WHDHC!H193<0,Calc_WHDHC!I193*IF(Input!$B$4=\"Other\",0.95*0.95,0.98*0.95),2*PI()*Calc_WHDHC!G193/60*Calc_WHDHC!H193/1000),3)","v":12.827},null,null,187,null,"-",null,null,{"$f":"Calc_WHDHC!J193/3.6/(2*Input!$B$5*PI())*60","v":29.599275254912339},null,null,{"$f":"ROUND(IF(Calc_WHDHC!H193<0,Calc_WHDHC!I193,2*PI()*Calc_WHDHC!G193/60*Calc_WHDHC!H193/1000*IF(Input!$B$4=\"Other\",0.95*0.95,0.98*0.95)),3)","v":11.942}]
[188,null,{"$f":"Calc_WHDHC!G194","v":755},null,null,{"$f":"ROUND(IF(Calc_WHDHC!H194<0,Calc_WHDHC!I194*IF(Input!$B$4=\"Other\",0.95*0.95,0.98*0.95),2*PI()*Calc_WHDHC!G194/60*Calc_WHDHC!H194/1000),3)","v":8.0640000000000001},null,null,188,null,"-",null,null,{"$f":"Calc_WHDHC!J194/3.6/(2*Input!$B$5*PI())*60","v":24.033836221949404},null,null,{"$f":"ROUND(IF(Calc_WHDHC!H194<0,Calc_WHDHC!I194,2*PI()*Calc_WHDHC!G194/60*Calc_WHDHC!H194/1000*IF(Input!$B$4=\"Other\",0.95*0.95,0.98*0.95)),3)","v":7.508}]
[189,null,{"$f":"Calc_WHDHC!G195","v":560},null,null,{"$f":"ROUND(IF(Calc_WHDHC!H195<0,Calc_WHDHC!I195*IF(Input!$B$4=\"Other\",0.95*0.95,0.98*0.95),2*PI()*Calc_WHDHC!G195/60*Calc_WHDHC!H195/1000),3)","v":3.4009999999999998},null,null,189,null,"-",null,null,{"$f":"Calc_WHDHC!J195/3.6/(2*Input!$B$5*PI())*60","v":17.167025872821004},null,null,{"$f":"ROUND(IF(Calc_WHDHC!H195<0,Calc_WHDHC!I195,2*PI()*Calc_WHDHC!G195/60*Calc_WHDHC!H195/1000*IF(Input!$B$4=\"Other\",0.95*0.95,0.98*0.95)),3)","v":3.1669999999999998}]
[190,null,{"$f":"Calc_WHDHC!G196","v":560},null,null,{"$f":"ROUND(IF(Calc_WHDHC!H196<0,Calc_WHDHC!I196*IF(Input!$B$4=\"Other\",0.95*0.95,0.98*0.95),2*PI()*Calc_WHDHC!G196/60*Calc_WHDHC!H196/1000),3)","v":0},null,null,190,null,"-",null,null,{"$f":"Calc_WHDHC!J196/3.6/(2*Input!$B$5*PI())*60","v":11.269321822964756},null,null,{"$f":"ROUND(IF(Calc_WHDHC!H196<0,Calc_WHDHC!I196,2*PI()*Calc_WHDHC!G196/60*Calc_WHDHC!H196/1000*IF(Input!$B$4=\"Other\",0.95*0.95,0.98*0.95)),3)","v":0}]
[191,null,{"$f":"Calc_WHDHC!G197","v":560},null,null,{"$f":"ROUND(IF(Calc_WHDHC!H197<0,Calc_WHDHC!I197*IF(Input!$B$4=\"Other\",0.95*0.95,0.98*0.95),2*PI()*Calc_WHDHC!G197/60*Calc_WHDHC!H197/1000),3)","v":0},null,null,191,null,"-",null,null,{"$f":"Calc_WHDHC!J197/3.6/(2*Input!$B$5*PI())*60","v":7.3375191230605887},null,null,{"$f":"ROUND(IF(Calc_WHDHC!H197<0,Calc_WHDHC!I197,2*PI()*Calc_WHDHC!G197/60*Calc_WHDHC!H197/1000*IF(Input!$B$4=\"Other\",0.95*0.95,0.98*0.95)),3)","v":0}]
[192,null,{"$f":"Calc_WHDHC!G198","v":560},null,null,{"$f":"ROUND(IF(Calc_WHDHC!H198<0,Calc_WHDHC!I198*IF(Input!$B$4=\"Other\",0.95*0.95,0.98*0.95),2*PI()*Calc_WHDHC!G198/60*Calc_WHDHC!H198/1000),3)","v":0},null,null,192,null,"-",null,null,{"$f":"Calc_WHDHC!J198/3.6/(2*Input!$B$5*PI())*60","v":5.3162402702929556},null,null,{"$f":"ROUND(IF(Calc_WHDHC!H198<0,Calc_WHDHC!I198,2*PI()*Calc_WHDHC!G198/60*Calc_WHDHC!H198/1000*IF(Input!$B$4=\"Other\",0.95*0.95,0.98*0.95)),3)","v":0}]
[193,null,{"$f":"Calc_WHDHC!G199","v":560},null,null,{"$f":"ROUND(IF(Calc_WHDHC!H199<0,Calc_WHDHC!I199*IF(Input!$B$4=\"Other\",0.95*0.95,0.98*0.95),2*PI()*Calc_WHDHC!G199/60*Calc_WHDHC!H199/1000),3)","v":0},null,null,193,null,"-",null,null,{"$f":"Calc_WHDHC!J199/3.6/(2*Input!$B$5*PI())*60","v":4.6793989879141122},null,null,{"$f":"ROUND(IF(Calc_WHDHC!H199<0,Calc_WHDHC!I199,2*PI()*Calc_WHDHC!G199/60*Calc_WHDHC!H199/1000*IF(Input!$B$4=\"Other\",0.95*0.95,0.98*0.95)),3)","v":0}]
[194,null,{"$f":"Calc_WHDHC!G200","v":560},null,null,{"$f":"ROUND(IF(Calc_WHDHC!H200<0,Calc_WHDHC!I200*IF(Input!$B$4=\"Other\",0.95*0.95,0.98*0.95),2*PI()*Calc_WHDHC!G200/60*Calc_WHDHC!H200/1000),3)","v":0},null,null,194,null,"-",null,null,{"$f":"Calc_WHDHC!J200/3.6/(2*Input!$B$5*PI())*60","v":4.651710236506335},null,null,{"$f":"ROUND(IF(Calc_WHDHC!H200<0,Calc_WHDHC!I200,2*PI()*Calc_WHDHC!G200/60*Calc_WHDHC!H200/1000*IF(Input!$B$4=\"Other\",0.95*0.95,0.98*0.95)),3)","v":0}]
[195,null,{"$f":"Calc_WHDHC!G201","v":560},null,null,{"$f":"ROUND(IF(Calc_WHDHC!H201<0,Calc_WHDHC!I201*IF(Input!$B$4=\"Other\",0.95*0.95,0.98*0.95),2*PI()*Calc_WHDHC!G201/60*Calc_WHDHC!H201/1000),3)","v":0},null,null,195,null,"-",null,null,{"$f":"Calc_WHDHC!J201/3.6/(2*Input!$B$5*PI())*60","v":4.596332733690784},null,null,{"$f":"ROUND(IF(Calc_WHDHC!H201<0,Calc_WHDHC!I201,2*PI()*Calc_WHDHC!G201/60*Calc_WHDHC!H201/1000*IF(Input!$B$4=\"Other\",0.95*0.95,0.98*0.95)),3)","v":0}]
[196,null,{"$f":"Calc_WHDHC!G202","v":560},null,null,{"$f":"ROUND(IF(Calc_WHDHC!H202<0,Calc_WHDHC!I202*IF(Input!$B$4=\"Other\",0.95*0.95,0.98*0.95),2*PI()*Calc_WHDHC!G202/60*Calc_WHDHC!H202/1000),3)","v":0},null,null,196,null,"-",null,null,{"$f":"Calc_WHDHC!J202/3.6/(2*Input!$B$5*PI())*60","v":4.236378965389699},null,null,{"$f":"ROUND(IF(Calc_WHDHC!H202<0,Calc_WHDHC!I202,2*PI()*Calc_WHDHC!G202/60*Calc_WHDHC!H202/1000*IF(Input!$B$4=\"Other\",0.95*0.95,0.98*0.95)),3)","v":0}]
[197,null,{"$f":"Calc_WHDHC!G203","v":560},null,null,{"$f":"ROUND(IF(Calc_WHDHC!H203<0,Calc_WHDHC!I203*IF(Input!$B$4=\"Other\",0.95*0.95,0.98*0.95),2*PI()*Calc_WHDHC!G203/60*Calc_WHDHC!H203/1000),3)","v":0},null,null,197,null,"-",null,null,{"$f":"Calc_WHDHC!J203/3.6/(2*Input!$B$5*PI())*60","v":3.5995376830108552},null,null,{"$f":"ROUND(IF(Calc_WHDHC!H203<0,Calc_WHDHC!I203,2*PI()*Calc_WHDHC!G203/60*Calc_WHDHC!H203/1000*IF(Input!$B$4=\"Other\",0.95*0.95,0.98*0.95)),3)","v":0}]
[198,null,{"$f":"Calc_WHDHC!G204","v":560},null,null,{"$f":"ROUND(IF(Calc_WHDHC!H204<0,Calc_WHDHC!I204*IF(Input!$B$4=\"Other\",0.95*0.95,0.98*0.95),2*PI()*Calc_WHDHC!G204/60*Calc_WHDHC!H204/1000),3)","v":0},null,null,198,null,"-",null,null,{"$f":"Calc_WHDHC!J204/3.6/(2*Input!$B$5*PI())*60","v":2.7688751407775811},null,null,{"$f":"ROUND(IF(Calc_WHDHC!H204<0,Calc_WHDHC!I204,2*PI()*Calc_WHDHC!G204/60*Calc_WHDHC!H204/1000*IF(Input!$B$4=\"Other\",0.95*0.95,0.98*0.95)),3)","v":0}]
[199,null,{"$f":"Calc_WHDHC!G205","v":560},null,null,{"$f":"ROUND(IF(Calc_WHDHC!H205<0,Calc_WHDHC!I205*IF(Input!$B$4=\"Other\",0.95*0.95,0.98*0.95),2*PI()*Calc_WHDHC!G205/60*Calc_WHDHC!H205/1000),3)","v":0},null,null,199,null,"-",null,null,{"$f":"Calc_WHDHC!J205/3.6/(2*Input!$B$5*PI())*60","v":2.1320338583987373},null,null,{"$f":"ROUND(IF(Calc_WHDHC!H205<0,Calc_WHDHC!I205,2*PI()*Calc_WHDHC!G205/60*Calc_WHDHC!H205/1000*IF(Input!$B$4=\"Other\",0.95*0.95,0.98*0.95)),3)","v":0}]
[200,null,{"$f":"Calc_WHDHC!G206","v":560},null,null,{"$f":"ROUND(IF(Calc_WHDHC!H206<0,Calc_WHDHC!I206*IF(Input!$B$4=\"Other\",0.95*0.95,0.98*0.95),2*PI()*Calc_WHDHC!G206/60*Calc_WHDHC!H206/1000),3)","v":0},null,null,200,null,"-",null,null,{"$f":"Calc_WHDHC!J206/3.6/(2*Input!$B$5*PI())*60","v":1.7443913386898759},null,null,{"$f":"ROUND(IF(Calc_WHDHC!H206<0,Calc_WHDHC!I206,2*PI()*Calc_WHDHC!G206/60*Calc_WHDHC!H206/1000*IF(Input!$B$4=\"Other\",0.95*0.95,0.98*0.95)),3)","v":0}]
[201,null,{"$f":"Calc_WHDHC!G207","v":560},null,null,{"$f":"ROUND(IF(Calc_WHDHC!H207<0,Calc_WHDHC!I207*IF(Input!$B$4=\"Other\",0.95*0.95,0.98*0.95),2*PI()*Calc_WHDHC!G207/60*Calc_WHDHC!H207/1000),3)","v":0},null,null,201,null,"-",null,null,{"$f":"Calc_WHDHC!J207/3.6/(2*Input!$B$5*PI())*60","v":1.6336363330587729},null,null,{"$f":"ROUND(IF(Calc_WHDHC!H207<0,Calc_WHDHC!I207,2*PI()*Calc_WHDHC!G207/60*Calc_WHDHC!H207/1000*IF(Input!$B$4=\"Other\",0.95*0.95,0.98*0.95)),3)","v":0}]
[202,null,{"$f":"Calc_WHDHC!G208","v":560},null,null,{"$f":"ROUND(IF(Calc_WHDHC!H208<0,Calc_WHDHC!I208*IF(Input!$B$4=\"Other\",0.95*0.95,0.98*0.95),2*PI()*Calc_WHDHC!G208/60*Calc_WHDHC!H208/1000),3)","v":0},null,null,202,null,"-",null,null,{"$f":"Calc_WHDHC!J208/3.6/(2*Input!$B$5*PI())*60","v":1.6336363330587729},null,null,{"$f":"ROUND(IF(Calc_WHDHC!H208<0,Calc_WHDHC!I208,2*PI()*Calc_WHDHC!G208/60*Calc_WHDHC!H208/1000*IF(Input!$B$4=\"Other\",0.95*0.95,0.98*0.95)),3)","v":0}]
[203,null,{"$f":"Calc_WHDHC!G209","v":560},null,null,{"$f":"ROUND(IF(Calc_WHDHC!H209<0,Calc_WHDHC!I209*IF(Input!$B$4=\"Other\",0.95*0.95,0.98*0.95),2*PI()*Calc_WHDHC!G209/60*Calc_WHDHC!H209/1000),3)","v":0},null,null,203,null,"-",null,null,{"$f":"Calc_WHDHC!J209/3.6/(2*Input!$B$5*PI())*60","v":1.578258830243221},null,null,{"$f":"ROUND(IF(Calc_WHDHC!H209<0,Calc_WHDHC!I209,2*PI()*Calc_WHDHC!G209/60*Calc_WHDHC!H209/1000*IF(Input!$B$4=\"Other\",0.95*0.95,0.98*0.95)),3)","v":0}]
[204,null,{"$f":"Calc_WHDHC!G210","v":560},null,null,{"$f":"ROUND(IF(Calc_WHDHC!H210<0,Calc_WHDHC!I210*IF(Input!$B$4=\"Other\",0.95*0.95,0.98*0.95),2*PI()*Calc_WHDHC!G210/60*Calc_WHDHC!H210/1000),3)","v":0},null,null,204,null,"-",null,null,{"$f":"Calc_WHDHC!J210/3.6/(2*Input!$B$5*PI())*60","v":1.4675038246121179},null,null,{"$f":"ROUND(IF(Calc_WHDHC!H210<0,Calc_WHDHC!I210,2*PI()*Calc_WHDHC!G210/60*Calc_WHDHC!H210/1000*IF(Input!$B$4=\"Other\",0.95*0.95,0.98*0.95)),3)","v":0}]
[205,null,{"$f":"Calc_WHDHC!G211","v":560},null,null,{"$f":"ROUND(IF(Calc_WHDHC!H211<0,Calc_WHDHC!I211*IF(Input!$B$4=\"Other\",0.95*0.95,0.98*0.95),2*PI()*Calc_WHDHC!G211/60*Calc_WHDHC!H211/1000),3)","v":0},null,null,205,null,"-",null,null,{"$f":"Calc_WHDHC!J211/3.6/(2*Input!$B$5*PI())*60","v":1.3844375703887906},null,null,{"$f":"ROUND(IF(Calc_WHDHC!H211<0,Calc_WHDHC!I211,2*PI()*Calc_WHDHC!G211/60*Calc_WHDHC!H211/1000*IF(Input!$B$4=\"Other\",0.95*0.95,0.98*0.95)),3)","v":0}]
[206,null,{"$f":"Calc_WHDHC!G212","v":560},null,null,{"$f":"ROUND(IF(Calc_WHDHC!H212<0,Calc_WHDHC!I212*IF(Input!$B$4=\"Other\",0.95*0.95,0.98*0.95),2*PI()*Calc_WHDHC!G212/60*Calc_WHDHC!H212/1000),3)","v":0},null,null,206,null,"-",null,null,{"$f":"Calc_WHDHC!J212/3.6/(2*Input!$B$5*PI())*60","v":0},null,null,{"$f":"ROUND(IF(Calc_WHDHC!H212<0,Calc_WHDHC!I212,2*PI()*Calc_WHDHC!G212/60*Calc_WHDHC!H212/1000*IF(Input!$B$4=\"Other\",0.95*0.95,0.98*0.95)),3)","v":0}]
[207,null,{"$f":"Calc_WHDHC!G213","v":560},null,null,{"$f":"ROUND(IF(Calc_WHDHC!H213<0,Calc_WHDHC!I213*IF(Input!$B$4=\"Other\",0.95*0.95,0.98*0.95),2*PI()*Calc_WHDHC!G213/60*Calc_WHDHC!H213/1000),3)","v":0},null,null,207,null,"-",null,null,{"$f":"Calc_WHDHC!J213/3.6/(2*Input!$B$5*PI())*60","v":0},null,null,{"$f":"ROUND(IF(Calc_WHDHC!H213<0,Calc_WHDHC!I213,2*PI()*Calc_WHDHC!G213/60*Calc_WHDHC!H213/1000*IF(Input!$B$4=\"Other\",0.95*0.95,0.98*0.95)),3)","v":0}]
[208,null,{"$f":"Calc_WHDHC!G214","v":560},null,null,{"$f":"ROUND(IF(Calc_WHDHC!H214<0,Calc_WHDHC!I214*IF(Input!$B$4=\"Other\",0.95*0.95,0.98*0.95),2*PI()*Calc_WHDHC!G214/60*Calc_WHDHC!H214/1000),3)","v":0},null,null,208,null,"-",null,null,{"$f":"Calc_WHDHC!J214/3.6/(2*Input!$B$5*PI())*60","v":0},null,null,{"$f":"ROUND(IF(Calc_WHDHC!H214<0,Calc_WHDHC!I214,2*PI()*Calc_WHDHC!G214/60*Calc_WHDHC!H214/1000*IF(Input!$B$4=\"Other\",0.95*0.95,0.98*0.95)),3)","v":0}]
[209,null,{"$f":"Calc_WHDHC!G215","v":560},null,null,{"$f":"ROUND(IF(Calc_WHDHC!H215<0,Calc_WHDHC!I215*IF(Input!$B$4=\"Other\",0.95*0.95,0.98*0.95),2*PI()*Calc_WHDHC!G215/60*Calc_WHDHC!H215/1000),3)","v":0},null,null,209,null,"-",null,null,{"$f":"Calc_WHDHC!J215/3.6/(2*Input!$B$5*PI())*60","v":0},null,null,{"$f":"ROUND(IF(Calc_WHDHC!H215<0,Calc_WHDHC!I215,2*PI()*Calc_WHDHC!G215/60*Calc_WHDHC!H215/1000*IF(Input!$B$4=\"Other\",0.95*0.95,0.98*0.95)),3)","v":0}]
[210,null,{"$f":"Calc_WHDHC!G216","v":560},null,null,{"$f":"ROUND(IF(Calc_WHDHC!H216<0,Calc_WHDHC!I216*IF(Input!$B$4=\"Other\",0.95*0.95,0.98*0.95),2*PI()*Calc_WHDHC!G216/60*Calc_WHDHC!H216/1000),3)","v":0},null,null,210,null,"-",null,null,{"$f":"Calc_WHDHC!J216/3.6/(2*Input!$B$5*PI())*60","v":0},null,null,{"$f":"ROUND(IF(Calc_WHDHC!H216<0,Calc_WHDHC!I216,2*PI()*Calc_WHDHC!G216/60*Calc_WHDHC!H216/1000*IF(Input!$B$4=\"Other\",0.95*0.95,0.98*0.95)),3)","v":0}]
[211,null,{"$f":"Calc_WHDHC!G217","v":560},null,null,{"$f":"ROUND(IF(Calc_WHDHC!H217<0,Calc_WHDHC!I217*IF(Input!$B$4=\"Other\",0.95*0.95,0.98*0.95),2*PI()*Calc_WHDHC!G217/60*Calc_WHDHC!H217/1000),3)","v":0},null,null,211,null,"-",null,null,{"$f":"Calc_WHDHC!J217/3.6/(2*Input!$B$5*PI())*60","v":0},null,null,{"$f":"ROUND(IF(Calc_WHDHC!H217<0,Calc_WHDHC!I217,2*PI()*Calc_WHDHC!G217/60*Calc_WHDHC!H217/1000*IF(Input!$B$4=\"Other\",0.95*0.95,0.98*0.95)),3)","v":0}]
[212,null,{"$f":"Calc_WHDHC!G218","v":560},null,null,{"$f":"ROUND(IF(Calc_WHDHC!H218<0,Calc_WHDHC!I218*IF(Input!$B$4=\"Other\",0.95*0.95,0.98*0.95),2*PI()*Calc_WHDHC!G218/60*Calc_WHDHC!H218/1000),3)","v":0},null,null,212,null,"-",null,null,{"$f":"Calc_WHDHC!J218/3.6/(2*Input!$B$5*PI())*60","v":0},null,null,{"$f":"ROUND(IF(Calc_WHDHC!H218<0,Calc_WHDHC!I218,2*PI()*Calc_WHDHC!G218/60*Calc_WHDHC!H218/1000*IF(Input!$B$4=\"Other\",0.95*0.95,0.98*0.95)),3)","v":0}]
[213,null,{"$f":"Calc_WHDHC!G219","v":560},null,null,{"$f":"ROUND(IF(Calc_WHDHC!H219<0,Calc_WHDHC!I219*IF(Input!$B$4=\"Other\",0.95*0.95,0.98*0.95),2*PI()*Calc_WHDHC!G219/60*Calc_WHDHC!H219/1000),3)","v":0},null,null,213,null,"-",null,null,{"$f":"Calc_WHDHC!J219/3.6/(2*Input!$B$5*PI())*60","v":0},null,null,{"$f":"ROUND(IF(Calc_WHDHC!H219<0,Calc_WHDHC!I219,2*PI()*Calc_WHDHC!G219/60*Calc_WHDHC!H219/1000*IF(Input!$B$4=\"Other\",0.95*0.95,0.98*0.95)),3)","v":0}]
[214,null,{"$f":"Calc_WHDHC!G220","v":560},null,null,{"$f":"ROUND(IF(Calc_WHDHC!H220<0,Calc_WHDHC!I220*IF(Input!$B$4=\"Other\",0.95*0.95,0.98*0.95),2*PI()*Calc_WHDHC!G220/60*Calc_WHDHC!H220/1000),3)","v":0},null,null,214,null,"-",null,null,{"$f":"Calc_WHDHC!J220/3.6/(2*Input!$B$5*PI())*60","v":0},null,null,{"$f":"ROUND(IF(Calc_WHDHC!H220<0,Calc_WHDHC!I220,2*PI()*Calc_WHDHC!G220/60*Calc_WHDHC!H220/1000*IF(Input!$B$4=\"Other\",0.95*0.95,0.98*0.95)),3)","v":0}]
[215,null,{"$f":"Calc_WHDHC!G221","v":560},null,null,{"$f":"ROUND(IF(Calc_WHDHC!H221<0,Calc_WHDHC!I221*IF(Input!$B$4=\"Other\",0.95*0.95,0.98*0.95),2*PI()*Calc_WHDHC!G221/60*Calc_WHDHC!H221/1000),3)","v":0},null,null,215,null,"-",null,null,{"$f":"Calc_WHDHC!J221/3.6/(2*Input!$B$5*PI())*60","v":0},null,null,{"$f":"ROUND(IF(Calc_WHDHC!H221<0,Calc_WHDHC!I221,2*PI()*Calc_WHDHC!G221/60*Calc_WHDHC!H221/1000*IF(Input!$B$4=\"Other\",0.95*0.95,0.98*0.95)),3)","v":0}]
[216,null,{"$f":"Calc_WHDHC!G222","v":560},null,null,{"$f":"ROUND(IF(Calc_WHDHC!H222<0,Calc_WHDHC!I222*IF(Input!$B$4=\"Other\",0.95*0.95,0.98*0.95),2*PI()*Calc_WHDHC!G222/60*Calc_WHDHC!H222/1000),3)","v":0},null,null,216,null,"-",null,null,{"$f":"Calc_WHDHC!J222/3.6/(2*Input!$B$5*PI())*60","v":0},null,null,{"$f":"ROUND(IF(Calc_WHDHC!H222<0,Calc_WHDHC!I222,2*PI()*Calc_WHDHC!G222/60*Calc_WHDHC!H222/1000*IF(Input!$B$4=\"Other\",0.95*0.95,0.98*0.95)),3)","v":0}]
[217,null,{"$f":"Calc_WHDHC!G223","v":560},null,null,{"$f":"ROUND(IF(Calc_WHDHC!H223<0,Calc_WHDHC!I223*IF(Input!$B$4=\"Other\",0.95*0.95,0.98*0.95),2*PI()*Calc_WHDHC!G223/60*Calc_WHDHC!H223/1000),3)","v":0},null,null,217,null,"-",null,null,{"$f":"Calc_WHDHC!J223/3.6/(2*Input!$B$5*PI())*60","v":0},null,null,{"$f":"ROUND(IF(Calc_WHDHC!H223<0,Calc_WHDHC!I223,2*PI()*Calc_WHDHC!G223/60*Calc_WHDHC!H223/1000*IF(Input!$B$4=\"Other\",0.95*0.95,0.98*0.95)),3)","v":0}]
[218,null,{"$f":"Calc_WHDHC!G224","v":560},null,null,{"$f":"ROUND(IF(Calc_WHDHC!H224<0,Calc_WHDHC!I224*IF(Input!$B$4=\"Other\",0.95*0.95,0.98*0.95),2*PI()*Calc_WHDHC!G224/60*Calc_WHDHC!H224/1000),3)","v":0},null,null,218,null,"-",null,null,{"$f":"Calc_WHDHC!J224/3.6/(2*Input!$B$5*PI())*60","v":0},null,null,{"$f":"ROUND(IF(Calc_WHDHC!H224<0,Calc_WHDHC!I224,2*PI()*Calc_WHDHC!G224/60*Calc_WHDHC!H224/1000*IF(Input!$B$4=\"Other\",0.95*0.95,0.98*0.95)),3)","v":0}]
[219,null,{"$f":"Calc_WHDHC!G225","v":560},null,null,{"$f":"ROUND(IF(Calc_WHDHC!H225<0,Calc_WHDHC!I225*IF(Input!$B$4=\"Other\",0.95*0.95,0.98*0.95),2*PI()*Calc_WHDHC!G225/60*Calc_WHDHC!H225/1000),3)","v":0},null,null,219,null,"-",null,null,{"$f":"Calc_WHDHC!J225/3.6/(2*Input!$B$5*PI())*60","v":0},null,null,{"$f":"ROUND(IF(Calc_WHDHC!H225<0,Calc_WHDHC!I225,2*PI()*Calc_WHDHC!G225/60*Calc_WHDHC!H225/1000*IF(Input!$B$4=\"Other\",0.95*0.95,0.98*0.95)),3)","v":0}]
[220,null,{"$f":"Calc_WHDHC!G226","v":560},null,null,{"$f":"ROUND(IF(Calc_WHDHC!H226<0,Calc_WHDHC!I226*IF(Input!$B$4=\"Other\",0.95*0.95,0.98*0.95),2*PI()*Calc_WHDHC!G226/60*Calc_WHDHC!H226/1000),3)","v":0},null,null,220,null,"-",null,null,{"$f":"Calc_WHDHC!J226/3.6/(2*Input!$B$5*PI())*60","v":0},null,null,{"$f":"ROUND(IF(Calc_WHDHC!H226<0,Calc_WHDHC!I226,2*PI()*Calc_WHDHC!G226/60*Calc_WHDHC!H226/1000*IF(Input!$B$4=\"Other\",0.95*0.95,0.98*0.95)),3)","v":0}]
[221,null,{"$f":"Calc_WHDHC!G227","v":560},null,null,{"$f":"ROUND(IF(Calc_WHDHC!H227<0,Calc_WHDHC!I227*IF(Input!$B$4=\"Other\",0.95*0.95,0.98*0.95),2*PI()*Calc_WHDHC!G227/60*Calc_WHDHC!H227/1000),3)","v":0},null,null,221,null,"-",null,null,{"$f":"Calc_WHDHC!J227/3.6/(2*Input!$B$5*PI())*60","v":0},null,null,{"$f":"ROUND(IF(Calc_WHDHC!H227<0,Calc_WHDHC!I227,2*PI()*Calc_WHDHC!G227/60*Calc_WHDHC!H227/1000*IF(Input!$B$4=\"Other\",0.95*0.95,0.98*0.95)),3)","v":0}]
[222,null,{"$f":"Calc_WHDHC!G228","v":560},null,null,{"$f":"ROUND(IF(Calc_WHDHC!H228<0,Calc_WHDHC!I228*IF(Input!$B$4=\"Other\",0.95*0.95,0.98*0.95),2*PI()*Calc_WHDHC!G228/60*Calc_WHDHC!H228/1000),3)","v":0},null,null,222,null,"-",null,null,{"$f":"Calc_WHDHC!J228/3.6/(2*Input!$B$5*PI())*60","v":0},null,null,{"$f":"ROUND(IF(Calc_WHDHC!H228<0,Calc_WHDHC!I228,2*PI()*Calc_WHDHC!G228/60*Calc_WHDHC!H228/1000*IF(Input!$B$4=\"Other\",0.95*0.95,0.98*0.95)),3)","v":0}]
[223,null,{"$f":"Calc_WHDHC!G229","v":560},null,null,{"$f":"ROUND(IF(Calc_WHDHC!H229<0,Calc_WHDHC!I229*IF(Input!$B$4=\"Other\",0.95*0.95,0.98*0.95),2*PI()*Calc_WHDHC!G229/60*Calc_WHDHC!H229/1000),3)","v":0},null,null,223,null,"-",null,null,{"$f":"Calc_WHDHC!J229/3.6/(2*Input!$B$5*PI())*60","v":0},null,null,{"$f":"ROUND(IF(Calc_WHDHC!H229<0,Calc_WHDHC!I229,2*PI()*Calc_WHDHC!G229/60*Calc_WHDHC!H229/1000*IF(Input!$B$4=\"Other\",0.95*0.95,0.98*0.95)),3)","v":0}]
[224,null,{"$f":"Calc_WHDHC!G230","v":560},null,null,{"$f":"ROUND(IF(Calc_WHDHC!H230<0,Calc_WHDHC!I230*IF(Input!$B$4=\"Other\",0.95*0.95,0.98*0.95),2*PI()*Calc_WHDHC!G230/60*Calc_WHDHC!H230/1000),3)","v":0},null,null,224,null,"-",null,null,{"$f":"Calc_WHDHC!J230/3.6/(2*Input!$B$5*PI())*60","v":0},null,null,{"$f":"ROUND(IF(Calc_WHDHC!H230<0,Calc_WHDHC!I230,2*PI()*Calc_WHDHC!G230/60*Calc_WHDHC!H230/1000*IF(Input!$B$4=\"Other\",0.95*0.95,0.98*0.95)),3)","v":0}]
[225,null,{"$f":"Calc_WHDHC!G231","v":560},null,null,{"$f":"ROUND(IF(Calc_WHDHC!H231<0,Calc_WHDHC!I231*IF(Input!$B$4=\"Other\",0.95*0.95,0.98*0.95),2*PI()*Calc_WHDHC!G231/60*Calc_WHDHC!H231/1000),3)","v":0},null,null,225,null,"-",null,null,{"$f":"Calc_WHDHC!J231/3.6/(2*Input!$B$5*PI())*60","v":0},null,null,{"$f":"ROUND(IF(Calc_WHDHC!H231<0,Calc_WHDHC!I231,2*PI()*Calc_WHDHC!G231/60*Calc_WHDHC!H231/1000*IF(Input!$B$4=\"Other\",0.95*0.95,0.98*0.95)),3)","v":0}]
[226,null,{"$f":"Calc_WHDHC!G232","v":560},null,null,{"$f":"ROUND(IF(Calc_WHDHC!H232<0,Calc_WHDHC!I232*IF(Input!$B$4=\"Other\",0.95*0.95,0.98*0.95),2*PI()*Calc_WHDHC!G232/60*Calc_WHDHC!H232/1000),3)","v":0},null,null,226,null,"-",null,null,{"$f":"Calc_WHDHC!J232/3.6/(2*Input!$B$5*PI())*60","v":2.021278852767634},null,null,{"$f":"ROUND(IF(Calc_WHDHC!H232<0,Calc_WHDHC!I232,2*PI()*Calc_WHDHC!G232/60*Calc_WHDHC!H232/1000*IF(Input!$B$4=\"Other\",0.95*0.95,0.98*0.95)),3)","v":0}]
[227,null,{"$f":"Calc_WHDHC!G233","v":560},null,null,{"$f":"ROUND(IF(Calc_WHDHC!H233<0,Calc_WHDHC!I233*IF(Input!$B$4=\"Other\",0.95*0.95,0.98*0.95),2*PI()*Calc_WHDHC!G233/60*Calc_WHDHC!H233/1000),3)","v":0},null,null,227,null,"-",null,null,{"$f":"Calc_WHDHC!J233/3.6/(2*Input!$B$5*PI())*60","v":2.021278852767634},null,null,{"$f":"ROUND(IF(Calc_WHDHC!H233<0,Calc_WHDHC!I233,2*PI()*Calc_WHDHC!G233/60*Calc_WHDHC!H233/1000*IF(Input!$B$4=\"Other\",0.95*0.95,0.98*0.95)),3)","v":0}]
[228,null,{"$f":"Calc_WHDHC!G234","v":560},null,null,{"$f":"ROUND(IF(Calc_WHDHC!H234<0,Calc_WHDHC!I234*IF(Input!$B$4=\"Other\",0.95*0.95,0.98*0.95),2*PI()*Calc_WHDHC!G234/60*Calc_WHDHC!H234/1000),3)","v":0},null,null,228,null,"-",null,null,{"$f":"Calc_WHDHC!J234/3.6/(2*Input!$B$5*PI())*60","v":0},null,null,{"$f":"ROUND(IF(Calc_WHDHC!H234<0,Calc_WHDHC!I234,2*PI()*Calc_WHDHC!G234/60*Calc_WHDHC!H234/1000*IF(Input!$B$4=\"Other\",0.95*0.95,0.98*0.95)),3)","v":0}]
[229,null,{"$f":"Calc_WHDHC!G235","v":560},null,null,{"$f":"ROUND(IF(Calc_WHDHC!H235<0,Calc_WHDHC!I235*IF(Input!$B$4=\"Other\",0.95*0.95,0.98*0.95),2*PI()*Calc_WHDHC!G235/60*Calc_WHDHC!H235/1000),3)","v":0},null,null,229,null,"-",null,null,{"$f":"Calc_WHDHC!J235/3.6/(2*Input!$B$5*PI())*60","v":0},null,null,{"$f":"ROUND(IF(Calc_WHDHC!H235<0,Calc_WHDHC!I235,2*PI()*Calc_WHDHC!G235/60*Calc_WHDHC!H235/1000*IF(Input!$B$4=\"Other\",0.95*0.95,0.98*0.95)),3)","v":0}]
[230,null,{"$f":"Calc_WHDHC!G236","v":560},null,null,{"$f":"ROUND(IF(Calc_WHDHC!H236<0,Calc_WHDHC!I236*IF(Input!$B$4=\"Other\",0.95*0.95,0.98*0.95),2*PI()*Calc_WHDHC!G236/60*Calc_WHDHC!H236/1000),3)","v":0},null,null,230,null,"-",null,null,{"$f":"Calc_WHDHC!J236/3.6/(2*Input!$B$5*PI())*60","v":0},null,null,{"$f":"ROUND(IF(Calc_WHDHC!H236<0,Calc_WHDHC!I236,2*PI()*Calc_WHDHC!G236/60*Calc_WHDHC!H236/1000*IF(Input!$B$4=\"Other\",0.95*0.95,0.98*0.95)),3)","v":0}]
[231,null,{"$f":"Calc_WHDHC!G237","v":560},null,null,{"$f":"ROUND(IF(Calc_WHDHC!H237<0,Calc_WHDHC!I237*IF(Input!$B$4=\"Other\",0.95*0.95,0.98*0.95),2*PI()*Calc_WHDHC!G237/60*Calc_WHDHC!H237/1000),3)","v":0},null,null,231,null,"-",null,null,{"$f":"Calc_WHDHC!J237/3.6/(2*Input!$B$5*PI())*60","v":0},null,null,{"$f":"ROUND(IF(Calc_WHDHC!H237<0,Calc_WHDHC!I237,2*PI()*Calc_WHDHC!G237/60*Calc_WHDHC!H237/1000*IF(Input!$B$4=\"Other\",0.95*0.95,0.98*0.95)),3)","v":0}]
[232,null,{"$f":"Calc_WHDHC!G238","v":560},null,null,{"$f":"ROUND(IF(Calc_WHDHC!H238<0,Calc_WHDHC!I238*IF(Input!$B$4=\"Other\",0.95*0.95,0.98*0.95),2*PI()*Calc_WHDHC!G238/60*Calc_WHDHC!H238/1000),3)","v":0},null,null,232,null,"-",null,null,{"$f":"Calc_WHDHC!J238/3.6/(2*Input!$B$5*PI())*60","v":0},null,null,{"$f":"ROUND(IF(Calc_WHDHC!H238<0,Calc_WHDHC!I238,2*PI()*Calc_WHDHC!G238/60*Calc_WHDHC!H238/1000*IF(Input!$B$4=\"Other\",0.95*0.95,0.98*0.95)),3)","v":0}]
[233,null,{"$f":"Calc_WHDHC!G239","v":560},null,null,{"$f":"ROUND(IF(Calc_WHDHC!H239<0,Calc_WHDHC!I239*IF(Input!$B$4=\"Other\",0.95*0.95,0.98*0.95),2*PI()*Calc_WHDHC!G239/60*Calc_WHDHC!H239/1000),3)","v":0},null,null,233,null,"-",null,null,{"$f":"Calc_WHDHC!J239/3.6/(2*Input!$B$5*PI())*60","v":0},null,null,{"$f":"ROUND(IF(Calc_WHDHC!H239<0,Calc_WHDHC!I239,2*PI()*Calc_WHDHC!G239/60*Calc_WHDHC!H239/1000*IF(Input!$B$4=\"Other\",0.95*0.95,0.98*0.95)),3)","v":0}]
[234,null,{"$f":"Calc_WHDHC!G240","v":560},null,null,{"$f":"ROUND(IF(Calc_WHDHC!H240<0,Calc_WHDHC!I240*IF(Input!$B$4=\"Other\",0.95*0.95,0.98*0.95),2*PI()*Calc_WHDHC!G240/60*Calc_WHDHC!H240/1000),3)","v":0},null,null,234,null,"-",null,null,{"$f":"Calc_WHDHC!J240/3.6/(2*Input!$B$5*PI())*60","v":0},null,null,{"$f":"ROUND(IF(Calc_WHDHC!H240<0,Calc_WHDHC!I240,2*PI()*Calc_WHDHC!G240/60*Calc_WHDHC!H240/1000*IF(Input!$B$4=\"Other\",0.95*0.95,0.98*0.95)),3)","v":0}]
[235,null,{"$f":"Calc_WHDHC!G241","v":560},null,null,{"$f":"ROUND(IF(Calc_WHDHC!H241<0,Calc_WHDHC!I241*IF(Input!$B$4=\"Other\",0.95*0.95,0.98*0.95),2*PI()*Calc_WHDHC!G241/60*Calc_WHDHC!H241/1000),3)","v":0},null,null,235,null,"-",null,null,{"$f":"Calc_WHDHC!J241/3.6/(2*Input!$B$5*PI())*60","v":0},null,null,{"$f":"ROUND(IF(Calc_WHDHC!H241<0,Calc_WHDHC!I241,2*PI()*Calc_WHDHC!G241/60*Calc_WHDHC!H241/1000*IF(Input!$B$4=\"Other\",0.95*0.95,0.98*0.95)),3)","v":0}]
[236,null,{"$f":"Calc_WHDHC!G242","v":560},null,null,{"$f":"ROUND(IF(Calc_WHDHC!H242<0,Calc_WHDHC!I242*IF(Input!$B$4=\"Other\",0.95*0.95,0.98*0.95),2*PI()*Calc_WHDHC!G242/60*Calc_WHDHC!H242/1000),3)","v":0},null,null,236,null,"-",null,null,{"$f":"Calc_WHDHC!J242/3.6/(2*Input!$B$5*PI())*60","v":0},null,null,{"$f":"ROUND(IF(Calc_WHDHC!H242<0,Calc_WHDHC!I242,2*PI()*Calc_WHDHC!G242/60*Calc_WHDHC!H242/1000*IF(Input!$B$4=\"Other\",0.95*0.95,0.98*0.95)),3)","v":0}]
[237,null,{"$f":"Calc_WHDHC!G243","v":560},null,null,{"$f":"ROUND(IF(Calc_WHDHC!H243<0,Calc_WHDHC!I243*IF(Input!$B$4=\"Other\",0.95*0.95,0.98*0.95),2*PI()*Calc_WHDHC!G243/60*Calc_WHDHC!H243/1000),3)","v":0},null,null,237,null,"-",null,null,{"$f":"Calc_WHDHC!J243/3.6/(2*Input!$B$5*PI())*60","v":0},null,null,{"$f":"ROUND(IF(Calc_WHDHC!H243<0,Calc_WHDHC!I243,2*PI()*Calc_WHDHC!G243/60*Calc_WHDHC!H243/1000*IF(Input!$B$4=\"Other\",0.95*0.95,0.98*0.95)),3)","v":0}]
[238,null,{"$f":"Calc_WHDHC!G244","v":560},null,null,{"$f":"ROUND(IF(Calc_WHDHC!H244<0,Calc_WHDHC!I244*IF(Input!$B$4=\"Other\",0.95*0.95,0.98*0.95),2*PI()*Calc_WHDHC!G244/60*Calc_WHDHC!H244/1000),3)","v":0},null,null,238,null,"-",null,null,{"$f":"Calc_WHDHC!J244/3.6/(2*Input!$B$5*PI())*60","v":0},null,null,{"$f":"ROUND(IF(Calc_WHDHC!H244<0,Calc_WHDHC!I244,2*PI()*Calc_WHDHC!G244/60*Calc_WHDHC!H244/1000*IF(Input!$B$4=\"Other\",0.95*0.95,0.98*0.95)),3)","v":0}]
[239,null,{"$f":"Calc_WHDHC!G245","v":560},null,null,{"$f":"ROUND(IF(Calc_WHDHC!H245<0,Calc_WHDHC!I245*IF(Input!$B$4=\"Other\",0.95*0.95,0.98*0.95),2*PI()*Calc_WHDHC!G245/60*Calc_WHDHC!H245/1000),3)","v":0},null,null,239,null,"-",null,null,{"$f":"Calc_WHDHC!J245/3.6/(2*Input!$B$5*PI())*60","v":0},null,null,{"$f":"ROUND(IF(Calc_WHDHC!H245<0,Calc_WHDHC!I245,2*PI()*Calc_WHDHC!G245/60*Calc_WHDHC!H245/1000*IF(Input!$B$4=\"Other\",0.95*0.95,0.98*0.95)),3)","v":0}]
[240,null,{"$f":"Calc_WHDHC!G246","v":560},null,null,{"$f":"ROUND(IF(Calc_WHDHC!H246<0,Calc_WHDHC!I246*IF(Input!$B$4=\"Other\",0.95*0.95,0.98*0.95),2*PI()*Calc_WHDHC!G246/60*Calc_WHDHC!H246/1000),3)","v":0},null,null,240,null,"-",null,null,{"$f":"Calc_WHDHC!J246/3.6/(2*Input!$B$5*PI())*60","v":0},null,null,{"$f":"ROUND(IF(Calc_WHDHC!H246<0,Calc_WHDHC!I246,2*PI()*Calc_WHDHC!G246/60*Calc_WHDHC!H246/1000*IF(Input!$B$4=\"Other\",0.95*0.95,0.98*0.95)),3)","v":0}]
[241,null,{"$f":"Calc_WHDHC!G247","v":560},null,null,{"$f":"ROUND(IF(Calc_WHDHC!H247<0,Calc_WHDHC!I247*IF(Input!$B$4=\"Other\",0.95*0.95,0.98*0.95),2*PI()*Calc_WHDHC!G247/60*Calc_WHDHC!H247/1000),3)","v":0},null,null,241,null,"-",null,null,{"$f":"Calc_WHDHC!J247/3.6/(2*Input!$B$5*PI())*60","v":0},null,null,{"$f":"ROUND(IF(Calc_WHDHC!H247<0,Calc_WHDHC!I247,2*PI()*Calc_WHDHC!G247/60*Calc_WHDHC!H247/1000*IF(Input!$B$4=\"Other\",0.95*0.95,0.98*0.95)),3)","v":0}]
[242,null,{"$f":"Calc_WHDHC!G248","v":560},null,null,{"$f":"ROUND(IF(Calc_WHDHC!H248<0,Calc_WHDHC!I248*IF(Input!$B$4=\"Other\",0.95*0.95,0.98*0.95),2*PI()*Calc_WHDHC!G248/60*Calc_WHDHC!H248/1000),3)","v":0},null,null,242,null,"-",null,null,{"$f":"Calc_WHDHC!J248/3.6/(2*Input!$B$5*PI())*60","v":0},null,null,{"$f":"ROUND(IF(Calc_WHDHC!H248<0,Calc_WHDHC!I248,2*PI()*Calc_WHDHC!G248/60*Calc_WHDHC!H248/1000*IF(Input!$B$4=\"Other\",0.95*0.95,0.98*0.95)),3)","v":0}]
[243,null,{"$f":"Calc_WHDHC!G249","v":560},null,null,{"$f":"ROUND(IF(Calc_WHDHC!H249<0,Calc_WHDHC!I249*IF(Input!$B$4=\"Other\",0.95*0.95,0.98*0.95),2*PI()*Calc_WHDHC!G249/60*Calc_WHDHC!H249/1000),3)","v":0},null,null,243,null,"-",null,null,{"$f":"Calc_WHDHC!J249/3.6/(2*Input!$B$5*PI())*60","v":0},null,null,{"$f":"ROUND(IF(Calc_WHDHC!H249<0,Calc_WHDHC!I249,2*PI()*Calc_WHDHC!G249/60*Calc_WHDHC!H249/1000*IF(Input!$B$4=\"Other\",0.95*0.95,0.98*0.95)),3)","v":0}]
[244,null,{"$f":"Calc_WHDHC!G250","v":560},null,null,{"$f":"ROUND(IF(Calc_WHDHC!H250<0,Calc_WHDHC!I250*IF(Input!$B$4=\"Other\",0.95*0.95,0.98*0.95),2*PI()*Calc_WHDHC!G250/60*Calc_WHDHC!H250/1000),3)","v":0},null,null,244,null,"-",null,null,{"$f":"Calc_WHDHC!J250/3.6/(2*Input!$B$5*PI())*60","v":0},null,null,{"$f":"ROUND(IF(Calc_WHDHC!H250<0,Calc_WHDHC!I250,2*PI()*Calc_WHDHC!G250/60*Calc_WHDHC!H250/1000*IF(Input!$B$4=\"Other\",0.95*0.95,0.98*0.95)),3)","v":0}]
[245,null,{"$f":"Calc_WHDHC!G251","v":560},null,null,{"$f":"ROUND(IF(Calc_WHDHC!H251<0,Calc_WHDHC!I251*IF(Input!$B$4=\"Other\",0.95*0.95,0.98*0.95),2*PI()*Calc_WHDHC!G251/60*Calc_WHDHC!H251/1000),3)","v":0},null,null,245,null,"-",null,null,{"$f":"Calc_WHDHC!J251/3.6/(2*Input!$B$5*PI())*60","v":0},null,null,{"$f":"ROUND(IF(Calc_WHDHC!H251<0,Calc_WHDHC!I251,2*PI()*Calc_WHDHC!G251/60*Calc_WHDHC!H251/1000*IF(Input!$B$4=\"Other\",0.95*0.95,0.98*0.95)),3)","v":0}]
[246,null,{"$f":"Calc_WHDHC!G252","v":560},null,null,{"$f":"ROUND(IF(Calc_WHDHC!H252<0,Calc_WHDHC!I252*IF(Input!$B$4=\"Other\",0.95*0.95,0.98*0.95),2*PI()*Calc_WHDHC!G252/60*Calc_WHDHC!H252/1000),3)","v":0},null,null,246,null,"-",null,null,{"$f":"Calc_WHDHC!J252/3.6/(2*Input!$B$5*PI())*60","v":0},null,null,{"$f":"ROUND(IF(Calc_WHDHC!H252<0,Calc_WHDHC!I252,2*PI()*Calc_WHDHC!G252/60*Calc_WHDHC!H252/1000*IF(Input!$B$4=\"Other\",0.95*0.95,0.98*0.95)),3)","v":0}]
[247,null,{"$f":"Calc_WHDHC!G253","v":560},null,null,{"$f":"ROUND(IF(Calc_WHDHC!H253<0,Calc_WHDHC!I253*IF(Input!$B$4=\"Other\",0.95*0.95,0.98*0.95),2*PI()*Calc_WHDHC!G253/60*Calc_WHDHC!H253/1000),3)","v":0},null,null,247,null,"-",null,null,{"$f":"Calc_WHDHC!J253/3.6/(2*Input!$B$5*PI())*60","v":0},null,null,{"$f":"ROUND(IF(Calc_WHDHC!H253<0,Calc_WHDHC!I253,2*PI()*Calc_WHDHC!G253/60*Calc_WHDHC!H253/1000*IF(Input!$B$4=\"Other\",0.95*0.95,0.98*0.95)),3)","v":0}]
[248,null,{"$f":"Calc_WHDHC!G254","v":560},null,null,{"$f":"ROUND(IF(Calc_WHDHC!H254<0,Calc_WHDHC!I254*IF(Input!$B$4=\"Other\",0.95*0.95,0.98*0.95),2*PI()*Calc_WHDHC!G254/60*Calc_WHDHC!H254/1000),3)","v":0},null,null,248,null,"-",null,null,{"$f":"Calc_WHDHC!J254/3.6/(2*Input!$B$5*PI())*60","v":0},null,null,{"$f":"ROUND(IF(Calc_WHDHC!H254<0,Calc_WHDHC!I254,2*PI()*Calc_WHDHC!G254/60*Calc_WHDHC!H254/1000*IF(Input!$B$4=\"Other\",0.95*0.95,0.98*0.95)),3)","v":0}]
[249,null,{"$f":"Calc_WHDHC!G255","v":560},null,null,{"$f":"ROUND(IF(Calc_WHDHC!H255<0,Calc_WHDHC!I255*IF(Input!$B$4=\"Other\",0.95*0.95,0.98*0.95),2*PI()*Calc_WHDHC!G255/60*Calc_WHDHC!H255/1000),3)","v":0},null,null,249,null,"-",null,null,{"$f":"Calc_WHDHC!J255/3.6/(2*Input!$B$5*PI())*60","v":0},null,null,{"$f":"ROUND(IF(Calc_WHDHC!H255<0,Calc_WHDHC!I255,2*PI()*Calc_WHDHC!G255/60*Calc_WHDHC!H255/1000*IF(Input!$B$4=\"Other\",0.95*0.95,0.98*0.95)),3)","v":0}]
[250,null,{"$f":"Calc_WHDHC!G256","v":560},null,null,{"$f":"ROUND(IF(Calc_WHDHC!H256<0,Calc_WHDHC!I256*IF(Input!$B$4=\"Other\",0.95*0.95,0.98*0.95),2*PI()*Calc_WHDHC!G256/60*Calc_WHDHC!H256/1000),3)","v":0},null,null,250,null,"-",null,null,{"$f":"Calc_WHDHC!J256/3.6/(2*Input!$B$5*PI())*60","v":0},null,null,{"$f":"ROUND(IF(Calc_WHDHC!H256<0,Calc_WHDHC!I256,2*PI()*Calc_WHDHC!G256/60*Calc_WHDHC!H256/1000*IF(Input!$B$4=\"Other\",0.95*0.95,0.98*0.95)),3)","v":0}]
[251,null,{"$f":"Calc_WHDHC!G257","v":560},null,null,{"$f":"ROUND(IF(Calc_WHDHC!H257<0,Calc_WHDHC!I257*IF(Input!$B$4=\"Other\",0.95*0.95,0.98*0.95),2*PI()*Calc_WHDHC!G257/60*Calc_WHDHC!H257/1000),3)","v":0},null,null,251,null,"-",null,null,{"$f":"Calc_WHDHC!J257/3.6/(2*Input!$B$5*PI())*60","v":0},null,null,{"$f":"ROUND(IF(Calc_WHDHC!H257<0,Calc_WHDHC!I257,2*PI()*Calc_WHDHC!G257/60*Calc_WHDHC!H257/1000*IF(Input!$B$4=\"Other\",0.95*0.95,0.98*0.95)),3)","v":0}]
[252,null,{"$f":"Calc_WHDHC!G258","v":560},null,null,{"$f":"ROUND(IF(Calc_WHDHC!H258<0,Calc_WHDHC!I258*IF(Input!$B$4=\"Other\",0.95*0.95,0.98*0.95),2*PI()*Calc_WHDHC!G258/60*Calc_WHDHC!H258/1000),3)","v":0},null,null,252,null,"-",null,null,{"$f":"Calc_WHDHC!J258/3.6/(2*Input!$B$5*PI())*60","v":0},null,null,{"$f":"ROUND(IF(Calc_WHDHC!H258<0,Calc_WHDHC!I258,2*PI()*Calc_WHDHC!G258/60*Calc_WHDHC!H258/1000*IF(Input!$B$4=\"Other\",0.95*0.95,0.98*0.95)),3)","v":0}]
[253,null,{"$f":"Calc_WHDHC!G259","v":560},null,null,{"$f":"ROUND(IF(Calc_WHDHC!H259<0,Calc_WHDHC!I259*IF(Input!$B$4=\"Other\",0.95*0.95,0.98*0.95),2*PI()*Calc_WHDHC!G259/60*Calc_WHDHC!H259/1000),3)","v":18.178999999999998},null,null,253,null,"-",null,null,{"$f":"Calc_WHDHC!J259/3.6/(2*Input!$B$5*PI())*60","v":4.1810014625741481},null,null,{"$f":"ROUND(IF(Calc_WHDHC!H259<0,Calc_WHDHC!I259,2*PI()*Calc_WHDHC!G259/60*Calc_WHDHC!H259/1000*IF(Input!$B$4=\"Other\",0.95*0.95,0.98*0.95)),3)","v":16.925000000000001}]
[254,null,{"$f":"Calc_WHDHC!G260","v":684},null,null,{"$f":"ROUND(IF(Calc_WHDHC!H260<0,Calc_WHDHC!I260*IF(Input!$B$4=\"Other\",0.95*0.95,0.98*0.95),2*PI()*Calc_WHDHC!G260/60*Calc_WHDHC!H260/1000),3)","v":12.75},null,null,254,null,"-",null,null,{"$f":"Calc_WHDHC!J260/3.6/(2*Input!$B$5*PI())*60","v":11.407765580003634},null,null,{"$f":"ROUND(IF(Calc_WHDHC!H260<0,Calc_WHDHC!I260,2*PI()*Calc_WHDHC!G260/60*Calc_WHDHC!H260/1000*IF(Input!$B$4=\"Other\",0.95*0.95,0.98*0.95)),3)","v":11.87}]
[255,null,{"$f":"Calc_WHDHC!G261","v":853},null,null,{"$f":"ROUND(IF(Calc_WHDHC!H261<0,Calc_WHDHC!I261*IF(Input!$B$4=\"Other\",0.95*0.95,0.98*0.95),2*PI()*Calc_WHDHC!G261/60*Calc_WHDHC!H261/1000),3)","v":25.100999999999999},null,null,255,null,"-",null,null,{"$f":"Calc_WHDHC!J261/3.6/(2*Input!$B$5*PI())*60","v":19.437503488258617},null,null,{"$f":"ROUND(IF(Calc_WHDHC!H261<0,Calc_WHDHC!I261,2*PI()*Calc_WHDHC!G261/60*Calc_WHDHC!H261/1000*IF(Input!$B$4=\"Other\",0.95*0.95,0.98*0.95)),3)","v":23.369}]
[256,null,{"$f":"Calc_WHDHC!G262","v":996},null,null,{"$f":"ROUND(IF(Calc_WHDHC!H262<0,Calc_WHDHC!I262*IF(Input!$B$4=\"Other\",0.95*0.95,0.98*0.95),2*PI()*Calc_WHDHC!G262/60*Calc_WHDHC!H262/1000),3)","v":111.289},null,null,256,null,"-",null,null,{"$f":"Calc_WHDHC!J262/3.6/(2*Input!$B$5*PI())*60","v":26.165870080348135},null,null,{"$f":"ROUND(IF(Calc_WHDHC!H262<0,Calc_WHDHC!I262,2*PI()*Calc_WHDHC!G262/60*Calc_WHDHC!H262/1000*IF(Input!$B$4=\"Other\",0.95*0.95,0.98*0.95)),3)","v":103.61}]
[257,null,{"$f":"Calc_WHDHC!G263","v":1137},null,null,{"$f":"ROUND(IF(Calc_WHDHC!H263<0,Calc_WHDHC!I263*IF(Input!$B$4=\"Other\",0.95*0.95,0.98*0.95),2*PI()*Calc_WHDHC!G263/60*Calc_WHDHC!H263/1000),3)","v":55.009},null,null,257,null,"-",null,null,{"$f":"Calc_WHDHC!J263/3.6/(2*Input!$B$5*PI())*60","v":32.838859169622111},null,null,{"$f":"ROUND(IF(Calc_WHDHC!H263<0,Calc_WHDHC!I263,2*PI()*Calc_WHDHC!G263/60*Calc_WHDHC!H263/1000*IF(Input!$B$4=\"Other\",0.95*0.95,0.98*0.95)),3)","v":51.213000000000001}]
[258,null,{"$f":"Calc_WHDHC!G264","v":1086},null,null,{"$f":"ROUND(IF(Calc_WHDHC!H264<0,Calc_WHDHC!I264*IF(Input!$B$4=\"Other\",0.95*0.95,0.98*0.95),2*PI()*Calc_WHDHC!G264/60*Calc_WHDHC!H264/1000),3)","v":0},null,null,258,null,"-",null,null,{"$f":"Calc_WHDHC!J264/3.6/(2*Input!$B$5*PI())*60","v":40.204067044090472},null,null,{"$f":"ROUND(IF(Calc_WHDHC!H264<0,Calc_WHDHC!I264,2*PI()*Calc_WHDHC!G264/60*Calc_WHDHC!H264/1000*IF(Input!$B$4=\"Other\",0.95*0.95,0.98*0.95)),3)","v":0}]
[259,null,{"$f":"Calc_WHDHC!G265","v":1035},null,null,{"$f":"ROUND(IF(Calc_WHDHC!H265<0,Calc_WHDHC!I265*IF(Input!$B$4=\"Other\",0.95*0.95,0.98*0.95),2*PI()*Calc_WHDHC!G265/60*Calc_WHDHC!H265/1000),3)","v":101.123},null,null,259,null,"-",null,null,{"$f":"Calc_WHDHC!J265/3.6/(2*Input!$B$5*PI())*60","v":47.098566144626652},null,null,{"$f":"ROUND(IF(Calc_WHDHC!H265<0,Calc_WHDHC!I265,2*PI()*Calc_WHDHC!G265/60*Calc_WHDHC!H265/1000*IF(Input!$B$4=\"Other\",0.95*0.95,0.98*0.95)),3)","v":94.146000000000001}]
[260,null,{"$f":"Calc_WHDHC!G266","v":1189},null,null,{"$f":"ROUND(IF(Calc_WHDHC!H266<0,Calc_WHDHC!I266*IF(Input!$B$4=\"Other\",0.95*0.95,0.98*0.95),2*PI()*Calc_WHDHC!G266/60*Calc_WHDHC!H266/1000),3)","v":198.596},null,null,260,null,"-",null,null,{"$f":"Calc_WHDHC!J266/3.6/(2*Input!$B$5*PI())*60","v":53.937687742347279},null,null,{"$f":"ROUND(IF(Calc_WHDHC!H266<0,Calc_WHDHC!I266,2*PI()*Calc_WHDHC!G266/60*Calc_WHDHC!H266/1000*IF(Input!$B$4=\"Other\",0.95*0.95,0.98*0.95)),3)","v":184.893}]
[261,null,{"$f":"Calc_WHDHC!G267","v":1368},null,null,{"$f":"ROUND(IF(Calc_WHDHC!H267<0,Calc_WHDHC!I267*IF(Input!$B$4=\"Other\",0.95*0.95,0.98*0.95),2*PI()*Calc_WHDHC!G267/60*Calc_WHDHC!H267/1000),3)","v":212.30600000000001},null,null,261,null,"-",null,null,{"$f":"Calc_WHDHC!J267/3.6/(2*Input!$B$5*PI())*60","v":61.967425650602252},null,null,{"$f":"ROUND(IF(Calc_WHDHC!H267<0,Calc_WHDHC!I267,2*PI()*Calc_WHDHC!G267/60*Calc_WHDHC!H267/1000*IF(Input!$B$4=\"Other\",0.95*0.95,0.98*0.95)),3)","v":197.65700000000001}]
[262,null,{"$f":"Calc_WHDHC!G268","v":1515},null,null,{"$f":"ROUND(IF(Calc_WHDHC!H268<0,Calc_WHDHC!I268*IF(Input!$B$4=\"Other\",0.95*0.95,0.98*0.95),2*PI()*Calc_WHDHC!G268/60*Calc_WHDHC!H268/1000),3)","v":225.125},null,null,262,null,"-",null,null,{"$f":"Calc_WHDHC!J268/3.6/(2*Input!$B$5*PI())*60","v":68.529659734245129},null,null,{"$f":"ROUND(IF(Calc_WHDHC!H268<0,Calc_WHDHC!I268,2*PI()*Calc_WHDHC!G268/60*Calc_WHDHC!H268/1000*IF(Input!$B$4=\"Other\",0.95*0.95,0.98*0.95)),3)","v":209.59100000000001}]
[263,null,{"$f":"Calc_WHDHC!G269","v":1564},null,null,{"$f":"ROUND(IF(Calc_WHDHC!H269<0,Calc_WHDHC!I269*IF(Input!$B$4=\"Other\",0.95*0.95,0.98*0.95),2*PI()*Calc_WHDHC!G269/60*Calc_WHDHC!H269/1000),3)","v":-9.1999999999999998E-2},null,null,263,null,"-",null,null,{"$f":"Calc_WHDHC!J269/3.6/(2*Input!$B$5*PI())*60","v":70.744759846867183},null,null,{"$f":"ROUND(IF(Calc_WHDHC!H269<0,Calc_WHDHC!I269,2*PI()*Calc_WHDHC!G269/60*Calc_WHDHC!H269/1000*IF(Input!$B$4=\"Other\",0.95*0.95,0.98*0.95)),3)","v":-9.9000000000000005E-2}]
[264,null,{"$f":"Calc_WHDHC!G270","v":1541},null,null,{"$f":"ROUND(IF(Calc_WHDHC!H270<0,Calc_WHDHC!I270*IF(Input!$B$4=\"Other\",0.95*0.95,0.98*0.95),2*PI()*Calc_WHDHC!G270/60*Calc_WHDHC!H270/1000),3)","v":-8.06},null,null,264,null,"-",null,null,{"$f":"Calc_WHDHC!J270/3.6/(2*Input!$B$5*PI())*60","v":69.720276044779482},null,null,{"$f":"ROUND(IF(Calc_WHDHC!H270<0,Calc_WHDHC!I270,2*PI()*Calc_WHDHC!G270/60*Calc_WHDHC!H270/1000*IF(Input!$B$4=\"Other\",0.95*0.95,0.98*0.95)),3)","v":-8.657}]
[265,null,{"$f":"Calc_WHDHC!G271","v":1465},null,null,{"$f":"ROUND(IF(Calc_WHDHC!H271<0,Calc_WHDHC!I271*IF(Input!$B$4=\"Other\",0.95*0.95,0.98*0.95),2*PI()*Calc_WHDHC!G271/60*Calc_WHDHC!H271/1000),3)","v":-11.372999999999999},null,null,265,null,"-",null,null,{"$f":"Calc_WHDHC!J271/3.6/(2*Input!$B$5*PI())*60","v":66.286870870215296},null,null,{"$f":"ROUND(IF(Calc_WHDHC!H271<0,Calc_WHDHC!I271,2*PI()*Calc_WHDHC!G271/60*Calc_WHDHC!H271/1000*IF(Input!$B$4=\"Other\",0.95*0.95,0.98*0.95)),3)","v":-12.215999999999999}]
[266,null,{"$f":"Calc_WHDHC!G272","v":1366},null,null,{"$f":"ROUND(IF(Calc_WHDHC!H272<0,Calc_WHDHC!I272*IF(Input!$B$4=\"Other\",0.95*0.95,0.98*0.95),2*PI()*Calc_WHDHC!G272/60*Calc_WHDHC!H272/1000),3)","v":-5.1790000000000003},null,null,266,null,"-",null,null,{"$f":"Calc_WHDHC!J272/3.6/(2*Input!$B$5*PI())*60","v":61.88435939637894},null,null,{"$f":"ROUND(IF(Calc_WHDHC!H272<0,Calc_WHDHC!I272,2*PI()*Calc_WHDHC!G272/60*Calc_WHDHC!H272/1000*IF(Input!$B$4=\"Other\",0.95*0.95,0.98*0.95)),3)","v":-5.5629999999999997}]
[267,null,{"$f":"Calc_WHDHC!G273","v":1300},null,null,{"$f":"ROUND(IF(Calc_WHDHC!H273<0,Calc_WHDHC!I273*IF(Input!$B$4=\"Other\",0.95*0.95,0.98*0.95),2*PI()*Calc_WHDHC!G273/60*Calc_WHDHC!H273/1000),3)","v":-0.16200000000000001},null,null,267,null,"-",null,null,{"$f":"Calc_WHDHC!J273/3.6/(2*Input!$B$5*PI())*60","v":58.921662995746928},null,null,{"$f":"ROUND(IF(Calc_WHDHC!H273<0,Calc_WHDHC!I273,2*PI()*Calc_WHDHC!G273/60*Calc_WHDHC!H273/1000*IF(Input!$B$4=\"Other\",0.95*0.95,0.98*0.95)),3)","v":-0.17399999999999999}]
[268,null,{"$f":"Calc_WHDHC!G274","v":1273},null,null,{"$f":"ROUND(IF(Calc_WHDHC!H274<0,Calc_WHDHC!I274*IF(Input!$B$4=\"Other\",0.95*0.95,0.98*0.95),2*PI()*Calc_WHDHC!G274/60*Calc_WHDHC!H274/1000),3)","v":0},null,null,268,null,"-",null,null,{"$f":"Calc_WHDHC!J274/3.6/(2*Input!$B$5*PI())*60","v":57.758735436620334},null,null,{"$f":"ROUND(IF(Calc_WHDHC!H274<0,Calc_WHDHC!I274,2*PI()*Calc_WHDHC!G274/60*Calc_WHDHC!H274/1000*IF(Input!$B$4=\"Other\",0.95*0.95,0.98*0.95)),3)","v":0}]
[269,null,{"$f":"Calc_WHDHC!G275","v":1260},null,null,{"$f":"ROUND(IF(Calc_WHDHC!H275<0,Calc_WHDHC!I275*IF(Input!$B$4=\"Other\",0.95*0.95,0.98*0.95),2*PI()*Calc_WHDHC!G275/60*Calc_WHDHC!H275/1000),3)","v":-0.28799999999999998},null,null,269,null,"-",null,null,{"$f":"Calc_WHDHC!J275/3.6/(2*Input!$B$5*PI())*60","v":57.177271657057041},null,null,{"$f":"ROUND(IF(Calc_WHDHC!H275<0,Calc_WHDHC!I275,2*PI()*Calc_WHDHC!G275/60*Calc_WHDHC!H275/1000*IF(Input!$B$4=\"Other\",0.95*0.95,0.98*0.95)),3)","v":-0.309}]
[270,null,{"$f":"Calc_WHDHC!G276","v":1231},null,null,{"$f":"ROUND(IF(Calc_WHDHC!H276<0,Calc_WHDHC!I276*IF(Input!$B$4=\"Other\",0.95*0.95,0.98*0.95),2*PI()*Calc_WHDHC!G276/60*Calc_WHDHC!H276/1000),3)","v":-2.5680000000000001},null,null,270,null,"-",null,null,{"$f":"Calc_WHDHC!J276/3.6/(2*Input!$B$5*PI())*60","v":55.875900340891583},null,null,{"$f":"ROUND(IF(Calc_WHDHC!H276<0,Calc_WHDHC!I276,2*PI()*Calc_WHDHC!G276/60*Calc_WHDHC!H276/1000*IF(Input!$B$4=\"Other\",0.95*0.95,0.98*0.95)),3)","v":-2.758}]
[271,null,{"$f":"Calc_WHDHC!G277","v":1178},null,null,{"$f":"ROUND(IF(Calc_WHDHC!H277<0,Calc_WHDHC!I277*IF(Input!$B$4=\"Other\",0.95*0.95,0.98*0.95),2*PI()*Calc_WHDHC!G277/60*Calc_WHDHC!H277/1000),3)","v":-4.41},null,null,271,null,"-",null,null,{"$f":"Calc_WHDHC!J277/3.6/(2*Input!$B$5*PI())*60","v":53.522356471230637},null,null,{"$f":"ROUND(IF(Calc_WHDHC!H277<0,Calc_WHDHC!I277,2*PI()*Calc_WHDHC!G277/60*Calc_WHDHC!H277/1000*IF(Input!$B$4=\"Other\",0.95*0.95,0.98*0.95)),3)","v":-4.7370000000000001}]
[272,null,{"$f":"Calc_WHDHC!G278","v":1111},null,null,{"$f":"ROUND(IF(Calc_WHDHC!H278<0,Calc_WHDHC!I278*IF(Input!$B$4=\"Other\",0.95*0.95,0.98*0.95),2*PI()*Calc_WHDHC!G278/60*Calc_WHDHC!H278/1000),3)","v":-5.1710000000000003},null,null,272,null,"-",null,null,{"$f":"Calc_WHDHC!J278/3.6/(2*Input!$B$5*PI())*60","v":50.476593816375299},null,null,{"$f":"ROUND(IF(Calc_WHDHC!H278<0,Calc_WHDHC!I278,2*PI()*Calc_WHDHC!G278/60*Calc_WHDHC!H278/1000*IF(Input!$B$4=\"Other\",0.95*0.95,0.98*0.95)),3)","v":-5.5540000000000003}]
[273,null,{"$f":"Calc_WHDHC!G279","v":1034},null,null,{"$f":"ROUND(IF(Calc_WHDHC!H279<0,Calc_WHDHC!I279*IF(Input!$B$4=\"Other\",0.95*0.95,0.98*0.95),2*PI()*Calc_WHDHC!G279/60*Calc_WHDHC!H279/1000),3)","v":-6.0780000000000003},null,null,273,null,"-",null,null,{"$f":"Calc_WHDHC!J279/3.6/(2*Input!$B$5*PI())*60","v":47.043188641811099},null,null,{"$f":"ROUND(IF(Calc_WHDHC!H279<0,Calc_WHDHC!I279,2*PI()*Calc_WHDHC!G279/60*Calc_WHDHC!H279/1000*IF(Input!$B$4=\"Other\",0.95*0.95,0.98*0.95)),3)","v":-6.5279999999999996}]
[274,null,{"$f":"Calc_WHDHC!G280","v":946},null,null,{"$f":"ROUND(IF(Calc_WHDHC!H280<0,Calc_WHDHC!I280*IF(Input!$B$4=\"Other\",0.95*0.95,0.98*0.95),2*PI()*Calc_WHDHC!G280/60*Calc_WHDHC!H280/1000),3)","v":-7.8449999999999998},null,null,274,null,"-",null,null,{"$f":"Calc_WHDHC!J280/3.6/(2*Input!$B$5*PI())*60","v":43.083697190499159},null,null,{"$f":"ROUND(IF(Calc_WHDHC!H280<0,Calc_WHDHC!I280,2*PI()*Calc_WHDHC!G280/60*Calc_WHDHC!H280/1000*IF(Input!$B$4=\"Other\",0.95*0.95,0.98*0.95)),3)","v":-8.4260000000000002}]
[275,null,{"$f":"Calc_WHDHC!G281","v":833},null,null,{"$f":"ROUND(IF(Calc_WHDHC!H281<0,Calc_WHDHC!I281*IF(Input!$B$4=\"Other\",0.95*0.95,0.98*0.95),2*PI()*Calc_WHDHC!G281/60*Calc_WHDHC!H281/1000),3)","v":-9.1790000000000003},null,null,275,null,"-",null,null,{"$f":"Calc_WHDHC!J281/3.6/(2*Input!$B$5*PI())*60","v":38.09972193709951},null,null,{"$f":"ROUND(IF(Calc_WHDHC!H281<0,Calc_WHDHC!I281,2*PI()*Calc_WHDHC!G281/60*Calc_WHDHC!H281/1000*IF(Input!$B$4=\"Other\",0.95*0.95,0.98*0.95)),3)","v":-9.859}]
[276,null,{"$f":"Calc_WHDHC!G282","v":693},null,null,{"$f":"ROUND(IF(Calc_WHDHC!H282<0,Calc_WHDHC!I282*IF(Input!$B$4=\"Other\",0.95*0.95,0.98*0.95),2*PI()*Calc_WHDHC!G282/60*Calc_WHDHC!H282/1000),3)","v":-9.5489999999999995},null,null,276,null,"-",null,null,{"$f":"Calc_WHDHC!J282/3.6/(2*Input!$B$5*PI())*60","v":31.842064118942179},null,null,{"$f":"ROUND(IF(Calc_WHDHC!H282<0,Calc_WHDHC!I282,2*PI()*Calc_WHDHC!G282/60*Calc_WHDHC!H282/1000*IF(Input!$B$4=\"Other\",0.95*0.95,0.98*0.95)),3)","v":-10.257}]
[277,null,{"$f":"Calc_WHDHC!G283","v":560},null,null,{"$f":"ROUND(IF(Calc_WHDHC!H283<0,Calc_WHDHC!I283*IF(Input!$B$4=\"Other\",0.95*0.95,0.98*0.95),2*PI()*Calc_WHDHC!G283/60*Calc_WHDHC!H283/1000),3)","v":-7.9859999999999998},null,null,277,null,"-",null,null,{"$f":"Calc_WHDHC!J283/3.6/(2*Input!$B$5*PI())*60","v":24.033836221949404},null,null,{"$f":"ROUND(IF(Calc_WHDHC!H283<0,Calc_WHDHC!I283,2*PI()*Calc_WHDHC!G283/60*Calc_WHDHC!H283/1000*IF(Input!$B$4=\"Other\",0.95*0.95,0.98*0.95)),3)","v":-8.5779999999999994}]
[278,null,{"$f":"Calc_WHDHC!G284","v":560},null,null,{"$f":"ROUND(IF(Calc_WHDHC!H284<0,Calc_WHDHC!I284*IF(Input!$B$4=\"Other\",0.95*0.95,0.98*0.95),2*PI()*Calc_WHDHC!G284/60*Calc_WHDHC!H284/1000),3)","v":0},null,null,278,null,"-",null,null,{"$f":"Calc_WHDHC!J284/3.6/(2*Input!$B$5*PI())*60","v":14.398150732043421},null,null,{"$f":"ROUND(IF(Calc_WHDHC!H284<0,Calc_WHDHC!I284,2*PI()*Calc_WHDHC!G284/60*Calc_WHDHC!H284/1000*IF(Input!$B$4=\"Other\",0.95*0.95,0.98*0.95)),3)","v":0}]
[279,null,{"$f":"Calc_WHDHC!G285","v":560},null,null,{"$f":"ROUND(IF(Calc_WHDHC!H285<0,Calc_WHDHC!I285*IF(Input!$B$4=\"Other\",0.95*0.95,0.98*0.95),2*PI()*Calc_WHDHC!G285/60*Calc_WHDHC!H285/1000),3)","v":0},null,null,279,null,"-",null,null,{"$f":"Calc_WHDHC!J285/3.6/(2*Input!$B$5*PI())*60","v":5.5100615301473868},null,null,{"$f":"ROUND(IF(Calc_WHDHC!H285<0,Calc_WHDHC!I285,2*PI()*Calc_WHDHC!G285/60*Calc_WHDHC!H285/1000*IF(Input!$B$4=\"Other\",0.95*0.95,0.98*0.95)),3)","v":0}]
[280,null,{"$f":"Calc_WHDHC!G286","v":560},null,null,{"$f":"ROUND(IF(Calc_WHDHC!H286<0,Calc_WHDHC!I286*IF(Input!$B$4=\"Other\",0.95*0.95,0.98*0.95),2*PI()*Calc_WHDHC!G286/60*Calc_WHDHC!H286/1000),3)","v":0},null,null,280,null,"-",null,null,{"$f":"Calc_WHDHC!J286/3.6/(2*Input!$B$5*PI())*60","v":0},null,null,{"$f":"ROUND(IF(Calc_WHDHC!H286<0,Calc_WHDHC!I286,2*PI()*Calc_WHDHC!G286/60*Calc_WHDHC!H286/1000*IF(Input!$B$4=\"Other\",0.95*0.95,0.98*0.95)),3)","v":0}]
[281,null,{"$f":"Calc_WHDHC!G287","v":560},null,null,{"$f":"ROUND(IF(Calc_WHDHC!H287<0,Calc_WHDHC!I287*IF(Input!$B$4=\"Other\",0.95*0.95,0.98*0.95),2*PI()*Calc_WHDHC!G287/60*Calc_WHDHC!H287/1000),3)","v":0},null,null,281,null,"-",null,null,{"$f":"Calc_WHDHC!J287/3.6/(2*Input!$B$5*PI())*60","v":0},null,null,{"$f":"ROUND(IF(Calc_WHDHC!H287<0,Calc_WHDHC!I287,2*PI()*Calc_WHDHC!G287/60*Calc_WHDHC!H287/1000*IF(Input!$B$4=\"Other\",0.95*0.95,0.98*0.95)),3)","v":0}]
[282,null,{"$f":"Calc_WHDHC!G288","v":560},null,null,{"$f":"ROUND(IF(Calc_WHDHC!H288<0,Calc_WHDHC!I288*IF(Input!$B$4=\"Other\",0.95*0.95,0.98*0.95),2*PI()*Calc_WHDHC!G288/60*Calc_WHDHC!H288/1000),3)","v":0},null,null,282,null,"-",null,null,{"$f":"Calc_WHDHC!J288/3.6/(2*Input!$B$5*PI())*60","v":0},null,null,{"$f":"ROUND(IF(Calc_WHDHC!H288<0,Calc_WHDHC!I288,2*PI()*Calc_WHDHC!G288/60*Calc_WHDHC!H288/1000*IF(Input!$B$4=\"Other\",0.95*0.95,0.98*0.95)),3)","v":0}]
[283,null,{"$f":"Calc_WHDHC!G289","v":560},null,null,{"$f":"ROUND(IF(Calc_WHDHC!H289<0,Calc_WHDHC!I289*IF(Input!$B$4=\"Other\",0.95*0.95,0.98*0.95),2*PI()*Calc_WHDHC!G289/60*Calc_WHDHC!H289/1000),3)","v":0},null,null,283,null,"-",null,null,{"$f":"Calc_WHDHC!J289/3.6/(2*Input!$B$5*PI())*60","v":1.3844375703887906},null,null,{"$f":"ROUND(IF(Calc_WHDHC!H289<0,Calc_WHDHC!I289,2*PI()*Calc_WHDHC!G289/60*Calc_WHDHC!H289/1000*IF(Input!$B$4=\"Other\",0.95*0.95,0.98*0.95)),3)","v":0}]
[284,null,{"$f":"Calc_WHDHC!G290","v":560},null,null,{"$f":"ROUND(IF(Calc_WHDHC!H290<0,Calc_WHDHC!I290*IF(Input!$B$4=\"Other\",0.95*0.95,0.98*0.95),2*PI()*Calc_WHDHC!G290/60*Calc_WHDHC!H290/1000),3)","v":0},null,null,284,null,"-",null,null,{"$f":"Calc_WHDHC!J290/3.6/(2*Input!$B$5*PI())*60","v":1.578258830243221},null,null,{"$f":"ROUND(IF(Calc_WHDHC!H290<0,Calc_WHDHC!I290,2*PI()*Calc_WHDHC!G290/60*Calc_WHDHC!H290/1000*IF(Input!$B$4=\"Other\",0.95*0.95,0.98*0.95)),3)","v":0}]
[285,null,{"$f":"Calc_WHDHC!G291","v":560},null,null,{"$f":"ROUND(IF(Calc_WHDHC!H291<0,Calc_WHDHC!I291*IF(Input!$B$4=\"Other\",0.95*0.95,0.98*0.95),2*PI()*Calc_WHDHC!G291/60*Calc_WHDHC!H291/1000),3)","v":0},null,null,285,null,"-",null,null,{"$f":"Calc_WHDHC!J291/3.6/(2*Input!$B$5*PI())*60","v":1.6613250844665484},null,null,{"$f":"ROUND(IF(Calc_WHDHC!H291<0,Calc_WHDHC!I291,2*PI()*Calc_WHDHC!G291/60*Calc_WHDHC!H291/1000*IF(Input!$B$4=\"Other\",0.95*0.95,0.98*0.95)),3)","v":0}]
[286,null,{"$f":"Calc_WHDHC!G292","v":560},null,null,{"$f":"ROUND(IF(Calc_WHDHC!H292<0,Calc_WHDHC!I292*IF(Input!$B$4=\"Other\",0.95*0.95,0.98*0.95),2*PI()*Calc_WHDHC!G292/60*Calc_WHDHC!H292/1000),3)","v":0},null,null,286,null,"-",null,null,{"$f":"Calc_WHDHC!J292/3.6/(2*Input!$B$5*PI())*60","v":1.6059475816509967},null,null,{"$f":"ROUND(IF(Calc_WHDHC!H292<0,Calc_WHDHC!I292,2*PI()*Calc_WHDHC!G292/60*Calc_WHDHC!H292/1000*IF(Input!$B$4=\"Other\",0.95*0.95,0.98*0.95)),3)","v":0}]
[287,null,{"$f":"Calc_WHDHC!G293","v":560},null,null,{"$f":"ROUND(IF(Calc_WHDHC!H293<0,Calc_WHDHC!I293*IF(Input!$B$4=\"Other\",0.95*0.95,0.98*0.95),2*PI()*Calc_WHDHC!G293/60*Calc_WHDHC!H293/1000),3)","v":0},null,null,287,null,"-",null,null,{"$f":"Calc_WHDHC!J293/3.6/(2*Input!$B$5*PI())*60","v":0},null,null,{"$f":"ROUND(IF(Calc_WHDHC!H293<0,Calc_WHDHC!I293,2*PI()*Calc_WHDHC!G293/60*Calc_WHDHC!H293/1000*IF(Input!$B$4=\"Other\",0.95*0.95,0.98*0.95)),3)","v":0}]
[288,null,{"$f":"Calc_WHDHC!G294","v":560},null,null,{"$f":"ROUND(IF(Calc_WHDHC!H294<0,Calc_WHDHC!I294*IF(Input!$B$4=\"Other\",0.95*0.95,0.98*0.95),2*PI()*Calc_WHDHC!G294/60*Calc_WHDHC!H294/1000),3)","v":0},null,null,288,null,"-",null,null,{"$f":"Calc_WHDHC!J294/3.6/(2*Input!$B$5*PI())*60","v":0},null,null,{"$f":"ROUND(IF(Calc_WHDHC!H294<0,Calc_WHDHC!I294,2*PI()*Calc_WHDHC!G294/60*Calc_WHDHC!H294/1000*IF(Input!$B$4=\"Other\",0.95*0.95,0.98*0.95)),3)","v":0}]
[289,null,{"$f":"Calc_WHDHC!G295","v":560},null,null,{"$f":"ROUND(IF(Calc_WHDHC!H295<0,Calc_WHDHC!I295*IF(Input!$B$4=\"Other\",0.95*0.95,0.98*0.95),2*PI()*Calc_WHDHC!G295/60*Calc_WHDHC!H295/1000),3)","v":0},null,null,289,null,"-",null,null,{"$f":"Calc_WHDHC!J295/3.6/(2*Input!$B$5*PI())*60","v":0},null,null,{"$f":"ROUND(IF(Calc_WHDHC!H295<0,Calc_WHDHC!I295,2*PI()*Calc_WHDHC!G295/60*Calc_WHDHC!H295/1000*IF(Input!$B$4=\"Other\",0.95*0.95,0.98*0.95)),3)","v":0}]
[290,null,{"$f":"Calc_WHDHC!G296","v":560},null,null,{"$f":"ROUND(IF(Calc_WHDHC!H296<0,Calc_WHDHC!I296*IF(Input!$B$4=\"Other\",0.95*0.95,0.98*0.95),2*PI()*Calc_WHDHC!G296/60*Calc_WHDHC!H296/1000),3)","v":0},null,null,290,null,"-",null,null,{"$f":"Calc_WHDHC!J296/3.6/(2*Input!$B$5*PI())*60","v":0},null,null,{"$f":"ROUND(IF(Calc_WHDHC!H296<0,Calc_WHDHC!I296,2*PI()*Calc_WHDHC!G296/60*Calc_WHDHC!H296/1000*IF(Input!$B$4=\"Other\",0.95*0.95,0.98*0.95)),3)","v":0}]
[291,null,{"$f":"Calc_WHDHC!G297","v":560},null,null,{"$f":"ROUND(IF(Calc_WHDHC!H297<0,Calc_WHDHC!I297*IF(Input!$B$4=\"Other\",0.95*0.95,0.98*0.95),2*PI()*Calc_WHDHC!G297/60*Calc_WHDHC!H297/1000),3)","v":0},null,null,291,null,"-",null,null,{"$f":"Calc_WHDHC!J297/3.6/(2*Input!$B$5*PI())*60","v":0},null,null,{"$f":"ROUND(IF(Calc_WHDHC!H297<0,Calc_WHDHC!I297,2*PI()*Calc_WHDHC!G297/60*Calc_WHDHC!H297/1000*IF(Input!$B$4=\"Other\",0.95*0.95,0.98*0.95)),3)","v":0}]
[292,null,{"$f":"Calc_WHDHC!G298","v":560},null,null,{"$f":"ROUND(IF(Calc_WHDHC!H298<0,Calc_WHDHC!I298*IF(Input!$B$4=\"Other\",0.95*0.95,0.98*0.95),2*PI()*Calc_WHDHC!G298/60*Calc_WHDHC!H298/1000),3)","v":0},null,null,292,null,"-",null,null,{"$f":"Calc_WHDHC!J298/3.6/(2*Input!$B$5*PI())*60","v":0},null,null,{"$f":"ROUND(IF(Calc_WHDHC!H298<0,Calc_WHDHC!I298,2*PI()*Calc_WHDHC!G298/60*Calc_WHDHC!H298/1000*IF(Input!$B$4=\"Other\",0.95*0.95,0.98*0.95)),3)","v":0}]
[293,null,{"$f":"Calc_WHDHC!G299","v":560},null,null,{"$f":"ROUND(IF(Calc_WHDHC!H299<0,Calc_WHDHC!I299*IF(Input!$B$4=\"Other\",0.95*0.95,0.98*0.95),2*PI()*Calc_WHDHC!G299/60*Calc_WHDHC!H299/1000),3)","v":0},null,null,293,null,"-",null,null,{"$f":"Calc_WHDHC!J299/3.6/(2*Input!$B$5*PI())*60","v":0},null,null,{"$f":"ROUND(IF(Calc_WHDHC!H299<0,Calc_WHDHC!I299,2*PI()*Calc_WHDHC!G299/60*Calc_WHDHC!H299/1000*IF(Input!$B$4=\"Other\",0.95*0.95,0.98*0.95)),3)","v":0}]
[294,null,{"$f":"Calc_WHDHC!G300","v":560},null,null,{"$f":"ROUND(IF(Calc_WHDHC!H300<0,Calc_WHDHC!I300*IF(Input!$B$4=\"Other\",0.95*0.95,0.98*0.95),2*PI()*Calc_WHDHC!G300/60*Calc_WHDHC!H300/1000),3)","v":0},null,null,294,null,"-",null,null,{"$f":"Calc_WHDHC!J300/3.6/(2*Input!$B$5*PI())*60","v":0},null,null,{"$f":"ROUND(IF(Calc_WHDHC!H300<0,Calc_WHDHC!I300,2*PI()*Calc_WHDHC!G300/60*Calc_WHDHC!H300/1000*IF(Input!$B$4=\"Other\",0.95*0.95,0.98*0.95)),3)","v":0}]
[295,null,{"$f":"Calc_WHDHC!G301","v":560},null,null,{"$f":"ROUND(IF(Calc_WHDHC!H301<0,Calc_WHDHC!I301*IF(Input!$B$4=\"Other\",0.95*0.95,0.98*0.95),2*PI()*Calc_WHDHC!G301/60*Calc_WHDHC!H301/1000),3)","v":0},null,null,295,null,"-",null,null,{"$f":"Calc_WHDHC!J301/3.6/(2*Input!$B$5*PI())*60","v":0},null,null,{"$f":"ROUND(IF(Calc_WHDHC!H301<0,Calc_WHDHC!I301,2*PI()*Calc_WHDHC!G301/60*Calc_WHDHC!H301/1000*IF(Input!$B$4=\"Other\",0.95*0.95,0.98*0.95)),3)","v":0}]
[296,null,{"$f":"Calc_WHDHC!G302","v":560},null,null,{"$f":"ROUND(IF(Calc_WHDHC!H302<0,Calc_WHDHC!I302*IF(Input!$B$4=\"Other\",0.95*0.95,0.98*0.95),2*PI()*Calc_WHDHC!G302/60*Calc_WHDHC!H302/1000),3)","v":0},null,null,296,null,"-",null,null,{"$f":"Calc_WHDHC!J302/3.6/(2*Input!$B$5*PI())*60","v":0},null,null,{"$f":"ROUND(IF(Calc_WHDHC!H302<0,Calc_WHDHC!I302,2*PI()*Calc_WHDHC!G302/60*Calc_WHDHC!H302/1000*IF(Input!$B$4=\"Other\",0.95*0.95,0.98*0.95)),3)","v":0}]
[297,null,{"$f":"Calc_WHDHC!G303","v":560},null,null,{"$f":"ROUND(IF(Calc_WHDHC!H303<0,Calc_WHDHC!I303*IF(Input!$B$4=\"Other\",0.95*0.95,0.98*0.95),2*PI()*Calc_WHDHC!G303/60*Calc_WHDHC!H303/1000),3)","v":0},null,null,297,null,"-",null,null,{"$f":"Calc_WHDHC!J303/3.6/(2*Input!$B$5*PI())*60","v":0},null,null,{"$f":"ROUND(IF(Calc_WHDHC!H303<0,Calc_WHDHC!I303,2*PI()*Calc_WHDHC!G303/60*Calc_WHDHC!H303/1000*IF(Input!$B$4=\"Other\",0.95*0.95,0.98*0.95)),3)","v":0}]
[298,null,{"$f":"Calc_WHDHC!G304","v":560},null,null,{"$f":"ROUND(IF(Calc_WHDHC!H304<0,Calc_WHDHC!I304*IF(Input!$B$4=\"Other\",0.95*0.95,0.98*0.95),2*PI()*Calc_WHDHC!G304/60*Calc_WHDHC!H304/1000),3)","v":0},null,null,298,null,"-",null,null,{"$f":"Calc_WHDHC!J304/3.6/(2*Input!$B$5*PI())*60","v":0},null,null,{"$f":"ROUND(IF(Calc_WHDHC!H304<0,Calc_WHDHC!I304,2*PI()*Calc_WHDHC!G304/60*Calc_WHDHC!H304/1000*IF(Input!$B$4=\"Other\",0.95*0.95,0.98*0.95)),3)","v":0}]
[299,null,{"$f":"Calc_WHDHC!G305","v":560},null,null,{"$f":"ROUND(IF(Calc_WHDHC!H305<0,Calc_WHDHC!I305*IF(Input!$B$4=\"Other\",0.95*0.95,0.98*0.95),2*PI()*Calc_WHDHC!G305/60*Calc_WHDHC!H305/1000),3)","v":0},null,null,299,null,"-",null,null,{"$f":"Calc_WHDHC!J305/3.6/(2*Input!$B$5*PI())*60","v":0},null,null,{"$f":"ROUND(IF(Calc_WHDHC!H305<0,Calc_WHDHC!I305,2*PI()*Calc_WHDHC!G305/60*Calc_WHDHC!H305/1000*IF(Input!$B$4=\"Other\",0.95*0.95,0.98*0.95)),3)","v":0}]
[300,null,{"$f":"Calc_WHDHC!G306","v":560},null,null,{"$f":"ROUND(IF(Calc_WHDHC!H306<0,Calc_WHDHC!I306*IF(Input!$B$4=\"Other\",0.95*0.95,0.98*0.95),2*PI()*Calc_WHDHC!G306/60*Calc_WHDHC!H306/1000),3)","v":0},null,null,300,null,"-",null,null,{"$f":"Calc_WHDHC!J306/3.6/(2*Input!$B$5*PI())*60","v":0},null,null,{"$f":"ROUND(IF(Calc_WHDHC!H306<0,Calc_WHDHC!I306,2*PI()*Calc_WHDHC!G306/60*Calc_WHDHC!H306/1000*IF(Input!$B$4=\"Other\",0.95*0.95,0.98*0.95)),3)","v":0}]
[301,null,{"$f":"Calc_WHDHC!G307","v":560},null,null,{"$f":"ROUND(IF(Calc_WHDHC!H307<0,Calc_WHDHC!I307*IF(Input!$B$4=\"Other\",0.95*0.95,0.98*0.95),2*PI()*Calc_WHDHC!G307/60*Calc_WHDHC!H307/1000),3)","v":0},null,null,301,null,"-",null,null,{"$f":"Calc_WHDHC!J307/3.6/(2*Input!$B$5*PI())*60","v":0},null,null,{"$f":"ROUND(IF(Calc_WHDHC!H307<0,Calc_WHDHC!I307,2*PI()*Calc_WHDHC!G307/60*Calc_WHDHC!H307/1000*IF(Input!$B$4=\"Other\",0.95*0.95,0.98*0.95)),3)","v":0}]
[302,null,{"$f":"Calc_WHDHC!G308","v":560},null,null,{"$f":"ROUND(IF(Calc_WHDHC!H308<0,Calc_WHDHC!I308*IF(Input!$B$4=\"Other\",0.95*0.95,0.98*0.95),2*PI()*Calc_WHDHC!G308/60*Calc_WHDHC!H308/1000),3)","v":0},null,null,302,null,"-",null,null,{"$f":"Calc_WHDHC!J308/3.6/(2*Input!$B$5*PI())*60","v":0},null,null,{"$f":"ROUND(IF(Calc_WHDHC!H308<0,Calc_WHDHC!I308,2*PI()*Calc_WHDHC!G308/60*Calc_WHDHC!H308/1000*IF(Input!$B$4=\"Other\",0.95*0.95,0.98*0.95)),3)","v":0}]
[303,null,{"$f":"Calc_WHDHC!G309","v":560},null,null,{"$f":"ROUND(IF(Calc_WHDHC!H309<0,Calc_WHDHC!I309*IF(Input!$B$4=\"Other\",0.95*0.95,0.98*0.95),2*PI()*Calc_WHDHC!G309/60*Calc_WHDHC!H309/1000),3)","v":0},null,null,303,null,"-",null,null,{"$f":"Calc_WHDHC!J309/3.6/(2*Input!$B$5*PI())*60","v":0},null,null,{"$f":"ROUND(IF(Calc_WHDHC!H309<0,Calc_WHDHC!I309,2*PI()*Calc_WHDHC!G309/60*Calc_WHDHC!H309/1000*IF(Input!$B$4=\"Other\",0.95*0.95,0.98*0.95)),3)","v":0}]
[304,null,{"$f":"Calc_WHDHC!G310","v":560},null,null,{"$f":"ROUND(IF(Calc_WHDHC!H310<0,Calc_WHDHC!I310*IF(Input!$B$4=\"Other\",0.95*0.95,0.98*0.95),2*PI()*Calc_WHDHC!G310/60*Calc_WHDHC!H310/1000),3)","v":0},null,null,304,null,"-",null,null,{"$f":"Calc_WHDHC!J310/3.6/(2*Input!$B$5*PI())*60","v":0},null,null,{"$f":"ROUND(IF(Calc_WHDHC!H310<0,Calc_WHDHC!I310,2*PI()*Calc_WHDHC!G310/60*Calc_WHDHC!H310/1000*IF(Input!$B$4=\"Other\",0.95*0.95,0.98*0.95)),3)","v":0}]
[305,null,{"$f":"Calc_WHDHC!G311","v":560},null,null,{"$f":"ROUND(IF(Calc_WHDHC!H311<0,Calc_WHDHC!I311*IF(Input!$B$4=\"Other\",0.95*0.95,0.98*0.95),2*PI()*Calc_WHDHC!G311/60*Calc_WHDHC!H311/1000),3)","v":0},null,null,305,null,"-",null,null,{"$f":"Calc_WHDHC!J311/3.6/(2*Input!$B$5*PI())*60","v":0},null,null,{"$f":"ROUND(IF(Calc_WHDHC!H311<0,Calc_WHDHC!I311,2*PI()*Calc_WHDHC!G311/60*Calc_WHDHC!H311/1000*IF(Input!$B$4=\"Other\",0.95*0.95,0.98*0.95)),3)","v":0}]
[306,null,{"$f":"Calc_WHDHC!G312","v":560},null,null,{"$f":"ROUND(IF(Calc_WHDHC!H312<0,Calc_WHDHC!I312*IF(Input!$B$4=\"Other\",0.95*0.95,0.98*0.95),2*PI()*Calc_WHDHC!G312/60*Calc_WHDHC!H312/1000),3)","v":0},null,null,306,null,"-",null,null,{"$f":"Calc_WHDHC!J312/3.6/(2*Input!$B$5*PI())*60","v":0},null,null,{"$f":"ROUND(IF(Calc_WHDHC!H312<0,Calc_WHDHC!I312,2*PI()*Calc_WHDHC!G312/60*Calc_WHDHC!H312/1000*IF(Input!$B$4=\"Other\",0.95*0.95,0.98*0.95)),3)","v":0}]
[307,null,{"$f":"Calc_WHDHC!G313","v":560},null,null,{"$f":"ROUND(IF(Calc_WHDHC!H313<0,Calc_WHDHC!I313*IF(Input!$B$4=\"Other\",0.95*0.95,0.98*0.95),2*PI()*Calc_WHDHC!G313/60*Calc_WHDHC!H313/1000),3)","v":0},null,null,307,null,"-",null,null,{"$f":"Calc_WHDHC!J313/3.6/(2*Input!$B$5*PI())*60","v":0},null,null,{"$f":"ROUND(IF(Calc_WHDHC!H313<0,Calc_WHDHC!I313,2*PI()*Calc_WHDHC!G313/60*Calc_WHDHC!H313/1000*IF(Input!$B$4=\"Other\",0.95*0.95,0.98*0.95)),3)","v":0}]
[308,null,{"$f":"Calc_WHDHC!G314","v":560},null,null,{"$f":"ROUND(IF(Calc_WHDHC!H314<0,Calc_WHDHC!I314*IF(Input!$B$4=\"Other\",0.95*0.95,0.98*0.95),2*PI()*Calc_WHDHC!G314/60*Calc_WHDHC!H314/1000),3)","v":0},null,null,308,null,"-",null,null,{"$f":"Calc_WHDHC!J314/3.6/(2*Input!$B$5*PI())*60","v":0},null,null,{"$f":"ROUND(IF(Calc_WHDHC!H314<0,Calc_WHDHC!I314,2*PI()*Calc_WHDHC!G314/60*Calc_WHDHC!H314/1000*IF(Input!$B$4=\"Other\",0.95*0.95,0.98*0.95)),3)","v":0}]
[309,null,{"$f":"Calc_WHDHC!G315","v":560},null,null,{"$f":"ROUND(IF(Calc_WHDHC!H315<0,Calc_WHDHC!I315*IF(Input!$B$4=\"Other\",0.95*0.95,0.98*0.95),2*PI()*Calc_WHDHC!G315/60*Calc_WHDHC!H315/1000),3)","v":0},null,null,309,null,"-",null,null,{"$f":"Calc_WHDHC!J315/3.6/(2*Input!$B$5*PI())*60","v":0},null,null,{"$f":"ROUND(IF(Calc_WHDHC!H315<0,Calc_WHDHC!I315,2*PI()*Calc_WHDHC!G315/60*Calc_WHDHC!H315/1000*IF(Input!$B$4=\"Other\",0.95*0.95,0.98*0.95)),3)","v":0}]
[310,null,{"$f":"Calc_WHDHC!G316","v":560},null,null,{"$f":"ROUND(IF(Calc_WHDHC!H316<0,Calc_WHDHC!I316*IF(Input!$B$4=\"Other\",0.95*0.95,0.98*0.95),2*PI()*Calc_WHDHC!G316/60*Calc_WHDHC!H316/1000),3)","v":0},null,null,310,null,"-",null,null,{"$f":"Calc_WHDHC!J316/3.6/(2*Input!$B$5*PI())*60","v":0},null,null,{"$f":"ROUND(IF(Calc_WHDHC!H316<0,Calc_WHDHC!I316,2*PI()*Calc_WHDHC!G316/60*Calc_WHDHC!H316/1000*IF(Input!$B$4=\"Other\",0.95*0.95,0.98*0.95)),3)","v":0}]
[311,null,{"$f":"Calc_WHDHC!G317","v":560},null,null,{"$f":"ROUND(IF(Calc_WHDHC!H317<0,Calc_WHDHC!I317*IF(Input!$B$4=\"Other\",0.95*0.95,0.98*0.95),2*PI()*Calc_WHDHC!G317/60*Calc_WHDHC!H317/1000),3)","v":0},null,null,311,null,"-",null,null,{"$f":"Calc_WHDHC!J317/3.6/(2*Input!$B$5*PI())*60","v":0},null,null,{"$f":"ROUND(IF(Calc_WHDHC!H317<0,Calc_WHDHC!I317,2*PI()*Calc_WHDHC!G317/60*Calc_WHDHC!H317/1000*IF(Input!$B$4=\"Other\",0.95*0.95,0.98*0.95)),3)","v":0}]
[312,null,{"$f":"Calc_WHDHC!G318","v":560},null,null,{"$f":"ROUND(IF(Calc_WHDHC!H318<0,Calc_WHDHC!I318*IF(Input!$B$4=\"Other\",0.95*0.95,0.98*0.95),2*PI()*Calc_WHDHC!G318/60*Calc_WHDHC!H318/1000),3)","v":0},null,null,312,null,"-",null,null,{"$f":"Calc_WHDHC!J318/3.6/(2*Input!$B$5*PI())*60","v":0},null,null,{"$f":"ROUND(IF(Calc_WHDHC!H318<0,Calc_WHDHC!I318,2*PI()*Calc_WHDHC!G318/60*Calc_WHDHC!H318/1000*IF(Input!$B$4=\"Other\",0.95*0.95,0.98*0.95)),3)","v":0}]
[313,null,{"$f":"Calc_WHDHC!G319","v":560},null,null,{"$f":"ROUND(IF(Calc_WHDHC!H319<0,Calc_WHDHC!I319*IF(Input!$B$4=\"Other\",0.95*0.95,0.98*0.95),2*PI()*Calc_WHDHC!G319/60*Calc_WHDHC!H319/1000),3)","v":0},null,null,313,null,"-",null,null,{"$f":"Calc_WHDHC!J319/3.6/(2*Input!$B$5*PI())*60","v":0},null,null,{"$f":"ROUND(IF(Calc_WHDHC!H319<0,Calc_WHDHC!I319,2*PI()*Calc_WHDHC!G319/60*Calc_WHDHC!H319/1000*IF(Input!$B$4=\"Other\",0.95*0.95,0.98*0.95)),3)","v":0}]
[314,null,{"$f":"Calc_WHDHC!G320","v":560},null,null,{"$f":"ROUND(IF(Calc_WHDHC!H320<0,Calc_WHDHC!I320*IF(Input!$B$4=\"Other\",0.95*0.95,0.98*0.95),2*PI()*Calc_WHDHC!G320/60*Calc_WHDHC!H320/1000),3)","v":0},null,null,314,null,"-",null,null,{"$f":"Calc_WHDHC!J320/3.6/(2*Input!$B$5*PI())*60","v":0},null,null,{"$f":"ROUND(IF(Calc_WHDHC!H320<0,Calc_WHDHC!I320,2*PI()*Calc_WHDHC!G320/60*Calc_WHDHC!H320/1000*IF(Input!$B$4=\"Other\",0.95*0.95,0.98*0.95)),3)","v":0}]
[315,null,{"$f":"Calc_WHDHC!G321","v":560},null,null,{"$f":"ROUND(IF(Calc_WHDHC!H321<0,Calc_WHDHC!I321*IF(Input!$B$4=\"Other\",0.95*0.95,0.98*0.95),2*PI()*Calc_WHDHC!G321/60*Calc_WHDHC!H321/1000),3)","v":0},null,null,315,null,"-",null,null,{"$f":"Calc_WHDHC!J321/3.6/(2*Input!$B$5*PI())*60","v":0},null,null,{"$f":"ROUND(IF(Calc_WHDHC!H321<0,Calc_WHDHC!I321,2*PI()*Calc_WHDHC!G321/60*Calc_WHDHC!H321/1000*IF(Input!$B$4=\"Other\",0.95*0.95,0.98*0.95)),3)","v":0}]
[316,null,{"$f":"Calc_WHDHC!G322","v":560},null,null,{"$f":"ROUND(IF(Calc_WHDHC!H322<0,Calc_WHDHC!I322*IF(Input!$B$4=\"Other\",0.95*0.95,0.98*0.95),2*PI()*Calc_WHDHC!G322/60*Calc_WHDHC!H322/1000),3)","v":0},null,null,316,null,"-",null,null,{"$f":"Calc_WHDHC!J322/3.6/(2*Input!$B$5*PI())*60","v":0},null,null,{"$f":"ROUND(IF(Calc_WHDHC!H322<0,Calc_WHDHC!I322,2*PI()*Calc_WHDHC!G322/60*Calc_WHDHC!H322/1000*IF(Input!$B$4=\"Other\",0.95*0.95,0.98*0.95)),3)","v":0}]
[317,null,{"$f":"Calc_WHDHC!G323","v":560},null,null,{"$f":"ROUND(IF(Calc_WHDHC!H323<0,Calc_WHDHC!I323*IF(Input!$B$4=\"Other\",0.95*0.95,0.98*0.95),2*PI()*Calc_WHDHC!G323/60*Calc_WHDHC!H323/1000),3)","v":0},null,null,317,null,"-",null,null,{"$f":"Calc_WHDHC!J323/3.6/(2*Input!$B$5*PI())*60","v":0},null,null,{"$f":"ROUND(IF(Calc_WHDHC!H323<0,Calc_WHDHC!I323,2*PI()*Calc_WHDHC!G323/60*Calc_WHDHC!H323/1000*IF(Input!$B$4=\"Other\",0.95*0.95,0.98*0.95)),3)","v":0}]
[318,null,{"$f":"Calc_WHDHC!G324","v":560},null,null,{"$f":"ROUND(IF(Calc_WHDHC!H324<0,Calc_WHDHC!I324*IF(Input!$B$4=\"Other\",0.95*0.95,0.98*0.95),2*PI()*Calc_WHDHC!G324/60*Calc_WHDHC!H324/1000),3)","v":0},null,null,318,null,"-",null,null,{"$f":"Calc_WHDHC!J324/3.6/(2*Input!$B$5*PI())*60","v":0},null,null,{"$f":"ROUND(IF(Calc_WHDHC!H324<0,Calc_WHDHC!I324,2*PI()*Calc_WHDHC!G324/60*Calc_WHDHC!H324/1000*IF(Input!$B$4=\"Other\",0.95*0.95,0.98*0.95)),3)","v":0}]
[319,null,{"$f":"Calc_WHDHC!G325","v":560},null,null,{"$f":"ROUND(IF(Calc_WHDHC!H325<0,Calc_WHDHC!I325*IF(Input!$B$4=\"Other\",0.95*0.95,0.98*0.95),2*PI()*Calc_WHDHC!G325/60*Calc_WHDHC!H325/1000),3)","v":0},null,null,319,null,"-",null,null,{"$f":"Calc_WHDHC!J325/3.6/(2*Input!$B$5*PI())*60","v":0},null,null,{"$f":"ROUND(IF(Calc_WHDHC!H325<0,Calc_WHDHC!I325,2*PI()*Calc_WHDHC!G325/60*Calc_WHDHC!H325/1000*IF(Input!$B$4=\"Other\",0.95*0.95,0.98*0.95)),3)","v":0}]
[320,null,{"$f":"Calc_WHDHC!G326","v":560},null,null,{"$f":"ROUND(IF(Calc_WHDHC!H326<0,Calc_WHDHC!I326*IF(Input!$B$4=\"Other\",0.95*0.95,0.98*0.95),2*PI()*Calc_WHDHC!G326/60*Calc_WHDHC!H326/1000),3)","v":0},null,null,320,null,"-",null,null,{"$f":"Calc_WHDHC!J326/3.6/(2*Input!$B$5*PI())*60","v":0},null,null,{"$f":"ROUND(IF(Calc_WHDHC!H326<0,Calc_WHDHC!I326,2*PI()*Calc_WHDHC!G326/60*Calc_WHDHC!H326/1000*IF(Input!$B$4=\"Other\",0.95*0.95,0.98*0.95)),3)","v":0}]
[321,null,{"$f":"Calc_WHDHC!G327","v":560},null,null,{"$f":"ROUND(IF(Calc_WHDHC!H327<0,Calc_WHDHC!I327*IF(Input!$B$4=\"Other\",0.95*0.95,0.98*0.95),2*PI()*Calc_WHDHC!G327/60*Calc_WHDHC!H327/1000),3)","v":0},null,null,321,null,"-",null,null,{"$f":"Calc_WHDHC!J327/3.6/(2*Input!$B$5*PI())*60","v":0},null,null,{"$f":"ROUND(IF(Calc_WHDHC!H327<0,Calc_WHDHC!I327,2*PI()*Calc_WHDHC!G327/60*Calc_WHDHC!H327/1000*IF(Input!$B$4=\"Other\",0.95*0.95,0.98*0.95)),3)","v":0}]
[322,null,{"$f":"Calc_WHDHC!G328","v":560},null,null,{"$f":"ROUND(IF(Calc_WHDHC!H328<0,Calc_WHDHC!I328*IF(Input!$B$4=\"Other\",0.95*0.95,0.98*0.95),2*PI()*Calc_WHDHC!G328/60*Calc_WHDHC!H328/1000),3)","v":0},null,null,322,null,"-",null,null,{"$f":"Calc_WHDHC!J328/3.6/(2*Input!$B$5*PI())*60","v":0},null,null,{"$f":"ROUND(IF(Calc_WHDHC!H328<0,Calc_WHDHC!I328,2*PI()*Calc_WHDHC!G328/60*Calc_WHDHC!H328/1000*IF(Input!$B$4=\"Other\",0.95*0.95,0.98*0.95)),3)","v":0}]
[323,null,{"$f":"Calc_WHDHC!G329","v":560},null,null,{"$f":"ROUND(IF(Calc_WHDHC!H329<0,Calc_WHDHC!I329*IF(Input!$B$4=\"Other\",0.95*0.95,0.98*0.95),2*PI()*Calc_WHDHC!G329/60*Calc_WHDHC!H329/1000),3)","v":0},null,null,323,null,"-",null,null,{"$f":"Calc_WHDHC!J329/3.6/(2*Input!$B$5*PI())*60","v":0},null,null,{"$f":"ROUND(IF(Calc_WHDHC!H329<0,Calc_WHDHC!I329,2*PI()*Calc_WHDHC!G329/60*Calc_WHDHC!H329/1000*IF(Input!$B$4=\"Other\",0.95*0.95,0.98*0.95)),3)","v":0}]
[324,null,{"$f":"Calc_WHDHC!G330","v":619},null,null,{"$f":"ROUND(IF(Calc_WHDHC!H330<0,Calc_WHDHC!I330*IF(Input!$B$4=\"Other\",0.95*0.95,0.98*0.95),2*PI()*Calc_WHDHC!G330/60*Calc_WHDHC!H330/1000),3)","v":30.335999999999999},null,null,324,null,"-",null,null,{"$f":"Calc_WHDHC!J330/3.6/(2*Input!$B$5*PI())*60","v":8.334314173740518},null,null,{"$f":"ROUND(IF(Calc_WHDHC!H330<0,Calc_WHDHC!I330,2*PI()*Calc_WHDHC!G330/60*Calc_WHDHC!H330/1000*IF(Input!$B$4=\"Other\",0.95*0.95,0.98*0.95)),3)","v":28.242999999999999}]
[325,null,{"$f":"Calc_WHDHC!G331","v":787},null,null,{"$f":"ROUND(IF(Calc_WHDHC!H331<0,Calc_WHDHC!I331*IF(Input!$B$4=\"Other\",0.95*0.95,0.98*0.95),2*PI()*Calc_WHDHC!G331/60*Calc_WHDHC!H331/1000),3)","v":48.954000000000001},null,null,325,null,"-",null,null,{"$f":"Calc_WHDHC!J331/3.6/(2*Input!$B$5*PI())*60","v":22.538643645929511},null,null,{"$f":"ROUND(IF(Calc_WHDHC!H331<0,Calc_WHDHC!I331,2*PI()*Calc_WHDHC!G331/60*Calc_WHDHC!H331/1000*IF(Input!$B$4=\"Other\",0.95*0.95,0.98*0.95)),3)","v":45.576000000000001}]
[326,null,{"$f":"Calc_WHDHC!G332","v":958},null,null,{"$f":"ROUND(IF(Calc_WHDHC!H332<0,Calc_WHDHC!I332*IF(Input!$B$4=\"Other\",0.95*0.95,0.98*0.95),2*PI()*Calc_WHDHC!G332/60*Calc_WHDHC!H332/1000),3)","v":71.63},null,null,326,null,"-",null,null,{"$f":"Calc_WHDHC!J332/3.6/(2*Input!$B$5*PI())*60","v":38.431986953992819},null,null,{"$f":"ROUND(IF(Calc_WHDHC!H332<0,Calc_WHDHC!I332,2*PI()*Calc_WHDHC!G332/60*Calc_WHDHC!H332/1000*IF(Input!$B$4=\"Other\",0.95*0.95,0.98*0.95)),3)","v":66.686999999999998}]
[327,null,{"$f":"Calc_WHDHC!G333","v":1101},null,null,{"$f":"ROUND(IF(Calc_WHDHC!H333<0,Calc_WHDHC!I333*IF(Input!$B$4=\"Other\",0.95*0.95,0.98*0.95),2*PI()*Calc_WHDHC!G333/60*Calc_WHDHC!H333/1000),3)","v":83.013000000000005},null,null,327,null,"-",null,null,{"$f":"Calc_WHDHC!J333/3.6/(2*Input!$B$5*PI())*60","v":50.061262545258657},null,null,{"$f":"ROUND(IF(Calc_WHDHC!H333<0,Calc_WHDHC!I333,2*PI()*Calc_WHDHC!G333/60*Calc_WHDHC!H333/1000*IF(Input!$B$4=\"Other\",0.95*0.95,0.98*0.95)),3)","v":77.286000000000001}]
[328,null,{"$f":"Calc_WHDHC!G334","v":1220},null,null,{"$f":"ROUND(IF(Calc_WHDHC!H334<0,Calc_WHDHC!I334*IF(Input!$B$4=\"Other\",0.95*0.95,0.98*0.95),2*PI()*Calc_WHDHC!G334/60*Calc_WHDHC!H334/1000),3)","v":87.641999999999996},null,null,328,null,"-",null,null,{"$f":"Calc_WHDHC!J334/3.6/(2*Input!$B$5*PI())*60","v":55.405191566959395},null,null,{"$f":"ROUND(IF(Calc_WHDHC!H334<0,Calc_WHDHC!I334,2*PI()*Calc_WHDHC!G334/60*Calc_WHDHC!H334/1000*IF(Input!$B$4=\"Other\",0.95*0.95,0.98*0.95)),3)","v":81.594999999999999}]
[329,null,{"$f":"Calc_WHDHC!G335","v":1239},null,null,{"$f":"ROUND(IF(Calc_WHDHC!H335<0,Calc_WHDHC!I335*IF(Input!$B$4=\"Other\",0.95*0.95,0.98*0.95),2*PI()*Calc_WHDHC!G335/60*Calc_WHDHC!H335/1000),3)","v":0.25900000000000001},null,null,329,null,"-",null,null,{"$f":"Calc_WHDHC!J335/3.6/(2*Input!$B$5*PI())*60","v":56.208165357784893},null,null,{"$f":"ROUND(IF(Calc_WHDHC!H335<0,Calc_WHDHC!I335,2*PI()*Calc_WHDHC!G335/60*Calc_WHDHC!H335/1000*IF(Input!$B$4=\"Other\",0.95*0.95,0.98*0.95)),3)","v":0.24199999999999999}]
[330,null,{"$f":"Calc_WHDHC!G336","v":1191},null,null,{"$f":"ROUND(IF(Calc_WHDHC!H336<0,Calc_WHDHC!I336*IF(Input!$B$4=\"Other\",0.95*0.95,0.98*0.95),2*PI()*Calc_WHDHC!G336/60*Calc_WHDHC!H336/1000),3)","v":-8.8719999999999999},null,null,330,null,"-",null,null,{"$f":"Calc_WHDHC!J336/3.6/(2*Input!$B$5*PI())*60","v":54.07613149938615},null,null,{"$f":"ROUND(IF(Calc_WHDHC!H336<0,Calc_WHDHC!I336,2*PI()*Calc_WHDHC!G336/60*Calc_WHDHC!H336/1000*IF(Input!$B$4=\"Other\",0.95*0.95,0.98*0.95)),3)","v":-9.5299999999999994}]
[331,null,{"$f":"Calc_WHDHC!G337","v":1091},null,null,{"$f":"ROUND(IF(Calc_WHDHC!H337<0,Calc_WHDHC!I337*IF(Input!$B$4=\"Other\",0.95*0.95,0.98*0.95),2*PI()*Calc_WHDHC!G337/60*Calc_WHDHC!H337/1000),3)","v":-9.0380000000000003},null,null,331,null,"-",null,null,{"$f":"Calc_WHDHC!J337/3.6/(2*Input!$B$5*PI())*60","v":49.618242522734249},null,null,{"$f":"ROUND(IF(Calc_WHDHC!H337<0,Calc_WHDHC!I337,2*PI()*Calc_WHDHC!G337/60*Calc_WHDHC!H337/1000*IF(Input!$B$4=\"Other\",0.95*0.95,0.98*0.95)),3)","v":-9.7080000000000002}]
[332,null,{"$f":"Calc_WHDHC!G338","v":983},null,null,{"$f":"ROUND(IF(Calc_WHDHC!H338<0,Calc_WHDHC!I338*IF(Input!$B$4=\"Other\",0.95*0.95,0.98*0.95),2*PI()*Calc_WHDHC!G338/60*Calc_WHDHC!H338/1000),3)","v":-6.9960000000000004},null,null,332,null,"-",null,null,{"$f":"Calc_WHDHC!J338/3.6/(2*Input!$B$5*PI())*60","v":44.772711026373493},null,null,{"$f":"ROUND(IF(Calc_WHDHC!H338<0,Calc_WHDHC!I338,2*PI()*Calc_WHDHC!G338/60*Calc_WHDHC!H338/1000*IF(Input!$B$4=\"Other\",0.95*0.95,0.98*0.95)),3)","v":-7.5149999999999997}]
[333,null,{"$f":"Calc_WHDHC!G339","v":882},null,null,{"$f":"ROUND(IF(Calc_WHDHC!H339<0,Calc_WHDHC!I339*IF(Input!$B$4=\"Other\",0.95*0.95,0.98*0.95),2*PI()*Calc_WHDHC!G339/60*Calc_WHDHC!H339/1000),3)","v":-6.0590000000000002},null,null,333,null,"-",null,null,{"$f":"Calc_WHDHC!J339/3.6/(2*Input!$B$5*PI())*60","v":40.287133298313805},null,null,{"$f":"ROUND(IF(Calc_WHDHC!H339<0,Calc_WHDHC!I339,2*PI()*Calc_WHDHC!G339/60*Calc_WHDHC!H339/1000*IF(Input!$B$4=\"Other\",0.95*0.95,0.98*0.95)),3)","v":-6.508}]
[334,null,{"$f":"Calc_WHDHC!G340","v":782},null,null,{"$f":"ROUND(IF(Calc_WHDHC!H340<0,Calc_WHDHC!I340*IF(Input!$B$4=\"Other\",0.95*0.95,0.98*0.95),2*PI()*Calc_WHDHC!G340/60*Calc_WHDHC!H340/1000),3)","v":-6.2510000000000003},null,null,334,null,"-",null,null,{"$f":"Calc_WHDHC!J340/3.6/(2*Input!$B$5*PI())*60","v":35.773866818846344},null,null,{"$f":"ROUND(IF(Calc_WHDHC!H340<0,Calc_WHDHC!I340,2*PI()*Calc_WHDHC!G340/60*Calc_WHDHC!H340/1000*IF(Input!$B$4=\"Other\",0.95*0.95,0.98*0.95)),3)","v":-6.7140000000000004}]
[335,null,{"$f":"Calc_WHDHC!G341","v":667},null,null,{"$f":"ROUND(IF(Calc_WHDHC!H341<0,Calc_WHDHC!I341*IF(Input!$B$4=\"Other\",0.95*0.95,0.98*0.95),2*PI()*Calc_WHDHC!G341/60*Calc_WHDHC!H341/1000),3)","v":-7.8849999999999998},null,null,335,null,"-",null,null,{"$f":"Calc_WHDHC!J341/3.6/(2*Input!$B$5*PI())*60","v":30.651447808407823},null,null,{"$f":"ROUND(IF(Calc_WHDHC!H341<0,Calc_WHDHC!I341,2*PI()*Calc_WHDHC!G341/60*Calc_WHDHC!H341/1000*IF(Input!$B$4=\"Other\",0.95*0.95,0.98*0.95)),3)","v":-8.4689999999999994}]
[336,null,{"$f":"Calc_WHDHC!G342","v":560},null,null,{"$f":"ROUND(IF(Calc_WHDHC!H342<0,Calc_WHDHC!I342*IF(Input!$B$4=\"Other\",0.95*0.95,0.98*0.95),2*PI()*Calc_WHDHC!G342/60*Calc_WHDHC!H342/1000),3)","v":-7.6210000000000004},null,null,336,null,"-",null,null,{"$f":"Calc_WHDHC!J342/3.6/(2*Input!$B$5*PI())*60","v":23.646193702240538},null,null,{"$f":"ROUND(IF(Calc_WHDHC!H342<0,Calc_WHDHC!I342,2*PI()*Calc_WHDHC!G342/60*Calc_WHDHC!H342/1000*IF(Input!$B$4=\"Other\",0.95*0.95,0.98*0.95)),3)","v":-8.1859999999999999}]
[337,null,{"$f":"Calc_WHDHC!G343","v":560},null,null,{"$f":"ROUND(IF(Calc_WHDHC!H343<0,Calc_WHDHC!I343*IF(Input!$B$4=\"Other\",0.95*0.95,0.98*0.95),2*PI()*Calc_WHDHC!G343/60*Calc_WHDHC!H343/1000),3)","v":0},null,null,337,null,"-",null,null,{"$f":"Calc_WHDHC!J343/3.6/(2*Input!$B$5*PI())*60","v":14.259706975004542},null,null,{"$f":"ROUND(IF(Calc_WHDHC!H343<0,Calc_WHDHC!I343,2*PI()*Calc_WHDHC!G343/60*Calc_WHDHC!H343/1000*IF(Input!$B$4=\"Other\",0.95*0.95,0.98*0.95)),3)","v":0}]
[338,null,{"$f":"Calc_WHDHC!G344","v":560},null,null,{"$f":"ROUND(IF(Calc_WHDHC!H344<0,Calc_WHDHC!I344*IF(Input!$B$4=\"Other\",0.95*0.95,0.98*0.95),2*PI()*Calc_WHDHC!G344/60*Calc_WHDHC!H344/1000),3)","v":0},null,null,338,null,"-",null,null,{"$f":"Calc_WHDHC!J344/3.6/(2*Input!$B$5*PI())*60","v":5.4269952759240585},null,null,{"$f":"ROUND(IF(Calc_WHDHC!H344<0,Calc_WHDHC!I344,2*PI()*Calc_WHDHC!G344/60*Calc_WHDHC!H344/1000*IF(Input!$B$4=\"Other\",0.95*0.95,0.98*0.95)),3)","v":0}]
[339,null,{"$f":"Calc_WHDHC!G345","v":560},null,null,{"$f":"ROUND(IF(Calc_WHDHC!H345<0,Calc_WHDHC!I345*IF(Input!$B$4=\"Other\",0.95*0.95,0.98*0.95),2*PI()*Calc_WHDHC!G345/60*Calc_WHDHC!H345/1000),3)","v":0},null,null,339,null,"-",null,null,{"$f":"Calc_WHDHC!J345/3.6/(2*Input!$B$5*PI())*60","v":0},null,null,{"$f":"ROUND(IF(Calc_WHDHC!H345<0,Calc_WHDHC!I345,2*PI()*Calc_WHDHC!G345/60*Calc_WHDHC!H345/1000*IF(Input!$B$4=\"Other\",0.95*0.95,0.98*0.95)),3)","v":0}]
[340,null,{"$f":"Calc_WHDHC!G346","v":560},null,null,{"$f":"ROUND(IF(Calc_WHDHC!H346<0,Calc_WHDHC!I346*IF(Input!$B$4=\"Other\",0.95*0.95,0.98*0.95),2*PI()*Calc_WHDHC!G346/60*Calc_WHDHC!H346/1000),3)","v":0},null,null,340,null,"-",null,null,{"$f":"Calc_WHDHC!J346/3.6/(2*Input!$B$5*PI())*60","v":0},null,null,{"$f":"ROUND(IF(Calc_WHDHC!H346<0,Calc_WHDHC!I346,2*PI()*Calc_WHDHC!G346/60*Calc_WHDHC!H346/1000*IF(Input!$B$4=\"Other\",0.95*0.95,0.98*0.95)),3)","v":0}]
[341,null,{"$f":"Calc_WHDHC!G347","v":560},null,null,{"$f":"ROUND(IF(Calc_WHDHC!H347<0,Calc_WHDHC!I347*IF(Input!$B$4=\"Other\",0.95*0.95,0.98*0.95),2*PI()*Calc_WHDHC!G347/60*Calc_WHDHC!H347/1000),3)","v":0},null,null,341,null,"-",null,null,{"$f":"Calc_WHDHC!J347/3.6/(2*Input!$B$5*PI())*60","v":0},null,null,{"$f":"ROUND(IF(Calc_WHDHC!H347<0,Calc_WHDHC!I347,2*PI()*Calc_WHDHC!G347/60*Calc_WHDHC!H347/1000*IF(Input!$B$4=\"Other\",0.95*0.95,0.98*0.95)),3)","v":0}]
[342,null,{"$f":"Calc_WHDHC!G348","v":560},null,null,{"$f":"ROUND(IF(Calc_WHDHC!H348<0,Calc_WHDHC!I348*IF(Input!$B$4=\"Other\",0.95*0.95,0.98*0.95),2*PI()*Calc_WHDHC!G348/60*Calc_WHDHC!H348/1000),3)","v":0},null,null,342,null,"-",null,null,{"$f":"Calc_WHDHC!J348/3.6/(2*Input!$B$5*PI())*60","v":0},null,null,{"$f":"ROUND(IF(Calc_WHDHC!H348<0,Calc_WHDHC!I348,2*PI()*Calc_WHDHC!G348/60*Calc_WHDHC!H348/1000*IF(Input!$B$4=\"Other\",0.95*0.95,0.98*0.95)),3)","v":0}]
[343,null,{"$f":"Calc_WHDHC!G349","v":560},null,null,{"$f":"ROUND(IF(Calc_WHDHC!H349<0,Calc_WHDHC!I349*IF(Input!$B$4=\"Other\",0.95*0.95,0.98*0.95),2*PI()*Calc_WHDHC!G349/60*Calc_WHDHC!H349/1000),3)","v":0},null,null,343,null,"-",null,null,{"$f":"Calc_WHDHC!J349/3.6/(2*Input!$B$5*PI())*60","v":0},null,null,{"$f":"ROUND(IF(Calc_WHDHC!H349<0,Calc_WHDHC!I349,2*PI()*Calc_WHDHC!G349/60*Calc_WHDHC!H349/1000*IF(Input!$B$4=\"Other\",0.95*0.95,0.98*0.95)),3)","v":0}]
[344,null,{"$f":"Calc_WHDHC!G350","v":560},null,null,{"$f":"ROUND(IF(Calc_WHDHC!H350<0,Calc_WHDHC!I350*IF(Input!$B$4=\"Other\",0.95*0.95,0.98*0.95),2*PI()*Calc_WHDHC!G350/60*Calc_WHDHC!H350/1000),3)","v":0},null,null,344,null,"-",null,null,{"$f":"Calc_WHDHC!J350/3.6/(2*Input!$B$5*PI())*60","v":0},null,null,{"$f":"ROUND(IF(Calc_WHDHC!H350<0,Calc_WHDHC!I350,2*PI()*Calc_WHDHC!G350/60*Calc_WHDHC!H350/1000*IF(Input!$B$4=\"Other\",0.95*0.95,0.98*0.95)),3)","v":0}]
[345,null,{"$f":"Calc_WHDHC!G351","v":560},null,null,{"$f":"ROUND(IF(Calc_WHDHC!H351<0,Calc_WHDHC!I351*IF(Input!$B$4=\"Other\",0.95*0.95,0.98*0.95),2*PI()*Calc_WHDHC!G351/60*Calc_WHDHC!H351/1000),3)","v":0},null,null,345,null,"-",null,null,{"$f":"Calc_WHDHC!J351/3.6/(2*Input!$B$5*PI())*60","v":0},null,null,{"$f":"ROUND(IF(Calc_WHDHC!H351<0,Calc_WHDHC!I351,2*PI()*Calc_WHDHC!G351/60*Calc_WHDHC!H351/1000*IF(Input!$B$4=\"Other\",0.95*0.95,0.98*0.95)),3)","v":0}]
[346,null,{"$f":"Calc_WHDHC!G352","v":560},null,null,{"$f":"ROUND(IF(Calc_WHDHC!H352<0,Calc_WHDHC!I352*IF(Input!$B$4=\"Other\",0.95*0.95,0.98*0.95),2*PI()*Calc_WHDHC!G352/60*Calc_WHDHC!H352/1000),3)","v":0},null,null,346,null,"-",null,null,{"$f":"Calc_WHDHC!J352/3.6/(2*Input!$B$5*PI())*60","v":0},null,null,{"$f":"ROUND(IF(Calc_WHDHC!H352<0,Calc_WHDHC!I352,2*PI()*Calc_WHDHC!G352/60*Calc_WHDHC!H352/1000*IF(Input!$B$4=\"Other\",0.95*0.95,0.98*0.95)),3)","v":0}]
[347,null,{"$f":"Calc_WHDHC!G353","v":560},null,null,{"$f":"ROUND(IF(Calc_WHDHC!H353<0,Calc_WHDHC!I353*IF(Input!$B$4=\"Other\",0.95*0.95,0.98*0.95),2*PI()*Calc_WHDHC!G353/60*Calc_WHDHC!H353/1000),3)","v":0},null,null,347,null,"-",null,null,{"$f":"Calc_WHDHC!J353/3.6/(2*Input!$B$5*PI())*60","v":0},null,null,{"$f":"ROUND(IF(Calc_WHDHC!H353<0,Calc_WHDHC!I353,2*PI()*Calc_WHDHC!G353/60*Calc_WHDHC!H353/1000*IF(Input!$B$4=\"Other\",0.95*0.95,0.98*0.95)),3)","v":0}]
[348,null,{"$f":"Calc_WHDHC!G354","v":560},null,null,{"$f":"ROUND(IF(Calc_WHDHC!H354<0,Calc_WHDHC!I354*IF(Input!$B$4=\"Other\",0.95*0.95,0.98*0.95),2*PI()*Calc_WHDHC!G354/60*Calc_WHDHC!H354/1000),3)","v":0},null,null,348,null,"-",null,null,{"$f":"Calc_WHDHC!J354/3.6/(2*Input!$B$5*PI())*60","v":0},null,null,{"$f":"ROUND(IF(Calc_WHDHC!H354<0,Calc_WHDHC!I354,2*PI()*Calc_WHDHC!G354/60*Calc_WHDHC!H354/1000*IF(Input!$B$4=\"Other\",0.95*0.95,0.98*0.95)),3)","v":0}]
[349,null,{"$f":"Calc_WHDHC!G355","v":560},null,null,{"$f":"ROUND(IF(Calc_WHDHC!H355<0,Calc_WHDHC!I355*IF(Input!$B$4=\"Other\",0.95*0.95,0.98*0.95),2*PI()*Calc_WHDHC!G355/60*Calc_WHDHC!H355/1000),3)","v":0},null,null,349,null,"-",null,null,{"$f":"Calc_WHDHC!J355/3.6/(2*Input!$B$5*PI())*60","v":0},null,null,{"$f":"ROUND(IF(Calc_WHDHC!H355<0,Calc_WHDHC!I355,2*PI()*Calc_WHDHC!G355/60*Calc_WHDHC!H355/1000*IF(Input!$B$4=\"Other\",0.95*0.95,0.98*0.95)),3)","v":0}]
[350,null,{"$f":"Calc_WHDHC!G356","v":560},null,null,{"$f":"ROUND(IF(Calc_WHDHC!H356<0,Calc_WHDHC!I356*IF(Input!$B$4=\"Other\",0.95*0.95,0.98*0.95),2*PI()*Calc_WHDHC!G356/60*Calc_WHDHC!H356/1000),3)","v":0},null,null,350,null,"-",null,null,{"$f":"Calc_WHDHC!J356/3.6/(2*Input!$B$5*PI())*60","v":0},null,null,{"$f":"ROUND(IF(Calc_WHDHC!H356<0,Calc_WHDHC!I356,2*PI()*Calc_WHDHC!G356/60*Calc_WHDHC!H356/1000*IF(Input!$B$4=\"Other\",0.95*0.95,0.98*0.95)),3)","v":0}]
[351,null,{"$f":"Calc_WHDHC!G357","v":560},null,null,{"$f":"ROUND(IF(Calc_WHDHC!H357<0,Calc_WHDHC!I357*IF(Input!$B$4=\"Other\",0.95*0.95,0.98*0.95),2*PI()*Calc_WHDHC!G357/60*Calc_WHDHC!H357/1000),3)","v":0},null,null,351,null,"-",null,null,{"$f":"Calc_WHDHC!J357/3.6/(2*Input!$B$5*PI())*60","v":0},null,null,{"$f":"ROUND(IF(Calc_WHDHC!H357<0,Calc_WHDHC!I357,2*PI()*Calc_WHDHC!G357/60*Calc_WHDHC!H357/1000*IF(Input!$B$4=\"Other\",0.95*0.95,0.98*0.95)),3)","v":0}]
[352,null,{"$f":"Calc_WHDHC!G358","v":560},null,null,{"$f":"ROUND(IF(Calc_WHDHC!H358<0,Calc_WHDHC!I358*IF(Input!$B$4=\"Other\",0.95*0.95,0.98*0.95),2*PI()*Calc_WHDHC!G358/60*Calc_WHDHC!H358/1000),3)","v":0},null,null,352,null,"-",null,null,{"$f":"Calc_WHDHC!J358/3.6/(2*Input!$B$5*PI())*60","v":0},null,null,{"$f":"ROUND(IF(Calc_WHDHC!H358<0,Calc_WHDHC!I358,2*PI()*Calc_WHDHC!G358/60*Calc_WHDHC!H358/1000*IF(Input!$B$4=\"Other\",0.95*0.95,0.98*0.95)),3)","v":0}]
[353,null,{"$f":"Calc_WHDHC!G359","v":560},null,null,{"$f":"ROUND(IF(Calc_WHDHC!H359<0,Calc_WHDHC!I359*IF(Input!$B$4=\"Other\",0.95*0.95,0.98*0.95),2*PI()*Calc_WHDHC!G359/60*Calc_WHDHC!H359/1000),3)","v":0},null,null,353,null,"-",null,null,{"$f":"Calc_WHDHC!J359/3.6/(2*Input!$B$5*PI())*60","v":0},null,null,{"$f":"ROUND(IF(Calc_WHDHC!H359<0,Calc_WHDHC!I359,2*PI()*Calc_WHDHC!G359/60*Calc_WHDHC!H359/1000*IF(Input!$B$4=\"Other\",0.95*0.95,0.98*0.95)),3)","v":0}]
[354,null,{"$f":"Calc_WHDHC!G360","v":560},null,null,{"$f":"ROUND(IF(Calc_WHDHC!H360<0,Calc_WHDHC!I360*IF(Input!$B$4=\"Other\",0.95*0.95,0.98*0.95),2*PI()*Calc_WHDHC!G360/60*Calc_WHDHC!H360/1000),3)","v":0.29299999999999998},null,null,354,null,"-",null,null,{"$f":"Calc_WHDHC!J360/3.6/(2*Input!$B$5*PI())*60","v":2.4919876266998231},null,null,{"$f":"ROUND(IF(Calc_WHDHC!H360<0,Calc_WHDHC!I360,2*PI()*Calc_WHDHC!G360/60*Calc_WHDHC!H360/1000*IF(Input!$B$4=\"Other\",0.95*0.95,0.98*0.95)),3)","v":0.27300000000000002}]
[355,null,{"$f":"Calc_WHDHC!G361","v":560},null,null,{"$f":"ROUND(IF(Calc_WHDHC!H361<0,Calc_WHDHC!I361*IF(Input!$B$4=\"Other\",0.95*0.95,0.98*0.95),2*PI()*Calc_WHDHC!G361/60*Calc_WHDHC!H361/1000),3)","v":2.8149999999999999},null,null,355,null,"-",null,null,{"$f":"Calc_WHDHC!J361/3.6/(2*Input!$B$5*PI())*60","v":5.5377502815551622},null,null,{"$f":"ROUND(IF(Calc_WHDHC!H361<0,Calc_WHDHC!I361,2*PI()*Calc_WHDHC!G361/60*Calc_WHDHC!H361/1000*IF(Input!$B$4=\"Other\",0.95*0.95,0.98*0.95)),3)","v":2.621}]
[356,null,{"$f":"Calc_WHDHC!G362","v":681},null,null,{"$f":"ROUND(IF(Calc_WHDHC!H362<0,Calc_WHDHC!I362*IF(Input!$B$4=\"Other\",0.95*0.95,0.98*0.95),2*PI()*Calc_WHDHC!G362/60*Calc_WHDHC!H362/1000),3)","v":56.765999999999998},null,null,356,null,"-",null,null,{"$f":"Calc_WHDHC!J362/3.6/(2*Input!$B$5*PI())*60","v":11.29701057437253},null,null,{"$f":"ROUND(IF(Calc_WHDHC!H362<0,Calc_WHDHC!I362,2*PI()*Calc_WHDHC!G362/60*Calc_WHDHC!H362/1000*IF(Input!$B$4=\"Other\",0.95*0.95,0.98*0.95)),3)","v":52.848999999999997}]
[357,null,{"$f":"Calc_WHDHC!G363","v":856},null,null,{"$f":"ROUND(IF(Calc_WHDHC!H363<0,Calc_WHDHC!I363*IF(Input!$B$4=\"Other\",0.95*0.95,0.98*0.95),2*PI()*Calc_WHDHC!G363/60*Calc_WHDHC!H363/1000),3)","v":60.506999999999998},null,null,357,null,"-",null,null,{"$f":"Calc_WHDHC!J363/3.6/(2*Input!$B$5*PI())*60","v":19.575947245297499},null,null,{"$f":"ROUND(IF(Calc_WHDHC!H363<0,Calc_WHDHC!I363,2*PI()*Calc_WHDHC!G363/60*Calc_WHDHC!H363/1000*IF(Input!$B$4=\"Other\",0.95*0.95,0.98*0.95)),3)","v":56.332000000000001}]
[358,null,{"$f":"Calc_WHDHC!G364","v":1042},null,null,{"$f":"ROUND(IF(Calc_WHDHC!H364<0,Calc_WHDHC!I364*IF(Input!$B$4=\"Other\",0.95*0.95,0.98*0.95),2*PI()*Calc_WHDHC!G364/60*Calc_WHDHC!H364/1000),3)","v":111.846},null,null,358,null,"-",null,null,{"$f":"Calc_WHDHC!J364/3.6/(2*Input!$B$5*PI())*60","v":28.380970192970207},null,null,{"$f":"ROUND(IF(Calc_WHDHC!H364<0,Calc_WHDHC!I364,2*PI()*Calc_WHDHC!G364/60*Calc_WHDHC!H364/1000*IF(Input!$B$4=\"Other\",0.95*0.95,0.98*0.95)),3)","v":104.129}]
[359,null,{"$f":"Calc_WHDHC!G365","v":1190},null,null,{"$f":"ROUND(IF(Calc_WHDHC!H365<0,Calc_WHDHC!I365*IF(Input!$B$4=\"Other\",0.95*0.95,0.98*0.95),2*PI()*Calc_WHDHC!G365/60*Calc_WHDHC!H365/1000),3)","v":54.956000000000003},null,null,359,null,"-",null,null,{"$f":"Calc_WHDHC!J365/3.6/(2*Input!$B$5*PI())*60","v":35.358535547729709},null,null,{"$f":"ROUND(IF(Calc_WHDHC!H365<0,Calc_WHDHC!I365,2*PI()*Calc_WHDHC!G365/60*Calc_WHDHC!H365/1000*IF(Input!$B$4=\"Other\",0.95*0.95,0.98*0.95)),3)","v":51.164000000000001}]
[360,null,{"$f":"Calc_WHDHC!G366","v":1072},null,null,{"$f":"ROUND(IF(Calc_WHDHC!H366<0,Calc_WHDHC!I366*IF(Input!$B$4=\"Other\",0.95*0.95,0.98*0.95),2*PI()*Calc_WHDHC!G366/60*Calc_WHDHC!H366/1000),3)","v":0},null,null,360,null,"-",null,null,{"$f":"Calc_WHDHC!J366/3.6/(2*Input!$B$5*PI())*60","v":39.982557032828268},null,null,{"$f":"ROUND(IF(Calc_WHDHC!H366<0,Calc_WHDHC!I366,2*PI()*Calc_WHDHC!G366/60*Calc_WHDHC!H366/1000*IF(Input!$B$4=\"Other\",0.95*0.95,0.98*0.95)),3)","v":0}]
[361,null,{"$f":"Calc_WHDHC!G367","v":956},null,null,{"$f":"ROUND(IF(Calc_WHDHC!H367<0,Calc_WHDHC!I367*IF(Input!$B$4=\"Other\",0.95*0.95,0.98*0.95),2*PI()*Calc_WHDHC!G367/60*Calc_WHDHC!H367/1000),3)","v":71.58},null,null,361,null,"-",null,null,{"$f":"Calc_WHDHC!J367/3.6/(2*Input!$B$5*PI())*60","v":43.554405964431353},null,null,{"$f":"ROUND(IF(Calc_WHDHC!H367<0,Calc_WHDHC!I367,2*PI()*Calc_WHDHC!G367/60*Calc_WHDHC!H367/1000*IF(Input!$B$4=\"Other\",0.95*0.95,0.98*0.95)),3)","v":66.641000000000005}]
[362,null,{"$f":"Calc_WHDHC!G368","v":1049},null,null,{"$f":"ROUND(IF(Calc_WHDHC!H368<0,Calc_WHDHC!I368*IF(Input!$B$4=\"Other\",0.95*0.95,0.98*0.95),2*PI()*Calc_WHDHC!G368/60*Calc_WHDHC!H368/1000),3)","v":143.136},null,null,362,null,"-",null,null,{"$f":"Calc_WHDHC!J368/3.6/(2*Input!$B$5*PI())*60","v":47.707718675597718},null,null,{"$f":"ROUND(IF(Calc_WHDHC!H368<0,Calc_WHDHC!I368,2*PI()*Calc_WHDHC!G368/60*Calc_WHDHC!H368/1000*IF(Input!$B$4=\"Other\",0.95*0.95,0.98*0.95)),3)","v":133.26}]
[363,null,{"$f":"Calc_WHDHC!G369","v":1161},null,null,{"$f":"ROUND(IF(Calc_WHDHC!H369<0,Calc_WHDHC!I369*IF(Input!$B$4=\"Other\",0.95*0.95,0.98*0.95),2*PI()*Calc_WHDHC!G369/60*Calc_WHDHC!H369/1000),3)","v":231.60900000000001},null,null,363,null,"-",null,null,{"$f":"Calc_WHDHC!J369/3.6/(2*Input!$B$5*PI())*60","v":52.71938268040514},null,null,{"$f":"ROUND(IF(Calc_WHDHC!H369<0,Calc_WHDHC!I369,2*PI()*Calc_WHDHC!G369/60*Calc_WHDHC!H369/1000*IF(Input!$B$4=\"Other\",0.95*0.95,0.98*0.95)),3)","v":215.62799999999999}]
[364,null,{"$f":"Calc_WHDHC!G370","v":1280},null,null,{"$f":"ROUND(IF(Calc_WHDHC!H370<0,Calc_WHDHC!I370*IF(Input!$B$4=\"Other\",0.95*0.95,0.98*0.95),2*PI()*Calc_WHDHC!G370/60*Calc_WHDHC!H370/1000),3)","v":115.544},null,null,364,null,"-",null,null,{"$f":"Calc_WHDHC!J370/3.6/(2*Input!$B$5*PI())*60","v":58.035622950698098},null,null,{"$f":"ROUND(IF(Calc_WHDHC!H370<0,Calc_WHDHC!I370,2*PI()*Calc_WHDHC!G370/60*Calc_WHDHC!H370/1000*IF(Input!$B$4=\"Other\",0.95*0.95,0.98*0.95)),3)","v":107.571}]
[365,null,{"$f":"Calc_WHDHC!G371","v":1166},null,null,{"$f":"ROUND(IF(Calc_WHDHC!H371<0,Calc_WHDHC!I371*IF(Input!$B$4=\"Other\",0.95*0.95,0.98*0.95),2*PI()*Calc_WHDHC!G371/60*Calc_WHDHC!H371/1000),3)","v":0},null,null,365,null,"-",null,null,{"$f":"Calc_WHDHC!J371/3.6/(2*Input!$B$5*PI())*60","v":63.517995729437708},null,null,{"$f":"ROUND(IF(Calc_WHDHC!H371<0,Calc_WHDHC!I371,2*PI()*Calc_WHDHC!G371/60*Calc_WHDHC!H371/1000*IF(Input!$B$4=\"Other\",0.95*0.95,0.98*0.95)),3)","v":0}]
[366,null,{"$f":"Calc_WHDHC!G372","v":1051},null,null,{"$f":"ROUND(IF(Calc_WHDHC!H372<0,Calc_WHDHC!I372*IF(Input!$B$4=\"Other\",0.95*0.95,0.98*0.95),2*PI()*Calc_WHDHC!G372/60*Calc_WHDHC!H372/1000),3)","v":107.199},null,null,366,null,"-",null,null,{"$f":"Calc_WHDHC!J372/3.6/(2*Input!$B$5*PI())*60","v":69.360322276478399},null,null,{"$f":"ROUND(IF(Calc_WHDHC!H372<0,Calc_WHDHC!I372,2*PI()*Calc_WHDHC!G372/60*Calc_WHDHC!H372/1000*IF(Input!$B$4=\"Other\",0.95*0.95,0.98*0.95)),3)","v":99.802000000000007}]
[367,null,{"$f":"Calc_WHDHC!G373","v":1148},null,null,{"$f":"ROUND(IF(Calc_WHDHC!H373<0,Calc_WHDHC!I373*IF(Input!$B$4=\"Other\",0.95*0.95,0.98*0.95),2*PI()*Calc_WHDHC!G373/60*Calc_WHDHC!H373/1000),3)","v":212.42599999999999},null,null,367,null,"-",null,null,{"$f":"Calc_WHDHC!J373/3.6/(2*Input!$B$5*PI())*60","v":75.61798009463574},null,null,{"$f":"ROUND(IF(Calc_WHDHC!H373<0,Calc_WHDHC!I373,2*PI()*Calc_WHDHC!G373/60*Calc_WHDHC!H373/1000*IF(Input!$B$4=\"Other\",0.95*0.95,0.98*0.95)),3)","v":197.768}]
[368,null,{"$f":"Calc_WHDHC!G374","v":1243},null,null,{"$f":"ROUND(IF(Calc_WHDHC!H374<0,Calc_WHDHC!I374*IF(Input!$B$4=\"Other\",0.95*0.95,0.98*0.95),2*PI()*Calc_WHDHC!G374/60*Calc_WHDHC!H374/1000),3)","v":88.774000000000001},null,null,368,null,"-",null,null,{"$f":"Calc_WHDHC!J374/3.6/(2*Input!$B$5*PI())*60","v":81.792571658569742},null,null,{"$f":"ROUND(IF(Calc_WHDHC!H374<0,Calc_WHDHC!I374,2*PI()*Calc_WHDHC!G374/60*Calc_WHDHC!H374/1000*IF(Input!$B$4=\"Other\",0.95*0.95,0.98*0.95)),3)","v":82.647999999999996}]
[369,null,{"$f":"Calc_WHDHC!G375","v":1327},null,null,{"$f":"ROUND(IF(Calc_WHDHC!H375<0,Calc_WHDHC!I375*IF(Input!$B$4=\"Other\",0.95*0.95,0.98*0.95),2*PI()*Calc_WHDHC!G375/60*Calc_WHDHC!H375/1000),3)","v":44.468000000000004},null,null,369,null,"-",null,null,{"$f":"Calc_WHDHC!J375/3.6/(2*Input!$B$5*PI())*60","v":87.274944437309344},null,null,{"$f":"ROUND(IF(Calc_WHDHC!H375<0,Calc_WHDHC!I375,2*PI()*Calc_WHDHC!G375/60*Calc_WHDHC!H375/1000*IF(Input!$B$4=\"Other\",0.95*0.95,0.98*0.95)),3)","v":41.4}]
[370,null,{"$f":"Calc_WHDHC!G376","v":1166},null,null,{"$f":"ROUND(IF(Calc_WHDHC!H376<0,Calc_WHDHC!I376*IF(Input!$B$4=\"Other\",0.95*0.95,0.98*0.95),2*PI()*Calc_WHDHC!G376/60*Calc_WHDHC!H376/1000),3)","v":0},null,null,370,null,"-",null,null,{"$f":"Calc_WHDHC!J376/3.6/(2*Input!$B$5*PI())*60","v":91.898965922407896},null,null,{"$f":"ROUND(IF(Calc_WHDHC!H376<0,Calc_WHDHC!I376,2*PI()*Calc_WHDHC!G376/60*Calc_WHDHC!H376/1000*IF(Input!$B$4=\"Other\",0.95*0.95,0.98*0.95)),3)","v":0}]
[371,null,{"$f":"Calc_WHDHC!G377","v":1004},null,null,{"$f":"ROUND(IF(Calc_WHDHC!H377<0,Calc_WHDHC!I377*IF(Input!$B$4=\"Other\",0.95*0.95,0.98*0.95),2*PI()*Calc_WHDHC!G377/60*Calc_WHDHC!H377/1000),3)","v":75.489999999999995},null,null,371,null,"-",null,null,{"$f":"Calc_WHDHC!J377/3.6/(2*Input!$B$5*PI())*60","v":95.996901130758744},null,null,{"$f":"ROUND(IF(Calc_WHDHC!H377<0,Calc_WHDHC!I377,2*PI()*Calc_WHDHC!G377/60*Calc_WHDHC!H377/1000*IF(Input!$B$4=\"Other\",0.95*0.95,0.98*0.95)),3)","v":70.281000000000006}]
[372,null,{"$f":"Calc_WHDHC!G378","v":1047},null,null,{"$f":"ROUND(IF(Calc_WHDHC!H378<0,Calc_WHDHC!I378*IF(Input!$B$4=\"Other\",0.95*0.95,0.98*0.95),2*PI()*Calc_WHDHC!G378/60*Calc_WHDHC!H378/1000),3)","v":150.428},null,null,372,null,"-",null,null,{"$f":"Calc_WHDHC!J378/3.6/(2*Input!$B$5*PI())*60","v":100.039458836294},null,null,{"$f":"ROUND(IF(Calc_WHDHC!H378<0,Calc_WHDHC!I378,2*PI()*Calc_WHDHC!G378/60*Calc_WHDHC!H378/1000*IF(Input!$B$4=\"Other\",0.95*0.95,0.98*0.95)),3)","v":140.04900000000001}]
[373,null,{"$f":"Calc_WHDHC!G379","v":1091},null,null,{"$f":"ROUND(IF(Calc_WHDHC!H379<0,Calc_WHDHC!I379*IF(Input!$B$4=\"Other\",0.95*0.95,0.98*0.95),2*PI()*Calc_WHDHC!G379/60*Calc_WHDHC!H379/1000),3)","v":200.279},null,null,373,null,"-",null,null,{"$f":"Calc_WHDHC!J379/3.6/(2*Input!$B$5*PI())*60","v":104.19277154746037},null,null,{"$f":"ROUND(IF(Calc_WHDHC!H379<0,Calc_WHDHC!I379,2*PI()*Calc_WHDHC!G379/60*Calc_WHDHC!H379/1000*IF(Input!$B$4=\"Other\",0.95*0.95,0.98*0.95)),3)","v":186.46}]
[374,null,{"$f":"Calc_WHDHC!G380","v":1133},null,null,{"$f":"ROUND(IF(Calc_WHDHC!H380<0,Calc_WHDHC!I380*IF(Input!$B$4=\"Other\",0.95*0.95,0.98*0.95),2*PI()*Calc_WHDHC!G380/60*Calc_WHDHC!H380/1000),3)","v":208.82},null,null,374,null,"-",null,null,{"$f":"Calc_WHDHC!J380/3.6/(2*Input!$B$5*PI())*60","v":108.17995175018008},null,null,{"$f":"ROUND(IF(Calc_WHDHC!H380<0,Calc_WHDHC!I380,2*PI()*Calc_WHDHC!G380/60*Calc_WHDHC!H380/1000*IF(Input!$B$4=\"Other\",0.95*0.95,0.98*0.95)),3)","v":194.411}]
[375,null,{"$f":"Calc_WHDHC!G381","v":1164},null,null,{"$f":"ROUND(IF(Calc_WHDHC!H381<0,Calc_WHDHC!I381*IF(Input!$B$4=\"Other\",0.95*0.95,0.98*0.95),2*PI()*Calc_WHDHC!G381/60*Calc_WHDHC!H381/1000),3)","v":215.63},null,null,375,null,"-",null,null,{"$f":"Calc_WHDHC!J381/3.6/(2*Input!$B$5*PI())*60","v":110.97651564236544},null,null,{"$f":"ROUND(IF(Calc_WHDHC!H381<0,Calc_WHDHC!I381,2*PI()*Calc_WHDHC!G381/60*Calc_WHDHC!H381/1000*IF(Input!$B$4=\"Other\",0.95*0.95,0.98*0.95)),3)","v":200.75200000000001}]
[376,null,{"$f":"Calc_WHDHC!G382","v":1174},null,null,{"$f":"ROUND(IF(Calc_WHDHC!H382<0,Calc_WHDHC!I382*IF(Input!$B$4=\"Other\",0.95*0.95,0.98*0.95),2*PI()*Calc_WHDHC!G382/60*Calc_WHDHC!H382/1000),3)","v":0},null,null,376,null,"-",null,null,{"$f":"Calc_WHDHC!J382/3.6/(2*Input!$B$5*PI())*60","v":111.97331069304536},null,null,{"$f":"ROUND(IF(Calc_WHDHC!H382<0,Calc_WHDHC!I382,2*PI()*Calc_WHDHC!G382/60*Calc_WHDHC!H382/1000*IF(Input!$B$4=\"Other\",0.95*0.95,0.98*0.95)),3)","v":0}]
[377,null,{"$f":"Calc_WHDHC!G383","v":1169},null,null,{"$f":"ROUND(IF(Calc_WHDHC!H383<0,Calc_WHDHC!I383*IF(Input!$B$4=\"Other\",0.95*0.95,0.98*0.95),2*PI()*Calc_WHDHC!G383/60*Calc_WHDHC!H383/1000),3)","v":-9.0850000000000009},null,null,377,null,"-",null,null,{"$f":"Calc_WHDHC!J383/3.6/(2*Input!$B$5*PI())*60","v":111.4749131677054},null,null,{"$f":"ROUND(IF(Calc_WHDHC!H383<0,Calc_WHDHC!I383,2*PI()*Calc_WHDHC!G383/60*Calc_WHDHC!H383/1000*IF(Input!$B$4=\"Other\",0.95*0.95,0.98*0.95)),3)","v":-9.7579999999999991}]
[378,null,{"$f":"Calc_WHDHC!G384","v":1140},null,null,{"$f":"ROUND(IF(Calc_WHDHC!H384<0,Calc_WHDHC!I384*IF(Input!$B$4=\"Other\",0.95*0.95,0.98*0.95),2*PI()*Calc_WHDHC!G384/60*Calc_WHDHC!H384/1000),3)","v":-28.843},null,null,378,null,"-",null,null,{"$f":"Calc_WHDHC!J384/3.6/(2*Input!$B$5*PI())*60","v":108.78910428115114},null,null,{"$f":"ROUND(IF(Calc_WHDHC!H384<0,Calc_WHDHC!I384,2*PI()*Calc_WHDHC!G384/60*Calc_WHDHC!H384/1000*IF(Input!$B$4=\"Other\",0.95*0.95,0.98*0.95)),3)","v":-30.981000000000002}]
[379,null,{"$f":"Calc_WHDHC!G385","v":1079},null,null,{"$f":"ROUND(IF(Calc_WHDHC!H385<0,Calc_WHDHC!I385*IF(Input!$B$4=\"Other\",0.95*0.95,0.98*0.95),2*PI()*Calc_WHDHC!G385/60*Calc_WHDHC!H385/1000),3)","v":-44.607999999999997},null,null,379,null,"-",null,null,{"$f":"Calc_WHDHC!J385/3.6/(2*Input!$B$5*PI())*60","v":103.08522149114933},null,null,{"$f":"ROUND(IF(Calc_WHDHC!H385<0,Calc_WHDHC!I385,2*PI()*Calc_WHDHC!G385/60*Calc_WHDHC!H385/1000*IF(Input!$B$4=\"Other\",0.95*0.95,0.98*0.95)),3)","v":-47.914000000000001}]
[380,null,{"$f":"Calc_WHDHC!G386","v":1181},null,null,{"$f":"ROUND(IF(Calc_WHDHC!H386<0,Calc_WHDHC!I386*IF(Input!$B$4=\"Other\",0.95*0.95,0.98*0.95),2*PI()*Calc_WHDHC!G386/60*Calc_WHDHC!H386/1000),3)","v":-53.435000000000002},null,null,380,null,"-",null,null,{"$f":"Calc_WHDHC!J386/3.6/(2*Input!$B$5*PI())*60","v":94.529397306146606},null,null,{"$f":"ROUND(IF(Calc_WHDHC!H386<0,Calc_WHDHC!I386,2*PI()*Calc_WHDHC!G386/60*Calc_WHDHC!H386/1000*IF(Input!$B$4=\"Other\",0.95*0.95,0.98*0.95)),3)","v":-57.395000000000003}]
[381,null,{"$f":"Calc_WHDHC!G387","v":1281},null,null,{"$f":"ROUND(IF(Calc_WHDHC!H387<0,Calc_WHDHC!I387*IF(Input!$B$4=\"Other\",0.95*0.95,0.98*0.95),2*PI()*Calc_WHDHC!G387/60*Calc_WHDHC!H387/1000),3)","v":-53.069000000000003},null,null,381,null,"-",null,null,{"$f":"Calc_WHDHC!J387/3.6/(2*Input!$B$5*PI())*60","v":83.564651748667387},null,null,{"$f":"ROUND(IF(Calc_WHDHC!H387<0,Calc_WHDHC!I387,2*PI()*Calc_WHDHC!G387/60*Calc_WHDHC!H387/1000*IF(Input!$B$4=\"Other\",0.95*0.95,0.98*0.95)),3)","v":-57.002000000000002}]
[382,null,{"$f":"Calc_WHDHC!G388","v":1379},null,null,{"$f":"ROUND(IF(Calc_WHDHC!H388<0,Calc_WHDHC!I388*IF(Input!$B$4=\"Other\",0.95*0.95,0.98*0.95),2*PI()*Calc_WHDHC!G388/60*Calc_WHDHC!H388/1000),3)","v":-40.776000000000003},null,null,382,null,"-",null,null,{"$f":"Calc_WHDHC!J388/3.6/(2*Input!$B$5*PI())*60","v":71.187779869391619},null,null,{"$f":"ROUND(IF(Calc_WHDHC!H388<0,Calc_WHDHC!I388,2*PI()*Calc_WHDHC!G388/60*Calc_WHDHC!H388/1000*IF(Input!$B$4=\"Other\",0.95*0.95,0.98*0.95)),3)","v":-43.798000000000002}]
[383,null,{"$f":"Calc_WHDHC!G389","v":1247},null,null,{"$f":"ROUND(IF(Calc_WHDHC!H389<0,Calc_WHDHC!I389*IF(Input!$B$4=\"Other\",0.95*0.95,0.98*0.95),2*PI()*Calc_WHDHC!G389/60*Calc_WHDHC!H389/1000),3)","v":-24.097999999999999},null,null,383,null,"-",null,null,{"$f":"Calc_WHDHC!J389/3.6/(2*Input!$B$5*PI())*60","v":59.752325537980184},null,null,{"$f":"ROUND(IF(Calc_WHDHC!H389<0,Calc_WHDHC!I389,2*PI()*Calc_WHDHC!G389/60*Calc_WHDHC!H389/1000*IF(Input!$B$4=\"Other\",0.95*0.95,0.98*0.95)),3)","v":-25.884}]
[384,null,{"$f":"Calc_WHDHC!G390","v":1128},null,null,{"$f":"ROUND(IF(Calc_WHDHC!H390<0,Calc_WHDHC!I390*IF(Input!$B$4=\"Other\",0.95*0.95,0.98*0.95),2*PI()*Calc_WHDHC!G390/60*Calc_WHDHC!H390/1000),3)","v":-11.167},null,null,384,null,"-",null,null,{"$f":"Calc_WHDHC!J390/3.6/(2*Input!$B$5*PI())*60","v":51.224190104385244},null,null,{"$f":"ROUND(IF(Calc_WHDHC!H390<0,Calc_WHDHC!I390,2*PI()*Calc_WHDHC!G390/60*Calc_WHDHC!H390/1000*IF(Input!$B$4=\"Other\",0.95*0.95,0.98*0.95)),3)","v":-11.994999999999999}]
[385,null,{"$f":"Calc_WHDHC!G391","v":1008},null,null,{"$f":"ROUND(IF(Calc_WHDHC!H391<0,Calc_WHDHC!I391*IF(Input!$B$4=\"Other\",0.95*0.95,0.98*0.95),2*PI()*Calc_WHDHC!G391/60*Calc_WHDHC!H391/1000),3)","v":-4.0490000000000004},null,null,385,null,"-",null,null,{"$f":"Calc_WHDHC!J391/3.6/(2*Input!$B$5*PI())*60","v":45.85257233127674},null,null,{"$f":"ROUND(IF(Calc_WHDHC!H391<0,Calc_WHDHC!I391,2*PI()*Calc_WHDHC!G391/60*Calc_WHDHC!H391/1000*IF(Input!$B$4=\"Other\",0.95*0.95,0.98*0.95)),3)","v":-4.3490000000000002}]
[386,null,{"$f":"Calc_WHDHC!G392","v":935},null,null,{"$f":"ROUND(IF(Calc_WHDHC!H392<0,Calc_WHDHC!I392*IF(Input!$B$4=\"Other\",0.95*0.95,0.98*0.95),2*PI()*Calc_WHDHC!G392/60*Calc_WHDHC!H392/1000),3)","v":-0.52700000000000002},null,null,386,null,"-",null,null,{"$f":"Calc_WHDHC!J392/3.6/(2*Input!$B$5*PI())*60","v":42.612988416566978},null,null,{"$f":"ROUND(IF(Calc_WHDHC!H392<0,Calc_WHDHC!I392,2*PI()*Calc_WHDHC!G392/60*Calc_WHDHC!H392/1000*IF(Input!$B$4=\"Other\",0.95*0.95,0.98*0.95)),3)","v":-0.56599999999999995}]
[387,null,{"$f":"Calc_WHDHC!G393","v":897},null,null,{"$f":"ROUND(IF(Calc_WHDHC!H393<0,Calc_WHDHC!I393*IF(Input!$B$4=\"Other\",0.95*0.95,0.98*0.95),2*PI()*Calc_WHDHC!G393/60*Calc_WHDHC!H393/1000),3)","v":0},null,null,387,null,"-",null,null,{"$f":"Calc_WHDHC!J393/3.6/(2*Input!$B$5*PI())*60","v":40.896285829284871},null,null,{"$f":"ROUND(IF(Calc_WHDHC!H393<0,Calc_WHDHC!I393,2*PI()*Calc_WHDHC!G393/60*Calc_WHDHC!H393/1000*IF(Input!$B$4=\"Other\",0.95*0.95,0.98*0.95)),3)","v":0}]
[388,null,{"$f":"Calc_WHDHC!G394","v":885},null,null,{"$f":"ROUND(IF(Calc_WHDHC!H394<0,Calc_WHDHC!I394*IF(Input!$B$4=\"Other\",0.95*0.95,0.98*0.95),2*PI()*Calc_WHDHC!G394/60*Calc_WHDHC!H394/1000),3)","v":17.609000000000002},null,null,388,null,"-",null,null,{"$f":"Calc_WHDHC!J394/3.6/(2*Input!$B$5*PI())*60","v":40.37019955253713},null,null,{"$f":"ROUND(IF(Calc_WHDHC!H394<0,Calc_WHDHC!I394,2*PI()*Calc_WHDHC!G394/60*Calc_WHDHC!H394/1000*IF(Input!$B$4=\"Other\",0.95*0.95,0.98*0.95)),3)","v":16.393999999999998}]
[389,null,{"$f":"Calc_WHDHC!G395","v":893},null,null,{"$f":"ROUND(IF(Calc_WHDHC!H395<0,Calc_WHDHC!I395*IF(Input!$B$4=\"Other\",0.95*0.95,0.98*0.95),2*PI()*Calc_WHDHC!G395/60*Calc_WHDHC!H395/1000),3)","v":24.033000000000001},null,null,389,null,"-",null,null,{"$f":"Calc_WHDHC!J395/3.6/(2*Input!$B$5*PI())*60","v":40.757842072245985},null,null,{"$f":"ROUND(IF(Calc_WHDHC!H395<0,Calc_WHDHC!I395,2*PI()*Calc_WHDHC!G395/60*Calc_WHDHC!H395/1000*IF(Input!$B$4=\"Other\",0.95*0.95,0.98*0.95)),3)","v":22.375}]
[390,null,{"$f":"Calc_WHDHC!G396","v":938},null,null,{"$f":"ROUND(IF(Calc_WHDHC!H396<0,Calc_WHDHC!I396*IF(Input!$B$4=\"Other\",0.95*0.95,0.98*0.95),2*PI()*Calc_WHDHC!G396/60*Calc_WHDHC!H396/1000),3)","v":52.453000000000003},null,null,390,null,"-",null,null,{"$f":"Calc_WHDHC!J396/3.6/(2*Input!$B$5*PI())*60","v":42.751432173605849},null,null,{"$f":"ROUND(IF(Calc_WHDHC!H396<0,Calc_WHDHC!I396,2*PI()*Calc_WHDHC!G396/60*Calc_WHDHC!H396/1000*IF(Input!$B$4=\"Other\",0.95*0.95,0.98*0.95)),3)","v":48.834000000000003}]
[391,null,{"$f":"Calc_WHDHC!G397","v":1029},null,null,{"$f":"ROUND(IF(Calc_WHDHC!H397<0,Calc_WHDHC!I397*IF(Input!$B$4=\"Other\",0.95*0.95,0.98*0.95),2*PI()*Calc_WHDHC!G397/60*Calc_WHDHC!H397/1000),3)","v":142.77799999999999},null,null,391,null,"-",null,null,{"$f":"Calc_WHDHC!J397/3.6/(2*Input!$B$5*PI())*60","v":46.849367381956675},null,null,{"$f":"ROUND(IF(Calc_WHDHC!H397<0,Calc_WHDHC!I397,2*PI()*Calc_WHDHC!G397/60*Calc_WHDHC!H397/1000*IF(Input!$B$4=\"Other\",0.95*0.95,0.98*0.95)),3)","v":132.92599999999999}]
[392,null,{"$f":"Calc_WHDHC!G398","v":1138},null,null,{"$f":"ROUND(IF(Calc_WHDHC!H398<0,Calc_WHDHC!I398*IF(Input!$B$4=\"Other\",0.95*0.95,0.98*0.95),2*PI()*Calc_WHDHC!G398/60*Calc_WHDHC!H398/1000),3)","v":187.45599999999999},null,null,392,null,"-",null,null,{"$f":"Calc_WHDHC!J398/3.6/(2*Input!$B$5*PI())*60","v":51.750276381132998},null,null,{"$f":"ROUND(IF(Calc_WHDHC!H398<0,Calc_WHDHC!I398,2*PI()*Calc_WHDHC!G398/60*Calc_WHDHC!H398/1000*IF(Input!$B$4=\"Other\",0.95*0.95,0.98*0.95)),3)","v":174.52199999999999}]
[393,null,{"$f":"Calc_WHDHC!G399","v":1236},null,null,{"$f":"ROUND(IF(Calc_WHDHC!H399<0,Calc_WHDHC!I399*IF(Input!$B$4=\"Other\",0.95*0.95,0.98*0.95),2*PI()*Calc_WHDHC!G399/60*Calc_WHDHC!H399/1000),3)","v":93.191999999999993},null,null,393,null,"-",null,null,{"$f":"Calc_WHDHC!J399/3.6/(2*Input!$B$5*PI())*60","v":56.097410352153794},null,null,{"$f":"ROUND(IF(Calc_WHDHC!H399<0,Calc_WHDHC!I399,2*PI()*Calc_WHDHC!G399/60*Calc_WHDHC!H399/1000*IF(Input!$B$4=\"Other\",0.95*0.95,0.98*0.95)),3)","v":86.762}]
[394,null,{"$f":"Calc_WHDHC!G400","v":1098},null,null,{"$f":"ROUND(IF(Calc_WHDHC!H400<0,Calc_WHDHC!I400*IF(Input!$B$4=\"Other\",0.95*0.95,0.98*0.95),2*PI()*Calc_WHDHC!G400/60*Calc_WHDHC!H400/1000),3)","v":0},null,null,394,null,"-",null,null,{"$f":"Calc_WHDHC!J400/3.6/(2*Input!$B$5*PI())*60","v":59.890769295019069},null,null,{"$f":"ROUND(IF(Calc_WHDHC!H400<0,Calc_WHDHC!I400,2*PI()*Calc_WHDHC!G400/60*Calc_WHDHC!H400/1000*IF(Input!$B$4=\"Other\",0.95*0.95,0.98*0.95)),3)","v":0}]
[395,null,{"$f":"Calc_WHDHC!G401","v":960},null,null,{"$f":"ROUND(IF(Calc_WHDHC!H401<0,Calc_WHDHC!I401*IF(Input!$B$4=\"Other\",0.95*0.95,0.98*0.95),2*PI()*Calc_WHDHC!G401/60*Calc_WHDHC!H401/1000),3)","v":88.769000000000005},null,null,395,null,"-",null,null,{"$f":"Calc_WHDHC!J401/3.6/(2*Input!$B$5*PI())*60","v":63.434929475214375},null,null,{"$f":"ROUND(IF(Calc_WHDHC!H401<0,Calc_WHDHC!I401,2*PI()*Calc_WHDHC!G401/60*Calc_WHDHC!H401/1000*IF(Input!$B$4=\"Other\",0.95*0.95,0.98*0.95)),3)","v":82.644000000000005}]
[396,null,{"$f":"Calc_WHDHC!G402","v":1012},null,null,{"$f":"ROUND(IF(Calc_WHDHC!H402<0,Calc_WHDHC!I402*IF(Input!$B$4=\"Other\",0.95*0.95,0.98*0.95),2*PI()*Calc_WHDHC!G402/60*Calc_WHDHC!H402/1000),3)","v":177.51},null,null,396,null,"-",null,null,{"$f":"Calc_WHDHC!J402/3.6/(2*Input!$B$5*PI())*60","v":66.812957146963029},null,null,{"$f":"ROUND(IF(Calc_WHDHC!H402<0,Calc_WHDHC!I402,2*PI()*Calc_WHDHC!G402/60*Calc_WHDHC!H402/1000*IF(Input!$B$4=\"Other\",0.95*0.95,0.98*0.95)),3)","v":165.262}]
[397,null,{"$f":"Calc_WHDHC!G403","v":1057},null,null,{"$f":"ROUND(IF(Calc_WHDHC!H403<0,Calc_WHDHC!I403*IF(Input!$B$4=\"Other\",0.95*0.95,0.98*0.95),2*PI()*Calc_WHDHC!G403/60*Calc_WHDHC!H403/1000),3)","v":193.816},null,null,397,null,"-",null,null,{"$f":"Calc_WHDHC!J403/3.6/(2*Input!$B$5*PI())*60","v":69.720276044779482},null,null,{"$f":"ROUND(IF(Calc_WHDHC!H403<0,Calc_WHDHC!I403,2*PI()*Calc_WHDHC!G403/60*Calc_WHDHC!H403/1000*IF(Input!$B$4=\"Other\",0.95*0.95,0.98*0.95)),3)","v":180.44300000000001}]
[398,null,{"$f":"Calc_WHDHC!G404","v":1099},null,null,{"$f":"ROUND(IF(Calc_WHDHC!H404<0,Calc_WHDHC!I404*IF(Input!$B$4=\"Other\",0.95*0.95,0.98*0.95),2*PI()*Calc_WHDHC!G404/60*Calc_WHDHC!H404/1000),3)","v":208.768},null,null,398,null,"-",null,null,{"$f":"Calc_WHDHC!J404/3.6/(2*Input!$B$5*PI())*60","v":72.433773682741517},null,null,{"$f":"ROUND(IF(Calc_WHDHC!H404<0,Calc_WHDHC!I404,2*PI()*Calc_WHDHC!G404/60*Calc_WHDHC!H404/1000*IF(Input!$B$4=\"Other\",0.95*0.95,0.98*0.95)),3)","v":194.363}]
[399,null,{"$f":"Calc_WHDHC!G405","v":1152},null,null,{"$f":"ROUND(IF(Calc_WHDHC!H405<0,Calc_WHDHC!I405*IF(Input!$B$4=\"Other\",0.95*0.95,0.98*0.95),2*PI()*Calc_WHDHC!G405/60*Calc_WHDHC!H405/1000),3)","v":226.67699999999999},null,null,399,null,"-",null,null,{"$f":"Calc_WHDHC!J405/3.6/(2*Input!$B$5*PI())*60","v":75.894867608713497},null,null,{"$f":"ROUND(IF(Calc_WHDHC!H405<0,Calc_WHDHC!I405,2*PI()*Calc_WHDHC!G405/60*Calc_WHDHC!H405/1000*IF(Input!$B$4=\"Other\",0.95*0.95,0.98*0.95)),3)","v":211.036}]
[400,null,{"$f":"Calc_WHDHC!G406","v":1228},null,null,{"$f":"ROUND(IF(Calc_WHDHC!H406<0,Calc_WHDHC!I406*IF(Input!$B$4=\"Other\",0.95*0.95,0.98*0.95),2*PI()*Calc_WHDHC!G406/60*Calc_WHDHC!H406/1000),3)","v":248.57599999999999},null,null,400,null,"-",null,null,{"$f":"Calc_WHDHC!J406/3.6/(2*Input!$B$5*PI())*60","v":80.79577660788982},null,null,{"$f":"ROUND(IF(Calc_WHDHC!H406<0,Calc_WHDHC!I406,2*PI()*Calc_WHDHC!G406/60*Calc_WHDHC!H406/1000*IF(Input!$B$4=\"Other\",0.95*0.95,0.98*0.95)),3)","v":231.42400000000001}]
[401,null,{"$f":"Calc_WHDHC!G407","v":1321},null,null,{"$f":"ROUND(IF(Calc_WHDHC!H407<0,Calc_WHDHC!I407*IF(Input!$B$4=\"Other\",0.95*0.95,0.98*0.95),2*PI()*Calc_WHDHC!G407/60*Calc_WHDHC!H407/1000),3)","v":274.45600000000002},null,null,401,null,"-",null,null,{"$f":"Calc_WHDHC!J407/3.6/(2*Input!$B$5*PI())*60","v":86.831924414784936},null,null,{"$f":"ROUND(IF(Calc_WHDHC!H407<0,Calc_WHDHC!I407,2*PI()*Calc_WHDHC!G407/60*Calc_WHDHC!H407/1000*IF(Input!$B$4=\"Other\",0.95*0.95,0.98*0.95)),3)","v":255.51900000000001}]
[402,null,{"$f":"Calc_WHDHC!G408","v":1413},null,null,{"$f":"ROUND(IF(Calc_WHDHC!H408<0,Calc_WHDHC!I408*IF(Input!$B$4=\"Other\",0.95*0.95,0.98*0.95),2*PI()*Calc_WHDHC!G408/60*Calc_WHDHC!H408/1000),3)","v":137.75899999999999},null,null,402,null,"-",null,null,{"$f":"Calc_WHDHC!J408/3.6/(2*Input!$B$5*PI())*60","v":92.785005967456726},null,null,{"$f":"ROUND(IF(Calc_WHDHC!H408<0,Calc_WHDHC!I408,2*PI()*Calc_WHDHC!G408/60*Calc_WHDHC!H408/1000*IF(Input!$B$4=\"Other\",0.95*0.95,0.98*0.95)),3)","v":128.25399999999999}]
[403,null,{"$f":"Calc_WHDHC!G409","v":1241},null,null,{"$f":"ROUND(IF(Calc_WHDHC!H409<0,Calc_WHDHC!I409*IF(Input!$B$4=\"Other\",0.95*0.95,0.98*0.95),2*PI()*Calc_WHDHC!G409/60*Calc_WHDHC!H409/1000),3)","v":0},null,null,403,null,"-",null,null,{"$f":"Calc_WHDHC!J409/3.6/(2*Input!$B$5*PI())*60","v":97.824358723671935},null,null,{"$f":"ROUND(IF(Calc_WHDHC!H409<0,Calc_WHDHC!I409,2*PI()*Calc_WHDHC!G409/60*Calc_WHDHC!H409/1000*IF(Input!$B$4=\"Other\",0.95*0.95,0.98*0.95)),3)","v":0}]
[404,null,{"$f":"Calc_WHDHC!G410","v":1071},null,null,{"$f":"ROUND(IF(Calc_WHDHC!H410<0,Calc_WHDHC!I410*IF(Input!$B$4=\"Other\",0.95*0.95,0.98*0.95),2*PI()*Calc_WHDHC!G410/60*Calc_WHDHC!H410/1000),3)","v":86.358999999999995},null,null,404,null,"-",null,null,{"$f":"Calc_WHDHC!J410/3.6/(2*Input!$B$5*PI())*60","v":102.28224770032385},null,null,{"$f":"ROUND(IF(Calc_WHDHC!H410<0,Calc_WHDHC!I410,2*PI()*Calc_WHDHC!G410/60*Calc_WHDHC!H410/1000*IF(Input!$B$4=\"Other\",0.95*0.95,0.98*0.95)),3)","v":80.400000000000006}]
[405,null,{"$f":"Calc_WHDHC!G411","v":1120},null,null,{"$f":"ROUND(IF(Calc_WHDHC!H411<0,Calc_WHDHC!I411*IF(Input!$B$4=\"Other\",0.95*0.95,0.98*0.95),2*PI()*Calc_WHDHC!G411/60*Calc_WHDHC!H411/1000),3)","v":171.70699999999999},null,null,405,null,"-",null,null,{"$f":"Calc_WHDHC!J411/3.6/(2*Input!$B$5*PI())*60","v":106.87858043401464},null,null,{"$f":"ROUND(IF(Calc_WHDHC!H411<0,Calc_WHDHC!I411,2*PI()*Calc_WHDHC!G411/60*Calc_WHDHC!H411/1000*IF(Input!$B$4=\"Other\",0.95*0.95,0.98*0.95)),3)","v":159.85900000000001}]
[406,null,{"$f":"Calc_WHDHC!G412","v":1174},null,null,{"$f":"ROUND(IF(Calc_WHDHC!H412<0,Calc_WHDHC!I412*IF(Input!$B$4=\"Other\",0.95*0.95,0.98*0.95),2*PI()*Calc_WHDHC!G412/60*Calc_WHDHC!H412/1000),3)","v":230.023},null,null,406,null,"-",null,null,{"$f":"Calc_WHDHC!J412/3.6/(2*Input!$B$5*PI())*60","v":111.97331069304536},null,null,{"$f":"ROUND(IF(Calc_WHDHC!H412<0,Calc_WHDHC!I412,2*PI()*Calc_WHDHC!G412/60*Calc_WHDHC!H412/1000*IF(Input!$B$4=\"Other\",0.95*0.95,0.98*0.95)),3)","v":214.15100000000001}]
[407,null,{"$f":"Calc_WHDHC!G413","v":1228},null,null,{"$f":"ROUND(IF(Calc_WHDHC!H413<0,Calc_WHDHC!I413*IF(Input!$B$4=\"Other\",0.95*0.95,0.98*0.95),2*PI()*Calc_WHDHC!G413/60*Calc_WHDHC!H413/1000),3)","v":253.977},null,null,407,null,"-",null,null,{"$f":"Calc_WHDHC!J413/3.6/(2*Input!$B$5*PI())*60","v":117.0957297034839},null,null,{"$f":"ROUND(IF(Calc_WHDHC!H413<0,Calc_WHDHC!I413,2*PI()*Calc_WHDHC!G413/60*Calc_WHDHC!H413/1000*IF(Input!$B$4=\"Other\",0.95*0.95,0.98*0.95)),3)","v":236.452}]
[408,null,{"$f":"Calc_WHDHC!G414","v":1271},null,null,{"$f":"ROUND(IF(Calc_WHDHC!H414<0,Calc_WHDHC!I414*IF(Input!$B$4=\"Other\",0.95*0.95,0.98*0.95),2*PI()*Calc_WHDHC!G414/60*Calc_WHDHC!H414/1000),3)","v":92.504000000000005},null,null,408,null,"-",null,null,{"$f":"Calc_WHDHC!J414/3.6/(2*Input!$B$5*PI())*60","v":121.08290990620358},null,null,{"$f":"ROUND(IF(Calc_WHDHC!H414<0,Calc_WHDHC!I414,2*PI()*Calc_WHDHC!G414/60*Calc_WHDHC!H414/1000*IF(Input!$B$4=\"Other\",0.95*0.95,0.98*0.95)),3)","v":86.120999999999995}]
[409,null,{"$f":"Calc_WHDHC!G415","v":1293},null,null,{"$f":"ROUND(IF(Calc_WHDHC!H415<0,Calc_WHDHC!I415*IF(Input!$B$4=\"Other\",0.95*0.95,0.98*0.95),2*PI()*Calc_WHDHC!G415/60*Calc_WHDHC!H415/1000),3)","v":57.951999999999998},null,null,409,null,"-",null,null,{"$f":"Calc_WHDHC!J415/3.6/(2*Input!$B$5*PI())*60","v":123.13187751037903},null,null,{"$f":"ROUND(IF(Calc_WHDHC!H415<0,Calc_WHDHC!I415,2*PI()*Calc_WHDHC!G415/60*Calc_WHDHC!H415/1000*IF(Input!$B$4=\"Other\",0.95*0.95,0.98*0.95)),3)","v":53.954000000000001}]
[410,null,{"$f":"Calc_WHDHC!G416","v":1297},null,null,{"$f":"ROUND(IF(Calc_WHDHC!H416<0,Calc_WHDHC!I416*IF(Input!$B$4=\"Other\",0.95*0.95,0.98*0.95),2*PI()*Calc_WHDHC!G416/60*Calc_WHDHC!H416/1000),3)","v":14.94},null,null,410,null,"-",null,null,{"$f":"Calc_WHDHC!J416/3.6/(2*Input!$B$5*PI())*60","v":123.54720878149567},null,null,{"$f":"ROUND(IF(Calc_WHDHC!H416<0,Calc_WHDHC!I416,2*PI()*Calc_WHDHC!G416/60*Calc_WHDHC!H416/1000*IF(Input!$B$4=\"Other\",0.95*0.95,0.98*0.95)),3)","v":13.909000000000001}]
[411,null,{"$f":"Calc_WHDHC!G417","v":1292},null,null,{"$f":"ROUND(IF(Calc_WHDHC!H417<0,Calc_WHDHC!I417*IF(Input!$B$4=\"Other\",0.95*0.95,0.98*0.95),2*PI()*Calc_WHDHC!G417/60*Calc_WHDHC!H417/1000),3)","v":-0.64800000000000002},null,null,411,null,"-",null,null,{"$f":"Calc_WHDHC!J417/3.6/(2*Input!$B$5*PI())*60","v":122.96574500193236},null,null,{"$f":"ROUND(IF(Calc_WHDHC!H417<0,Calc_WHDHC!I417,2*PI()*Calc_WHDHC!G417/60*Calc_WHDHC!H417/1000*IF(Input!$B$4=\"Other\",0.95*0.95,0.98*0.95)),3)","v":-0.69599999999999995}]
[412,null,{"$f":"Calc_WHDHC!G418","v":1278},null,null,{"$f":"ROUND(IF(Calc_WHDHC!H418<0,Calc_WHDHC!I418*IF(Input!$B$4=\"Other\",0.95*0.95,0.98*0.95),2*PI()*Calc_WHDHC!G418/60*Calc_WHDHC!H418/1000),3)","v":-1.8089999999999999},null,null,412,null,"-",null,null,{"$f":"Calc_WHDHC!J418/3.6/(2*Input!$B$5*PI())*60","v":121.71975118858245},null,null,{"$f":"ROUND(IF(Calc_WHDHC!H418<0,Calc_WHDHC!I418,2*PI()*Calc_WHDHC!G418/60*Calc_WHDHC!H418/1000*IF(Input!$B$4=\"Other\",0.95*0.95,0.98*0.95)),3)","v":-1.9430000000000001}]
[413,null,{"$f":"Calc_WHDHC!G419","v":1261},null,null,{"$f":"ROUND(IF(Calc_WHDHC!H419<0,Calc_WHDHC!I419*IF(Input!$B$4=\"Other\",0.95*0.95,0.98*0.95),2*PI()*Calc_WHDHC!G419/60*Calc_WHDHC!H419/1000),3)","v":-2.2629999999999999},null,null,413,null,"-",null,null,{"$f":"Calc_WHDHC!J419/3.6/(2*Input!$B$5*PI())*60","v":120.19686986115477},null,null,{"$f":"ROUND(IF(Calc_WHDHC!H419<0,Calc_WHDHC!I419,2*PI()*Calc_WHDHC!G419/60*Calc_WHDHC!H419/1000*IF(Input!$B$4=\"Other\",0.95*0.95,0.98*0.95)),3)","v":-2.431}]
[414,null,{"$f":"Calc_WHDHC!G420","v":1244},null,null,{"$f":"ROUND(IF(Calc_WHDHC!H420<0,Calc_WHDHC!I420*IF(Input!$B$4=\"Other\",0.95*0.95,0.98*0.95),2*PI()*Calc_WHDHC!G420/60*Calc_WHDHC!H420/1000),3)","v":-3.9540000000000002},null,null,414,null,"-",null,null,{"$f":"Calc_WHDHC!J420/3.6/(2*Input!$B$5*PI())*60","v":118.59092227950379},null,null,{"$f":"ROUND(IF(Calc_WHDHC!H420<0,Calc_WHDHC!I420,2*PI()*Calc_WHDHC!G420/60*Calc_WHDHC!H420/1000*IF(Input!$B$4=\"Other\",0.95*0.95,0.98*0.95)),3)","v":-4.2469999999999999}]
[415,null,{"$f":"Calc_WHDHC!G421","v":1224},null,null,{"$f":"ROUND(IF(Calc_WHDHC!H421<0,Calc_WHDHC!I421*IF(Input!$B$4=\"Other\",0.95*0.95,0.98*0.95),2*PI()*Calc_WHDHC!G421/60*Calc_WHDHC!H421/1000),3)","v":-7.6849999999999996},null,null,415,null,"-",null,null,{"$f":"Calc_WHDHC!J421/3.6/(2*Input!$B$5*PI())*60","v":116.70808718377504},null,null,{"$f":"ROUND(IF(Calc_WHDHC!H421<0,Calc_WHDHC!I421,2*PI()*Calc_WHDHC!G421/60*Calc_WHDHC!H421/1000*IF(Input!$B$4=\"Other\",0.95*0.95,0.98*0.95)),3)","v":-8.2550000000000008}]
[416,null,{"$f":"Calc_WHDHC!G422","v":1199},null,null,{"$f":"ROUND(IF(Calc_WHDHC!H422<0,Calc_WHDHC!I422*IF(Input!$B$4=\"Other\",0.95*0.95,0.98*0.95),2*PI()*Calc_WHDHC!G422/60*Calc_WHDHC!H422/1000),3)","v":-12.231999999999999},null,null,416,null,"-",null,null,{"$f":"Calc_WHDHC!J422/3.6/(2*Input!$B$5*PI())*60","v":114.29916581129854},null,null,{"$f":"ROUND(IF(Calc_WHDHC!H422<0,Calc_WHDHC!I422,2*PI()*Calc_WHDHC!G422/60*Calc_WHDHC!H422/1000*IF(Input!$B$4=\"Other\",0.95*0.95,0.98*0.95)),3)","v":-13.138999999999999}]
[417,null,{"$f":"Calc_WHDHC!G423","v":1166},null,null,{"$f":"ROUND(IF(Calc_WHDHC!H423<0,Calc_WHDHC!I423*IF(Input!$B$4=\"Other\",0.95*0.95,0.98*0.95),2*PI()*Calc_WHDHC!G423/60*Calc_WHDHC!H423/1000),3)","v":-14.911},null,null,417,null,"-",null,null,{"$f":"Calc_WHDHC!J423/3.6/(2*Input!$B$5*PI())*60","v":111.22571440503542},null,null,{"$f":"ROUND(IF(Calc_WHDHC!H423<0,Calc_WHDHC!I423,2*PI()*Calc_WHDHC!G423/60*Calc_WHDHC!H423/1000*IF(Input!$B$4=\"Other\",0.95*0.95,0.98*0.95)),3)","v":-16.015999999999998}]
[418,null,{"$f":"Calc_WHDHC!G424","v":1129},null,null,{"$f":"ROUND(IF(Calc_WHDHC!H424<0,Calc_WHDHC!I424*IF(Input!$B$4=\"Other\",0.95*0.95,0.98*0.95),2*PI()*Calc_WHDHC!G424/60*Calc_WHDHC!H424/1000),3)","v":-15.096},null,null,418,null,"-",null,null,{"$f":"Calc_WHDHC!J424/3.6/(2*Input!$B$5*PI())*60","v":107.70924297624789},null,null,{"$f":"ROUND(IF(Calc_WHDHC!H424<0,Calc_WHDHC!I424,2*PI()*Calc_WHDHC!G424/60*Calc_WHDHC!H424/1000*IF(Input!$B$4=\"Other\",0.95*0.95,0.98*0.95)),3)","v":-16.215}]
[419,null,{"$f":"Calc_WHDHC!G425","v":1090},null,null,{"$f":"ROUND(IF(Calc_WHDHC!H425<0,Calc_WHDHC!I425*IF(Input!$B$4=\"Other\",0.95*0.95,0.98*0.95),2*PI()*Calc_WHDHC!G425/60*Calc_WHDHC!H425/1000),3)","v":-12.584},null,null,419,null,"-",null,null,{"$f":"Calc_WHDHC!J425/3.6/(2*Input!$B$5*PI())*60","v":104.08201654182929},null,null,{"$f":"ROUND(IF(Calc_WHDHC!H425<0,Calc_WHDHC!I425,2*PI()*Calc_WHDHC!G425/60*Calc_WHDHC!H425/1000*IF(Input!$B$4=\"Other\",0.95*0.95,0.98*0.95)),3)","v":-13.516999999999999}]
[420,null,{"$f":"Calc_WHDHC!G426","v":1054},null,null,{"$f":"ROUND(IF(Calc_WHDHC!H426<0,Calc_WHDHC!I426*IF(Input!$B$4=\"Other\",0.95*0.95,0.98*0.95),2*PI()*Calc_WHDHC!G426/60*Calc_WHDHC!H426/1000),3)","v":-9.7759999999999998},null,null,420,null,"-",null,null,{"$f":"Calc_WHDHC!J426/3.6/(2*Input!$B$5*PI())*60","v":100.75936637289617},null,null,{"$f":"ROUND(IF(Calc_WHDHC!H426<0,Calc_WHDHC!I426,2*PI()*Calc_WHDHC!G426/60*Calc_WHDHC!H426/1000*IF(Input!$B$4=\"Other\",0.95*0.95,0.98*0.95)),3)","v":-10.5}]
[421,null,{"$f":"Calc_WHDHC!G427","v":1024},null,null,{"$f":"ROUND(IF(Calc_WHDHC!H427<0,Calc_WHDHC!I427*IF(Input!$B$4=\"Other\",0.95*0.95,0.98*0.95),2*PI()*Calc_WHDHC!G427/60*Calc_WHDHC!H427/1000),3)","v":-8.9570000000000007},null,null,421,null,"-",null,null,{"$f":"Calc_WHDHC!J427/3.6/(2*Input!$B$5*PI())*60","v":97.824358723671935},null,null,{"$f":"ROUND(IF(Calc_WHDHC!H427<0,Calc_WHDHC!I427,2*PI()*Calc_WHDHC!G427/60*Calc_WHDHC!H427/1000*IF(Input!$B$4=\"Other\",0.95*0.95,0.98*0.95)),3)","v":-9.6210000000000004}]
[422,null,{"$f":"Calc_WHDHC!G428","v":993},null,null,{"$f":"ROUND(IF(Calc_WHDHC!H428<0,Calc_WHDHC!I428*IF(Input!$B$4=\"Other\",0.95*0.95,0.98*0.95),2*PI()*Calc_WHDHC!G428/60*Calc_WHDHC!H428/1000),3)","v":-11.896000000000001},null,null,422,null,"-",null,null,{"$f":"Calc_WHDHC!J428/3.6/(2*Input!$B$5*PI())*60","v":94.972417328671014},null,null,{"$f":"ROUND(IF(Calc_WHDHC!H428<0,Calc_WHDHC!I428,2*PI()*Calc_WHDHC!G428/60*Calc_WHDHC!H428/1000*IF(Input!$B$4=\"Other\",0.95*0.95,0.98*0.95)),3)","v":-12.778}]
[423,null,{"$f":"Calc_WHDHC!G429","v":1158},null,null,{"$f":"ROUND(IF(Calc_WHDHC!H429<0,Calc_WHDHC!I429*IF(Input!$B$4=\"Other\",0.95*0.95,0.98*0.95),2*PI()*Calc_WHDHC!G429/60*Calc_WHDHC!H429/1000),3)","v":0},null,null,423,null,"-",null,null,{"$f":"Calc_WHDHC!J429/3.6/(2*Input!$B$5*PI())*60","v":91.566700905514608},null,null,{"$f":"ROUND(IF(Calc_WHDHC!H429<0,Calc_WHDHC!I429,2*PI()*Calc_WHDHC!G429/60*Calc_WHDHC!H429/1000*IF(Input!$B$4=\"Other\",0.95*0.95,0.98*0.95)),3)","v":0}]
[424,null,{"$f":"Calc_WHDHC!G430","v":1323},null,null,{"$f":"ROUND(IF(Calc_WHDHC!H430<0,Calc_WHDHC!I430*IF(Input!$B$4=\"Other\",0.95*0.95,0.98*0.95),2*PI()*Calc_WHDHC!G430/60*Calc_WHDHC!H430/1000),3)","v":-25.048999999999999},null,null,424,null,"-",null,null,{"$f":"Calc_WHDHC!J430/3.6/(2*Input!$B$5*PI())*60","v":86.970368171823822},null,null,{"$f":"ROUND(IF(Calc_WHDHC!H430<0,Calc_WHDHC!I430,2*PI()*Calc_WHDHC!G430/60*Calc_WHDHC!H430/1000*IF(Input!$B$4=\"Other\",0.95*0.95,0.98*0.95)),3)","v":-26.905999999999999}]
[425,null,{"$f":"Calc_WHDHC!G431","v":1228},null,null,{"$f":"ROUND(IF(Calc_WHDHC!H431<0,Calc_WHDHC!I431*IF(Input!$B$4=\"Other\",0.95*0.95,0.98*0.95),2*PI()*Calc_WHDHC!G431/60*Calc_WHDHC!H431/1000),3)","v":-30.059000000000001},null,null,425,null,"-",null,null,{"$f":"Calc_WHDHC!J431/3.6/(2*Input!$B$5*PI())*60","v":80.79577660788982},null,null,{"$f":"ROUND(IF(Calc_WHDHC!H431<0,Calc_WHDHC!I431,2*PI()*Calc_WHDHC!G431/60*Calc_WHDHC!H431/1000*IF(Input!$B$4=\"Other\",0.95*0.95,0.98*0.95)),3)","v":-32.286999999999999}]
[426,null,{"$f":"Calc_WHDHC!G432","v":1109},null,null,{"$f":"ROUND(IF(Calc_WHDHC!H432<0,Calc_WHDHC!I432*IF(Input!$B$4=\"Other\",0.95*0.95,0.98*0.95),2*PI()*Calc_WHDHC!G432/60*Calc_WHDHC!H432/1000),3)","v":-29.582999999999998},null,null,426,null,"-",null,null,{"$f":"Calc_WHDHC!J432/3.6/(2*Input!$B$5*PI())*60","v":73.125992467935916},null,null,{"$f":"ROUND(IF(Calc_WHDHC!H432<0,Calc_WHDHC!I432,2*PI()*Calc_WHDHC!G432/60*Calc_WHDHC!H432/1000*IF(Input!$B$4=\"Other\",0.95*0.95,0.98*0.95)),3)","v":-31.774999999999999}]
[427,null,{"$f":"Calc_WHDHC!G433","v":1193},null,null,{"$f":"ROUND(IF(Calc_WHDHC!H433<0,Calc_WHDHC!I433*IF(Input!$B$4=\"Other\",0.95*0.95,0.98*0.95),2*PI()*Calc_WHDHC!G433/60*Calc_WHDHC!H433/1000),3)","v":0},null,null,427,null,"-",null,null,{"$f":"Calc_WHDHC!J433/3.6/(2*Input!$B$5*PI())*60","v":64.791678294195378},null,null,{"$f":"ROUND(IF(Calc_WHDHC!H433<0,Calc_WHDHC!I433,2*PI()*Calc_WHDHC!G433/60*Calc_WHDHC!H433/1000*IF(Input!$B$4=\"Other\",0.95*0.95,0.98*0.95)),3)","v":0}]
[428,null,{"$f":"Calc_WHDHC!G434","v":1276},null,null,{"$f":"ROUND(IF(Calc_WHDHC!H434<0,Calc_WHDHC!I434*IF(Input!$B$4=\"Other\",0.95*0.95,0.98*0.95),2*PI()*Calc_WHDHC!G434/60*Calc_WHDHC!H434/1000),3)","v":-7.13},null,null,428,null,"-",null,null,{"$f":"Calc_WHDHC!J434/3.6/(2*Input!$B$5*PI())*60","v":57.86949044225144},null,null,{"$f":"ROUND(IF(Calc_WHDHC!H434<0,Calc_WHDHC!I434,2*PI()*Calc_WHDHC!G434/60*Calc_WHDHC!H434/1000*IF(Input!$B$4=\"Other\",0.95*0.95,0.98*0.95)),3)","v":-7.6580000000000004}]
[429,null,{"$f":"Calc_WHDHC!G435","v":1195},null,null,{"$f":"ROUND(IF(Calc_WHDHC!H435<0,Calc_WHDHC!I435*IF(Input!$B$4=\"Other\",0.95*0.95,0.98*0.95),2*PI()*Calc_WHDHC!G435/60*Calc_WHDHC!H435/1000),3)","v":0},null,null,429,null,"-",null,null,{"$f":"Calc_WHDHC!J435/3.6/(2*Input!$B$5*PI())*60","v":54.242264007832809},null,null,{"$f":"ROUND(IF(Calc_WHDHC!H435<0,Calc_WHDHC!I435,2*PI()*Calc_WHDHC!G435/60*Calc_WHDHC!H435/1000*IF(Input!$B$4=\"Other\",0.95*0.95,0.98*0.95)),3)","v":0}]
[430,null,{"$f":"Calc_WHDHC!G436","v":1181},null,null,{"$f":"ROUND(IF(Calc_WHDHC!H436<0,Calc_WHDHC!I436*IF(Input!$B$4=\"Other\",0.95*0.95,0.98*0.95),2*PI()*Calc_WHDHC!G436/60*Calc_WHDHC!H436/1000),3)","v":81.254000000000005},null,null,430,null,"-",null,null,{"$f":"Calc_WHDHC!J436/3.6/(2*Input!$B$5*PI())*60","v":53.605422725453963},null,null,{"$f":"ROUND(IF(Calc_WHDHC!H436<0,Calc_WHDHC!I436,2*PI()*Calc_WHDHC!G436/60*Calc_WHDHC!H436/1000*IF(Input!$B$4=\"Other\",0.95*0.95,0.98*0.95)),3)","v":75.647000000000006}]
[431,null,{"$f":"Calc_WHDHC!G437","v":1207},null,null,{"$f":"ROUND(IF(Calc_WHDHC!H437<0,Calc_WHDHC!I437*IF(Input!$B$4=\"Other\",0.95*0.95,0.98*0.95),2*PI()*Calc_WHDHC!G437/60*Calc_WHDHC!H437/1000),3)","v":101.749},null,null,431,null,"-",null,null,{"$f":"Calc_WHDHC!J437/3.6/(2*Input!$B$5*PI())*60","v":54.796039035988322},null,null,{"$f":"ROUND(IF(Calc_WHDHC!H437<0,Calc_WHDHC!I437,2*PI()*Calc_WHDHC!G437/60*Calc_WHDHC!H437/1000*IF(Input!$B$4=\"Other\",0.95*0.95,0.98*0.95)),3)","v":94.728999999999999}]
[432,null,{"$f":"Calc_WHDHC!G438","v":1247},null,null,{"$f":"ROUND(IF(Calc_WHDHC!H438<0,Calc_WHDHC!I438*IF(Input!$B$4=\"Other\",0.95*0.95,0.98*0.95),2*PI()*Calc_WHDHC!G438/60*Calc_WHDHC!H438/1000),3)","v":110.214},null,null,432,null,"-",null,null,{"$f":"Calc_WHDHC!J438/3.6/(2*Input!$B$5*PI())*60","v":56.568119126085982},null,null,{"$f":"ROUND(IF(Calc_WHDHC!H438<0,Calc_WHDHC!I438,2*PI()*Calc_WHDHC!G438/60*Calc_WHDHC!H438/1000*IF(Input!$B$4=\"Other\",0.95*0.95,0.98*0.95)),3)","v":102.60899999999999}]
[433,null,{"$f":"Calc_WHDHC!G439","v":1264},null,null,{"$f":"ROUND(IF(Calc_WHDHC!H439<0,Calc_WHDHC!I439*IF(Input!$B$4=\"Other\",0.95*0.95,0.98*0.95),2*PI()*Calc_WHDHC!G439/60*Calc_WHDHC!H439/1000),3)","v":40.372},null,null,433,null,"-",null,null,{"$f":"Calc_WHDHC!J439/3.6/(2*Input!$B$5*PI())*60","v":57.343404165503706},null,null,{"$f":"ROUND(IF(Calc_WHDHC!H439<0,Calc_WHDHC!I439,2*PI()*Calc_WHDHC!G439/60*Calc_WHDHC!H439/1000*IF(Input!$B$4=\"Other\",0.95*0.95,0.98*0.95)),3)","v":37.585999999999999}]
[434,null,{"$f":"Calc_WHDHC!G440","v":1255},null,null,{"$f":"ROUND(IF(Calc_WHDHC!H440<0,Calc_WHDHC!I440*IF(Input!$B$4=\"Other\",0.95*0.95,0.98*0.95),2*PI()*Calc_WHDHC!G440/60*Calc_WHDHC!H440/1000),3)","v":2.234},null,null,434,null,"-",null,null,{"$f":"Calc_WHDHC!J440/3.6/(2*Input!$B$5*PI())*60","v":56.928072894387057},null,null,{"$f":"ROUND(IF(Calc_WHDHC!H440<0,Calc_WHDHC!I440,2*PI()*Calc_WHDHC!G440/60*Calc_WHDHC!H440/1000*IF(Input!$B$4=\"Other\",0.95*0.95,0.98*0.95)),3)","v":2.08}]
[435,null,{"$f":"Calc_WHDHC!G441","v":1218},null,null,{"$f":"ROUND(IF(Calc_WHDHC!H441<0,Calc_WHDHC!I441*IF(Input!$B$4=\"Other\",0.95*0.95,0.98*0.95),2*PI()*Calc_WHDHC!G441/60*Calc_WHDHC!H441/1000),3)","v":0},null,null,435,null,"-",null,null,{"$f":"Calc_WHDHC!J441/3.6/(2*Input!$B$5*PI())*60","v":55.266747809920517},null,null,{"$f":"ROUND(IF(Calc_WHDHC!H441<0,Calc_WHDHC!I441,2*PI()*Calc_WHDHC!G441/60*Calc_WHDHC!H441/1000*IF(Input!$B$4=\"Other\",0.95*0.95,0.98*0.95)),3)","v":0}]
[436,null,{"$f":"Calc_WHDHC!G442","v":1234},null,null,{"$f":"ROUND(IF(Calc_WHDHC!H442<0,Calc_WHDHC!I442*IF(Input!$B$4=\"Other\",0.95*0.95,0.98*0.95),2*PI()*Calc_WHDHC!G442/60*Calc_WHDHC!H442/1000),3)","v":50.527000000000001},null,null,436,null,"-",null,null,{"$f":"Calc_WHDHC!J442/3.6/(2*Input!$B$5*PI())*60","v":55.986655346522681},null,null,{"$f":"ROUND(IF(Calc_WHDHC!H442<0,Calc_WHDHC!I442,2*PI()*Calc_WHDHC!G442/60*Calc_WHDHC!H442/1000*IF(Input!$B$4=\"Other\",0.95*0.95,0.98*0.95)),3)","v":47.04}]
[437,null,{"$f":"Calc_WHDHC!G443","v":1311},null,null,{"$f":"ROUND(IF(Calc_WHDHC!H443<0,Calc_WHDHC!I443*IF(Input!$B$4=\"Other\",0.95*0.95,0.98*0.95),2*PI()*Calc_WHDHC!G443/60*Calc_WHDHC!H443/1000),3)","v":112.57599999999999},null,null,437,null,"-",null,null,{"$f":"Calc_WHDHC!J443/3.6/(2*Input!$B$5*PI())*60","v":59.475438023902441},null,null,{"$f":"ROUND(IF(Calc_WHDHC!H443<0,Calc_WHDHC!I443,2*PI()*Calc_WHDHC!G443/60*Calc_WHDHC!H443/1000*IF(Input!$B$4=\"Other\",0.95*0.95,0.98*0.95)),3)","v":104.80800000000001}]
[438,null,{"$f":"Calc_WHDHC!G444","v":1447},null,null,{"$f":"ROUND(IF(Calc_WHDHC!H444<0,Calc_WHDHC!I444*IF(Input!$B$4=\"Other\",0.95*0.95,0.98*0.95),2*PI()*Calc_WHDHC!G444/60*Calc_WHDHC!H444/1000),3)","v":140.922},null,null,438,null,"-",null,null,{"$f":"Calc_WHDHC!J444/3.6/(2*Input!$B$5*PI())*60","v":65.539274582205337},null,null,{"$f":"ROUND(IF(Calc_WHDHC!H444<0,Calc_WHDHC!I444,2*PI()*Calc_WHDHC!G444/60*Calc_WHDHC!H444/1000*IF(Input!$B$4=\"Other\",0.95*0.95,0.98*0.95)),3)","v":131.19900000000001}]
[439,null,{"$f":"Calc_WHDHC!G445","v":1598},null,null,{"$f":"ROUND(IF(Calc_WHDHC!H445<0,Calc_WHDHC!I445*IF(Input!$B$4=\"Other\",0.95*0.95,0.98*0.95),2*PI()*Calc_WHDHC!G445/60*Calc_WHDHC!H445/1000),3)","v":69.614000000000004},null,null,439,null,"-",null,null,{"$f":"Calc_WHDHC!J445/3.6/(2*Input!$B$5*PI())*60","v":72.239952422887086},null,null,{"$f":"ROUND(IF(Calc_WHDHC!H445<0,Calc_WHDHC!I445,2*PI()*Calc_WHDHC!G445/60*Calc_WHDHC!H445/1000*IF(Input!$B$4=\"Other\",0.95*0.95,0.98*0.95)),3)","v":64.811000000000007}]
[440,null,{"$f":"Calc_WHDHC!G446","v":1425},null,null,{"$f":"ROUND(IF(Calc_WHDHC!H446<0,Calc_WHDHC!I446*IF(Input!$B$4=\"Other\",0.95*0.95,0.98*0.95),2*PI()*Calc_WHDHC!G446/60*Calc_WHDHC!H446/1000),3)","v":0},null,null,440,null,"-",null,null,{"$f":"Calc_WHDHC!J446/3.6/(2*Input!$B$5*PI())*60","v":77.971523964296679},null,null,{"$f":"ROUND(IF(Calc_WHDHC!H446<0,Calc_WHDHC!I446,2*PI()*Calc_WHDHC!G446/60*Calc_WHDHC!H446/1000*IF(Input!$B$4=\"Other\",0.95*0.95,0.98*0.95)),3)","v":0}]
[441,null,{"$f":"Calc_WHDHC!G447","v":1252},null,null,{"$f":"ROUND(IF(Calc_WHDHC!H447<0,Calc_WHDHC!I447*IF(Input!$B$4=\"Other\",0.95*0.95,0.98*0.95),2*PI()*Calc_WHDHC!G447/60*Calc_WHDHC!H447/1000),3)","v":86.400999999999996},null,null,441,null,"-",null,null,{"$f":"Calc_WHDHC!J447/3.6/(2*Input!$B$5*PI())*60","v":82.374035438133035},null,null,{"$f":"ROUND(IF(Calc_WHDHC!H447<0,Calc_WHDHC!I447,2*PI()*Calc_WHDHC!G447/60*Calc_WHDHC!H447/1000*IF(Input!$B$4=\"Other\",0.95*0.95,0.98*0.95)),3)","v":80.438999999999993}]
[442,null,{"$f":"Calc_WHDHC!G448","v":1305},null,null,{"$f":"ROUND(IF(Calc_WHDHC!H448<0,Calc_WHDHC!I448*IF(Input!$B$4=\"Other\",0.95*0.95,0.98*0.95),2*PI()*Calc_WHDHC!G448/60*Calc_WHDHC!H448/1000),3)","v":173.14699999999999},null,null,442,null,"-",null,null,{"$f":"Calc_WHDHC!J448/3.6/(2*Input!$B$5*PI())*60","v":85.752063109881675},null,null,{"$f":"ROUND(IF(Calc_WHDHC!H448<0,Calc_WHDHC!I448,2*PI()*Calc_WHDHC!G448/60*Calc_WHDHC!H448/1000*IF(Input!$B$4=\"Other\",0.95*0.95,0.98*0.95)),3)","v":161.19999999999999}]
[443,null,{"$f":"Calc_WHDHC!G449","v":1348},null,null,{"$f":"ROUND(IF(Calc_WHDHC!H449<0,Calc_WHDHC!I449*IF(Input!$B$4=\"Other\",0.95*0.95,0.98*0.95),2*PI()*Calc_WHDHC!G449/60*Calc_WHDHC!H449/1000),3)","v":86.814999999999998},null,null,443,null,"-",null,null,{"$f":"Calc_WHDHC!J449/3.6/(2*Input!$B$5*PI())*60","v":88.576315753474816},null,null,{"$f":"ROUND(IF(Calc_WHDHC!H449<0,Calc_WHDHC!I449,2*PI()*Calc_WHDHC!G449/60*Calc_WHDHC!H449/1000*IF(Input!$B$4=\"Other\",0.95*0.95,0.98*0.95)),3)","v":80.825000000000003}]
[444,null,{"$f":"Calc_WHDHC!G450","v":1156},null,null,{"$f":"ROUND(IF(Calc_WHDHC!H450<0,Calc_WHDHC!I450*IF(Input!$B$4=\"Other\",0.95*0.95,0.98*0.95),2*PI()*Calc_WHDHC!G450/60*Calc_WHDHC!H450/1000),3)","v":0},null,null,444,null,"-",null,null,{"$f":"Calc_WHDHC!J450/3.6/(2*Input!$B$5*PI())*60","v":90.929859623135783},null,null,{"$f":"ROUND(IF(Calc_WHDHC!H450<0,Calc_WHDHC!I450,2*PI()*Calc_WHDHC!G450/60*Calc_WHDHC!H450/1000*IF(Input!$B$4=\"Other\",0.95*0.95,0.98*0.95)),3)","v":0}]
[445,null,{"$f":"Calc_WHDHC!G451","v":964},null,null,{"$f":"ROUND(IF(Calc_WHDHC!H451<0,Calc_WHDHC!I451*IF(Input!$B$4=\"Other\",0.95*0.95,0.98*0.95),2*PI()*Calc_WHDHC!G451/60*Calc_WHDHC!H451/1000),3)","v":8.2780000000000005},null,null,445,null,"-",null,null,{"$f":"Calc_WHDHC!J451/3.6/(2*Input!$B$5*PI())*60","v":92.286608442116773},null,null,{"$f":"ROUND(IF(Calc_WHDHC!H451<0,Calc_WHDHC!I451,2*PI()*Calc_WHDHC!G451/60*Calc_WHDHC!H451/1000*IF(Input!$B$4=\"Other\",0.95*0.95,0.98*0.95)),3)","v":7.7069999999999999}]
[446,null,{"$f":"Calc_WHDHC!G452","v":968},null,null,{"$f":"ROUND(IF(Calc_WHDHC!H452<0,Calc_WHDHC!I452*IF(Input!$B$4=\"Other\",0.95*0.95,0.98*0.95),2*PI()*Calc_WHDHC!G452/60*Calc_WHDHC!H452/1000),3)","v":16.623999999999999},null,null,446,null,"-",null,null,{"$f":"Calc_WHDHC!J452/3.6/(2*Input!$B$5*PI())*60","v":92.618873459010103},null,null,{"$f":"ROUND(IF(Calc_WHDHC!H452<0,Calc_WHDHC!I452,2*PI()*Calc_WHDHC!G452/60*Calc_WHDHC!H452/1000*IF(Input!$B$4=\"Other\",0.95*0.95,0.98*0.95)),3)","v":15.477}]
[447,null,{"$f":"Calc_WHDHC!G453","v":963},null,null,{"$f":"ROUND(IF(Calc_WHDHC!H453<0,Calc_WHDHC!I453*IF(Input!$B$4=\"Other\",0.95*0.95,0.98*0.95),2*PI()*Calc_WHDHC!G453/60*Calc_WHDHC!H453/1000),3)","v":8.4710000000000001},null,null,447,null,"-",null,null,{"$f":"Calc_WHDHC!J453/3.6/(2*Input!$B$5*PI())*60","v":92.120475933670122},null,null,{"$f":"ROUND(IF(Calc_WHDHC!H453<0,Calc_WHDHC!I453,2*PI()*Calc_WHDHC!G453/60*Calc_WHDHC!H453/1000*IF(Input!$B$4=\"Other\",0.95*0.95,0.98*0.95)),3)","v":7.8860000000000001}]
[448,null,{"$f":"Calc_WHDHC!G454","v":1149},null,null,{"$f":"ROUND(IF(Calc_WHDHC!H454<0,Calc_WHDHC!I454*IF(Input!$B$4=\"Other\",0.95*0.95,0.98*0.95),2*PI()*Calc_WHDHC!G454/60*Calc_WHDHC!H454/1000),3)","v":0},null,null,448,null,"-",null,null,{"$f":"Calc_WHDHC!J454/3.6/(2*Input!$B$5*PI())*60","v":90.431462097795787},null,null,{"$f":"ROUND(IF(Calc_WHDHC!H454<0,Calc_WHDHC!I454,2*PI()*Calc_WHDHC!G454/60*Calc_WHDHC!H454/1000*IF(Input!$B$4=\"Other\",0.95*0.95,0.98*0.95)),3)","v":0}]
[449,null,{"$f":"Calc_WHDHC!G455","v":1337},null,null,{"$f":"ROUND(IF(Calc_WHDHC!H455<0,Calc_WHDHC!I455*IF(Input!$B$4=\"Other\",0.95*0.95,0.98*0.95),2*PI()*Calc_WHDHC!G455/60*Calc_WHDHC!H455/1000),3)","v":-9.6140000000000008},null,null,449,null,"-",null,null,{"$f":"Calc_WHDHC!J455/3.6/(2*Input!$B$5*PI())*60","v":87.856408216872637},null,null,{"$f":"ROUND(IF(Calc_WHDHC!H455<0,Calc_WHDHC!I455,2*PI()*Calc_WHDHC!G455/60*Calc_WHDHC!H455/1000*IF(Input!$B$4=\"Other\",0.95*0.95,0.98*0.95)),3)","v":-10.327}]
[450,null,{"$f":"Calc_WHDHC!G456","v":1288},null,null,{"$f":"ROUND(IF(Calc_WHDHC!H456<0,Calc_WHDHC!I456*IF(Input!$B$4=\"Other\",0.95*0.95,0.98*0.95),2*PI()*Calc_WHDHC!G456/60*Calc_WHDHC!H456/1000),3)","v":-12.488},null,null,450,null,"-",null,null,{"$f":"Calc_WHDHC!J456/3.6/(2*Input!$B$5*PI())*60","v":84.672201804978428},null,null,{"$f":"ROUND(IF(Calc_WHDHC!H456<0,Calc_WHDHC!I456,2*PI()*Calc_WHDHC!G456/60*Calc_WHDHC!H456/1000*IF(Input!$B$4=\"Other\",0.95*0.95,0.98*0.95)),3)","v":-13.414}]
[451,null,{"$f":"Calc_WHDHC!G457","v":1228},null,null,{"$f":"ROUND(IF(Calc_WHDHC!H457<0,Calc_WHDHC!I457*IF(Input!$B$4=\"Other\",0.95*0.95,0.98*0.95),2*PI()*Calc_WHDHC!G457/60*Calc_WHDHC!H457/1000),3)","v":-15.311},null,null,451,null,"-",null,null,{"$f":"Calc_WHDHC!J457/3.6/(2*Input!$B$5*PI())*60","v":80.851154110705352},null,null,{"$f":"ROUND(IF(Calc_WHDHC!H457<0,Calc_WHDHC!I457,2*PI()*Calc_WHDHC!G457/60*Calc_WHDHC!H457/1000*IF(Input!$B$4=\"Other\",0.95*0.95,0.98*0.95)),3)","v":-16.446000000000002}]
[452,null,{"$f":"Calc_WHDHC!G458","v":1158},null,null,{"$f":"ROUND(IF(Calc_WHDHC!H458<0,Calc_WHDHC!I458*IF(Input!$B$4=\"Other\",0.95*0.95,0.98*0.95),2*PI()*Calc_WHDHC!G458/60*Calc_WHDHC!H458/1000),3)","v":-16.875},null,null,452,null,"-",null,null,{"$f":"Calc_WHDHC!J458/3.6/(2*Input!$B$5*PI())*60","v":76.310198879830125},null,null,{"$f":"ROUND(IF(Calc_WHDHC!H458<0,Calc_WHDHC!I458,2*PI()*Calc_WHDHC!G458/60*Calc_WHDHC!H458/1000*IF(Input!$B$4=\"Other\",0.95*0.95,0.98*0.95)),3)","v":-18.126000000000001}]
[453,null,{"$f":"Calc_WHDHC!G459","v":1079},null,null,{"$f":"ROUND(IF(Calc_WHDHC!H459<0,Calc_WHDHC!I459*IF(Input!$B$4=\"Other\",0.95*0.95,0.98*0.95),2*PI()*Calc_WHDHC!G459/60*Calc_WHDHC!H459/1000),3)","v":-16.741},null,null,453,null,"-",null,null,{"$f":"Calc_WHDHC!J459/3.6/(2*Input!$B$5*PI())*60","v":71.187779869391619},null,null,{"$f":"ROUND(IF(Calc_WHDHC!H459<0,Calc_WHDHC!I459,2*PI()*Calc_WHDHC!G459/60*Calc_WHDHC!H459/1000*IF(Input!$B$4=\"Other\",0.95*0.95,0.98*0.95)),3)","v":-17.981999999999999}]
[454,null,{"$f":"Calc_WHDHC!G460","v":1208},null,null,{"$f":"ROUND(IF(Calc_WHDHC!H460<0,Calc_WHDHC!I460*IF(Input!$B$4=\"Other\",0.95*0.95,0.98*0.95),2*PI()*Calc_WHDHC!G460/60*Calc_WHDHC!H460/1000),3)","v":0},null,null,454,null,"-",null,null,{"$f":"Calc_WHDHC!J460/3.6/(2*Input!$B$5*PI())*60","v":65.788473344875328},null,null,{"$f":"ROUND(IF(Calc_WHDHC!H460<0,Calc_WHDHC!I460,2*PI()*Calc_WHDHC!G460/60*Calc_WHDHC!H460/1000*IF(Input!$B$4=\"Other\",0.95*0.95,0.98*0.95)),3)","v":0}]
[455,null,{"$f":"Calc_WHDHC!G461","v":1337},null,null,{"$f":"ROUND(IF(Calc_WHDHC!H461<0,Calc_WHDHC!I461*IF(Input!$B$4=\"Other\",0.95*0.95,0.98*0.95),2*PI()*Calc_WHDHC!G461/60*Calc_WHDHC!H461/1000),3)","v":-11.585000000000001},null,null,455,null,"-",null,null,{"$f":"Calc_WHDHC!J461/3.6/(2*Input!$B$5*PI())*60","v":60.555299328805702},null,null,{"$f":"ROUND(IF(Calc_WHDHC!H461<0,Calc_WHDHC!I461,2*PI()*Calc_WHDHC!G461/60*Calc_WHDHC!H461/1000*IF(Input!$B$4=\"Other\",0.95*0.95,0.98*0.95)),3)","v":-12.444000000000001}]
[456,null,{"$f":"Calc_WHDHC!G462","v":1230},null,null,{"$f":"ROUND(IF(Calc_WHDHC!H462<0,Calc_WHDHC!I462*IF(Input!$B$4=\"Other\",0.95*0.95,0.98*0.95),2*PI()*Calc_WHDHC!G462/60*Calc_WHDHC!H462/1000),3)","v":-10.874000000000001},null,null,456,null,"-",null,null,{"$f":"Calc_WHDHC!J462/3.6/(2*Input!$B$5*PI())*60","v":55.79283408666825},null,null,{"$f":"ROUND(IF(Calc_WHDHC!H462<0,Calc_WHDHC!I462,2*PI()*Calc_WHDHC!G462/60*Calc_WHDHC!H462/1000*IF(Input!$B$4=\"Other\",0.95*0.95,0.98*0.95)),3)","v":-11.68}]
[457,null,{"$f":"Calc_WHDHC!G463","v":1120},null,null,{"$f":"ROUND(IF(Calc_WHDHC!H463<0,Calc_WHDHC!I463*IF(Input!$B$4=\"Other\",0.95*0.95,0.98*0.95),2*PI()*Calc_WHDHC!G463/60*Calc_WHDHC!H463/1000),3)","v":-15.02},null,null,457,null,"-",null,null,{"$f":"Calc_WHDHC!J463/3.6/(2*Input!$B$5*PI())*60","v":50.891925087491934},null,null,{"$f":"ROUND(IF(Calc_WHDHC!H463<0,Calc_WHDHC!I463,2*PI()*Calc_WHDHC!G463/60*Calc_WHDHC!H463/1000*IF(Input!$B$4=\"Other\",0.95*0.95,0.98*0.95)),3)","v":-16.132999999999999}]
[458,null,{"$f":"Calc_WHDHC!G464","v":1142},null,null,{"$f":"ROUND(IF(Calc_WHDHC!H464<0,Calc_WHDHC!I464*IF(Input!$B$4=\"Other\",0.95*0.95,0.98*0.95),2*PI()*Calc_WHDHC!G464/60*Calc_WHDHC!H464/1000),3)","v":0},null,null,458,null,"-",null,null,{"$f":"Calc_WHDHC!J464/3.6/(2*Input!$B$5*PI())*60","v":44.10818099258686},null,null,{"$f":"ROUND(IF(Calc_WHDHC!H464<0,Calc_WHDHC!I464,2*PI()*Calc_WHDHC!G464/60*Calc_WHDHC!H464/1000*IF(Input!$B$4=\"Other\",0.95*0.95,0.98*0.95)),3)","v":0}]
[459,null,{"$f":"Calc_WHDHC!G465","v":1164},null,null,{"$f":"ROUND(IF(Calc_WHDHC!H465<0,Calc_WHDHC!I465*IF(Input!$B$4=\"Other\",0.95*0.95,0.98*0.95),2*PI()*Calc_WHDHC!G465/60*Calc_WHDHC!H465/1000),3)","v":-17.105},null,null,459,null,"-",null,null,{"$f":"Calc_WHDHC!J465/3.6/(2*Input!$B$5*PI())*60","v":34.140230485787569},null,null,{"$f":"ROUND(IF(Calc_WHDHC!H465<0,Calc_WHDHC!I465,2*PI()*Calc_WHDHC!G465/60*Calc_WHDHC!H465/1000*IF(Input!$B$4=\"Other\",0.95*0.95,0.98*0.95)),3)","v":-18.373000000000001}]
[460,null,{"$f":"Calc_WHDHC!G466","v":989},null,null,{"$f":"ROUND(IF(Calc_WHDHC!H466<0,Calc_WHDHC!I466*IF(Input!$B$4=\"Other\",0.95*0.95,0.98*0.95),2*PI()*Calc_WHDHC!G466/60*Calc_WHDHC!H466/1000),3)","v":-7.4189999999999996},null,null,460,null,"-",null,null,{"$f":"Calc_WHDHC!J466/3.6/(2*Input!$B$5*PI())*60","v":22.123312374812876},null,null,{"$f":"ROUND(IF(Calc_WHDHC!H466<0,Calc_WHDHC!I466,2*PI()*Calc_WHDHC!G466/60*Calc_WHDHC!H466/1000*IF(Input!$B$4=\"Other\",0.95*0.95,0.98*0.95)),3)","v":-7.9690000000000003}]
[461,null,{"$f":"Calc_WHDHC!G467","v":833},null,null,{"$f":"ROUND(IF(Calc_WHDHC!H467<0,Calc_WHDHC!I467*IF(Input!$B$4=\"Other\",0.95*0.95,0.98*0.95),2*PI()*Calc_WHDHC!G467/60*Calc_WHDHC!H467/1000),3)","v":-1.1919999999999999},null,null,461,null,"-",null,null,{"$f":"Calc_WHDHC!J467/3.6/(2*Input!$B$5*PI())*60","v":11.601586839858065},null,null,{"$f":"ROUND(IF(Calc_WHDHC!H467<0,Calc_WHDHC!I467,2*PI()*Calc_WHDHC!G467/60*Calc_WHDHC!H467/1000*IF(Input!$B$4=\"Other\",0.95*0.95,0.98*0.95)),3)","v":-1.28}]
[462,null,{"$f":"Calc_WHDHC!G468","v":692},null,null,{"$f":"ROUND(IF(Calc_WHDHC!H468<0,Calc_WHDHC!I468*IF(Input!$B$4=\"Other\",0.95*0.95,0.98*0.95),2*PI()*Calc_WHDHC!G468/60*Calc_WHDHC!H468/1000),3)","v":0},null,null,462,null,"-",null,null,{"$f":"Calc_WHDHC!J468/3.6/(2*Input!$B$5*PI())*60","v":4.9009089991763179},null,null,{"$f":"ROUND(IF(Calc_WHDHC!H468<0,Calc_WHDHC!I468,2*PI()*Calc_WHDHC!G468/60*Calc_WHDHC!H468/1000*IF(Input!$B$4=\"Other\",0.95*0.95,0.98*0.95)),3)","v":0}]
[463,null,{"$f":"Calc_WHDHC!G469","v":560},null,null,{"$f":"ROUND(IF(Calc_WHDHC!H469<0,Calc_WHDHC!I469*IF(Input!$B$4=\"Other\",0.95*0.95,0.98*0.95),2*PI()*Calc_WHDHC!G469/60*Calc_WHDHC!H469/1000),3)","v":0},null,null,463,null,"-",null,null,{"$f":"Calc_WHDHC!J469/3.6/(2*Input!$B$5*PI())*60","v":1.9105238471365307},null,null,{"$f":"ROUND(IF(Calc_WHDHC!H469<0,Calc_WHDHC!I469,2*PI()*Calc_WHDHC!G469/60*Calc_WHDHC!H469/1000*IF(Input!$B$4=\"Other\",0.95*0.95,0.98*0.95)),3)","v":0}]
[464,null,{"$f":"Calc_WHDHC!G470","v":560},null,null,{"$f":"ROUND(IF(Calc_WHDHC!H470<0,Calc_WHDHC!I470*IF(Input!$B$4=\"Other\",0.95*0.95,0.98*0.95),2*PI()*Calc_WHDHC!G470/60*Calc_WHDHC!H470/1000),3)","v":0.88},null,null,464,null,"-",null,null,{"$f":"Calc_WHDHC!J470/3.6/(2*Input!$B$5*PI())*60","v":3.1288289090786661},null,null,{"$f":"ROUND(IF(Calc_WHDHC!H470<0,Calc_WHDHC!I470,2*PI()*Calc_WHDHC!G470/60*Calc_WHDHC!H470/1000*IF(Input!$B$4=\"Other\",0.95*0.95,0.98*0.95)),3)","v":0.81899999999999995}]
[465,null,{"$f":"Calc_WHDHC!G471","v":572},null,null,{"$f":"ROUND(IF(Calc_WHDHC!H471<0,Calc_WHDHC!I471*IF(Input!$B$4=\"Other\",0.95*0.95,0.98*0.95),2*PI()*Calc_WHDHC!G471/60*Calc_WHDHC!H471/1000),3)","v":24.978000000000002},null,null,465,null,"-",null,null,{"$f":"Calc_WHDHC!J471/3.6/(2*Input!$B$5*PI())*60","v":6.0915253097106783},null,null,{"$f":"ROUND(IF(Calc_WHDHC!H471<0,Calc_WHDHC!I471,2*PI()*Calc_WHDHC!G471/60*Calc_WHDHC!H471/1000*IF(Input!$B$4=\"Other\",0.95*0.95,0.98*0.95)),3)","v":23.254999999999999}]
[466,null,{"$f":"Calc_WHDHC!G472","v":652},null,null,{"$f":"ROUND(IF(Calc_WHDHC!H472<0,Calc_WHDHC!I472*IF(Input!$B$4=\"Other\",0.95*0.95,0.98*0.95),2*PI()*Calc_WHDHC!G472/60*Calc_WHDHC!H472/1000),3)","v":38.780999999999999},null,null,466,null,"-",null,null,{"$f":"Calc_WHDHC!J472/3.6/(2*Input!$B$5*PI())*60","v":9.9402617553915142},null,null,{"$f":"ROUND(IF(Calc_WHDHC!H472<0,Calc_WHDHC!I472,2*PI()*Calc_WHDHC!G472/60*Calc_WHDHC!H472/1000*IF(Input!$B$4=\"Other\",0.95*0.95,0.98*0.95)),3)","v":36.106000000000002}]
[467,null,{"$f":"Calc_WHDHC!G473","v":729},null,null,{"$f":"ROUND(IF(Calc_WHDHC!H473<0,Calc_WHDHC!I473*IF(Input!$B$4=\"Other\",0.95*0.95,0.98*0.95),2*PI()*Calc_WHDHC!G473/60*Calc_WHDHC!H473/1000),3)","v":52.064},null,null,467,null,"-",null,null,{"$f":"Calc_WHDHC!J473/3.6/(2*Input!$B$5*PI())*60","v":13.512110686994594},null,null,{"$f":"ROUND(IF(Calc_WHDHC!H473<0,Calc_WHDHC!I473,2*PI()*Calc_WHDHC!G473/60*Calc_WHDHC!H473/1000*IF(Input!$B$4=\"Other\",0.95*0.95,0.98*0.95)),3)","v":48.472000000000001}]
[468,null,{"$f":"Calc_WHDHC!G474","v":785},null,null,{"$f":"ROUND(IF(Calc_WHDHC!H474<0,Calc_WHDHC!I474*IF(Input!$B$4=\"Other\",0.95*0.95,0.98*0.95),2*PI()*Calc_WHDHC!G474/60*Calc_WHDHC!H474/1000),3)","v":63.462000000000003},null,null,468,null,"-",null,null,{"$f":"Calc_WHDHC!J474/3.6/(2*Input!$B$5*PI())*60","v":16.197919573548845},null,null,{"$f":"ROUND(IF(Calc_WHDHC!H474<0,Calc_WHDHC!I474,2*PI()*Calc_WHDHC!G474/60*Calc_WHDHC!H474/1000*IF(Input!$B$4=\"Other\",0.95*0.95,0.98*0.95)),3)","v":59.082999999999998}]
[469,null,{"$f":"Calc_WHDHC!G475","v":836},null,null,{"$f":"ROUND(IF(Calc_WHDHC!H475<0,Calc_WHDHC!I475*IF(Input!$B$4=\"Other\",0.95*0.95,0.98*0.95),2*PI()*Calc_WHDHC!G475/60*Calc_WHDHC!H475/1000),3)","v":75.463999999999999},null,null,469,null,"-",null,null,{"$f":"Calc_WHDHC!J475/3.6/(2*Input!$B$5*PI())*60","v":18.60684094602534},null,null,{"$f":"ROUND(IF(Calc_WHDHC!H475<0,Calc_WHDHC!I475,2*PI()*Calc_WHDHC!G475/60*Calc_WHDHC!H475/1000*IF(Input!$B$4=\"Other\",0.95*0.95,0.98*0.95)),3)","v":70.257000000000005}]
[470,null,{"$f":"Calc_WHDHC!G476","v":913},null,null,{"$f":"ROUND(IF(Calc_WHDHC!H476<0,Calc_WHDHC!I476*IF(Input!$B$4=\"Other\",0.95*0.95,0.98*0.95),2*PI()*Calc_WHDHC!G476/60*Calc_WHDHC!H476/1000),3)","v":94.94},null,null,470,null,"-",null,null,{"$f":"Calc_WHDHC!J476/3.6/(2*Input!$B$5*PI())*60","v":22.206378629036195},null,null,{"$f":"ROUND(IF(Calc_WHDHC!H476<0,Calc_WHDHC!I476,2*PI()*Calc_WHDHC!G476/60*Calc_WHDHC!H476/1000*IF(Input!$B$4=\"Other\",0.95*0.95,0.98*0.95)),3)","v":88.388999999999996}]
[471,null,{"$f":"Calc_WHDHC!G477","v":1029},null,null,{"$f":"ROUND(IF(Calc_WHDHC!H477<0,Calc_WHDHC!I477*IF(Input!$B$4=\"Other\",0.95*0.95,0.98*0.95),2*PI()*Calc_WHDHC!G477/60*Calc_WHDHC!H477/1000),3)","v":125.64400000000001},null,null,471,null,"-",null,null,{"$f":"Calc_WHDHC!J477/3.6/(2*Input!$B$5*PI())*60","v":27.74412891059136},null,null,{"$f":"ROUND(IF(Calc_WHDHC!H477<0,Calc_WHDHC!I477,2*PI()*Calc_WHDHC!G477/60*Calc_WHDHC!H477/1000*IF(Input!$B$4=\"Other\",0.95*0.95,0.98*0.95)),3)","v":116.97499999999999}]
[472,null,{"$f":"Calc_WHDHC!G478","v":1179},null,null,{"$f":"ROUND(IF(Calc_WHDHC!H478<0,Calc_WHDHC!I478*IF(Input!$B$4=\"Other\",0.95*0.95,0.98*0.95),2*PI()*Calc_WHDHC!G478/60*Calc_WHDHC!H478/1000),3)","v":61.731999999999999},null,null,472,null,"-",null,null,{"$f":"Calc_WHDHC!J478/3.6/(2*Input!$B$5*PI())*60","v":34.860138022389741},null,null,{"$f":"ROUND(IF(Calc_WHDHC!H478<0,Calc_WHDHC!I478,2*PI()*Calc_WHDHC!G478/60*Calc_WHDHC!H478/1000*IF(Input!$B$4=\"Other\",0.95*0.95,0.98*0.95)),3)","v":57.472999999999999}]
[473,null,{"$f":"Calc_WHDHC!G479","v":1148},null,null,{"$f":"ROUND(IF(Calc_WHDHC!H479<0,Calc_WHDHC!I479*IF(Input!$B$4=\"Other\",0.95*0.95,0.98*0.95),2*PI()*Calc_WHDHC!G479/60*Calc_WHDHC!H479/1000),3)","v":0},null,null,473,null,"-",null,null,{"$f":"Calc_WHDHC!J479/3.6/(2*Input!$B$5*PI())*60","v":42.723743422198069},null,null,{"$f":"ROUND(IF(Calc_WHDHC!H479<0,Calc_WHDHC!I479,2*PI()*Calc_WHDHC!G479/60*Calc_WHDHC!H479/1000*IF(Input!$B$4=\"Other\",0.95*0.95,0.98*0.95)),3)","v":0}]
[474,null,{"$f":"Calc_WHDHC!G480","v":1116},null,null,{"$f":"ROUND(IF(Calc_WHDHC!H480<0,Calc_WHDHC!I480*IF(Input!$B$4=\"Other\",0.95*0.95,0.98*0.95),2*PI()*Calc_WHDHC!G480/60*Calc_WHDHC!H480/1000),3)","v":111.14100000000001},null,null,474,null,"-",null,null,{"$f":"Calc_WHDHC!J480/3.6/(2*Input!$B$5*PI())*60","v":50.725792579045283},null,null,{"$f":"ROUND(IF(Calc_WHDHC!H480<0,Calc_WHDHC!I480,2*PI()*Calc_WHDHC!G480/60*Calc_WHDHC!H480/1000*IF(Input!$B$4=\"Other\",0.95*0.95,0.98*0.95)),3)","v":103.47199999999999}]
[475,null,{"$f":"Calc_WHDHC!G481","v":1294},null,null,{"$f":"ROUND(IF(Calc_WHDHC!H481<0,Calc_WHDHC!I481*IF(Input!$B$4=\"Other\",0.95*0.95,0.98*0.95),2*PI()*Calc_WHDHC!G481/60*Calc_WHDHC!H481/1000),3)","v":221.148},null,null,475,null,"-",null,null,{"$f":"Calc_WHDHC!J481/3.6/(2*Input!$B$5*PI())*60","v":58.672464233076937},null,null,{"$f":"ROUND(IF(Calc_WHDHC!H481<0,Calc_WHDHC!I481,2*PI()*Calc_WHDHC!G481/60*Calc_WHDHC!H481/1000*IF(Input!$B$4=\"Other\",0.95*0.95,0.98*0.95)),3)","v":205.88900000000001}]
[476,null,{"$f":"Calc_WHDHC!G482","v":1469},null,null,{"$f":"ROUND(IF(Calc_WHDHC!H482<0,Calc_WHDHC!I482*IF(Input!$B$4=\"Other\",0.95*0.95,0.98*0.95),2*PI()*Calc_WHDHC!G482/60*Calc_WHDHC!H482/1000),3)","v":315.666},null,null,476,null,"-",null,null,{"$f":"Calc_WHDHC!J482/3.6/(2*Input!$B$5*PI())*60","v":66.453003378661933},null,null,{"$f":"ROUND(IF(Calc_WHDHC!H482<0,Calc_WHDHC!I482,2*PI()*Calc_WHDHC!G482/60*Calc_WHDHC!H482/1000*IF(Input!$B$4=\"Other\",0.95*0.95,0.98*0.95)),3)","v":293.88499999999999}]
[477,null,{"$f":"Calc_WHDHC!G483","v":1639},null,null,{"$f":"ROUND(IF(Calc_WHDHC!H483<0,Calc_WHDHC!I483*IF(Input!$B$4=\"Other\",0.95*0.95,0.98*0.95),2*PI()*Calc_WHDHC!G483/60*Calc_WHDHC!H483/1000),3)","v":155.845},null,null,477,null,"-",null,null,{"$f":"Calc_WHDHC!J483/3.6/(2*Input!$B$5*PI())*60","v":74.067410015800291},null,null,{"$f":"ROUND(IF(Calc_WHDHC!H483<0,Calc_WHDHC!I483,2*PI()*Calc_WHDHC!G483/60*Calc_WHDHC!H483/1000*IF(Input!$B$4=\"Other\",0.95*0.95,0.98*0.95)),3)","v":145.09200000000001}]
[478,null,{"$f":"Calc_WHDHC!G484","v":1500},null,null,{"$f":"ROUND(IF(Calc_WHDHC!H484<0,Calc_WHDHC!I484*IF(Input!$B$4=\"Other\",0.95*0.95,0.98*0.95),2*PI()*Calc_WHDHC!G484/60*Calc_WHDHC!H484/1000),3)","v":0},null,null,478,null,"-",null,null,{"$f":"Calc_WHDHC!J484/3.6/(2*Input!$B$5*PI())*60","v":81.764882907161962},null,null,{"$f":"ROUND(IF(Calc_WHDHC!H484<0,Calc_WHDHC!I484,2*PI()*Calc_WHDHC!G484/60*Calc_WHDHC!H484/1000*IF(Input!$B$4=\"Other\",0.95*0.95,0.98*0.95)),3)","v":0}]
[479,null,{"$f":"Calc_WHDHC!G485","v":1362},null,null,{"$f":"ROUND(IF(Calc_WHDHC!H485<0,Calc_WHDHC!I485*IF(Input!$B$4=\"Other\",0.95*0.95,0.98*0.95),2*PI()*Calc_WHDHC!G485/60*Calc_WHDHC!H485/1000),3)","v":115.101},null,null,479,null,"-",null,null,{"$f":"Calc_WHDHC!J485/3.6/(2*Input!$B$5*PI())*60","v":89.462355798523632},null,null,{"$f":"ROUND(IF(Calc_WHDHC!H485<0,Calc_WHDHC!I485,2*PI()*Calc_WHDHC!G485/60*Calc_WHDHC!H485/1000*IF(Input!$B$4=\"Other\",0.95*0.95,0.98*0.95)),3)","v":107.15900000000001}]
[480,null,{"$f":"Calc_WHDHC!G486","v":1469},null,null,{"$f":"ROUND(IF(Calc_WHDHC!H486<0,Calc_WHDHC!I486*IF(Input!$B$4=\"Other\",0.95*0.95,0.98*0.95),2*PI()*Calc_WHDHC!G486/60*Calc_WHDHC!H486/1000),3)","v":229.51900000000001},null,null,480,null,"-",null,null,{"$f":"Calc_WHDHC!J486/3.6/(2*Input!$B$5*PI())*60","v":96.356854899059812},null,null,{"$f":"ROUND(IF(Calc_WHDHC!H486<0,Calc_WHDHC!I486,2*PI()*Calc_WHDHC!G486/60*Calc_WHDHC!H486/1000*IF(Input!$B$4=\"Other\",0.95*0.95,0.98*0.95)),3)","v":213.68199999999999}]
[481,null,{"$f":"Calc_WHDHC!G487","v":1550},null,null,{"$f":"ROUND(IF(Calc_WHDHC!H487<0,Calc_WHDHC!I487*IF(Input!$B$4=\"Other\",0.95*0.95,0.98*0.95),2*PI()*Calc_WHDHC!G487/60*Calc_WHDHC!H487/1000),3)","v":0},null,null,481,null,"-",null,null,{"$f":"Calc_WHDHC!J487/3.6/(2*Input!$B$5*PI())*60","v":101.70078392076054},null,null,{"$f":"ROUND(IF(Calc_WHDHC!H487<0,Calc_WHDHC!I487,2*PI()*Calc_WHDHC!G487/60*Calc_WHDHC!H487/1000*IF(Input!$B$4=\"Other\",0.95*0.95,0.98*0.95)),3)","v":0}]
[482,null,{"$f":"Calc_WHDHC!G488","v":1370},null,null,{"$f":"ROUND(IF(Calc_WHDHC!H488<0,Calc_WHDHC!I488*IF(Input!$B$4=\"Other\",0.95*0.95,0.98*0.95),2*PI()*Calc_WHDHC!G488/60*Calc_WHDHC!H488/1000),3)","v":0},null,null,482,null,"-",null,null,{"$f":"Calc_WHDHC!J488/3.6/(2*Input!$B$5*PI())*60","v":105.43876536081028},null,null,{"$f":"ROUND(IF(Calc_WHDHC!H488<0,Calc_WHDHC!I488,2*PI()*Calc_WHDHC!G488/60*Calc_WHDHC!H488/1000*IF(Input!$B$4=\"Other\",0.95*0.95,0.98*0.95)),3)","v":0}]
[483,null,{"$f":"Calc_WHDHC!G489","v":1267},null,null,{"$f":"ROUND(IF(Calc_WHDHC!H489<0,Calc_WHDHC!I489*IF(Input!$B$4=\"Other\",0.95*0.95,0.98*0.95),2*PI()*Calc_WHDHC!G489/60*Calc_WHDHC!H489/1000),3)","v":0},null,null,483,null,"-",null,null,{"$f":"Calc_WHDHC!J489/3.6/(2*Input!$B$5*PI())*60","v":108.29070675581119},null,null,{"$f":"ROUND(IF(Calc_WHDHC!H489<0,Calc_WHDHC!I489,2*PI()*Calc_WHDHC!G489/60*Calc_WHDHC!H489/1000*IF(Input!$B$4=\"Other\",0.95*0.95,0.98*0.95)),3)","v":0}]
[484,null,{"$f":"Calc_WHDHC!G490","v":1166},null,null,{"$f":"ROUND(IF(Calc_WHDHC!H490<0,Calc_WHDHC!I490*IF(Input!$B$4=\"Other\",0.95*0.95,0.98*0.95),2*PI()*Calc_WHDHC!G490/60*Calc_WHDHC!H490/1000),3)","v":148.72200000000001},null,null,484,null,"-",null,null,{"$f":"Calc_WHDHC!J490/3.6/(2*Input!$B$5*PI())*60","v":111.19802565362764},null,null,{"$f":"ROUND(IF(Calc_WHDHC!H490<0,Calc_WHDHC!I490,2*PI()*Calc_WHDHC!G490/60*Calc_WHDHC!H490/1000*IF(Input!$B$4=\"Other\",0.95*0.95,0.98*0.95)),3)","v":138.46}]
[485,null,{"$f":"Calc_WHDHC!G491","v":1195},null,null,{"$f":"ROUND(IF(Calc_WHDHC!H491<0,Calc_WHDHC!I491*IF(Input!$B$4=\"Other\",0.95*0.95,0.98*0.95),2*PI()*Calc_WHDHC!G491/60*Calc_WHDHC!H491/1000),3)","v":210.36099999999999},null,null,485,null,"-",null,null,{"$f":"Calc_WHDHC!J491/3.6/(2*Input!$B$5*PI())*60","v":114.02227829722078},null,null,{"$f":"ROUND(IF(Calc_WHDHC!H491<0,Calc_WHDHC!I491,2*PI()*Calc_WHDHC!G491/60*Calc_WHDHC!H491/1000*IF(Input!$B$4=\"Other\",0.95*0.95,0.98*0.95)),3)","v":195.846}]
[486,null,{"$f":"Calc_WHDHC!G492","v":1212},null,null,{"$f":"ROUND(IF(Calc_WHDHC!H492<0,Calc_WHDHC!I492*IF(Input!$B$4=\"Other\",0.95*0.95,0.98*0.95),2*PI()*Calc_WHDHC!G492/60*Calc_WHDHC!H492/1000),3)","v":261.32900000000001},null,null,486,null,"-",null,null,{"$f":"Calc_WHDHC!J492/3.6/(2*Input!$B$5*PI())*60","v":115.60053712746399},null,null,{"$f":"ROUND(IF(Calc_WHDHC!H492<0,Calc_WHDHC!I492,2*PI()*Calc_WHDHC!G492/60*Calc_WHDHC!H492/1000*IF(Input!$B$4=\"Other\",0.95*0.95,0.98*0.95)),3)","v":243.297}]
[487,null,{"$f":"Calc_WHDHC!G493","v":1216},null,null,{"$f":"ROUND(IF(Calc_WHDHC!H493<0,Calc_WHDHC!I493*IF(Input!$B$4=\"Other\",0.95*0.95,0.98*0.95),2*PI()*Calc_WHDHC!G493/60*Calc_WHDHC!H493/1000),3)","v":-0.54100000000000004},null,null,487,null,"-",null,null,{"$f":"Calc_WHDHC!J493/3.6/(2*Input!$B$5*PI())*60","v":115.93280214435731},null,null,{"$f":"ROUND(IF(Calc_WHDHC!H493<0,Calc_WHDHC!I493,2*PI()*Calc_WHDHC!G493/60*Calc_WHDHC!H493/1000*IF(Input!$B$4=\"Other\",0.95*0.95,0.98*0.95)),3)","v":-0.58099999999999996}]
[488,null,{"$f":"Calc_WHDHC!G494","v":1203},null,null,{"$f":"ROUND(IF(Calc_WHDHC!H494<0,Calc_WHDHC!I494*IF(Input!$B$4=\"Other\",0.95*0.95,0.98*0.95),2*PI()*Calc_WHDHC!G494/60*Calc_WHDHC!H494/1000),3)","v":-18.53},null,null,488,null,"-",null,null,{"$f":"Calc_WHDHC!J494/3.6/(2*Input!$B$5*PI())*60","v":114.71449708241518},null,null,{"$f":"ROUND(IF(Calc_WHDHC!H494<0,Calc_WHDHC!I494,2*PI()*Calc_WHDHC!G494/60*Calc_WHDHC!H494/1000*IF(Input!$B$4=\"Other\",0.95*0.95,0.98*0.95)),3)","v":-19.902999999999999}]
[489,null,{"$f":"Calc_WHDHC!G495","v":1161},null,null,{"$f":"ROUND(IF(Calc_WHDHC!H495<0,Calc_WHDHC!I495*IF(Input!$B$4=\"Other\",0.95*0.95,0.98*0.95),2*PI()*Calc_WHDHC!G495/60*Calc_WHDHC!H495/1000),3)","v":-33.432000000000002},null,null,489,null,"-",null,null,{"$f":"Calc_WHDHC!J495/3.6/(2*Input!$B$5*PI())*60","v":110.72731687969548},null,null,{"$f":"ROUND(IF(Calc_WHDHC!H495<0,Calc_WHDHC!I495,2*PI()*Calc_WHDHC!G495/60*Calc_WHDHC!H495/1000*IF(Input!$B$4=\"Other\",0.95*0.95,0.98*0.95)),3)","v":-35.909999999999997}]
[490,null,{"$f":"Calc_WHDHC!G496","v":1094},null,null,{"$f":"ROUND(IF(Calc_WHDHC!H496<0,Calc_WHDHC!I496*IF(Input!$B$4=\"Other\",0.95*0.95,0.98*0.95),2*PI()*Calc_WHDHC!G496/60*Calc_WHDHC!H496/1000),3)","v":-40.01},null,null,490,null,"-",null,null,{"$f":"Calc_WHDHC!J496/3.6/(2*Input!$B$5*PI())*60","v":104.41428155872258},null,null,{"$f":"ROUND(IF(Calc_WHDHC!H496<0,Calc_WHDHC!I496,2*PI()*Calc_WHDHC!G496/60*Calc_WHDHC!H496/1000*IF(Input!$B$4=\"Other\",0.95*0.95,0.98*0.95)),3)","v":-42.975000000000001}]
[491,null,{"$f":"Calc_WHDHC!G497","v":1216},null,null,{"$f":"ROUND(IF(Calc_WHDHC!H497<0,Calc_WHDHC!I497*IF(Input!$B$4=\"Other\",0.95*0.95,0.98*0.95),2*PI()*Calc_WHDHC!G497/60*Calc_WHDHC!H497/1000),3)","v":0},null,null,491,null,"-",null,null,{"$f":"Calc_WHDHC!J497/3.6/(2*Input!$B$5*PI())*60","v":96.716808667360894},null,null,{"$f":"ROUND(IF(Calc_WHDHC!H497<0,Calc_WHDHC!I497,2*PI()*Calc_WHDHC!G497/60*Calc_WHDHC!H497/1000*IF(Input!$B$4=\"Other\",0.95*0.95,0.98*0.95)),3)","v":0}]
[492,null,{"$f":"Calc_WHDHC!G498","v":1339},null,null,{"$f":"ROUND(IF(Calc_WHDHC!H498<0,Calc_WHDHC!I498*IF(Input!$B$4=\"Other\",0.95*0.95,0.98*0.95),2*PI()*Calc_WHDHC!G498/60*Calc_WHDHC!H498/1000),3)","v":-38.241999999999997},null,null,492,null,"-",null,null,{"$f":"Calc_WHDHC!J498/3.6/(2*Input!$B$5*PI())*60","v":88.022540725319303},null,null,{"$f":"ROUND(IF(Calc_WHDHC!H498<0,Calc_WHDHC!I498,2*PI()*Calc_WHDHC!G498/60*Calc_WHDHC!H498/1000*IF(Input!$B$4=\"Other\",0.95*0.95,0.98*0.95)),3)","v":-41.076000000000001}]
[493,null,{"$f":"Calc_WHDHC!G499","v":1206},null,null,{"$f":"ROUND(IF(Calc_WHDHC!H499<0,Calc_WHDHC!I499*IF(Input!$B$4=\"Other\",0.95*0.95,0.98*0.95),2*PI()*Calc_WHDHC!G499/60*Calc_WHDHC!H499/1000),3)","v":-29.032},null,null,493,null,"-",null,null,{"$f":"Calc_WHDHC!J499/3.6/(2*Input!$B$5*PI())*60","v":79.328272783277683},null,null,{"$f":"ROUND(IF(Calc_WHDHC!H499<0,Calc_WHDHC!I499,2*PI()*Calc_WHDHC!G499/60*Calc_WHDHC!H499/1000*IF(Input!$B$4=\"Other\",0.95*0.95,0.98*0.95)),3)","v":-31.184000000000001}]
[494,null,{"$f":"Calc_WHDHC!G500","v":1088},null,null,{"$f":"ROUND(IF(Calc_WHDHC!H500<0,Calc_WHDHC!I500*IF(Input!$B$4=\"Other\",0.95*0.95,0.98*0.95),2*PI()*Calc_WHDHC!G500/60*Calc_WHDHC!H500/1000),3)","v":-17.626999999999999},null,null,494,null,"-",null,null,{"$f":"Calc_WHDHC!J500/3.6/(2*Input!$B$5*PI())*60","v":71.769243648954898},null,null,{"$f":"ROUND(IF(Calc_WHDHC!H500<0,Calc_WHDHC!I500,2*PI()*Calc_WHDHC!G500/60*Calc_WHDHC!H500/1000*IF(Input!$B$4=\"Other\",0.95*0.95,0.98*0.95)),3)","v":-18.933}]
[495,null,{"$f":"Calc_WHDHC!G501","v":1002},null,null,{"$f":"ROUND(IF(Calc_WHDHC!H501<0,Calc_WHDHC!I501*IF(Input!$B$4=\"Other\",0.95*0.95,0.98*0.95),2*PI()*Calc_WHDHC!G501/60*Calc_WHDHC!H501/1000),3)","v":-6.1920000000000002},null,null,495,null,"-",null,null,{"$f":"Calc_WHDHC!J501/3.6/(2*Input!$B$5*PI())*60","v":66.203804615991956},null,null,{"$f":"ROUND(IF(Calc_WHDHC!H501<0,Calc_WHDHC!I501,2*PI()*Calc_WHDHC!G501/60*Calc_WHDHC!H501/1000*IF(Input!$B$4=\"Other\",0.95*0.95,0.98*0.95)),3)","v":-6.6509999999999998}]
[496,null,{"$f":"Calc_WHDHC!G502","v":956},null,null,{"$f":"ROUND(IF(Calc_WHDHC!H502<0,Calc_WHDHC!I502*IF(Input!$B$4=\"Other\",0.95*0.95,0.98*0.95),2*PI()*Calc_WHDHC!G502/60*Calc_WHDHC!H502/1000),3)","v":0},null,null,496,null,"-",null,null,{"$f":"Calc_WHDHC!J502/3.6/(2*Input!$B$5*PI())*60","v":63.158041961136618},null,null,{"$f":"ROUND(IF(Calc_WHDHC!H502<0,Calc_WHDHC!I502,2*PI()*Calc_WHDHC!G502/60*Calc_WHDHC!H502/1000*IF(Input!$B$4=\"Other\",0.95*0.95,0.98*0.95)),3)","v":0}]
[497,null,{"$f":"Calc_WHDHC!G503","v":944},null,null,{"$f":"ROUND(IF(Calc_WHDHC!H503<0,Calc_WHDHC!I503*IF(Input!$B$4=\"Other\",0.95*0.95,0.98*0.95),2*PI()*Calc_WHDHC!G503/60*Calc_WHDHC!H503/1000),3)","v":22.539000000000001},null,null,497,null,"-",null,null,{"$f":"Calc_WHDHC!J503/3.6/(2*Input!$B$5*PI())*60","v":62.382756921718908},null,null,{"$f":"ROUND(IF(Calc_WHDHC!H503<0,Calc_WHDHC!I503,2*PI()*Calc_WHDHC!G503/60*Calc_WHDHC!H503/1000*IF(Input!$B$4=\"Other\",0.95*0.95,0.98*0.95)),3)","v":20.984000000000002}]
[498,null,{"$f":"Calc_WHDHC!G504","v":947},null,null,{"$f":"ROUND(IF(Calc_WHDHC!H504<0,Calc_WHDHC!I504*IF(Input!$B$4=\"Other\",0.95*0.95,0.98*0.95),2*PI()*Calc_WHDHC!G504/60*Calc_WHDHC!H504/1000),3)","v":76.361000000000004},null,null,498,null,"-",null,null,{"$f":"Calc_WHDHC!J504/3.6/(2*Input!$B$5*PI())*60","v":62.631955684388878},null,null,{"$f":"ROUND(IF(Calc_WHDHC!H504<0,Calc_WHDHC!I504,2*PI()*Calc_WHDHC!G504/60*Calc_WHDHC!H504/1000*IF(Input!$B$4=\"Other\",0.95*0.95,0.98*0.95)),3)","v":71.091999999999999}]
[499,null,{"$f":"Calc_WHDHC!G505","v":961},null,null,{"$f":"ROUND(IF(Calc_WHDHC!H505<0,Calc_WHDHC!I505*IF(Input!$B$4=\"Other\",0.95*0.95,0.98*0.95),2*PI()*Calc_WHDHC!G505/60*Calc_WHDHC!H505/1000),3)","v":57.362000000000002},null,null,499,null,"-",null,null,{"$f":"Calc_WHDHC!J505/3.6/(2*Input!$B$5*PI())*60","v":63.545684480845487},null,null,{"$f":"ROUND(IF(Calc_WHDHC!H505<0,Calc_WHDHC!I505,2*PI()*Calc_WHDHC!G505/60*Calc_WHDHC!H505/1000*IF(Input!$B$4=\"Other\",0.95*0.95,0.98*0.95)),3)","v":53.404000000000003}]
[500,null,{"$f":"Calc_WHDHC!G506","v":985},null,null,{"$f":"ROUND(IF(Calc_WHDHC!H506<0,Calc_WHDHC!I506*IF(Input!$B$4=\"Other\",0.95*0.95,0.98*0.95),2*PI()*Calc_WHDHC!G506/60*Calc_WHDHC!H506/1000),3)","v":31.46},null,null,500,null,"-",null,null,{"$f":"Calc_WHDHC!J506/3.6/(2*Input!$B$5*PI())*60","v":65.096254559680929},null,null,{"$f":"ROUND(IF(Calc_WHDHC!H506<0,Calc_WHDHC!I506,2*PI()*Calc_WHDHC!G506/60*Calc_WHDHC!H506/1000*IF(Input!$B$4=\"Other\",0.95*0.95,0.98*0.95)),3)","v":29.29}]
[501,null,{"$f":"Calc_WHDHC!G507","v":1008},null,null,{"$f":"ROUND(IF(Calc_WHDHC!H507<0,Calc_WHDHC!I507*IF(Input!$B$4=\"Other\",0.95*0.95,0.98*0.95),2*PI()*Calc_WHDHC!G507/60*Calc_WHDHC!H507/1000),3)","v":33.567},null,null,501,null,"-",null,null,{"$f":"Calc_WHDHC!J507/3.6/(2*Input!$B$5*PI())*60","v":66.563758384293038},null,null,{"$f":"ROUND(IF(Calc_WHDHC!H507<0,Calc_WHDHC!I507,2*PI()*Calc_WHDHC!G507/60*Calc_WHDHC!H507/1000*IF(Input!$B$4=\"Other\",0.95*0.95,0.98*0.95)),3)","v":31.251000000000001}]
[502,null,{"$f":"Calc_WHDHC!G508","v":1026},null,null,{"$f":"ROUND(IF(Calc_WHDHC!H508<0,Calc_WHDHC!I508*IF(Input!$B$4=\"Other\",0.95*0.95,0.98*0.95),2*PI()*Calc_WHDHC!G508/60*Calc_WHDHC!H508/1000),3)","v":32.555},null,null,502,null,"-",null,null,{"$f":"Calc_WHDHC!J508/3.6/(2*Input!$B$5*PI())*60","v":67.698997192011845},null,null,{"$f":"ROUND(IF(Calc_WHDHC!H508<0,Calc_WHDHC!I508,2*PI()*Calc_WHDHC!G508/60*Calc_WHDHC!H508/1000*IF(Input!$B$4=\"Other\",0.95*0.95,0.98*0.95)),3)","v":30.309000000000001}]
[503,null,{"$f":"Calc_WHDHC!G509","v":1041},null,null,{"$f":"ROUND(IF(Calc_WHDHC!H509<0,Calc_WHDHC!I509*IF(Input!$B$4=\"Other\",0.95*0.95,0.98*0.95),2*PI()*Calc_WHDHC!G509/60*Calc_WHDHC!H509/1000),3)","v":33.685000000000002},null,null,503,null,"-",null,null,{"$f":"Calc_WHDHC!J509/3.6/(2*Input!$B$5*PI())*60","v":68.69579224269178},null,null,{"$f":"ROUND(IF(Calc_WHDHC!H509<0,Calc_WHDHC!I509,2*PI()*Calc_WHDHC!G509/60*Calc_WHDHC!H509/1000*IF(Input!$B$4=\"Other\",0.95*0.95,0.98*0.95)),3)","v":31.361000000000001}]
[504,null,{"$f":"Calc_WHDHC!G510","v":1062},null,null,{"$f":"ROUND(IF(Calc_WHDHC!H510<0,Calc_WHDHC!I510*IF(Input!$B$4=\"Other\",0.95*0.95,0.98*0.95),2*PI()*Calc_WHDHC!G510/60*Calc_WHDHC!H510/1000),3)","v":34.920999999999999},null,null,504,null,"-",null,null,{"$f":"Calc_WHDHC!J510/3.6/(2*Input!$B$5*PI())*60","v":70.024852310265018},null,null,{"$f":"ROUND(IF(Calc_WHDHC!H510<0,Calc_WHDHC!I510,2*PI()*Calc_WHDHC!G510/60*Calc_WHDHC!H510/1000*IF(Input!$B$4=\"Other\",0.95*0.95,0.98*0.95)),3)","v":32.511000000000003}]
[505,null,{"$f":"Calc_WHDHC!G511","v":1092},null,null,{"$f":"ROUND(IF(Calc_WHDHC!H511<0,Calc_WHDHC!I511*IF(Input!$B$4=\"Other\",0.95*0.95,0.98*0.95),2*PI()*Calc_WHDHC!G511/60*Calc_WHDHC!H511/1000),3)","v":120.529},null,null,505,null,"-",null,null,{"$f":"Calc_WHDHC!J511/3.6/(2*Input!$B$5*PI())*60","v":71.963064908809315},null,null,{"$f":"ROUND(IF(Calc_WHDHC!H511<0,Calc_WHDHC!I511,2*PI()*Calc_WHDHC!G511/60*Calc_WHDHC!H511/1000*IF(Input!$B$4=\"Other\",0.95*0.95,0.98*0.95)),3)","v":112.21299999999999}]
[506,null,{"$f":"Calc_WHDHC!G512","v":1128},null,null,{"$f":"ROUND(IF(Calc_WHDHC!H512<0,Calc_WHDHC!I512*IF(Input!$B$4=\"Other\",0.95*0.95,0.98*0.95),2*PI()*Calc_WHDHC!G512/60*Calc_WHDHC!H512/1000),3)","v":97.807000000000002},null,null,506,null,"-",null,null,{"$f":"Calc_WHDHC!J512/3.6/(2*Input!$B$5*PI())*60","v":74.288920027062488},null,null,{"$f":"ROUND(IF(Calc_WHDHC!H512<0,Calc_WHDHC!I512,2*PI()*Calc_WHDHC!G512/60*Calc_WHDHC!H512/1000*IF(Input!$B$4=\"Other\",0.95*0.95,0.98*0.95)),3)","v":91.058000000000007}]
[507,null,{"$f":"Calc_WHDHC!G513","v":1161},null,null,{"$f":"ROUND(IF(Calc_WHDHC!H513<0,Calc_WHDHC!I513*IF(Input!$B$4=\"Other\",0.95*0.95,0.98*0.95),2*PI()*Calc_WHDHC!G513/60*Calc_WHDHC!H513/1000),3)","v":52.521999999999998},null,null,507,null,"-",null,null,{"$f":"Calc_WHDHC!J513/3.6/(2*Input!$B$5*PI())*60","v":76.42095388546123},null,null,{"$f":"ROUND(IF(Calc_WHDHC!H513<0,Calc_WHDHC!I513,2*PI()*Calc_WHDHC!G513/60*Calc_WHDHC!H513/1000*IF(Input!$B$4=\"Other\",0.95*0.95,0.98*0.95)),3)","v":48.898000000000003}]
[508,null,{"$f":"Calc_WHDHC!G514","v":1185},null,null,{"$f":"ROUND(IF(Calc_WHDHC!H514<0,Calc_WHDHC!I514*IF(Input!$B$4=\"Other\",0.95*0.95,0.98*0.95),2*PI()*Calc_WHDHC!G514/60*Calc_WHDHC!H514/1000),3)","v":53.731999999999999},null,null,508,null,"-",null,null,{"$f":"Calc_WHDHC!J514/3.6/(2*Input!$B$5*PI())*60","v":77.999212715704459},null,null,{"$f":"ROUND(IF(Calc_WHDHC!H514<0,Calc_WHDHC!I514,2*PI()*Calc_WHDHC!G514/60*Calc_WHDHC!H514/1000*IF(Input!$B$4=\"Other\",0.95*0.95,0.98*0.95)),3)","v":50.024999999999999}]
[509,null,{"$f":"Calc_WHDHC!G515","v":1204},null,null,{"$f":"ROUND(IF(Calc_WHDHC!H515<0,Calc_WHDHC!I515*IF(Input!$B$4=\"Other\",0.95*0.95,0.98*0.95),2*PI()*Calc_WHDHC!G515/60*Calc_WHDHC!H515/1000),3)","v":58.628},null,null,509,null,"-",null,null,{"$f":"Calc_WHDHC!J515/3.6/(2*Input!$B$5*PI())*60","v":79.272895280462137},null,null,{"$f":"ROUND(IF(Calc_WHDHC!H515<0,Calc_WHDHC!I515,2*PI()*Calc_WHDHC!G515/60*Calc_WHDHC!H515/1000*IF(Input!$B$4=\"Other\",0.95*0.95,0.98*0.95)),3)","v":54.582999999999998}]
[510,null,{"$f":"Calc_WHDHC!G516","v":1222},null,null,{"$f":"ROUND(IF(Calc_WHDHC!H516<0,Calc_WHDHC!I516*IF(Input!$B$4=\"Other\",0.95*0.95,0.98*0.95),2*PI()*Calc_WHDHC!G516/60*Calc_WHDHC!H516/1000),3)","v":59.505000000000003},null,null,510,null,"-",null,null,{"$f":"Calc_WHDHC!J516/3.6/(2*Input!$B$5*PI())*60","v":80.408134088180944},null,null,{"$f":"ROUND(IF(Calc_WHDHC!H516<0,Calc_WHDHC!I516,2*PI()*Calc_WHDHC!G516/60*Calc_WHDHC!H516/1000*IF(Input!$B$4=\"Other\",0.95*0.95,0.98*0.95)),3)","v":55.399000000000001}]
[511,null,{"$f":"Calc_WHDHC!G517","v":1239},null,null,{"$f":"ROUND(IF(Calc_WHDHC!H517<0,Calc_WHDHC!I517*IF(Input!$B$4=\"Other\",0.95*0.95,0.98*0.95),2*PI()*Calc_WHDHC!G517/60*Calc_WHDHC!H517/1000),3)","v":115.735},null,null,511,null,"-",null,null,{"$f":"Calc_WHDHC!J517/3.6/(2*Input!$B$5*PI())*60","v":81.487995393084191},null,null,{"$f":"ROUND(IF(Calc_WHDHC!H517<0,Calc_WHDHC!I517,2*PI()*Calc_WHDHC!G517/60*Calc_WHDHC!H517/1000*IF(Input!$B$4=\"Other\",0.95*0.95,0.98*0.95)),3)","v":107.749}]
[512,null,{"$f":"Calc_WHDHC!G518","v":1253},null,null,{"$f":"ROUND(IF(Calc_WHDHC!H518<0,Calc_WHDHC!I518*IF(Input!$B$4=\"Other\",0.95*0.95,0.98*0.95),2*PI()*Calc_WHDHC!G518/60*Calc_WHDHC!H518/1000),3)","v":88.176000000000002},null,null,512,null,"-",null,null,{"$f":"Calc_WHDHC!J518/3.6/(2*Input!$B$5*PI())*60","v":82.45710169235636},null,null,{"$f":"ROUND(IF(Calc_WHDHC!H518<0,Calc_WHDHC!I518,2*PI()*Calc_WHDHC!G518/60*Calc_WHDHC!H518/1000*IF(Input!$B$4=\"Other\",0.95*0.95,0.98*0.95)),3)","v":82.091999999999999}]
[513,null,{"$f":"Calc_WHDHC!G519","v":1269},null,null,{"$f":"ROUND(IF(Calc_WHDHC!H519<0,Calc_WHDHC!I519*IF(Input!$B$4=\"Other\",0.95*0.95,0.98*0.95),2*PI()*Calc_WHDHC!G519/60*Calc_WHDHC!H519/1000),3)","v":60.465000000000003},null,null,513,null,"-",null,null,{"$f":"Calc_WHDHC!J519/3.6/(2*Input!$B$5*PI())*60","v":83.426207991628516},null,null,{"$f":"ROUND(IF(Calc_WHDHC!H519<0,Calc_WHDHC!I519,2*PI()*Calc_WHDHC!G519/60*Calc_WHDHC!H519/1000*IF(Input!$B$4=\"Other\",0.95*0.95,0.98*0.95)),3)","v":56.292999999999999}]
[514,null,{"$f":"Calc_WHDHC!G520","v":1288},null,null,{"$f":"ROUND(IF(Calc_WHDHC!H520<0,Calc_WHDHC!I520*IF(Input!$B$4=\"Other\",0.95*0.95,0.98*0.95),2*PI()*Calc_WHDHC!G520/60*Calc_WHDHC!H520/1000),3)","v":33.045000000000002},null,null,514,null,"-",null,null,{"$f":"Calc_WHDHC!J520/3.6/(2*Input!$B$5*PI())*60","v":84.644513053570662},null,null,{"$f":"ROUND(IF(Calc_WHDHC!H520<0,Calc_WHDHC!I520,2*PI()*Calc_WHDHC!G520/60*Calc_WHDHC!H520/1000*IF(Input!$B$4=\"Other\",0.95*0.95,0.98*0.95)),3)","v":30.765000000000001}]
[515,null,{"$f":"Calc_WHDHC!G521","v":1310},null,null,{"$f":"ROUND(IF(Calc_WHDHC!H521<0,Calc_WHDHC!I521*IF(Input!$B$4=\"Other\",0.95*0.95,0.98*0.95),2*PI()*Calc_WHDHC!G521/60*Calc_WHDHC!H521/1000),3)","v":16.462},null,null,515,null,"-",null,null,{"$f":"Calc_WHDHC!J521/3.6/(2*Input!$B$5*PI())*60","v":86.112016878182772},null,null,{"$f":"ROUND(IF(Calc_WHDHC!H521<0,Calc_WHDHC!I521,2*PI()*Calc_WHDHC!G521/60*Calc_WHDHC!H521/1000*IF(Input!$B$4=\"Other\",0.95*0.95,0.98*0.95)),3)","v":15.326000000000001}]
[516,null,{"$f":"Calc_WHDHC!G522","v":1120},null,null,{"$f":"ROUND(IF(Calc_WHDHC!H522<0,Calc_WHDHC!I522*IF(Input!$B$4=\"Other\",0.95*0.95,0.98*0.95),2*PI()*Calc_WHDHC!G522/60*Calc_WHDHC!H522/1000),3)","v":0},null,null,516,null,"-",null,null,{"$f":"Calc_WHDHC!J522/3.6/(2*Input!$B$5*PI())*60","v":87.634898205610426},null,null,{"$f":"ROUND(IF(Calc_WHDHC!H522<0,Calc_WHDHC!I522,2*PI()*Calc_WHDHC!G522/60*Calc_WHDHC!H522/1000*IF(Input!$B$4=\"Other\",0.95*0.95,0.98*0.95)),3)","v":0}]
[517,null,{"$f":"Calc_WHDHC!G523","v":928},null,null,{"$f":"ROUND(IF(Calc_WHDHC!H523<0,Calc_WHDHC!I523*IF(Input!$B$4=\"Other\",0.95*0.95,0.98*0.95),2*PI()*Calc_WHDHC!G523/60*Calc_WHDHC!H523/1000),3)","v":14.771000000000001},null,null,517,null,"-",null,null,{"$f":"Calc_WHDHC!J523/3.6/(2*Input!$B$5*PI())*60","v":88.991647024591444},null,null,{"$f":"ROUND(IF(Calc_WHDHC!H523<0,Calc_WHDHC!I523,2*PI()*Calc_WHDHC!G523/60*Calc_WHDHC!H523/1000*IF(Input!$B$4=\"Other\",0.95*0.95,0.98*0.95)),3)","v":13.752000000000001}]
[518,null,{"$f":"Calc_WHDHC!G524","v":943},null,null,{"$f":"ROUND(IF(Calc_WHDHC!H524<0,Calc_WHDHC!I524*IF(Input!$B$4=\"Other\",0.95*0.95,0.98*0.95),2*PI()*Calc_WHDHC!G524/60*Calc_WHDHC!H524/1000),3)","v":29.724},null,null,518,null,"-",null,null,{"$f":"Calc_WHDHC!J524/3.6/(2*Input!$B$5*PI())*60","v":90.320707092164682},null,null,{"$f":"ROUND(IF(Calc_WHDHC!H524<0,Calc_WHDHC!I524,2*PI()*Calc_WHDHC!G524/60*Calc_WHDHC!H524/1000*IF(Input!$B$4=\"Other\",0.95*0.95,0.98*0.95)),3)","v":27.672999999999998}]
[519,null,{"$f":"Calc_WHDHC!G525","v":961},null,null,{"$f":"ROUND(IF(Calc_WHDHC!H525<0,Calc_WHDHC!I525*IF(Input!$B$4=\"Other\",0.95*0.95,0.98*0.95),2*PI()*Calc_WHDHC!G525/60*Calc_WHDHC!H525/1000),3)","v":49.210999999999999},null,null,519,null,"-",null,null,{"$f":"Calc_WHDHC!J525/3.6/(2*Input!$B$5*PI())*60","v":92.065098430854562},null,null,{"$f":"ROUND(IF(Calc_WHDHC!H525<0,Calc_WHDHC!I525,2*PI()*Calc_WHDHC!G525/60*Calc_WHDHC!H525/1000*IF(Input!$B$4=\"Other\",0.95*0.95,0.98*0.95)),3)","v":45.814999999999998}]
[520,null,{"$f":"Calc_WHDHC!G526","v":991},null,null,{"$f":"ROUND(IF(Calc_WHDHC!H526<0,Calc_WHDHC!I526*IF(Input!$B$4=\"Other\",0.95*0.95,0.98*0.95),2*PI()*Calc_WHDHC!G526/60*Calc_WHDHC!H526/1000),3)","v":124.84399999999999},null,null,520,null,"-",null,null,{"$f":"Calc_WHDHC!J526/3.6/(2*Input!$B$5*PI())*60","v":94.695529814593272},null,null,{"$f":"ROUND(IF(Calc_WHDHC!H526<0,Calc_WHDHC!I526,2*PI()*Calc_WHDHC!G526/60*Calc_WHDHC!H526/1000*IF(Input!$B$4=\"Other\",0.95*0.95,0.98*0.95)),3)","v":116.23}]
[521,null,{"$f":"Calc_WHDHC!G527","v":1028},null,null,{"$f":"ROUND(IF(Calc_WHDHC!H527<0,Calc_WHDHC!I527*IF(Input!$B$4=\"Other\",0.95*0.95,0.98*0.95),2*PI()*Calc_WHDHC!G527/60*Calc_WHDHC!H527/1000),3)","v":159.32499999999999},null,null,521,null,"-",null,null,{"$f":"Calc_WHDHC!J527/3.6/(2*Input!$B$5*PI())*60","v":98.184312491973017},null,null,{"$f":"ROUND(IF(Calc_WHDHC!H527<0,Calc_WHDHC!I527,2*PI()*Calc_WHDHC!G527/60*Calc_WHDHC!H527/1000*IF(Input!$B$4=\"Other\",0.95*0.95,0.98*0.95)),3)","v":148.33099999999999}]
[522,null,{"$f":"Calc_WHDHC!G528","v":1067},null,null,{"$f":"ROUND(IF(Calc_WHDHC!H528<0,Calc_WHDHC!I528*IF(Input!$B$4=\"Other\",0.95*0.95,0.98*0.95),2*PI()*Calc_WHDHC!G528/60*Calc_WHDHC!H528/1000),3)","v":202.80099999999999},null,null,522,null,"-",null,null,{"$f":"Calc_WHDHC!J528/3.6/(2*Input!$B$5*PI())*60","v":101.92229393202275},null,null,{"$f":"ROUND(IF(Calc_WHDHC!H528<0,Calc_WHDHC!I528,2*PI()*Calc_WHDHC!G528/60*Calc_WHDHC!H528/1000*IF(Input!$B$4=\"Other\",0.95*0.95,0.98*0.95)),3)","v":188.80799999999999}]
[523,null,{"$f":"Calc_WHDHC!G529","v":1101},null,null,{"$f":"ROUND(IF(Calc_WHDHC!H529<0,Calc_WHDHC!I529*IF(Input!$B$4=\"Other\",0.95*0.95,0.98*0.95),2*PI()*Calc_WHDHC!G529/60*Calc_WHDHC!H529/1000),3)","v":155.65},null,null,523,null,"-",null,null,{"$f":"Calc_WHDHC!J529/3.6/(2*Input!$B$5*PI())*60","v":105.16187784673252},null,null,{"$f":"ROUND(IF(Calc_WHDHC!H529<0,Calc_WHDHC!I529,2*PI()*Calc_WHDHC!G529/60*Calc_WHDHC!H529/1000*IF(Input!$B$4=\"Other\",0.95*0.95,0.98*0.95)),3)","v":144.91}]
[524,null,{"$f":"Calc_WHDHC!G530","v":1127},null,null,{"$f":"ROUND(IF(Calc_WHDHC!H530<0,Calc_WHDHC!I530*IF(Input!$B$4=\"Other\",0.95*0.95,0.98*0.95),2*PI()*Calc_WHDHC!G530/60*Calc_WHDHC!H530/1000),3)","v":63.021999999999998},null,null,524,null,"-",null,null,{"$f":"Calc_WHDHC!J530/3.6/(2*Input!$B$5*PI())*60","v":107.54311046780124},null,null,{"$f":"ROUND(IF(Calc_WHDHC!H530<0,Calc_WHDHC!I530,2*PI()*Calc_WHDHC!G530/60*Calc_WHDHC!H530/1000*IF(Input!$B$4=\"Other\",0.95*0.95,0.98*0.95)),3)","v":58.673999999999999}]
[525,null,{"$f":"Calc_WHDHC!G531","v":1144},null,null,{"$f":"ROUND(IF(Calc_WHDHC!H531<0,Calc_WHDHC!I531*IF(Input!$B$4=\"Other\",0.95*0.95,0.98*0.95),2*PI()*Calc_WHDHC!G531/60*Calc_WHDHC!H531/1000),3)","v":39.533999999999999},null,null,525,null,"-",null,null,{"$f":"Calc_WHDHC!J531/3.6/(2*Input!$B$5*PI())*60","v":109.17674680086002},null,null,{"$f":"ROUND(IF(Calc_WHDHC!H531<0,Calc_WHDHC!I531,2*PI()*Calc_WHDHC!G531/60*Calc_WHDHC!H531/1000*IF(Input!$B$4=\"Other\",0.95*0.95,0.98*0.95)),3)","v":36.805999999999997}]
[526,null,{"$f":"Calc_WHDHC!G532","v":1153},null,null,{"$f":"ROUND(IF(Calc_WHDHC!H532<0,Calc_WHDHC!I532*IF(Input!$B$4=\"Other\",0.95*0.95,0.98*0.95),2*PI()*Calc_WHDHC!G532/60*Calc_WHDHC!H532/1000),3)","v":7.3650000000000002},null,null,526,null,"-",null,null,{"$f":"Calc_WHDHC!J532/3.6/(2*Input!$B$5*PI())*60","v":110.00740934309327},null,null,{"$f":"ROUND(IF(Calc_WHDHC!H532<0,Calc_WHDHC!I532,2*PI()*Calc_WHDHC!G532/60*Calc_WHDHC!H532/1000*IF(Input!$B$4=\"Other\",0.95*0.95,0.98*0.95)),3)","v":6.8570000000000002}]
[527,null,{"$f":"Calc_WHDHC!G533","v":1156},null,null,{"$f":"ROUND(IF(Calc_WHDHC!H533<0,Calc_WHDHC!I533*IF(Input!$B$4=\"Other\",0.95*0.95,0.98*0.95),2*PI()*Calc_WHDHC!G533/60*Calc_WHDHC!H533/1000),3)","v":0},null,null,527,null,"-",null,null,{"$f":"Calc_WHDHC!J533/3.6/(2*Input!$B$5*PI())*60","v":110.20123060294772},null,null,{"$f":"ROUND(IF(Calc_WHDHC!H533<0,Calc_WHDHC!I533,2*PI()*Calc_WHDHC!G533/60*Calc_WHDHC!H533/1000*IF(Input!$B$4=\"Other\",0.95*0.95,0.98*0.95)),3)","v":0}]
[528,null,{"$f":"Calc_WHDHC!G534","v":1152},null,null,{"$f":"ROUND(IF(Calc_WHDHC!H534<0,Calc_WHDHC!I534*IF(Input!$B$4=\"Other\",0.95*0.95,0.98*0.95),2*PI()*Calc_WHDHC!G534/60*Calc_WHDHC!H534/1000),3)","v":-0.30599999999999999},null,null,528,null,"-",null,null,{"$f":"Calc_WHDHC!J534/3.6/(2*Input!$B$5*PI())*60","v":109.89665433746218},null,null,{"$f":"ROUND(IF(Calc_WHDHC!H534<0,Calc_WHDHC!I534,2*PI()*Calc_WHDHC!G534/60*Calc_WHDHC!H534/1000*IF(Input!$B$4=\"Other\",0.95*0.95,0.98*0.95)),3)","v":-0.32900000000000001}]
[529,null,{"$f":"Calc_WHDHC!G535","v":1140},null,null,{"$f":"ROUND(IF(Calc_WHDHC!H535<0,Calc_WHDHC!I535*IF(Input!$B$4=\"Other\",0.95*0.95,0.98*0.95),2*PI()*Calc_WHDHC!G535/60*Calc_WHDHC!H535/1000),3)","v":-3.8650000000000002},null,null,529,null,"-",null,null,{"$f":"Calc_WHDHC!J535/3.6/(2*Input!$B$5*PI())*60","v":108.78910428115114},null,null,{"$f":"ROUND(IF(Calc_WHDHC!H535<0,Calc_WHDHC!I535,2*PI()*Calc_WHDHC!G535/60*Calc_WHDHC!H535/1000*IF(Input!$B$4=\"Other\",0.95*0.95,0.98*0.95)),3)","v":-4.1509999999999998}]
[530,null,{"$f":"Calc_WHDHC!G536","v":1120},null,null,{"$f":"ROUND(IF(Calc_WHDHC!H536<0,Calc_WHDHC!I536*IF(Input!$B$4=\"Other\",0.95*0.95,0.98*0.95),2*PI()*Calc_WHDHC!G536/60*Calc_WHDHC!H536/1000),3)","v":-8.5559999999999992},null,null,530,null,"-",null,null,{"$f":"Calc_WHDHC!J536/3.6/(2*Input!$B$5*PI())*60","v":106.85089168260686},null,null,{"$f":"ROUND(IF(Calc_WHDHC!H536<0,Calc_WHDHC!I536,2*PI()*Calc_WHDHC!G536/60*Calc_WHDHC!H536/1000*IF(Input!$B$4=\"Other\",0.95*0.95,0.98*0.95)),3)","v":-9.19}]
[531,null,{"$f":"Calc_WHDHC!G537","v":1091},null,null,{"$f":"ROUND(IF(Calc_WHDHC!H537<0,Calc_WHDHC!I537*IF(Input!$B$4=\"Other\",0.95*0.95,0.98*0.95),2*PI()*Calc_WHDHC!G537/60*Calc_WHDHC!H537/1000),3)","v":-16.298999999999999},null,null,531,null,"-",null,null,{"$f":"Calc_WHDHC!J537/3.6/(2*Input!$B$5*PI())*60","v":104.19277154746037},null,null,{"$f":"ROUND(IF(Calc_WHDHC!H537<0,Calc_WHDHC!I537,2*PI()*Calc_WHDHC!G537/60*Calc_WHDHC!H537/1000*IF(Input!$B$4=\"Other\",0.95*0.95,0.98*0.95)),3)","v":-17.507000000000001}]
[532,null,{"$f":"Calc_WHDHC!G538","v":1050},null,null,{"$f":"ROUND(IF(Calc_WHDHC!H538<0,Calc_WHDHC!I538*IF(Input!$B$4=\"Other\",0.95*0.95,0.98*0.95),2*PI()*Calc_WHDHC!G538/60*Calc_WHDHC!H538/1000),3)","v":-27.349},null,null,532,null,"-",null,null,{"$f":"Calc_WHDHC!J538/3.6/(2*Input!$B$5*PI())*60","v":100.28865759896398},null,null,{"$f":"ROUND(IF(Calc_WHDHC!H538<0,Calc_WHDHC!I538,2*PI()*Calc_WHDHC!G538/60*Calc_WHDHC!H538/1000*IF(Input!$B$4=\"Other\",0.95*0.95,0.98*0.95)),3)","v":-29.376000000000001}]
[533,null,{"$f":"Calc_WHDHC!G539","v":1181},null,null,{"$f":"ROUND(IF(Calc_WHDHC!H539<0,Calc_WHDHC!I539*IF(Input!$B$4=\"Other\",0.95*0.95,0.98*0.95),2*PI()*Calc_WHDHC!G539/60*Calc_WHDHC!H539/1000),3)","v":0},null,null,533,null,"-",null,null,{"$f":"Calc_WHDHC!J539/3.6/(2*Input!$B$5*PI())*60","v":94.446331051923281},null,null,{"$f":"ROUND(IF(Calc_WHDHC!H539<0,Calc_WHDHC!I539,2*PI()*Calc_WHDHC!G539/60*Calc_WHDHC!H539/1000*IF(Input!$B$4=\"Other\",0.95*0.95,0.98*0.95)),3)","v":0}]
[534,null,{"$f":"Calc_WHDHC!G540","v":1313},null,null,{"$f":"ROUND(IF(Calc_WHDHC!H540<0,Calc_WHDHC!I540*IF(Input!$B$4=\"Other\",0.95*0.95,0.98*0.95),2*PI()*Calc_WHDHC!G540/60*Calc_WHDHC!H540/1000),3)","v":-44.511000000000003},null,null,534,null,"-",null,null,{"$f":"Calc_WHDHC!J540/3.6/(2*Input!$B$5*PI())*60","v":86.278149386629423},null,null,{"$f":"ROUND(IF(Calc_WHDHC!H540<0,Calc_WHDHC!I540,2*PI()*Calc_WHDHC!G540/60*Calc_WHDHC!H540/1000*IF(Input!$B$4=\"Other\",0.95*0.95,0.98*0.95)),3)","v":-47.81}]
[535,null,{"$f":"Calc_WHDHC!G541","v":1156},null,null,{"$f":"ROUND(IF(Calc_WHDHC!H541<0,Calc_WHDHC!I541*IF(Input!$B$4=\"Other\",0.95*0.95,0.98*0.95),2*PI()*Calc_WHDHC!G541/60*Calc_WHDHC!H541/1000),3)","v":-40.828000000000003},null,null,535,null,"-",null,null,{"$f":"Calc_WHDHC!J541/3.6/(2*Input!$B$5*PI())*60","v":76.11637761997568},null,null,{"$f":"ROUND(IF(Calc_WHDHC!H541<0,Calc_WHDHC!I541,2*PI()*Calc_WHDHC!G541/60*Calc_WHDHC!H541/1000*IF(Input!$B$4=\"Other\",0.95*0.95,0.98*0.95)),3)","v":-43.853999999999999}]
[536,null,{"$f":"Calc_WHDHC!G542","v":991},null,null,{"$f":"ROUND(IF(Calc_WHDHC!H542<0,Calc_WHDHC!I542*IF(Input!$B$4=\"Other\",0.95*0.95,0.98*0.95),2*PI()*Calc_WHDHC!G542/60*Calc_WHDHC!H542/1000),3)","v":-30.606000000000002},null,null,536,null,"-",null,null,{"$f":"Calc_WHDHC!J542/3.6/(2*Input!$B$5*PI())*60","v":65.428519576574232},null,null,{"$f":"ROUND(IF(Calc_WHDHC!H542<0,Calc_WHDHC!I542,2*PI()*Calc_WHDHC!G542/60*Calc_WHDHC!H542/1000*IF(Input!$B$4=\"Other\",0.95*0.95,0.98*0.95)),3)","v":-32.874000000000002}]
[537,null,{"$f":"Calc_WHDHC!G543","v":1178},null,null,{"$f":"ROUND(IF(Calc_WHDHC!H543<0,Calc_WHDHC!I543*IF(Input!$B$4=\"Other\",0.95*0.95,0.98*0.95),2*PI()*Calc_WHDHC!G543/60*Calc_WHDHC!H543/1000),3)","v":0},null,null,537,null,"-",null,null,{"$f":"Calc_WHDHC!J543/3.6/(2*Input!$B$5*PI())*60","v":55.82052283807603},null,null,{"$f":"ROUND(IF(Calc_WHDHC!H543<0,Calc_WHDHC!I543,2*PI()*Calc_WHDHC!G543/60*Calc_WHDHC!H543/1000*IF(Input!$B$4=\"Other\",0.95*0.95,0.98*0.95)),3)","v":0}]
[538,null,{"$f":"Calc_WHDHC!G544","v":1372},null,null,{"$f":"ROUND(IF(Calc_WHDHC!H544<0,Calc_WHDHC!I544*IF(Input!$B$4=\"Other\",0.95*0.95,0.98*0.95),2*PI()*Calc_WHDHC!G544/60*Calc_WHDHC!H544/1000),3)","v":-14.007},null,null,538,null,"-",null,null,{"$f":"Calc_WHDHC!J544/3.6/(2*Input!$B$5*PI())*60","v":47.818473681228816},null,null,{"$f":"ROUND(IF(Calc_WHDHC!H544<0,Calc_WHDHC!I544,2*PI()*Calc_WHDHC!G544/60*Calc_WHDHC!H544/1000*IF(Input!$B$4=\"Other\",0.95*0.95,0.98*0.95)),3)","v":-15.045}]
[539,null,{"$f":"Calc_WHDHC!G545","v":1309},null,null,{"$f":"ROUND(IF(Calc_WHDHC!H545<0,Calc_WHDHC!I545*IF(Input!$B$4=\"Other\",0.95*0.95,0.98*0.95),2*PI()*Calc_WHDHC!G545/60*Calc_WHDHC!H545/1000),3)","v":-10.018000000000001},null,null,539,null,"-",null,null,{"$f":"Calc_WHDHC!J545/3.6/(2*Input!$B$5*PI())*60","v":41.007040834915976},null,null,{"$f":"ROUND(IF(Calc_WHDHC!H545<0,Calc_WHDHC!I545,2*PI()*Calc_WHDHC!G545/60*Calc_WHDHC!H545/1000*IF(Input!$B$4=\"Other\",0.95*0.95,0.98*0.95)),3)","v":-10.760999999999999}]
[540,null,{"$f":"Calc_WHDHC!G546","v":1179},null,null,{"$f":"ROUND(IF(Calc_WHDHC!H546<0,Calc_WHDHC!I546*IF(Input!$B$4=\"Other\",0.95*0.95,0.98*0.95),2*PI()*Calc_WHDHC!G546/60*Calc_WHDHC!H546/1000),3)","v":-7.5469999999999997},null,null,540,null,"-",null,null,{"$f":"Calc_WHDHC!J546/3.6/(2*Input!$B$5*PI())*60","v":34.860138022389741},null,null,{"$f":"ROUND(IF(Calc_WHDHC!H546<0,Calc_WHDHC!I546,2*PI()*Calc_WHDHC!G546/60*Calc_WHDHC!H546/1000*IF(Input!$B$4=\"Other\",0.95*0.95,0.98*0.95)),3)","v":-8.1059999999999999}]
[541,null,{"$f":"Calc_WHDHC!G547","v":1055},null,null,{"$f":"ROUND(IF(Calc_WHDHC!H547<0,Calc_WHDHC!I547*IF(Input!$B$4=\"Other\",0.95*0.95,0.98*0.95),2*PI()*Calc_WHDHC!G547/60*Calc_WHDHC!H547/1000),3)","v":-3.5910000000000002},null,null,541,null,"-",null,null,{"$f":"Calc_WHDHC!J547/3.6/(2*Input!$B$5*PI())*60","v":28.990122723941276},null,null,{"$f":"ROUND(IF(Calc_WHDHC!H547<0,Calc_WHDHC!I547,2*PI()*Calc_WHDHC!G547/60*Calc_WHDHC!H547/1000*IF(Input!$B$4=\"Other\",0.95*0.95,0.98*0.95)),3)","v":-3.8570000000000002}]
[542,null,{"$f":"Calc_WHDHC!G548","v":960},null,null,{"$f":"ROUND(IF(Calc_WHDHC!H548<0,Calc_WHDHC!I548*IF(Input!$B$4=\"Other\",0.95*0.95,0.98*0.95),2*PI()*Calc_WHDHC!G548/60*Calc_WHDHC!H548/1000),3)","v":-0.182},null,null,542,null,"-",null,null,{"$f":"Calc_WHDHC!J548/3.6/(2*Input!$B$5*PI())*60","v":24.504544995881588},null,null,{"$f":"ROUND(IF(Calc_WHDHC!H548<0,Calc_WHDHC!I548,2*PI()*Calc_WHDHC!G548/60*Calc_WHDHC!H548/1000*IF(Input!$B$4=\"Other\",0.95*0.95,0.98*0.95)),3)","v":-0.19600000000000001}]
[543,null,{"$f":"Calc_WHDHC!G549","v":921},null,null,{"$f":"ROUND(IF(Calc_WHDHC!H549<0,Calc_WHDHC!I549*IF(Input!$B$4=\"Other\",0.95*0.95,0.98*0.95),2*PI()*Calc_WHDHC!G549/60*Calc_WHDHC!H549/1000),3)","v":57},null,null,543,null,"-",null,null,{"$f":"Calc_WHDHC!J549/3.6/(2*Input!$B$5*PI())*60","v":22.59402114874506},null,null,{"$f":"ROUND(IF(Calc_WHDHC!H549<0,Calc_WHDHC!I549,2*PI()*Calc_WHDHC!G549/60*Calc_WHDHC!H549/1000*IF(Input!$B$4=\"Other\",0.95*0.95,0.98*0.95)),3)","v":53.067}]
[544,null,{"$f":"Calc_WHDHC!G550","v":967},null,null,{"$f":"ROUND(IF(Calc_WHDHC!H550<0,Calc_WHDHC!I550*IF(Input!$B$4=\"Other\",0.95*0.95,0.98*0.95),2*PI()*Calc_WHDHC!G550/60*Calc_WHDHC!H550/1000),3)","v":119.492},null,null,544,null,"-",null,null,{"$f":"Calc_WHDHC!J550/3.6/(2*Input!$B$5*PI())*60","v":24.781432509959345},null,null,{"$f":"ROUND(IF(Calc_WHDHC!H550<0,Calc_WHDHC!I550,2*PI()*Calc_WHDHC!G550/60*Calc_WHDHC!H550/1000*IF(Input!$B$4=\"Other\",0.95*0.95,0.98*0.95)),3)","v":111.247}]
[545,null,{"$f":"Calc_WHDHC!G551","v":1104},null,null,{"$f":"ROUND(IF(Calc_WHDHC!H551<0,Calc_WHDHC!I551*IF(Input!$B$4=\"Other\",0.95*0.95,0.98*0.95),2*PI()*Calc_WHDHC!G551/60*Calc_WHDHC!H551/1000),3)","v":149.48500000000001},null,null,545,null,"-",null,null,{"$f":"Calc_WHDHC!J551/3.6/(2*Input!$B$5*PI())*60","v":31.288289090786666},null,null,{"$f":"ROUND(IF(Calc_WHDHC!H551<0,Calc_WHDHC!I551,2*PI()*Calc_WHDHC!G551/60*Calc_WHDHC!H551/1000*IF(Input!$B$4=\"Other\",0.95*0.95,0.98*0.95)),3)","v":139.16999999999999}]
[546,null,{"$f":"Calc_WHDHC!G552","v":1035},null,null,{"$f":"ROUND(IF(Calc_WHDHC!H552<0,Calc_WHDHC!I552*IF(Input!$B$4=\"Other\",0.95*0.95,0.98*0.95),2*PI()*Calc_WHDHC!G552/60*Calc_WHDHC!H552/1000),3)","v":0},null,null,546,null,"-",null,null,{"$f":"Calc_WHDHC!J552/3.6/(2*Input!$B$5*PI())*60","v":39.068828236371665},null,null,{"$f":"ROUND(IF(Calc_WHDHC!H552<0,Calc_WHDHC!I552,2*PI()*Calc_WHDHC!G552/60*Calc_WHDHC!H552/1000*IF(Input!$B$4=\"Other\",0.95*0.95,0.98*0.95)),3)","v":0}]
[547,null,{"$f":"Calc_WHDHC!G553","v":967},null,null,{"$f":"ROUND(IF(Calc_WHDHC!H553<0,Calc_WHDHC!I553*IF(Input!$B$4=\"Other\",0.95*0.95,0.98*0.95),2*PI()*Calc_WHDHC!G553/60*Calc_WHDHC!H553/1000),3)","v":63.999000000000002},null,null,547,null,"-",null,null,{"$f":"Calc_WHDHC!J553/3.6/(2*Input!$B$5*PI())*60","v":44.052803489771314},null,null,{"$f":"ROUND(IF(Calc_WHDHC!H553<0,Calc_WHDHC!I553,2*PI()*Calc_WHDHC!G553/60*Calc_WHDHC!H553/1000*IF(Input!$B$4=\"Other\",0.95*0.95,0.98*0.95)),3)","v":59.582999999999998}]
[548,null,{"$f":"Calc_WHDHC!G554","v":1008},null,null,{"$f":"ROUND(IF(Calc_WHDHC!H554<0,Calc_WHDHC!I554*IF(Input!$B$4=\"Other\",0.95*0.95,0.98*0.95),2*PI()*Calc_WHDHC!G554/60*Calc_WHDHC!H554/1000),3)","v":127.93600000000001},null,null,548,null,"-",null,null,{"$f":"Calc_WHDHC!J554/3.6/(2*Input!$B$5*PI())*60","v":45.880261082684513},null,null,{"$f":"ROUND(IF(Calc_WHDHC!H554<0,Calc_WHDHC!I554,2*PI()*Calc_WHDHC!G554/60*Calc_WHDHC!H554/1000*IF(Input!$B$4=\"Other\",0.95*0.95,0.98*0.95)),3)","v":119.108}]
[549,null,{"$f":"Calc_WHDHC!G555","v":1017},null,null,{"$f":"ROUND(IF(Calc_WHDHC!H555<0,Calc_WHDHC!I555*IF(Input!$B$4=\"Other\",0.95*0.95,0.98*0.95),2*PI()*Calc_WHDHC!G555/60*Calc_WHDHC!H555/1000),3)","v":82.644000000000005},null,null,549,null,"-",null,null,{"$f":"Calc_WHDHC!J555/3.6/(2*Input!$B$5*PI())*60","v":46.323281105208935},null,null,{"$f":"ROUND(IF(Calc_WHDHC!H555<0,Calc_WHDHC!I555,2*PI()*Calc_WHDHC!G555/60*Calc_WHDHC!H555/1000*IF(Input!$B$4=\"Other\",0.95*0.95,0.98*0.95)),3)","v":76.941999999999993}]
[550,null,{"$f":"Calc_WHDHC!G556","v":1049},null,null,{"$f":"ROUND(IF(Calc_WHDHC!H556<0,Calc_WHDHC!I556*IF(Input!$B$4=\"Other\",0.95*0.95,0.98*0.95),2*PI()*Calc_WHDHC!G556/60*Calc_WHDHC!H556/1000),3)","v":37.348999999999997},null,null,550,null,"-",null,null,{"$f":"Calc_WHDHC!J556/3.6/(2*Input!$B$5*PI())*60","v":47.735407427005491},null,null,{"$f":"ROUND(IF(Calc_WHDHC!H556<0,Calc_WHDHC!I556,2*PI()*Calc_WHDHC!G556/60*Calc_WHDHC!H556/1000*IF(Input!$B$4=\"Other\",0.95*0.95,0.98*0.95)),3)","v":34.771999999999998}]
[551,null,{"$f":"Calc_WHDHC!G557","v":1124},null,null,{"$f":"ROUND(IF(Calc_WHDHC!H557<0,Calc_WHDHC!I557*IF(Input!$B$4=\"Other\",0.95*0.95,0.98*0.95),2*PI()*Calc_WHDHC!G557/60*Calc_WHDHC!H557/1000),3)","v":152.78100000000001},null,null,551,null,"-",null,null,{"$f":"Calc_WHDHC!J557/3.6/(2*Input!$B$5*PI())*60","v":51.085746347346365},null,null,{"$f":"ROUND(IF(Calc_WHDHC!H557<0,Calc_WHDHC!I557,2*PI()*Calc_WHDHC!G557/60*Calc_WHDHC!H557/1000*IF(Input!$B$4=\"Other\",0.95*0.95,0.98*0.95)),3)","v":142.239}]
[552,null,{"$f":"Calc_WHDHC!G558","v":1226},null,null,{"$f":"ROUND(IF(Calc_WHDHC!H558<0,Calc_WHDHC!I558*IF(Input!$B$4=\"Other\",0.95*0.95,0.98*0.95),2*PI()*Calc_WHDHC!G558/60*Calc_WHDHC!H558/1000),3)","v":75.876000000000005},null,null,552,null,"-",null,null,{"$f":"Calc_WHDHC!J558/3.6/(2*Input!$B$5*PI())*60","v":55.626701578221599},null,null,{"$f":"ROUND(IF(Calc_WHDHC!H558<0,Calc_WHDHC!I558,2*PI()*Calc_WHDHC!G558/60*Calc_WHDHC!H558/1000*IF(Input!$B$4=\"Other\",0.95*0.95,0.98*0.95)),3)","v":70.641000000000005}]
[553,null,{"$f":"Calc_WHDHC!G559","v":1090},null,null,{"$f":"ROUND(IF(Calc_WHDHC!H559<0,Calc_WHDHC!I559*IF(Input!$B$4=\"Other\",0.95*0.95,0.98*0.95),2*PI()*Calc_WHDHC!G559/60*Calc_WHDHC!H559/1000),3)","v":0},null,null,553,null,"-",null,null,{"$f":"Calc_WHDHC!J559/3.6/(2*Input!$B$5*PI())*60","v":59.890769295019069},null,null,{"$f":"ROUND(IF(Calc_WHDHC!H559<0,Calc_WHDHC!I559,2*PI()*Calc_WHDHC!G559/60*Calc_WHDHC!H559/1000*IF(Input!$B$4=\"Other\",0.95*0.95,0.98*0.95)),3)","v":0}]
[554,null,{"$f":"Calc_WHDHC!G560","v":955},null,null,{"$f":"ROUND(IF(Calc_WHDHC!H560<0,Calc_WHDHC!I560*IF(Input!$B$4=\"Other\",0.95*0.95,0.98*0.95),2*PI()*Calc_WHDHC!G560/60*Calc_WHDHC!H560/1000),3)","v":15.401},null,null,554,null,"-",null,null,{"$f":"Calc_WHDHC!J560/3.6/(2*Input!$B$5*PI())*60","v":63.074975706913285},null,null,{"$f":"ROUND(IF(Calc_WHDHC!H560<0,Calc_WHDHC!I560,2*PI()*Calc_WHDHC!G560/60*Calc_WHDHC!H560/1000*IF(Input!$B$4=\"Other\",0.95*0.95,0.98*0.95)),3)","v":14.337999999999999}]
[555,null,{"$f":"Calc_WHDHC!G561","v":989},null,null,{"$f":"ROUND(IF(Calc_WHDHC!H561<0,Calc_WHDHC!I561*IF(Input!$B$4=\"Other\",0.95*0.95,0.98*0.95),2*PI()*Calc_WHDHC!G561/60*Calc_WHDHC!H561/1000),3)","v":30.863},null,null,555,null,"-",null,null,{"$f":"Calc_WHDHC!J561/3.6/(2*Input!$B$5*PI())*60","v":65.317764570943126},null,null,{"$f":"ROUND(IF(Calc_WHDHC!H561<0,Calc_WHDHC!I561,2*PI()*Calc_WHDHC!G561/60*Calc_WHDHC!H561/1000*IF(Input!$B$4=\"Other\",0.95*0.95,0.98*0.95)),3)","v":28.734000000000002}]
[556,null,{"$f":"Calc_WHDHC!G562","v":1017},null,null,{"$f":"ROUND(IF(Calc_WHDHC!H562<0,Calc_WHDHC!I562*IF(Input!$B$4=\"Other\",0.95*0.95,0.98*0.95),2*PI()*Calc_WHDHC!G562/60*Calc_WHDHC!H562/1000),3)","v":135.89400000000001},null,null,556,null,"-",null,null,{"$f":"Calc_WHDHC!J562/3.6/(2*Input!$B$5*PI())*60","v":67.089844661040786},null,null,{"$f":"ROUND(IF(Calc_WHDHC!H562<0,Calc_WHDHC!I562,2*PI()*Calc_WHDHC!G562/60*Calc_WHDHC!H562/1000*IF(Input!$B$4=\"Other\",0.95*0.95,0.98*0.95)),3)","v":126.517}]
[557,null,{"$f":"Calc_WHDHC!G563","v":1045},null,null,{"$f":"ROUND(IF(Calc_WHDHC!H563<0,Calc_WHDHC!I563*IF(Input!$B$4=\"Other\",0.95*0.95,0.98*0.95),2*PI()*Calc_WHDHC!G563/60*Calc_WHDHC!H563/1000),3)","v":129.89599999999999},null,null,557,null,"-",null,null,{"$f":"Calc_WHDHC!J563/3.6/(2*Input!$B$5*PI())*60","v":68.944991005361757},null,null,{"$f":"ROUND(IF(Calc_WHDHC!H563<0,Calc_WHDHC!I563,2*PI()*Calc_WHDHC!G563/60*Calc_WHDHC!H563/1000*IF(Input!$B$4=\"Other\",0.95*0.95,0.98*0.95)),3)","v":120.93300000000001}]
[558,null,{"$f":"Calc_WHDHC!G564","v":1080},null,null,{"$f":"ROUND(IF(Calc_WHDHC!H564<0,Calc_WHDHC!I564*IF(Input!$B$4=\"Other\",0.95*0.95,0.98*0.95),2*PI()*Calc_WHDHC!G564/60*Calc_WHDHC!H564/1000),3)","v":123.502},null,null,558,null,"-",null,null,{"$f":"Calc_WHDHC!J564/3.6/(2*Input!$B$5*PI())*60","v":71.215468620799371},null,null,{"$f":"ROUND(IF(Calc_WHDHC!H564<0,Calc_WHDHC!I564,2*PI()*Calc_WHDHC!G564/60*Calc_WHDHC!H564/1000*IF(Input!$B$4=\"Other\",0.95*0.95,0.98*0.95)),3)","v":114.98099999999999}]
[559,null,{"$f":"Calc_WHDHC!G565","v":1125},null,null,{"$f":"ROUND(IF(Calc_WHDHC!H565<0,Calc_WHDHC!I565*IF(Input!$B$4=\"Other\",0.95*0.95,0.98*0.95),2*PI()*Calc_WHDHC!G565/60*Calc_WHDHC!H565/1000),3)","v":117.33799999999999},null,null,559,null,"-",null,null,{"$f":"Calc_WHDHC!J565/3.6/(2*Input!$B$5*PI())*60","v":74.122787518615837},null,null,{"$f":"ROUND(IF(Calc_WHDHC!H565<0,Calc_WHDHC!I565,2*PI()*Calc_WHDHC!G565/60*Calc_WHDHC!H565/1000*IF(Input!$B$4=\"Other\",0.95*0.95,0.98*0.95)),3)","v":109.242}]
[560,null,{"$f":"Calc_WHDHC!G566","v":1178},null,null,{"$f":"ROUND(IF(Calc_WHDHC!H566<0,Calc_WHDHC!I566*IF(Input!$B$4=\"Other\",0.95*0.95,0.98*0.95),2*PI()*Calc_WHDHC!G566/60*Calc_WHDHC!H566/1000),3)","v":110.654},null,null,560,null,"-",null,null,{"$f":"Calc_WHDHC!J566/3.6/(2*Input!$B$5*PI())*60","v":77.556192693180051},null,null,{"$f":"ROUND(IF(Calc_WHDHC!H566<0,Calc_WHDHC!I566,2*PI()*Calc_WHDHC!G566/60*Calc_WHDHC!H566/1000*IF(Input!$B$4=\"Other\",0.95*0.95,0.98*0.95)),3)","v":103.01900000000001}]
[561,null,{"$f":"Calc_WHDHC!G567","v":1230},null,null,{"$f":"ROUND(IF(Calc_WHDHC!H567<0,Calc_WHDHC!I567*IF(Input!$B$4=\"Other\",0.95*0.95,0.98*0.95),2*PI()*Calc_WHDHC!G567/60*Calc_WHDHC!H567/1000),3)","v":74.578000000000003},null,null,561,null,"-",null,null,{"$f":"Calc_WHDHC!J567/3.6/(2*Input!$B$5*PI())*60","v":80.934220364928677},null,null,{"$f":"ROUND(IF(Calc_WHDHC!H567<0,Calc_WHDHC!I567,2*PI()*Calc_WHDHC!G567/60*Calc_WHDHC!H567/1000*IF(Input!$B$4=\"Other\",0.95*0.95,0.98*0.95)),3)","v":69.432000000000002}]
[562,null,{"$f":"Calc_WHDHC!G568","v":1265},null,null,{"$f":"ROUND(IF(Calc_WHDHC!H568<0,Calc_WHDHC!I568*IF(Input!$B$4=\"Other\",0.95*0.95,0.98*0.95),2*PI()*Calc_WHDHC!G568/60*Calc_WHDHC!H568/1000),3)","v":57.756999999999998},null,null,562,null,"-",null,null,{"$f":"Calc_WHDHC!J568/3.6/(2*Input!$B$5*PI())*60","v":83.232386731774085},null,null,{"$f":"ROUND(IF(Calc_WHDHC!H568<0,Calc_WHDHC!I568,2*PI()*Calc_WHDHC!G568/60*Calc_WHDHC!H568/1000*IF(Input!$B$4=\"Other\",0.95*0.95,0.98*0.95)),3)","v":53.771999999999998}]
[563,null,{"$f":"Calc_WHDHC!G569","v":1276},null,null,{"$f":"ROUND(IF(Calc_WHDHC!H569<0,Calc_WHDHC!I569*IF(Input!$B$4=\"Other\",0.95*0.95,0.98*0.95),2*PI()*Calc_WHDHC!G569/60*Calc_WHDHC!H569/1000),3)","v":36.880000000000003},null,null,563,null,"-",null,null,{"$f":"Calc_WHDHC!J569/3.6/(2*Input!$B$5*PI())*60","v":83.924605516968469},null,null,{"$f":"ROUND(IF(Calc_WHDHC!H569<0,Calc_WHDHC!I569,2*PI()*Calc_WHDHC!G569/60*Calc_WHDHC!H569/1000*IF(Input!$B$4=\"Other\",0.95*0.95,0.98*0.95)),3)","v":34.335000000000001}]
[564,null,{"$f":"Calc_WHDHC!G570","v":1276},null,null,{"$f":"ROUND(IF(Calc_WHDHC!H570<0,Calc_WHDHC!I570*IF(Input!$B$4=\"Other\",0.95*0.95,0.98*0.95),2*PI()*Calc_WHDHC!G570/60*Calc_WHDHC!H570/1000),3)","v":1.069},null,null,564,null,"-",null,null,{"$f":"Calc_WHDHC!J570/3.6/(2*Input!$B$5*PI())*60","v":83.869228014152924},null,null,{"$f":"ROUND(IF(Calc_WHDHC!H570<0,Calc_WHDHC!I570,2*PI()*Calc_WHDHC!G570/60*Calc_WHDHC!H570/1000*IF(Input!$B$4=\"Other\",0.95*0.95,0.98*0.95)),3)","v":0.995}]
[565,null,{"$f":"Calc_WHDHC!G571","v":1265},null,null,{"$f":"ROUND(IF(Calc_WHDHC!H571<0,Calc_WHDHC!I571*IF(Input!$B$4=\"Other\",0.95*0.95,0.98*0.95),2*PI()*Calc_WHDHC!G571/60*Calc_WHDHC!H571/1000),3)","v":0},null,null,565,null,"-",null,null,{"$f":"Calc_WHDHC!J571/3.6/(2*Input!$B$5*PI())*60","v":83.204697980366305},null,null,{"$f":"ROUND(IF(Calc_WHDHC!H571<0,Calc_WHDHC!I571,2*PI()*Calc_WHDHC!G571/60*Calc_WHDHC!H571/1000*IF(Input!$B$4=\"Other\",0.95*0.95,0.98*0.95)),3)","v":0}]
[566,null,{"$f":"Calc_WHDHC!G572","v":1239},null,null,{"$f":"ROUND(IF(Calc_WHDHC!H572<0,Calc_WHDHC!I572*IF(Input!$B$4=\"Other\",0.95*0.95,0.98*0.95),2*PI()*Calc_WHDHC!G572/60*Calc_WHDHC!H572/1000),3)","v":-4.5149999999999997},null,null,566,null,"-",null,null,{"$f":"Calc_WHDHC!J572/3.6/(2*Input!$B$5*PI())*60","v":81.515684144491971},null,null,{"$f":"ROUND(IF(Calc_WHDHC!H572<0,Calc_WHDHC!I572,2*PI()*Calc_WHDHC!G572/60*Calc_WHDHC!H572/1000*IF(Input!$B$4=\"Other\",0.95*0.95,0.98*0.95)),3)","v":-4.8499999999999996}]
[567,null,{"$f":"Calc_WHDHC!G573","v":1203},null,null,{"$f":"ROUND(IF(Calc_WHDHC!H573<0,Calc_WHDHC!I573*IF(Input!$B$4=\"Other\",0.95*0.95,0.98*0.95),2*PI()*Calc_WHDHC!G573/60*Calc_WHDHC!H573/1000),3)","v":-6.0910000000000002},null,null,567,null,"-",null,null,{"$f":"Calc_WHDHC!J573/3.6/(2*Input!$B$5*PI())*60","v":79.189829026238812},null,null,{"$f":"ROUND(IF(Calc_WHDHC!H573<0,Calc_WHDHC!I573,2*PI()*Calc_WHDHC!G573/60*Calc_WHDHC!H573/1000*IF(Input!$B$4=\"Other\",0.95*0.95,0.98*0.95)),3)","v":-6.5419999999999998}]
[568,null,{"$f":"Calc_WHDHC!G574","v":1162},null,null,{"$f":"ROUND(IF(Calc_WHDHC!H574<0,Calc_WHDHC!I574*IF(Input!$B$4=\"Other\",0.95*0.95,0.98*0.95),2*PI()*Calc_WHDHC!G574/60*Calc_WHDHC!H574/1000),3)","v":-5.8040000000000003},null,null,568,null,"-",null,null,{"$f":"Calc_WHDHC!J574/3.6/(2*Input!$B$5*PI())*60","v":76.504020139684556},null,null,{"$f":"ROUND(IF(Calc_WHDHC!H574<0,Calc_WHDHC!I574,2*PI()*Calc_WHDHC!G574/60*Calc_WHDHC!H574/1000*IF(Input!$B$4=\"Other\",0.95*0.95,0.98*0.95)),3)","v":-6.234}]
[569,null,{"$f":"Calc_WHDHC!G575","v":1120},null,null,{"$f":"ROUND(IF(Calc_WHDHC!H575<0,Calc_WHDHC!I575*IF(Input!$B$4=\"Other\",0.95*0.95,0.98*0.95),2*PI()*Calc_WHDHC!G575/60*Calc_WHDHC!H575/1000),3)","v":-1.6359999999999999},null,null,569,null,"-",null,null,{"$f":"Calc_WHDHC!J575/3.6/(2*Input!$B$5*PI())*60","v":73.818211253130301},null,null,{"$f":"ROUND(IF(Calc_WHDHC!H575<0,Calc_WHDHC!I575,2*PI()*Calc_WHDHC!G575/60*Calc_WHDHC!H575/1000*IF(Input!$B$4=\"Other\",0.95*0.95,0.98*0.95)),3)","v":-1.7569999999999999}]
[570,null,{"$f":"Calc_WHDHC!G576","v":1094},null,null,{"$f":"ROUND(IF(Calc_WHDHC!H576<0,Calc_WHDHC!I576*IF(Input!$B$4=\"Other\",0.95*0.95,0.98*0.95),2*PI()*Calc_WHDHC!G576/60*Calc_WHDHC!H576/1000),3)","v":0},null,null,570,null,"-",null,null,{"$f":"Calc_WHDHC!J576/3.6/(2*Input!$B$5*PI())*60","v":72.073819914440435},null,null,{"$f":"ROUND(IF(Calc_WHDHC!H576<0,Calc_WHDHC!I576,2*PI()*Calc_WHDHC!G576/60*Calc_WHDHC!H576/1000*IF(Input!$B$4=\"Other\",0.95*0.95,0.98*0.95)),3)","v":0}]
[571,null,{"$f":"Calc_WHDHC!G577","v":1086},null,null,{"$f":"ROUND(IF(Calc_WHDHC!H577<0,Calc_WHDHC!I577*IF(Input!$B$4=\"Other\",0.95*0.95,0.98*0.95),2*PI()*Calc_WHDHC!G577/60*Calc_WHDHC!H577/1000),3)","v":13.647},null,null,571,null,"-",null,null,{"$f":"Calc_WHDHC!J577/3.6/(2*Input!$B$5*PI())*60","v":71.575422389100467},null,null,{"$f":"ROUND(IF(Calc_WHDHC!H577<0,Calc_WHDHC!I577,2*PI()*Calc_WHDHC!G577/60*Calc_WHDHC!H577/1000*IF(Input!$B$4=\"Other\",0.95*0.95,0.98*0.95)),3)","v":12.705}]
[572,null,{"$f":"Calc_WHDHC!G578","v":1098},null,null,{"$f":"ROUND(IF(Calc_WHDHC!H578<0,Calc_WHDHC!I578*IF(Input!$B$4=\"Other\",0.95*0.95,0.98*0.95),2*PI()*Calc_WHDHC!G578/60*Calc_WHDHC!H578/1000),3)","v":94.63},null,null,572,null,"-",null,null,{"$f":"Calc_WHDHC!J578/3.6/(2*Input!$B$5*PI())*60","v":72.378396179925971},null,null,{"$f":"ROUND(IF(Calc_WHDHC!H578<0,Calc_WHDHC!I578,2*PI()*Calc_WHDHC!G578/60*Calc_WHDHC!H578/1000*IF(Input!$B$4=\"Other\",0.95*0.95,0.98*0.95)),3)","v":88.100999999999999}]
[573,null,{"$f":"Calc_WHDHC!G579","v":1138},null,null,{"$f":"ROUND(IF(Calc_WHDHC!H579<0,Calc_WHDHC!I579*IF(Input!$B$4=\"Other\",0.95*0.95,0.98*0.95),2*PI()*Calc_WHDHC!G579/60*Calc_WHDHC!H579/1000),3)","v":92.358000000000004},null,null,573,null,"-",null,null,{"$f":"Calc_WHDHC!J579/3.6/(2*Input!$B$5*PI())*60","v":74.981138812256887},null,null,{"$f":"ROUND(IF(Calc_WHDHC!H579<0,Calc_WHDHC!I579,2*PI()*Calc_WHDHC!G579/60*Calc_WHDHC!H579/1000*IF(Input!$B$4=\"Other\",0.95*0.95,0.98*0.95)),3)","v":85.984999999999999}]
[574,null,{"$f":"Calc_WHDHC!G580","v":1195},null,null,{"$f":"ROUND(IF(Calc_WHDHC!H580<0,Calc_WHDHC!I580*IF(Input!$B$4=\"Other\",0.95*0.95,0.98*0.95),2*PI()*Calc_WHDHC!G580/60*Calc_WHDHC!H580/1000),3)","v":102.86499999999999},null,null,574,null,"-",null,null,{"$f":"Calc_WHDHC!J580/3.6/(2*Input!$B$5*PI())*60","v":78.691431500898858},null,null,{"$f":"ROUND(IF(Calc_WHDHC!H580<0,Calc_WHDHC!I580,2*PI()*Calc_WHDHC!G580/60*Calc_WHDHC!H580/1000*IF(Input!$B$4=\"Other\",0.95*0.95,0.98*0.95)),3)","v":95.766999999999996}]
[575,null,{"$f":"Calc_WHDHC!G581","v":1247},null,null,{"$f":"ROUND(IF(Calc_WHDHC!H581<0,Calc_WHDHC!I581*IF(Input!$B$4=\"Other\",0.95*0.95,0.98*0.95),2*PI()*Calc_WHDHC!G581/60*Calc_WHDHC!H581/1000),3)","v":60.460999999999999},null,null,575,null,"-",null,null,{"$f":"Calc_WHDHC!J581/3.6/(2*Input!$B$5*PI())*60","v":81.986392918424173},null,null,{"$f":"ROUND(IF(Calc_WHDHC!H581<0,Calc_WHDHC!I581,2*PI()*Calc_WHDHC!G581/60*Calc_WHDHC!H581/1000*IF(Input!$B$4=\"Other\",0.95*0.95,0.98*0.95)),3)","v":56.289000000000001}]
[576,null,{"$f":"Calc_WHDHC!G582","v":1282},null,null,{"$f":"ROUND(IF(Calc_WHDHC!H582<0,Calc_WHDHC!I582*IF(Input!$B$4=\"Other\",0.95*0.95,0.98*0.95),2*PI()*Calc_WHDHC!G582/60*Calc_WHDHC!H582/1000),3)","v":37.322000000000003},null,null,576,null,"-",null,null,{"$f":"Calc_WHDHC!J582/3.6/(2*Input!$B$5*PI())*60","v":84.339936788085112},null,null,{"$f":"ROUND(IF(Calc_WHDHC!H582<0,Calc_WHDHC!I582,2*PI()*Calc_WHDHC!G582/60*Calc_WHDHC!H582/1000*IF(Input!$B$4=\"Other\",0.95*0.95,0.98*0.95)),3)","v":34.747}]
[577,null,{"$f":"Calc_WHDHC!G583","v":1305},null,null,{"$f":"ROUND(IF(Calc_WHDHC!H583<0,Calc_WHDHC!I583*IF(Input!$B$4=\"Other\",0.95*0.95,0.98*0.95),2*PI()*Calc_WHDHC!G583/60*Calc_WHDHC!H583/1000),3)","v":37.991},null,null,577,null,"-",null,null,{"$f":"Calc_WHDHC!J583/3.6/(2*Input!$B$5*PI())*60","v":85.807440612697221},null,null,{"$f":"ROUND(IF(Calc_WHDHC!H583<0,Calc_WHDHC!I583,2*PI()*Calc_WHDHC!G583/60*Calc_WHDHC!H583/1000*IF(Input!$B$4=\"Other\",0.95*0.95,0.98*0.95)),3)","v":35.369999999999997}]
[578,null,{"$f":"Calc_WHDHC!G584","v":1319},null,null,{"$f":"ROUND(IF(Calc_WHDHC!H584<0,Calc_WHDHC!I584*IF(Input!$B$4=\"Other\",0.95*0.95,0.98*0.95),2*PI()*Calc_WHDHC!G584/60*Calc_WHDHC!H584/1000),3)","v":19.199000000000002},null,null,578,null,"-",null,null,{"$f":"Calc_WHDHC!J584/3.6/(2*Input!$B$5*PI())*60","v":86.74885816056161},null,null,{"$f":"ROUND(IF(Calc_WHDHC!H584<0,Calc_WHDHC!I584,2*PI()*Calc_WHDHC!G584/60*Calc_WHDHC!H584/1000*IF(Input!$B$4=\"Other\",0.95*0.95,0.98*0.95)),3)","v":17.875}]
[579,null,{"$f":"Calc_WHDHC!G585","v":1123},null,null,{"$f":"ROUND(IF(Calc_WHDHC!H585<0,Calc_WHDHC!I585*IF(Input!$B$4=\"Other\",0.95*0.95,0.98*0.95),2*PI()*Calc_WHDHC!G585/60*Calc_WHDHC!H585/1000),3)","v":0},null,null,579,null,"-",null,null,{"$f":"Calc_WHDHC!J585/3.6/(2*Input!$B$5*PI())*60","v":87.634898205610426},null,null,{"$f":"ROUND(IF(Calc_WHDHC!H585<0,Calc_WHDHC!I585,2*PI()*Calc_WHDHC!G585/60*Calc_WHDHC!H585/1000*IF(Input!$B$4=\"Other\",0.95*0.95,0.98*0.95)),3)","v":0}]
[580,null,{"$f":"Calc_WHDHC!G586","v":926},null,null,{"$f":"ROUND(IF(Calc_WHDHC!H586<0,Calc_WHDHC!I586*IF(Input!$B$4=\"Other\",0.95*0.95,0.98*0.95),2*PI()*Calc_WHDHC!G586/60*Calc_WHDHC!H586/1000),3)","v":19.491},null,null,580,null,"-",null,null,{"$f":"Calc_WHDHC!J586/3.6/(2*Input!$B$5*PI())*60","v":88.659382007698156},null,null,{"$f":"ROUND(IF(Calc_WHDHC!H586<0,Calc_WHDHC!I586,2*PI()*Calc_WHDHC!G586/60*Calc_WHDHC!H586/1000*IF(Input!$B$4=\"Other\",0.95*0.95,0.98*0.95)),3)","v":18.146000000000001}]
[581,null,{"$f":"Calc_WHDHC!G587","v":936},null,null,{"$f":"ROUND(IF(Calc_WHDHC!H587<0,Calc_WHDHC!I587*IF(Input!$B$4=\"Other\",0.95*0.95,0.98*0.95),2*PI()*Calc_WHDHC!G587/60*Calc_WHDHC!H587/1000),3)","v":39.109000000000002},null,null,581,null,"-",null,null,{"$f":"Calc_WHDHC!J587/3.6/(2*Input!$B$5*PI())*60","v":89.683865809785843},null,null,{"$f":"ROUND(IF(Calc_WHDHC!H587<0,Calc_WHDHC!I587,2*PI()*Calc_WHDHC!G587/60*Calc_WHDHC!H587/1000*IF(Input!$B$4=\"Other\",0.95*0.95,0.98*0.95)),3)","v":36.411000000000001}]
[582,null,{"$f":"Calc_WHDHC!G588","v":946},null,null,{"$f":"ROUND(IF(Calc_WHDHC!H588<0,Calc_WHDHC!I588*IF(Input!$B$4=\"Other\",0.95*0.95,0.98*0.95),2*PI()*Calc_WHDHC!G588/60*Calc_WHDHC!H588/1000),3)","v":45.075000000000003},null,null,582,null,"-",null,null,{"$f":"Calc_WHDHC!J588/3.6/(2*Input!$B$5*PI())*60","v":90.486839600611347},null,null,{"$f":"ROUND(IF(Calc_WHDHC!H588<0,Calc_WHDHC!I588,2*PI()*Calc_WHDHC!G588/60*Calc_WHDHC!H588/1000*IF(Input!$B$4=\"Other\",0.95*0.95,0.98*0.95)),3)","v":41.963999999999999}]
[583,null,{"$f":"Calc_WHDHC!G589","v":950},null,null,{"$f":"ROUND(IF(Calc_WHDHC!H589<0,Calc_WHDHC!I589*IF(Input!$B$4=\"Other\",0.95*0.95,0.98*0.95),2*PI()*Calc_WHDHC!G589/60*Calc_WHDHC!H589/1000),3)","v":28.95},null,null,583,null,"-",null,null,{"$f":"Calc_WHDHC!J589/3.6/(2*Input!$B$5*PI())*60","v":90.929859623135783},null,null,{"$f":"ROUND(IF(Calc_WHDHC!H589<0,Calc_WHDHC!I589,2*PI()*Calc_WHDHC!G589/60*Calc_WHDHC!H589/1000*IF(Input!$B$4=\"Other\",0.95*0.95,0.98*0.95)),3)","v":26.952000000000002}]
[584,null,{"$f":"Calc_WHDHC!G590","v":952},null,null,{"$f":"ROUND(IF(Calc_WHDHC!H590<0,Calc_WHDHC!I590*IF(Input!$B$4=\"Other\",0.95*0.95,0.98*0.95),2*PI()*Calc_WHDHC!G590/60*Calc_WHDHC!H590/1000),3)","v":16.847999999999999},null,null,584,null,"-",null,null,{"$f":"Calc_WHDHC!J590/3.6/(2*Input!$B$5*PI())*60","v":91.179058385805746},null,null,{"$f":"ROUND(IF(Calc_WHDHC!H590<0,Calc_WHDHC!I590,2*PI()*Calc_WHDHC!G590/60*Calc_WHDHC!H590/1000*IF(Input!$B$4=\"Other\",0.95*0.95,0.98*0.95)),3)","v":15.686}]
[585,null,{"$f":"Calc_WHDHC!G591","v":961},null,null,{"$f":"ROUND(IF(Calc_WHDHC!H591<0,Calc_WHDHC!I591*IF(Input!$B$4=\"Other\",0.95*0.95,0.98*0.95),2*PI()*Calc_WHDHC!G591/60*Calc_WHDHC!H591/1000),3)","v":40.756999999999998},null,null,585,null,"-",null,null,{"$f":"Calc_WHDHC!J591/3.6/(2*Input!$B$5*PI())*60","v":91.982032176631236},null,null,{"$f":"ROUND(IF(Calc_WHDHC!H591<0,Calc_WHDHC!I591,2*PI()*Calc_WHDHC!G591/60*Calc_WHDHC!H591/1000*IF(Input!$B$4=\"Other\",0.95*0.95,0.98*0.95)),3)","v":37.945}]
[586,null,{"$f":"Calc_WHDHC!G592","v":981},null,null,{"$f":"ROUND(IF(Calc_WHDHC!H592<0,Calc_WHDHC!I592*IF(Input!$B$4=\"Other\",0.95*0.95,0.98*0.95),2*PI()*Calc_WHDHC!G592/60*Calc_WHDHC!H592/1000),3)","v":46.433999999999997},null,null,586,null,"-",null,null,{"$f":"Calc_WHDHC!J592/3.6/(2*Input!$B$5*PI())*60","v":93.837178520952236},null,null,{"$f":"ROUND(IF(Calc_WHDHC!H592<0,Calc_WHDHC!I592,2*PI()*Calc_WHDHC!G592/60*Calc_WHDHC!H592/1000*IF(Input!$B$4=\"Other\",0.95*0.95,0.98*0.95)),3)","v":43.23}]
[587,null,{"$f":"Calc_WHDHC!G593","v":1013},null,null,{"$f":"ROUND(IF(Calc_WHDHC!H593<0,Calc_WHDHC!I593*IF(Input!$B$4=\"Other\",0.95*0.95,0.98*0.95),2*PI()*Calc_WHDHC!G593/60*Calc_WHDHC!H593/1000),3)","v":131.328},null,null,587,null,"-",null,null,{"$f":"Calc_WHDHC!J593/3.6/(2*Input!$B$5*PI())*60","v":96.79987492158422},null,null,{"$f":"ROUND(IF(Calc_WHDHC!H593<0,Calc_WHDHC!I593,2*PI()*Calc_WHDHC!G593/60*Calc_WHDHC!H593/1000*IF(Input!$B$4=\"Other\",0.95*0.95,0.98*0.95)),3)","v":122.267}]
[588,null,{"$f":"Calc_WHDHC!G594","v":1051},null,null,{"$f":"ROUND(IF(Calc_WHDHC!H594<0,Calc_WHDHC!I594*IF(Input!$B$4=\"Other\",0.95*0.95,0.98*0.95),2*PI()*Calc_WHDHC!G594/60*Calc_WHDHC!H594/1000),3)","v":172.79499999999999},null,null,588,null,"-",null,null,{"$f":"Calc_WHDHC!J594/3.6/(2*Input!$B$5*PI())*60","v":100.45479010741064},null,null,{"$f":"ROUND(IF(Calc_WHDHC!H594<0,Calc_WHDHC!I594,2*PI()*Calc_WHDHC!G594/60*Calc_WHDHC!H594/1000*IF(Input!$B$4=\"Other\",0.95*0.95,0.98*0.95)),3)","v":160.87200000000001}]
[589,null,{"$f":"Calc_WHDHC!G595","v":1090},null,null,{"$f":"ROUND(IF(Calc_WHDHC!H595<0,Calc_WHDHC!I595*IF(Input!$B$4=\"Other\",0.95*0.95,0.98*0.95),2*PI()*Calc_WHDHC!G595/60*Calc_WHDHC!H595/1000),3)","v":64.947999999999993},null,null,589,null,"-",null,null,{"$f":"Calc_WHDHC!J595/3.6/(2*Input!$B$5*PI())*60","v":104.05432779042148},null,null,{"$f":"ROUND(IF(Calc_WHDHC!H595<0,Calc_WHDHC!I595,2*PI()*Calc_WHDHC!G595/60*Calc_WHDHC!H595/1000*IF(Input!$B$4=\"Other\",0.95*0.95,0.98*0.95)),3)","v":60.466999999999999}]
[590,null,{"$f":"Calc_WHDHC!G596","v":1119},null,null,{"$f":"ROUND(IF(Calc_WHDHC!H596<0,Calc_WHDHC!I596*IF(Input!$B$4=\"Other\",0.95*0.95,0.98*0.95),2*PI()*Calc_WHDHC!G596/60*Calc_WHDHC!H596/1000),3)","v":61.988999999999997},null,null,590,null,"-",null,null,{"$f":"Calc_WHDHC!J596/3.6/(2*Input!$B$5*PI())*60","v":106.82320293119908},null,null,{"$f":"ROUND(IF(Calc_WHDHC!H596<0,Calc_WHDHC!I596,2*PI()*Calc_WHDHC!G596/60*Calc_WHDHC!H596/1000*IF(Input!$B$4=\"Other\",0.95*0.95,0.98*0.95)),3)","v":57.712000000000003}]
[591,null,{"$f":"Calc_WHDHC!G597","v":1134},null,null,{"$f":"ROUND(IF(Calc_WHDHC!H597<0,Calc_WHDHC!I597*IF(Input!$B$4=\"Other\",0.95*0.95,0.98*0.95),2*PI()*Calc_WHDHC!G597/60*Calc_WHDHC!H597/1000),3)","v":79.325999999999993},null,null,591,null,"-",null,null,{"$f":"Calc_WHDHC!J597/3.6/(2*Input!$B$5*PI())*60","v":108.26301800440342},null,null,{"$f":"ROUND(IF(Calc_WHDHC!H597<0,Calc_WHDHC!I597,2*PI()*Calc_WHDHC!G597/60*Calc_WHDHC!H597/1000*IF(Input!$B$4=\"Other\",0.95*0.95,0.98*0.95)),3)","v":73.852999999999994}]
[592,null,{"$f":"Calc_WHDHC!G598","v":1138},null,null,{"$f":"ROUND(IF(Calc_WHDHC!H598<0,Calc_WHDHC!I598*IF(Input!$B$4=\"Other\",0.95*0.95,0.98*0.95),2*PI()*Calc_WHDHC!G598/60*Calc_WHDHC!H598/1000),3)","v":14.896000000000001},null,null,592,null,"-",null,null,{"$f":"Calc_WHDHC!J598/3.6/(2*Input!$B$5*PI())*60","v":108.59528302129672},null,null,{"$f":"ROUND(IF(Calc_WHDHC!H598<0,Calc_WHDHC!I598,2*PI()*Calc_WHDHC!G598/60*Calc_WHDHC!H598/1000*IF(Input!$B$4=\"Other\",0.95*0.95,0.98*0.95)),3)","v":13.869}]
[593,null,{"$f":"Calc_WHDHC!G599","v":1134},null,null,{"$f":"ROUND(IF(Calc_WHDHC!H599<0,Calc_WHDHC!I599*IF(Input!$B$4=\"Other\",0.95*0.95,0.98*0.95),2*PI()*Calc_WHDHC!G599/60*Calc_WHDHC!H599/1000),3)","v":0},null,null,593,null,"-",null,null,{"$f":"Calc_WHDHC!J599/3.6/(2*Input!$B$5*PI())*60","v":108.29070675581119},null,null,{"$f":"ROUND(IF(Calc_WHDHC!H599<0,Calc_WHDHC!I599,2*PI()*Calc_WHDHC!G599/60*Calc_WHDHC!H599/1000*IF(Input!$B$4=\"Other\",0.95*0.95,0.98*0.95)),3)","v":0}]
[594,null,{"$f":"Calc_WHDHC!G600","v":1125},null,null,{"$f":"ROUND(IF(Calc_WHDHC!H600<0,Calc_WHDHC!I600*IF(Input!$B$4=\"Other\",0.95*0.95,0.98*0.95),2*PI()*Calc_WHDHC!G600/60*Calc_WHDHC!H600/1000),3)","v":-0.90200000000000002},null,null,594,null,"-",null,null,{"$f":"Calc_WHDHC!J600/3.6/(2*Input!$B$5*PI())*60","v":107.43235546217014},null,null,{"$f":"ROUND(IF(Calc_WHDHC!H600<0,Calc_WHDHC!I600,2*PI()*Calc_WHDHC!G600/60*Calc_WHDHC!H600/1000*IF(Input!$B$4=\"Other\",0.95*0.95,0.98*0.95)),3)","v":-0.96899999999999997}]
[595,null,{"$f":"Calc_WHDHC!G601","v":1111},null,null,{"$f":"ROUND(IF(Calc_WHDHC!H601<0,Calc_WHDHC!I601*IF(Input!$B$4=\"Other\",0.95*0.95,0.98*0.95),2*PI()*Calc_WHDHC!G601/60*Calc_WHDHC!H601/1000),3)","v":-1.9330000000000001},null,null,595,null,"-",null,null,{"$f":"Calc_WHDHC!J601/3.6/(2*Input!$B$5*PI())*60","v":106.07560664318913},null,null,{"$f":"ROUND(IF(Calc_WHDHC!H601<0,Calc_WHDHC!I601,2*PI()*Calc_WHDHC!G601/60*Calc_WHDHC!H601/1000*IF(Input!$B$4=\"Other\",0.95*0.95,0.98*0.95)),3)","v":-2.0760000000000001}]
[596,null,{"$f":"Calc_WHDHC!G602","v":1094},null,null,{"$f":"ROUND(IF(Calc_WHDHC!H602<0,Calc_WHDHC!I602*IF(Input!$B$4=\"Other\",0.95*0.95,0.98*0.95),2*PI()*Calc_WHDHC!G602/60*Calc_WHDHC!H602/1000),3)","v":-0.88400000000000001},null,null,596,null,"-",null,null,{"$f":"Calc_WHDHC!J602/3.6/(2*Input!$B$5*PI())*60","v":104.46965906153811},null,null,{"$f":"ROUND(IF(Calc_WHDHC!H602<0,Calc_WHDHC!I602,2*PI()*Calc_WHDHC!G602/60*Calc_WHDHC!H602/1000*IF(Input!$B$4=\"Other\",0.95*0.95,0.98*0.95)),3)","v":-0.95}]
[597,null,{"$f":"Calc_WHDHC!G603","v":1079},null,null,{"$f":"ROUND(IF(Calc_WHDHC!H603<0,Calc_WHDHC!I603*IF(Input!$B$4=\"Other\",0.95*0.95,0.98*0.95),2*PI()*Calc_WHDHC!G603/60*Calc_WHDHC!H603/1000),3)","v":0},null,null,597,null,"-",null,null,{"$f":"Calc_WHDHC!J603/3.6/(2*Input!$B$5*PI())*60","v":103.11291024255712},null,null,{"$f":"ROUND(IF(Calc_WHDHC!H603<0,Calc_WHDHC!I603,2*PI()*Calc_WHDHC!G603/60*Calc_WHDHC!H603/1000*IF(Input!$B$4=\"Other\",0.95*0.95,0.98*0.95)),3)","v":0}]
[598,null,{"$f":"Calc_WHDHC!G604","v":1074},null,null,{"$f":"ROUND(IF(Calc_WHDHC!H604<0,Calc_WHDHC!I604*IF(Input!$B$4=\"Other\",0.95*0.95,0.98*0.95),2*PI()*Calc_WHDHC!G604/60*Calc_WHDHC!H604/1000),3)","v":29.917000000000002},null,null,598,null,"-",null,null,{"$f":"Calc_WHDHC!J604/3.6/(2*Input!$B$5*PI())*60","v":102.61451271721714},null,null,{"$f":"ROUND(IF(Calc_WHDHC!H604<0,Calc_WHDHC!I604,2*PI()*Calc_WHDHC!G604/60*Calc_WHDHC!H604/1000*IF(Input!$B$4=\"Other\",0.95*0.95,0.98*0.95)),3)","v":27.853000000000002}]
[599,null,{"$f":"Calc_WHDHC!G605","v":1075},null,null,{"$f":"ROUND(IF(Calc_WHDHC!H605<0,Calc_WHDHC!I605*IF(Input!$B$4=\"Other\",0.95*0.95,0.98*0.95),2*PI()*Calc_WHDHC!G605/60*Calc_WHDHC!H605/1000),3)","v":42.664999999999999},null,null,599,null,"-",null,null,{"$f":"Calc_WHDHC!J605/3.6/(2*Input!$B$5*PI())*60","v":102.72526772284826},null,null,{"$f":"ROUND(IF(Calc_WHDHC!H605<0,Calc_WHDHC!I605,2*PI()*Calc_WHDHC!G605/60*Calc_WHDHC!H605/1000*IF(Input!$B$4=\"Other\",0.95*0.95,0.98*0.95)),3)","v":39.722000000000001}]
[600,null,{"$f":"Calc_WHDHC!G606","v":1084},null,null,{"$f":"ROUND(IF(Calc_WHDHC!H606<0,Calc_WHDHC!I606*IF(Input!$B$4=\"Other\",0.95*0.95,0.98*0.95),2*PI()*Calc_WHDHC!G606/60*Calc_WHDHC!H606/1000),3)","v":91.947999999999993},null,null,600,null,"-",null,null,{"$f":"Calc_WHDHC!J606/3.6/(2*Input!$B$5*PI())*60","v":103.61130776789707},null,null,{"$f":"ROUND(IF(Calc_WHDHC!H606<0,Calc_WHDHC!I606,2*PI()*Calc_WHDHC!G606/60*Calc_WHDHC!H606/1000*IF(Input!$B$4=\"Other\",0.95*0.95,0.98*0.95)),3)","v":85.603999999999999}]
[601,null,{"$f":"Calc_WHDHC!G607","v":1107},null,null,{"$f":"ROUND(IF(Calc_WHDHC!H607<0,Calc_WHDHC!I607*IF(Input!$B$4=\"Other\",0.95*0.95,0.98*0.95),2*PI()*Calc_WHDHC!G607/60*Calc_WHDHC!H607/1000),3)","v":144.44200000000001},null,null,601,null,"-",null,null,{"$f":"Calc_WHDHC!J607/3.6/(2*Input!$B$5*PI())*60","v":105.68796412348026},null,null,{"$f":"ROUND(IF(Calc_WHDHC!H607<0,Calc_WHDHC!I607,2*PI()*Calc_WHDHC!G607/60*Calc_WHDHC!H607/1000*IF(Input!$B$4=\"Other\",0.95*0.95,0.98*0.95)),3)","v":134.476}]
[602,null,{"$f":"Calc_WHDHC!G608","v":1137},null,null,{"$f":"ROUND(IF(Calc_WHDHC!H608<0,Calc_WHDHC!I608*IF(Input!$B$4=\"Other\",0.95*0.95,0.98*0.95),2*PI()*Calc_WHDHC!G608/60*Calc_WHDHC!H608/1000),3)","v":135.49799999999999},null,null,602,null,"-",null,null,{"$f":"Calc_WHDHC!J608/3.6/(2*Input!$B$5*PI())*60","v":108.5122167670734},null,null,{"$f":"ROUND(IF(Calc_WHDHC!H608<0,Calc_WHDHC!I608,2*PI()*Calc_WHDHC!G608/60*Calc_WHDHC!H608/1000*IF(Input!$B$4=\"Other\",0.95*0.95,0.98*0.95)),3)","v":126.148}]
[603,null,{"$f":"Calc_WHDHC!G609","v":1170},null,null,{"$f":"ROUND(IF(Calc_WHDHC!H609<0,Calc_WHDHC!I609*IF(Input!$B$4=\"Other\",0.95*0.95,0.98*0.95),2*PI()*Calc_WHDHC!G609/60*Calc_WHDHC!H609/1000),3)","v":165.16},null,null,603,null,"-",null,null,{"$f":"Calc_WHDHC!J609/3.6/(2*Input!$B$5*PI())*60","v":111.61335692474429},null,null,{"$f":"ROUND(IF(Calc_WHDHC!H609<0,Calc_WHDHC!I609,2*PI()*Calc_WHDHC!G609/60*Calc_WHDHC!H609/1000*IF(Input!$B$4=\"Other\",0.95*0.95,0.98*0.95)),3)","v":153.76400000000001}]
[604,null,{"$f":"Calc_WHDHC!G610","v":1204},null,null,{"$f":"ROUND(IF(Calc_WHDHC!H610<0,Calc_WHDHC!I610*IF(Input!$B$4=\"Other\",0.95*0.95,0.98*0.95),2*PI()*Calc_WHDHC!G610/60*Calc_WHDHC!H610/1000),3)","v":194.29300000000001},null,null,604,null,"-",null,null,{"$f":"Calc_WHDHC!J610/3.6/(2*Input!$B$5*PI())*60","v":114.79756333663852},null,null,{"$f":"ROUND(IF(Calc_WHDHC!H610<0,Calc_WHDHC!I610,2*PI()*Calc_WHDHC!G610/60*Calc_WHDHC!H610/1000*IF(Input!$B$4=\"Other\",0.95*0.95,0.98*0.95)),3)","v":180.887}]
[605,null,{"$f":"Calc_WHDHC!G611","v":1234},null,null,{"$f":"ROUND(IF(Calc_WHDHC!H611<0,Calc_WHDHC!I611*IF(Input!$B$4=\"Other\",0.95*0.95,0.98*0.95),2*PI()*Calc_WHDHC!G611/60*Calc_WHDHC!H611/1000),3)","v":223.816},null,null,605,null,"-",null,null,{"$f":"Calc_WHDHC!J611/3.6/(2*Input!$B$5*PI())*60","v":117.51106097460053},null,null,{"$f":"ROUND(IF(Calc_WHDHC!H611<0,Calc_WHDHC!I611,2*PI()*Calc_WHDHC!G611/60*Calc_WHDHC!H611/1000*IF(Input!$B$4=\"Other\",0.95*0.95,0.98*0.95)),3)","v":208.37299999999999}]
[606,null,{"$f":"Calc_WHDHC!G612","v":1248},null,null,{"$f":"ROUND(IF(Calc_WHDHC!H612<0,Calc_WHDHC!I612*IF(Input!$B$4=\"Other\",0.95*0.95,0.98*0.95),2*PI()*Calc_WHDHC!G612/60*Calc_WHDHC!H612/1000),3)","v":0},null,null,606,null,"-",null,null,{"$f":"Calc_WHDHC!J612/3.6/(2*Input!$B$5*PI())*60","v":118.9231872963971},null,null,{"$f":"ROUND(IF(Calc_WHDHC!H612<0,Calc_WHDHC!I612,2*PI()*Calc_WHDHC!G612/60*Calc_WHDHC!H612/1000*IF(Input!$B$4=\"Other\",0.95*0.95,0.98*0.95)),3)","v":0}]
[607,null,{"$f":"Calc_WHDHC!G613","v":1247},null,null,{"$f":"ROUND(IF(Calc_WHDHC!H613<0,Calc_WHDHC!I613*IF(Input!$B$4=\"Other\",0.95*0.95,0.98*0.95),2*PI()*Calc_WHDHC!G613/60*Calc_WHDHC!H613/1000),3)","v":-0.83199999999999996},null,null,607,null,"-",null,null,{"$f":"Calc_WHDHC!J613/3.6/(2*Input!$B$5*PI())*60","v":118.78474353935822},null,null,{"$f":"ROUND(IF(Calc_WHDHC!H613<0,Calc_WHDHC!I613,2*PI()*Calc_WHDHC!G613/60*Calc_WHDHC!H613/1000*IF(Input!$B$4=\"Other\",0.95*0.95,0.98*0.95)),3)","v":-0.89400000000000002}]
[608,null,{"$f":"Calc_WHDHC!G614","v":1232},null,null,{"$f":"ROUND(IF(Calc_WHDHC!H614<0,Calc_WHDHC!I614*IF(Input!$B$4=\"Other\",0.95*0.95,0.98*0.95),2*PI()*Calc_WHDHC!G614/60*Calc_WHDHC!H614/1000),3)","v":-4.1029999999999998},null,null,608,null,"-",null,null,{"$f":"Calc_WHDHC!J614/3.6/(2*Input!$B$5*PI())*60","v":117.48337222319276},null,null,{"$f":"ROUND(IF(Calc_WHDHC!H614<0,Calc_WHDHC!I614,2*PI()*Calc_WHDHC!G614/60*Calc_WHDHC!H614/1000*IF(Input!$B$4=\"Other\",0.95*0.95,0.98*0.95)),3)","v":-4.407}]
[609,null,{"$f":"Calc_WHDHC!G615","v":1212},null,null,{"$f":"ROUND(IF(Calc_WHDHC!H615<0,Calc_WHDHC!I615*IF(Input!$B$4=\"Other\",0.95*0.95,0.98*0.95),2*PI()*Calc_WHDHC!G615/60*Calc_WHDHC!H615/1000),3)","v":-4.2409999999999997},null,null,609,null,"-",null,null,{"$f":"Calc_WHDHC!J615/3.6/(2*Input!$B$5*PI())*60","v":115.57284837605624},null,null,{"$f":"ROUND(IF(Calc_WHDHC!H615<0,Calc_WHDHC!I615,2*PI()*Calc_WHDHC!G615/60*Calc_WHDHC!H615/1000*IF(Input!$B$4=\"Other\",0.95*0.95,0.98*0.95)),3)","v":-4.5549999999999997}]
[610,null,{"$f":"Calc_WHDHC!G616","v":1191},null,null,{"$f":"ROUND(IF(Calc_WHDHC!H616<0,Calc_WHDHC!I616*IF(Input!$B$4=\"Other\",0.95*0.95,0.98*0.95),2*PI()*Calc_WHDHC!G616/60*Calc_WHDHC!H616/1000),3)","v":-1.742},null,null,610,null,"-",null,null,{"$f":"Calc_WHDHC!J616/3.6/(2*Input!$B$5*PI())*60","v":113.63463577751193},null,null,{"$f":"ROUND(IF(Calc_WHDHC!H616<0,Calc_WHDHC!I616,2*PI()*Calc_WHDHC!G616/60*Calc_WHDHC!H616/1000*IF(Input!$B$4=\"Other\",0.95*0.95,0.98*0.95)),3)","v":-1.871}]
[611,null,{"$f":"Calc_WHDHC!G617","v":1175},null,null,{"$f":"ROUND(IF(Calc_WHDHC!H617<0,Calc_WHDHC!I617*IF(Input!$B$4=\"Other\",0.95*0.95,0.98*0.95),2*PI()*Calc_WHDHC!G617/60*Calc_WHDHC!H617/1000),3)","v":0},null,null,611,null,"-",null,null,{"$f":"Calc_WHDHC!J617/3.6/(2*Input!$B$5*PI())*60","v":112.11175445008425},null,null,{"$f":"ROUND(IF(Calc_WHDHC!H617<0,Calc_WHDHC!I617,2*PI()*Calc_WHDHC!G617/60*Calc_WHDHC!H617/1000*IF(Input!$B$4=\"Other\",0.95*0.95,0.98*0.95)),3)","v":0}]
[612,null,{"$f":"Calc_WHDHC!G618","v":1185},null,null,{"$f":"ROUND(IF(Calc_WHDHC!H618<0,Calc_WHDHC!I618*IF(Input!$B$4=\"Other\",0.95*0.95,0.98*0.95),2*PI()*Calc_WHDHC!G618/60*Calc_WHDHC!H618/1000),3)","v":91.953000000000003},null,null,612,null,"-",null,null,{"$f":"Calc_WHDHC!J618/3.6/(2*Input!$B$5*PI())*60","v":112.9701057437253},null,null,{"$f":"ROUND(IF(Calc_WHDHC!H618<0,Calc_WHDHC!I618,2*PI()*Calc_WHDHC!G618/60*Calc_WHDHC!H618/1000*IF(Input!$B$4=\"Other\",0.95*0.95,0.98*0.95)),3)","v":85.608000000000004}]
[613,null,{"$f":"Calc_WHDHC!G619","v":1210},null,null,{"$f":"ROUND(IF(Calc_WHDHC!H619<0,Calc_WHDHC!I619*IF(Input!$B$4=\"Other\",0.95*0.95,0.98*0.95),2*PI()*Calc_WHDHC!G619/60*Calc_WHDHC!H619/1000),3)","v":197.416},null,null,613,null,"-",null,null,{"$f":"Calc_WHDHC!J619/3.6/(2*Input!$B$5*PI())*60","v":115.351338364794},null,null,{"$f":"ROUND(IF(Calc_WHDHC!H619<0,Calc_WHDHC!I619,2*PI()*Calc_WHDHC!G619/60*Calc_WHDHC!H619/1000*IF(Input!$B$4=\"Other\",0.95*0.95,0.98*0.95)),3)","v":183.79400000000001}]
[614,null,{"$f":"Calc_WHDHC!G620","v":1235},null,null,{"$f":"ROUND(IF(Calc_WHDHC!H620<0,Calc_WHDHC!I620*IF(Input!$B$4=\"Other\",0.95*0.95,0.98*0.95),2*PI()*Calc_WHDHC!G620/60*Calc_WHDHC!H620/1000),3)","v":259.04599999999999},null,null,614,null,"-",null,null,{"$f":"Calc_WHDHC!J620/3.6/(2*Input!$B$5*PI())*60","v":117.62181598023163},null,null,{"$f":"ROUND(IF(Calc_WHDHC!H620<0,Calc_WHDHC!I620,2*PI()*Calc_WHDHC!G620/60*Calc_WHDHC!H620/1000*IF(Input!$B$4=\"Other\",0.95*0.95,0.98*0.95)),3)","v":241.172}]
[615,null,{"$f":"Calc_WHDHC!G621","v":1243},null,null,{"$f":"ROUND(IF(Calc_WHDHC!H621<0,Calc_WHDHC!I621*IF(Input!$B$4=\"Other\",0.95*0.95,0.98*0.95),2*PI()*Calc_WHDHC!G621/60*Calc_WHDHC!H621/1000),3)","v":-0.28000000000000003},null,null,615,null,"-",null,null,{"$f":"Calc_WHDHC!J621/3.6/(2*Input!$B$5*PI())*60","v":118.4524785224649},null,null,{"$f":"ROUND(IF(Calc_WHDHC!H621<0,Calc_WHDHC!I621,2*PI()*Calc_WHDHC!G621/60*Calc_WHDHC!H621/1000*IF(Input!$B$4=\"Other\",0.95*0.95,0.98*0.95)),3)","v":-0.30099999999999999}]
[616,null,{"$f":"Calc_WHDHC!G622","v":1231},null,null,{"$f":"ROUND(IF(Calc_WHDHC!H622<0,Calc_WHDHC!I622*IF(Input!$B$4=\"Other\",0.95*0.95,0.98*0.95),2*PI()*Calc_WHDHC!G622/60*Calc_WHDHC!H622/1000),3)","v":-22.498999999999999},null,null,616,null,"-",null,null,{"$f":"Calc_WHDHC!J622/3.6/(2*Input!$B$5*PI())*60","v":117.37261721756165},null,null,{"$f":"ROUND(IF(Calc_WHDHC!H622<0,Calc_WHDHC!I622,2*PI()*Calc_WHDHC!G622/60*Calc_WHDHC!H622/1000*IF(Input!$B$4=\"Other\",0.95*0.95,0.98*0.95)),3)","v":-24.166}]
[617,null,{"$f":"Calc_WHDHC!G623","v":1185},null,null,{"$f":"ROUND(IF(Calc_WHDHC!H623<0,Calc_WHDHC!I623*IF(Input!$B$4=\"Other\",0.95*0.95,0.98*0.95),2*PI()*Calc_WHDHC!G623/60*Calc_WHDHC!H623/1000),3)","v":-48.639000000000003},null,null,617,null,"-",null,null,{"$f":"Calc_WHDHC!J623/3.6/(2*Input!$B$5*PI())*60","v":112.91472824090974},null,null,{"$f":"ROUND(IF(Calc_WHDHC!H623<0,Calc_WHDHC!I623,2*PI()*Calc_WHDHC!G623/60*Calc_WHDHC!H623/1000*IF(Input!$B$4=\"Other\",0.95*0.95,0.98*0.95)),3)","v":-52.244}]
[618,null,{"$f":"Calc_WHDHC!G624","v":1112},null,null,{"$f":"ROUND(IF(Calc_WHDHC!H624<0,Calc_WHDHC!I624*IF(Input!$B$4=\"Other\",0.95*0.95,0.98*0.95),2*PI()*Calc_WHDHC!G624/60*Calc_WHDHC!H624/1000),3)","v":-67.304000000000002},null,null,618,null,"-",null,null,{"$f":"Calc_WHDHC!J624/3.6/(2*Input!$B$5*PI())*60","v":104.44197031013036},null,null,{"$f":"ROUND(IF(Calc_WHDHC!H624<0,Calc_WHDHC!I624,2*PI()*Calc_WHDHC!G624/60*Calc_WHDHC!H624/1000*IF(Input!$B$4=\"Other\",0.95*0.95,0.98*0.95)),3)","v":-72.292000000000002}]
[619,null,{"$f":"Calc_WHDHC!G625","v":1041},null,null,{"$f":"ROUND(IF(Calc_WHDHC!H625<0,Calc_WHDHC!I625*IF(Input!$B$4=\"Other\",0.95*0.95,0.98*0.95),2*PI()*Calc_WHDHC!G625/60*Calc_WHDHC!H625/1000),3)","v":-75.117999999999995},null,null,619,null,"-",null,null,{"$f":"Calc_WHDHC!J625/3.6/(2*Input!$B$5*PI())*60","v":92.175853436485667},null,null,{"$f":"ROUND(IF(Calc_WHDHC!H625<0,Calc_WHDHC!I625,2*PI()*Calc_WHDHC!G625/60*Calc_WHDHC!H625/1000*IF(Input!$B$4=\"Other\",0.95*0.95,0.98*0.95)),3)","v":-80.685000000000002}]
[620,null,{"$f":"Calc_WHDHC!G626","v":968},null,null,{"$f":"ROUND(IF(Calc_WHDHC!H626<0,Calc_WHDHC!I626*IF(Input!$B$4=\"Other\",0.95*0.95,0.98*0.95),2*PI()*Calc_WHDHC!G626/60*Calc_WHDHC!H626/1000),3)","v":-67.28},null,null,620,null,"-",null,null,{"$f":"Calc_WHDHC!J626/3.6/(2*Input!$B$5*PI())*60","v":76.587086393907882},null,null,{"$f":"ROUND(IF(Calc_WHDHC!H626<0,Calc_WHDHC!I626,2*PI()*Calc_WHDHC!G626/60*Calc_WHDHC!H626/1000*IF(Input!$B$4=\"Other\",0.95*0.95,0.98*0.95)),3)","v":-72.266000000000005}]
[621,null,{"$f":"Calc_WHDHC!G627","v":897},null,null,{"$f":"ROUND(IF(Calc_WHDHC!H627<0,Calc_WHDHC!I627*IF(Input!$B$4=\"Other\",0.95*0.95,0.98*0.95),2*PI()*Calc_WHDHC!G627/60*Calc_WHDHC!H627/1000),3)","v":61.338999999999999},null,null,621,null,"-",null,null,{"$f":"Calc_WHDHC!J627/3.6/(2*Input!$B$5*PI())*60","v":59.336994266863556},null,null,{"$f":"ROUND(IF(Calc_WHDHC!H627<0,Calc_WHDHC!I627,2*PI()*Calc_WHDHC!G627/60*Calc_WHDHC!H627/1000*IF(Input!$B$4=\"Other\",0.95*0.95,0.98*0.95)),3)","v":57.106000000000002}]
[622,null,{"$f":"Calc_WHDHC!G628","v":1006},null,null,{"$f":"ROUND(IF(Calc_WHDHC!H628<0,Calc_WHDHC!I628*IF(Input!$B$4=\"Other\",0.95*0.95,0.98*0.95),2*PI()*Calc_WHDHC!G628/60*Calc_WHDHC!H628/1000),3)","v":81.222999999999999},null,null,622,null,"-",null,null,{"$f":"Calc_WHDHC!J628/3.6/(2*Input!$B$5*PI())*60","v":43.249829698945817},null,null,{"$f":"ROUND(IF(Calc_WHDHC!H628<0,Calc_WHDHC!I628,2*PI()*Calc_WHDHC!G628/60*Calc_WHDHC!H628/1000*IF(Input!$B$4=\"Other\",0.95*0.95,0.98*0.95)),3)","v":75.619}]
[623,null,{"$f":"Calc_WHDHC!G629","v":1116},null,null,{"$f":"ROUND(IF(Calc_WHDHC!H629<0,Calc_WHDHC!I629*IF(Input!$B$4=\"Other\",0.95*0.95,0.98*0.95),2*PI()*Calc_WHDHC!G629/60*Calc_WHDHC!H629/1000),3)","v":-5.2519999999999998},null,null,623,null,"-",null,null,{"$f":"Calc_WHDHC!J629/3.6/(2*Input!$B$5*PI())*60","v":31.869752870349956},null,null,{"$f":"ROUND(IF(Calc_WHDHC!H629<0,Calc_WHDHC!I629,2*PI()*Calc_WHDHC!G629/60*Calc_WHDHC!H629/1000*IF(Input!$B$4=\"Other\",0.95*0.95,0.98*0.95)),3)","v":-5.641}]
[624,null,{"$f":"Calc_WHDHC!G630","v":1010},null,null,{"$f":"ROUND(IF(Calc_WHDHC!H630<0,Calc_WHDHC!I630*IF(Input!$B$4=\"Other\",0.95*0.95,0.98*0.95),2*PI()*Calc_WHDHC!G630/60*Calc_WHDHC!H630/1000),3)","v":0},null,null,624,null,"-",null,null,{"$f":"Calc_WHDHC!J630/3.6/(2*Input!$B$5*PI())*60","v":26.830400114134758},null,null,{"$f":"ROUND(IF(Calc_WHDHC!H630<0,Calc_WHDHC!I630,2*PI()*Calc_WHDHC!G630/60*Calc_WHDHC!H630/1000*IF(Input!$B$4=\"Other\",0.95*0.95,0.98*0.95)),3)","v":0}]
[625,null,{"$f":"Calc_WHDHC!G631","v":996},null,null,{"$f":"ROUND(IF(Calc_WHDHC!H631<0,Calc_WHDHC!I631*IF(Input!$B$4=\"Other\",0.95*0.95,0.98*0.95),2*PI()*Calc_WHDHC!G631/60*Calc_WHDHC!H631/1000),3)","v":77.183000000000007},null,null,625,null,"-",null,null,{"$f":"Calc_WHDHC!J631/3.6/(2*Input!$B$5*PI())*60","v":26.193558831755915},null,null,{"$f":"ROUND(IF(Calc_WHDHC!H631<0,Calc_WHDHC!I631,2*PI()*Calc_WHDHC!G631/60*Calc_WHDHC!H631/1000*IF(Input!$B$4=\"Other\",0.95*0.95,0.98*0.95)),3)","v":71.856999999999999}]
[626,null,{"$f":"Calc_WHDHC!G632","v":1041},null,null,{"$f":"ROUND(IF(Calc_WHDHC!H632<0,Calc_WHDHC!I632*IF(Input!$B$4=\"Other\",0.95*0.95,0.98*0.95),2*PI()*Calc_WHDHC!G632/60*Calc_WHDHC!H632/1000),3)","v":85.575000000000003},null,null,626,null,"-",null,null,{"$f":"Calc_WHDHC!J632/3.6/(2*Input!$B$5*PI())*60","v":28.270215187339101},null,null,{"$f":"ROUND(IF(Calc_WHDHC!H632<0,Calc_WHDHC!I632,2*PI()*Calc_WHDHC!G632/60*Calc_WHDHC!H632/1000*IF(Input!$B$4=\"Other\",0.95*0.95,0.98*0.95)),3)","v":79.671000000000006}]
[627,null,{"$f":"Calc_WHDHC!G633","v":1132},null,null,{"$f":"ROUND(IF(Calc_WHDHC!H633<0,Calc_WHDHC!I633*IF(Input!$B$4=\"Other\",0.95*0.95,0.98*0.95),2*PI()*Calc_WHDHC!G633/60*Calc_WHDHC!H633/1000),3)","v":42.32},null,null,627,null,"-",null,null,{"$f":"Calc_WHDHC!J633/3.6/(2*Input!$B$5*PI())*60","v":32.6173491583599},null,null,{"$f":"ROUND(IF(Calc_WHDHC!H633<0,Calc_WHDHC!I633,2*PI()*Calc_WHDHC!G633/60*Calc_WHDHC!H633/1000*IF(Input!$B$4=\"Other\",0.95*0.95,0.98*0.95)),3)","v":39.4}]
[628,null,{"$f":"Calc_WHDHC!G634","v":1031},null,null,{"$f":"ROUND(IF(Calc_WHDHC!H634<0,Calc_WHDHC!I634*IF(Input!$B$4=\"Other\",0.95*0.95,0.98*0.95),2*PI()*Calc_WHDHC!G634/60*Calc_WHDHC!H634/1000),3)","v":0},null,null,628,null,"-",null,null,{"$f":"Calc_WHDHC!J634/3.6/(2*Input!$B$5*PI())*60","v":37.656701914575102},null,null,{"$f":"ROUND(IF(Calc_WHDHC!H634<0,Calc_WHDHC!I634,2*PI()*Calc_WHDHC!G634/60*Calc_WHDHC!H634/1000*IF(Input!$B$4=\"Other\",0.95*0.95,0.98*0.95)),3)","v":0}]
[629,null,{"$f":"Calc_WHDHC!G635","v":931},null,null,{"$f":"ROUND(IF(Calc_WHDHC!H635<0,Calc_WHDHC!I635*IF(Input!$B$4=\"Other\",0.95*0.95,0.98*0.95),2*PI()*Calc_WHDHC!G635/60*Calc_WHDHC!H635/1000),3)","v":21.059000000000001},null,null,629,null,"-",null,null,{"$f":"Calc_WHDHC!J635/3.6/(2*Input!$B$5*PI())*60","v":42.446855908120313},null,null,{"$f":"ROUND(IF(Calc_WHDHC!H635<0,Calc_WHDHC!I635,2*PI()*Calc_WHDHC!G635/60*Calc_WHDHC!H635/1000*IF(Input!$B$4=\"Other\",0.95*0.95,0.98*0.95)),3)","v":19.606000000000002}]
[630,null,{"$f":"Calc_WHDHC!G636","v":1042},null,null,{"$f":"ROUND(IF(Calc_WHDHC!H636<0,Calc_WHDHC!I636*IF(Input!$B$4=\"Other\",0.95*0.95,0.98*0.95),2*PI()*Calc_WHDHC!G636/60*Calc_WHDHC!H636/1000),3)","v":42.883000000000003},null,null,630,null,"-",null,null,{"$f":"Calc_WHDHC!J636/3.6/(2*Input!$B$5*PI())*60","v":47.403142410112181},null,null,{"$f":"ROUND(IF(Calc_WHDHC!H636<0,Calc_WHDHC!I636,2*PI()*Calc_WHDHC!G636/60*Calc_WHDHC!H636/1000*IF(Input!$B$4=\"Other\",0.95*0.95,0.98*0.95)),3)","v":39.923999999999999}]
[631,null,{"$f":"Calc_WHDHC!G637","v":1157},null,null,{"$f":"ROUND(IF(Calc_WHDHC!H637<0,Calc_WHDHC!I637*IF(Input!$B$4=\"Other\",0.95*0.95,0.98*0.95),2*PI()*Calc_WHDHC!G637/60*Calc_WHDHC!H637/1000),3)","v":21.082000000000001},null,null,631,null,"-",null,null,{"$f":"Calc_WHDHC!J637/3.6/(2*Input!$B$5*PI())*60","v":52.553250171958481},null,null,{"$f":"ROUND(IF(Calc_WHDHC!H637<0,Calc_WHDHC!I637,2*PI()*Calc_WHDHC!G637/60*Calc_WHDHC!H637/1000*IF(Input!$B$4=\"Other\",0.95*0.95,0.98*0.95)),3)","v":19.626999999999999}]
[632,null,{"$f":"Calc_WHDHC!G638","v":1042},null,null,{"$f":"ROUND(IF(Calc_WHDHC!H638<0,Calc_WHDHC!I638*IF(Input!$B$4=\"Other\",0.95*0.95,0.98*0.95),2*PI()*Calc_WHDHC!G638/60*Calc_WHDHC!H638/1000),3)","v":0},null,null,632,null,"-",null,null,{"$f":"Calc_WHDHC!J638/3.6/(2*Input!$B$5*PI())*60","v":57.398781668319259},null,null,{"$f":"ROUND(IF(Calc_WHDHC!H638<0,Calc_WHDHC!I638,2*PI()*Calc_WHDHC!G638/60*Calc_WHDHC!H638/1000*IF(Input!$B$4=\"Other\",0.95*0.95,0.98*0.95)),3)","v":0}]
[633,null,{"$f":"Calc_WHDHC!G639","v":928},null,null,{"$f":"ROUND(IF(Calc_WHDHC!H639<0,Calc_WHDHC!I639*IF(Input!$B$4=\"Other\",0.95*0.95,0.98*0.95),2*PI()*Calc_WHDHC!G639/60*Calc_WHDHC!H639/1000),3)","v":58.598999999999997},null,null,633,null,"-",null,null,{"$f":"Calc_WHDHC!J639/3.6/(2*Input!$B$5*PI())*60","v":61.385961871038965},null,null,{"$f":"ROUND(IF(Calc_WHDHC!H639<0,Calc_WHDHC!I639,2*PI()*Calc_WHDHC!G639/60*Calc_WHDHC!H639/1000*IF(Input!$B$4=\"Other\",0.95*0.95,0.98*0.95)),3)","v":54.555999999999997}]
[634,null,{"$f":"Calc_WHDHC!G640","v":976},null,null,{"$f":"ROUND(IF(Calc_WHDHC!H640<0,Calc_WHDHC!I640*IF(Input!$B$4=\"Other\",0.95*0.95,0.98*0.95),2*PI()*Calc_WHDHC!G640/60*Calc_WHDHC!H640/1000),3)","v":119.88800000000001},null,null,634,null,"-",null,null,{"$f":"Calc_WHDHC!J640/3.6/(2*Input!$B$5*PI())*60","v":64.487102028709856},null,null,{"$f":"ROUND(IF(Calc_WHDHC!H640<0,Calc_WHDHC!I640,2*PI()*Calc_WHDHC!G640/60*Calc_WHDHC!H640/1000*IF(Input!$B$4=\"Other\",0.95*0.95,0.98*0.95)),3)","v":111.616}]
[635,null,{"$f":"Calc_WHDHC!G641","v":1014},null,null,{"$f":"ROUND(IF(Calc_WHDHC!H641<0,Calc_WHDHC!I641*IF(Input!$B$4=\"Other\",0.95*0.95,0.98*0.95),2*PI()*Calc_WHDHC!G641/60*Calc_WHDHC!H641/1000),3)","v":139.74100000000001},null,null,635,null,"-",null,null,{"$f":"Calc_WHDHC!J641/3.6/(2*Input!$B$5*PI())*60","v":66.979089655409695},null,null,{"$f":"ROUND(IF(Calc_WHDHC!H641<0,Calc_WHDHC!I641,2*PI()*Calc_WHDHC!G641/60*Calc_WHDHC!H641/1000*IF(Input!$B$4=\"Other\",0.95*0.95,0.98*0.95)),3)","v":130.09800000000001}]
[636,null,{"$f":"Calc_WHDHC!G642","v":1049},null,null,{"$f":"ROUND(IF(Calc_WHDHC!H642<0,Calc_WHDHC!I642*IF(Input!$B$4=\"Other\",0.95*0.95,0.98*0.95),2*PI()*Calc_WHDHC!G642/60*Calc_WHDHC!H642/1000),3)","v":134.12799999999999},null,null,636,null,"-",null,null,{"$f":"Calc_WHDHC!J642/3.6/(2*Input!$B$5*PI())*60","v":69.138812265216202},null,null,{"$f":"ROUND(IF(Calc_WHDHC!H642<0,Calc_WHDHC!I642,2*PI()*Calc_WHDHC!G642/60*Calc_WHDHC!H642/1000*IF(Input!$B$4=\"Other\",0.95*0.95,0.98*0.95)),3)","v":124.873}]
[637,null,{"$f":"Calc_WHDHC!G643","v":1075},null,null,{"$f":"ROUND(IF(Calc_WHDHC!H643<0,Calc_WHDHC!I643*IF(Input!$B$4=\"Other\",0.95*0.95,0.98*0.95),2*PI()*Calc_WHDHC!G643/60*Calc_WHDHC!H643/1000),3)","v":113.699},null,null,637,null,"-",null,null,{"$f":"Calc_WHDHC!J643/3.6/(2*Input!$B$5*PI())*60","v":70.883203603906082},null,null,{"$f":"ROUND(IF(Calc_WHDHC!H643<0,Calc_WHDHC!I643,2*PI()*Calc_WHDHC!G643/60*Calc_WHDHC!H643/1000*IF(Input!$B$4=\"Other\",0.95*0.95,0.98*0.95)),3)","v":105.854}]
[638,null,{"$f":"Calc_WHDHC!G644","v":1091},null,null,{"$f":"ROUND(IF(Calc_WHDHC!H644<0,Calc_WHDHC!I644*IF(Input!$B$4=\"Other\",0.95*0.95,0.98*0.95),2*PI()*Calc_WHDHC!G644/60*Calc_WHDHC!H644/1000),3)","v":0},null,null,638,null,"-",null,null,{"$f":"Calc_WHDHC!J644/3.6/(2*Input!$B$5*PI())*60","v":71.879998654586004},null,null,{"$f":"ROUND(IF(Calc_WHDHC!H644<0,Calc_WHDHC!I644,2*PI()*Calc_WHDHC!G644/60*Calc_WHDHC!H644/1000*IF(Input!$B$4=\"Other\",0.95*0.95,0.98*0.95)),3)","v":0}]
[639,null,{"$f":"Calc_WHDHC!G645","v":1086},null,null,{"$f":"ROUND(IF(Calc_WHDHC!H645<0,Calc_WHDHC!I645*IF(Input!$B$4=\"Other\",0.95*0.95,0.98*0.95),2*PI()*Calc_WHDHC!G645/60*Calc_WHDHC!H645/1000),3)","v":-7.617},null,null,639,null,"-",null,null,{"$f":"Calc_WHDHC!J645/3.6/(2*Input!$B$5*PI())*60","v":71.603111140508233},null,null,{"$f":"ROUND(IF(Calc_WHDHC!H645<0,Calc_WHDHC!I645,2*PI()*Calc_WHDHC!G645/60*Calc_WHDHC!H645/1000*IF(Input!$B$4=\"Other\",0.95*0.95,0.98*0.95)),3)","v":-8.1820000000000004}]
[640,null,{"$f":"Calc_WHDHC!G646","v":1035},null,null,{"$f":"ROUND(IF(Calc_WHDHC!H646<0,Calc_WHDHC!I646*IF(Input!$B$4=\"Other\",0.95*0.95,0.98*0.95),2*PI()*Calc_WHDHC!G646/60*Calc_WHDHC!H646/1000),3)","v":-25.475000000000001},null,null,640,null,"-",null,null,{"$f":"Calc_WHDHC!J646/3.6/(2*Input!$B$5*PI())*60","v":68.363527225798478},null,null,{"$f":"ROUND(IF(Calc_WHDHC!H646<0,Calc_WHDHC!I646,2*PI()*Calc_WHDHC!G646/60*Calc_WHDHC!H646/1000*IF(Input!$B$4=\"Other\",0.95*0.95,0.98*0.95)),3)","v":-27.363}]
[641,null,{"$f":"Calc_WHDHC!G647","v":952},null,null,{"$f":"ROUND(IF(Calc_WHDHC!H647<0,Calc_WHDHC!I647*IF(Input!$B$4=\"Other\",0.95*0.95,0.98*0.95),2*PI()*Calc_WHDHC!G647/60*Calc_WHDHC!H647/1000),3)","v":-35.854999999999997},null,null,641,null,"-",null,null,{"$f":"Calc_WHDHC!J647/3.6/(2*Input!$B$5*PI())*60","v":60.499921825990143},null,null,{"$f":"ROUND(IF(Calc_WHDHC!H647<0,Calc_WHDHC!I647,2*PI()*Calc_WHDHC!G647/60*Calc_WHDHC!H647/1000*IF(Input!$B$4=\"Other\",0.95*0.95,0.98*0.95)),3)","v":-38.512}]
[642,null,{"$f":"Calc_WHDHC!G648","v":844},null,null,{"$f":"ROUND(IF(Calc_WHDHC!H648<0,Calc_WHDHC!I648*IF(Input!$B$4=\"Other\",0.95*0.95,0.98*0.95),2*PI()*Calc_WHDHC!G648/60*Calc_WHDHC!H648/1000),3)","v":-31.733000000000001},null,null,642,null,"-",null,null,{"$f":"Calc_WHDHC!J648/3.6/(2*Input!$B$5*PI())*60","v":48.316871206568791},null,null,{"$f":"ROUND(IF(Calc_WHDHC!H648<0,Calc_WHDHC!I648,2*PI()*Calc_WHDHC!G648/60*Calc_WHDHC!H648/1000*IF(Input!$B$4=\"Other\",0.95*0.95,0.98*0.95)),3)","v":-34.085000000000001}]
[643,null,{"$f":"Calc_WHDHC!G649","v":746},null,null,{"$f":"ROUND(IF(Calc_WHDHC!H649<0,Calc_WHDHC!I649*IF(Input!$B$4=\"Other\",0.95*0.95,0.98*0.95),2*PI()*Calc_WHDHC!G649/60*Calc_WHDHC!H649/1000),3)","v":-18.736000000000001},null,null,643,null,"-",null,null,{"$f":"Calc_WHDHC!J649/3.6/(2*Input!$B$5*PI())*60","v":34.167919237195349},null,null,{"$f":"ROUND(IF(Calc_WHDHC!H649<0,Calc_WHDHC!I649,2*PI()*Calc_WHDHC!G649/60*Calc_WHDHC!H649/1000*IF(Input!$B$4=\"Other\",0.95*0.95,0.98*0.95)),3)","v":-20.125}]
[644,null,{"$f":"Calc_WHDHC!G650","v":560},null,null,{"$f":"ROUND(IF(Calc_WHDHC!H650<0,Calc_WHDHC!I650*IF(Input!$B$4=\"Other\",0.95*0.95,0.98*0.95),2*PI()*Calc_WHDHC!G650/60*Calc_WHDHC!H650/1000),3)","v":0},null,null,644,null,"-",null,null,{"$f":"Calc_WHDHC!J650/3.6/(2*Input!$B$5*PI())*60","v":21.015762318501842},null,null,{"$f":"ROUND(IF(Calc_WHDHC!H650<0,Calc_WHDHC!I650,2*PI()*Calc_WHDHC!G650/60*Calc_WHDHC!H650/1000*IF(Input!$B$4=\"Other\",0.95*0.95,0.98*0.95)),3)","v":0}]
[645,null,{"$f":"Calc_WHDHC!G651","v":560},null,null,{"$f":"ROUND(IF(Calc_WHDHC!H651<0,Calc_WHDHC!I651*IF(Input!$B$4=\"Other\",0.95*0.95,0.98*0.95),2*PI()*Calc_WHDHC!G651/60*Calc_WHDHC!H651/1000),3)","v":0},null,null,645,null,"-",null,null,{"$f":"Calc_WHDHC!J651/3.6/(2*Input!$B$5*PI())*60","v":11.075500563110324},null,null,{"$f":"ROUND(IF(Calc_WHDHC!H651<0,Calc_WHDHC!I651,2*PI()*Calc_WHDHC!G651/60*Calc_WHDHC!H651/1000*IF(Input!$B$4=\"Other\",0.95*0.95,0.98*0.95)),3)","v":0}]
[646,null,{"$f":"Calc_WHDHC!G652","v":560},null,null,{"$f":"ROUND(IF(Calc_WHDHC!H652<0,Calc_WHDHC!I652*IF(Input!$B$4=\"Other\",0.95*0.95,0.98*0.95),2*PI()*Calc_WHDHC!G652/60*Calc_WHDHC!H652/1000),3)","v":0},null,null,646,null,"-",null,null,{"$f":"Calc_WHDHC!J652/3.6/(2*Input!$B$5*PI())*60","v":4.8732202477685425},null,null,{"$f":"ROUND(IF(Calc_WHDHC!H652<0,Calc_WHDHC!I652,2*PI()*Calc_WHDHC!G652/60*Calc_WHDHC!H652/1000*IF(Input!$B$4=\"Other\",0.95*0.95,0.98*0.95)),3)","v":0}]
[647,null,{"$f":"Calc_WHDHC!G653","v":560},null,null,{"$f":"ROUND(IF(Calc_WHDHC!H653<0,Calc_WHDHC!I653*IF(Input!$B$4=\"Other\",0.95*0.95,0.98*0.95),2*PI()*Calc_WHDHC!G653/60*Calc_WHDHC!H653/1000),3)","v":0},null,null,647,null,"-",null,null,{"$f":"Calc_WHDHC!J653/3.6/(2*Input!$B$5*PI())*60","v":0},null,null,{"$f":"ROUND(IF(Calc_WHDHC!H653<0,Calc_WHDHC!I653,2*PI()*Calc_WHDHC!G653/60*Calc_WHDHC!H653/1000*IF(Input!$B$4=\"Other\",0.95*0.95,0.98*0.95)),3)","v":0}]
[648,null,{"$f":"Calc_WHDHC!G654","v":560},null,null,{"$f":"ROUND(IF(Calc_WHDHC!H654<0,Calc_WHDHC!I654*IF(Input!$B$4=\"Other\",0.95*0.95,0.98*0.95),2*PI()*Calc_WHDHC!G654/60*Calc_WHDHC!H654/1000),3)","v":0},null,null,648,null,"-",null,null,{"$f":"Calc_WHDHC!J654/3.6/(2*Input!$B$5*PI())*60","v":0},null,null,{"$f":"ROUND(IF(Calc_WHDHC!H654<0,Calc_WHDHC!I654,2*PI()*Calc_WHDHC!G654/60*Calc_WHDHC!H654/1000*IF(Input!$B$4=\"Other\",0.95*0.95,0.98*0.95)),3)","v":0}]
[649,null,{"$f":"Calc_WHDHC!G655","v":560},null,null,{"$f":"ROUND(IF(Calc_WHDHC!H655<0,Calc_WHDHC!I655*IF(Input!$B$4=\"Other\",0.95*0.95,0.98*0.95),2*PI()*Calc_WHDHC!G655/60*Calc_WHDHC!H655/1000),3)","v":0},null,null,649,null,"-",null,null,{"$f":"Calc_WHDHC!J655/3.6/(2*Input!$B$5*PI())*60","v":0},null,null,{"$f":"ROUND(IF(Calc_WHDHC!H655<0,Calc_WHDHC!I655,2*PI()*Calc_WHDHC!G655/60*Calc_WHDHC!H655/1000*IF(Input!$B$4=\"Other\",0.95*0.95,0.98*0.95)),3)","v":0}]
[650,null,{"$f":"Calc_WHDHC!G656","v":560},null,null,{"$f":"ROUND(IF(Calc_WHDHC!H656<0,Calc_WHDHC!I656*IF(Input!$B$4=\"Other\",0.95*0.95,0.98*0.95),2*PI()*Calc_WHDHC!G656/60*Calc_WHDHC!H656/1000),3)","v":0},null,null,650,null,"-",null,null,{"$f":"Calc_WHDHC!J656/3.6/(2*Input!$B$5*PI())*60","v":0},null,null,{"$f":"ROUND(IF(Calc_WHDHC!H656<0,Calc_WHDHC!I656,2*PI()*Calc_WHDHC!G656/60*Calc_WHDHC!H656/1000*IF(Input!$B$4=\"Other\",0.95*0.95,0.98*0.95)),3)","v":0}]
[651,null,{"$f":"Calc_WHDHC!G657","v":560},null,null,{"$f":"ROUND(IF(Calc_WHDHC!H657<0,Calc_WHDHC!I657*IF(Input!$B$4=\"Other\",0.95*0.95,0.98*0.95),2*PI()*Calc_WHDHC!G657/60*Calc_WHDHC!H657/1000),3)","v":0},null,null,651,null,"-",null,null,{"$f":"Calc_WHDHC!J657/3.6/(2*Input!$B$5*PI())*60","v":0},null,null,{"$f":"ROUND(IF(Calc_WHDHC!H657<0,Calc_WHDHC!I657,2*PI()*Calc_WHDHC!G657/60*Calc_WHDHC!H657/1000*IF(Input!$B$4=\"Other\",0.95*0.95,0.98*0.95)),3)","v":0}]
[652,null,{"$f":"Calc_WHDHC!G658","v":560},null,null,{"$f":"ROUND(IF(Calc_WHDHC!H658<0,Calc_WHDHC!I658*IF(Input!$B$4=\"Other\",0.95*0.95,0.98*0.95),2*PI()*Calc_WHDHC!G658/60*Calc_WHDHC!H658/1000),3)","v":0},null,null,652,null,"-",null,null,{"$f":"Calc_WHDHC!J658/3.6/(2*Input!$B$5*PI())*60","v":0},null,null,{"$f":"ROUND(IF(Calc_WHDHC!H658<0,Calc_WHDHC!I658,2*PI()*Calc_WHDHC!G658/60*Calc_WHDHC!H658/1000*IF(Input!$B$4=\"Other\",0.95*0.95,0.98*0.95)),3)","v":0}]
[653,null,{"$f":"Calc_WHDHC!G659","v":560},null,null,{"$f":"ROUND(IF(Calc_WHDHC!H659<0,Calc_WHDHC!I659*IF(Input!$B$4=\"Other\",0.95*0.95,0.98*0.95),2*PI()*Calc_WHDHC!G659/60*Calc_WHDHC!H659/1000),3)","v":0},null,null,653,null,"-",null,null,{"$f":"Calc_WHDHC!J659/3.6/(2*Input!$B$5*PI())*60","v":0},null,null,{"$f":"ROUND(IF(Calc_WHDHC!H659<0,Calc_WHDHC!I659,2*PI()*Calc_WHDHC!G659/60*Calc_WHDHC!H659/1000*IF(Input!$B$4=\"Other\",0.95*0.95,0.98*0.95)),3)","v":0}]
[654,null,{"$f":"Calc_WHDHC!G660","v":560},null,null,{"$f":"ROUND(IF(Calc_WHDHC!H660<0,Calc_WHDHC!I660*IF(Input!$B$4=\"Other\",0.95*0.95,0.98*0.95),2*PI()*Calc_WHDHC!G660/60*Calc_WHDHC!H660/1000),3)","v":0},null,null,654,null,"-",null,null,{"$f":"Calc_WHDHC!J660/3.6/(2*Input!$B$5*PI())*60","v":0},null,null,{"$f":"ROUND(IF(Calc_WHDHC!H660<0,Calc_WHDHC!I660,2*PI()*Calc_WHDHC!G660/60*Calc_WHDHC!H660/1000*IF(Input!$B$4=\"Other\",0.95*0.95,0.98*0.95)),3)","v":0}]
[655,null,{"$f":"Calc_WHDHC!G661","v":560},null,null,{"$f":"ROUND(IF(Calc_WHDHC!H661<0,Calc_WHDHC!I661*IF(Input!$B$4=\"Other\",0.95*0.95,0.98*0.95),2*PI()*Calc_WHDHC!G661/60*Calc_WHDHC!H661/1000),3)","v":0},null,null,655,null,"-",null,null,{"$f":"Calc_WHDHC!J661/3.6/(2*Input!$B$5*PI())*60","v":0},null,null,{"$f":"ROUND(IF(Calc_WHDHC!H661<0,Calc_WHDHC!I661,2*PI()*Calc_WHDHC!G661/60*Calc_WHDHC!H661/1000*IF(Input!$B$4=\"Other\",0.95*0.95,0.98*0.95)),3)","v":0}]
[656,null,{"$f":"Calc_WHDHC!G662","v":560},null,null,{"$f":"ROUND(IF(Calc_WHDHC!H662<0,Calc_WHDHC!I662*IF(Input!$B$4=\"Other\",0.95*0.95,0.98*0.95),2*PI()*Calc_WHDHC!G662/60*Calc_WHDHC!H662/1000),3)","v":1.9350000000000001},null,null,656,null,"-",null,null,{"$f":"Calc_WHDHC!J662/3.6/(2*Input!$B$5*PI())*60","v":0},null,null,{"$f":"ROUND(IF(Calc_WHDHC!H662<0,Calc_WHDHC!I662,2*PI()*Calc_WHDHC!G662/60*Calc_WHDHC!H662/1000*IF(Input!$B$4=\"Other\",0.95*0.95,0.98*0.95)),3)","v":1.802}]
[657,null,{"$f":"Calc_WHDHC!G663","v":578},null,null,{"$f":"ROUND(IF(Calc_WHDHC!H663<0,Calc_WHDHC!I663*IF(Input!$B$4=\"Other\",0.95*0.95,0.98*0.95),2*PI()*Calc_WHDHC!G663/60*Calc_WHDHC!H663/1000),3)","v":13.74},null,null,657,null,"-",null,null,{"$f":"Calc_WHDHC!J663/3.6/(2*Input!$B$5*PI())*60","v":0},null,null,{"$f":"ROUND(IF(Calc_WHDHC!H663<0,Calc_WHDHC!I663,2*PI()*Calc_WHDHC!G663/60*Calc_WHDHC!H663/1000*IF(Input!$B$4=\"Other\",0.95*0.95,0.98*0.95)),3)","v":12.792}]
[658,null,{"$f":"Calc_WHDHC!G664","v":693},null,null,{"$f":"ROUND(IF(Calc_WHDHC!H664<0,Calc_WHDHC!I664*IF(Input!$B$4=\"Other\",0.95*0.95,0.98*0.95),2*PI()*Calc_WHDHC!G664/60*Calc_WHDHC!H664/1000),3)","v":43.688000000000002},null,null,658,null,"-",null,null,{"$f":"Calc_WHDHC!J664/3.6/(2*Input!$B$5*PI())*60","v":8.1958704167016396},null,null,{"$f":"ROUND(IF(Calc_WHDHC!H664<0,Calc_WHDHC!I664,2*PI()*Calc_WHDHC!G664/60*Calc_WHDHC!H664/1000*IF(Input!$B$4=\"Other\",0.95*0.95,0.98*0.95)),3)","v":40.673000000000002}]
[659,null,{"$f":"Calc_WHDHC!G665","v":844},null,null,{"$f":"ROUND(IF(Calc_WHDHC!H665<0,Calc_WHDHC!I665*IF(Input!$B$4=\"Other\",0.95*0.95,0.98*0.95),2*PI()*Calc_WHDHC!G665/60*Calc_WHDHC!H665/1000),3)","v":14.583},null,null,659,null,"-",null,null,{"$f":"Calc_WHDHC!J665/3.6/(2*Input!$B$5*PI())*60","v":21.874113612142892},null,null,{"$f":"ROUND(IF(Calc_WHDHC!H665<0,Calc_WHDHC!I665,2*PI()*Calc_WHDHC!G665/60*Calc_WHDHC!H665/1000*IF(Input!$B$4=\"Other\",0.95*0.95,0.98*0.95)),3)","v":13.577}]
[660,null,{"$f":"Calc_WHDHC!G666","v":985},null,null,{"$f":"ROUND(IF(Calc_WHDHC!H666<0,Calc_WHDHC!I666*IF(Input!$B$4=\"Other\",0.95*0.95,0.98*0.95),2*PI()*Calc_WHDHC!G666/60*Calc_WHDHC!H666/1000),3)","v":0},null,null,660,null,"-",null,null,{"$f":"Calc_WHDHC!J666/3.6/(2*Input!$B$5*PI())*60","v":37.352125649089572},null,null,{"$f":"ROUND(IF(Calc_WHDHC!H666<0,Calc_WHDHC!I666,2*PI()*Calc_WHDHC!G666/60*Calc_WHDHC!H666/1000*IF(Input!$B$4=\"Other\",0.95*0.95,0.98*0.95)),3)","v":0}]
[661,null,{"$f":"Calc_WHDHC!G667","v":1119},null,null,{"$f":"ROUND(IF(Calc_WHDHC!H667<0,Calc_WHDHC!I667*IF(Input!$B$4=\"Other\",0.95*0.95,0.98*0.95),2*PI()*Calc_WHDHC!G667/60*Calc_WHDHC!H667/1000),3)","v":112.26},null,null,661,null,"-",null,null,{"$f":"Calc_WHDHC!J667/3.6/(2*Input!$B$5*PI())*60","v":50.836547584676389},null,null,{"$f":"ROUND(IF(Calc_WHDHC!H667<0,Calc_WHDHC!I667,2*PI()*Calc_WHDHC!G667/60*Calc_WHDHC!H667/1000*IF(Input!$B$4=\"Other\",0.95*0.95,0.98*0.95)),3)","v":104.514}]
[662,null,{"$f":"Calc_WHDHC!G668","v":1314},null,null,{"$f":"ROUND(IF(Calc_WHDHC!H668<0,Calc_WHDHC!I668*IF(Input!$B$4=\"Other\",0.95*0.95,0.98*0.95),2*PI()*Calc_WHDHC!G668/60*Calc_WHDHC!H668/1000),3)","v":214.934},null,null,662,null,"-",null,null,{"$f":"Calc_WHDHC!J668/3.6/(2*Input!$B$5*PI())*60","v":62.548889430165545},null,null,{"$f":"ROUND(IF(Calc_WHDHC!H668<0,Calc_WHDHC!I668,2*PI()*Calc_WHDHC!G668/60*Calc_WHDHC!H668/1000*IF(Input!$B$4=\"Other\",0.95*0.95,0.98*0.95)),3)","v":200.10400000000001}]
[663,null,{"$f":"Calc_WHDHC!G669","v":1512},null,null,{"$f":"ROUND(IF(Calc_WHDHC!H669<0,Calc_WHDHC!I669*IF(Input!$B$4=\"Other\",0.95*0.95,0.98*0.95),2*PI()*Calc_WHDHC!G669/60*Calc_WHDHC!H669/1000),3)","v":109.252},null,null,663,null,"-",null,null,{"$f":"Calc_WHDHC!J669/3.6/(2*Input!$B$5*PI())*60","v":72.710661196819274},null,null,{"$f":"ROUND(IF(Calc_WHDHC!H669<0,Calc_WHDHC!I669,2*PI()*Calc_WHDHC!G669/60*Calc_WHDHC!H669/1000*IF(Input!$B$4=\"Other\",0.95*0.95,0.98*0.95)),3)","v":101.714}]
[664,null,{"$f":"Calc_WHDHC!G670","v":1444},null,null,{"$f":"ROUND(IF(Calc_WHDHC!H670<0,Calc_WHDHC!I670*IF(Input!$B$4=\"Other\",0.95*0.95,0.98*0.95),2*PI()*Calc_WHDHC!G670/60*Calc_WHDHC!H670/1000),3)","v":0},null,null,664,null,"-",null,null,{"$f":"Calc_WHDHC!J670/3.6/(2*Input!$B$5*PI())*60","v":81.404929138860879},null,null,{"$f":"ROUND(IF(Calc_WHDHC!H670<0,Calc_WHDHC!I670,2*PI()*Calc_WHDHC!G670/60*Calc_WHDHC!H670/1000*IF(Input!$B$4=\"Other\",0.95*0.95,0.98*0.95)),3)","v":0}]
[665,null,{"$f":"Calc_WHDHC!G671","v":1358},null,null,{"$f":"ROUND(IF(Calc_WHDHC!H671<0,Calc_WHDHC!I671*IF(Input!$B$4=\"Other\",0.95*0.95,0.98*0.95),2*PI()*Calc_WHDHC!G671/60*Calc_WHDHC!H671/1000),3)","v":125.28700000000001},null,null,665,null,"-",null,null,{"$f":"Calc_WHDHC!J671/3.6/(2*Input!$B$5*PI())*60","v":89.240845787261435},null,null,{"$f":"ROUND(IF(Calc_WHDHC!H671<0,Calc_WHDHC!I671,2*PI()*Calc_WHDHC!G671/60*Calc_WHDHC!H671/1000*IF(Input!$B$4=\"Other\",0.95*0.95,0.98*0.95)),3)","v":116.642}]
[666,null,{"$f":"Calc_WHDHC!G672","v":1473},null,null,{"$f":"ROUND(IF(Calc_WHDHC!H672<0,Calc_WHDHC!I672*IF(Input!$B$4=\"Other\",0.95*0.95,0.98*0.95),2*PI()*Calc_WHDHC!G672/60*Calc_WHDHC!H672/1000),3)","v":249.73400000000001},null,null,666,null,"-",null,null,{"$f":"Calc_WHDHC!J672/3.6/(2*Input!$B$5*PI())*60","v":96.661431164545334},null,null,{"$f":"ROUND(IF(Calc_WHDHC!H672<0,Calc_WHDHC!I672,2*PI()*Calc_WHDHC!G672/60*Calc_WHDHC!H672/1000*IF(Input!$B$4=\"Other\",0.95*0.95,0.98*0.95)),3)","v":232.50299999999999}]
[667,null,{"$f":"Calc_WHDHC!G673","v":1578},null,null,{"$f":"ROUND(IF(Calc_WHDHC!H673<0,Calc_WHDHC!I673*IF(Input!$B$4=\"Other\",0.95*0.95,0.98*0.95),2*PI()*Calc_WHDHC!G673/60*Calc_WHDHC!H673/1000),3)","v":123.771},null,null,667,null,"-",null,null,{"$f":"Calc_WHDHC!J673/3.6/(2*Input!$B$5*PI())*60","v":103.52824151367375},null,null,{"$f":"ROUND(IF(Calc_WHDHC!H673<0,Calc_WHDHC!I673,2*PI()*Calc_WHDHC!G673/60*Calc_WHDHC!H673/1000*IF(Input!$B$4=\"Other\",0.95*0.95,0.98*0.95)),3)","v":115.23}]
[668,null,{"$f":"Calc_WHDHC!G674","v":1393},null,null,{"$f":"ROUND(IF(Calc_WHDHC!H674<0,Calc_WHDHC!I674*IF(Input!$B$4=\"Other\",0.95*0.95,0.98*0.95),2*PI()*Calc_WHDHC!G674/60*Calc_WHDHC!H674/1000),3)","v":0},null,null,668,null,"-",null,null,{"$f":"Calc_WHDHC!J674/3.6/(2*Input!$B$5*PI())*60","v":109.67514432619998},null,null,{"$f":"ROUND(IF(Calc_WHDHC!H674<0,Calc_WHDHC!I674,2*PI()*Calc_WHDHC!G674/60*Calc_WHDHC!H674/1000*IF(Input!$B$4=\"Other\",0.95*0.95,0.98*0.95)),3)","v":0}]
[669,null,{"$f":"Calc_WHDHC!G675","v":1208},null,null,{"$f":"ROUND(IF(Calc_WHDHC!H675<0,Calc_WHDHC!I675*IF(Input!$B$4=\"Other\",0.95*0.95,0.98*0.95),2*PI()*Calc_WHDHC!G675/60*Calc_WHDHC!H675/1000),3)","v":127.387},null,null,669,null,"-",null,null,{"$f":"Calc_WHDHC!J675/3.6/(2*Input!$B$5*PI())*60","v":115.21289460775515},null,null,{"$f":"ROUND(IF(Calc_WHDHC!H675<0,Calc_WHDHC!I675,2*PI()*Calc_WHDHC!G675/60*Calc_WHDHC!H675/1000*IF(Input!$B$4=\"Other\",0.95*0.95,0.98*0.95)),3)","v":118.59699999999999}]
[670,null,{"$f":"Calc_WHDHC!G676","v":1265},null,null,{"$f":"ROUND(IF(Calc_WHDHC!H676<0,Calc_WHDHC!I676*IF(Input!$B$4=\"Other\",0.95*0.95,0.98*0.95),2*PI()*Calc_WHDHC!G676/60*Calc_WHDHC!H676/1000),3)","v":254.74100000000001},null,null,670,null,"-",null,null,{"$f":"Calc_WHDHC!J676/3.6/(2*Input!$B$5*PI())*60","v":120.47375737523254},null,null,{"$f":"ROUND(IF(Calc_WHDHC!H676<0,Calc_WHDHC!I676,2*PI()*Calc_WHDHC!G676/60*Calc_WHDHC!H676/1000*IF(Input!$B$4=\"Other\",0.95*0.95,0.98*0.95)),3)","v":237.16399999999999}]
[671,null,{"$f":"Calc_WHDHC!G677","v":1319},null,null,{"$f":"ROUND(IF(Calc_WHDHC!H677<0,Calc_WHDHC!I677*IF(Input!$B$4=\"Other\",0.95*0.95,0.98*0.95),2*PI()*Calc_WHDHC!G677/60*Calc_WHDHC!H677/1000),3)","v":249.59299999999999},null,null,671,null,"-",null,null,{"$f":"Calc_WHDHC!J677/3.6/(2*Input!$B$5*PI())*60","v":125.59617638567107},null,null,{"$f":"ROUND(IF(Calc_WHDHC!H677<0,Calc_WHDHC!I677,2*PI()*Calc_WHDHC!G677/60*Calc_WHDHC!H677/1000*IF(Input!$B$4=\"Other\",0.95*0.95,0.98*0.95)),3)","v":232.37100000000001}]
[672,null,{"$f":"Calc_WHDHC!G678","v":1372},null,null,{"$f":"ROUND(IF(Calc_WHDHC!H678<0,Calc_WHDHC!I678*IF(Input!$B$4=\"Other\",0.95*0.95,0.98*0.95),2*PI()*Calc_WHDHC!G678/60*Calc_WHDHC!H678/1000),3)","v":269.53500000000003},null,null,672,null,"-",null,null,{"$f":"Calc_WHDHC!J678/3.6/(2*Input!$B$5*PI())*60","v":130.60784039047849},null,null,{"$f":"ROUND(IF(Calc_WHDHC!H678<0,Calc_WHDHC!I678,2*PI()*Calc_WHDHC!G678/60*Calc_WHDHC!H678/1000*IF(Input!$B$4=\"Other\",0.95*0.95,0.98*0.95)),3)","v":250.93700000000001}]
[673,null,{"$f":"Calc_WHDHC!G679","v":1425},null,null,{"$f":"ROUND(IF(Calc_WHDHC!H679<0,Calc_WHDHC!I679*IF(Input!$B$4=\"Other\",0.95*0.95,0.98*0.95),2*PI()*Calc_WHDHC!G679/60*Calc_WHDHC!H679/1000),3)","v":266.815},null,null,673,null,"-",null,null,{"$f":"Calc_WHDHC!J679/3.6/(2*Input!$B$5*PI())*60","v":135.5364381410626},null,null,{"$f":"ROUND(IF(Calc_WHDHC!H679<0,Calc_WHDHC!I679,2*PI()*Calc_WHDHC!G679/60*Calc_WHDHC!H679/1000*IF(Input!$B$4=\"Other\",0.95*0.95,0.98*0.95)),3)","v":248.405}]
[674,null,{"$f":"Calc_WHDHC!G680","v":1478},null,null,{"$f":"ROUND(IF(Calc_WHDHC!H680<0,Calc_WHDHC!I680*IF(Input!$B$4=\"Other\",0.95*0.95,0.98*0.95),2*PI()*Calc_WHDHC!G680/60*Calc_WHDHC!H680/1000),3)","v":283.39400000000001},null,null,674,null,"-",null,null,{"$f":"Calc_WHDHC!J680/3.6/(2*Input!$B$5*PI())*60","v":140.46503589164666},null,null,{"$f":"ROUND(IF(Calc_WHDHC!H680<0,Calc_WHDHC!I680,2*PI()*Calc_WHDHC!G680/60*Calc_WHDHC!H680/1000*IF(Input!$B$4=\"Other\",0.95*0.95,0.98*0.95)),3)","v":263.83999999999997}]
[675,null,{"$f":"Calc_WHDHC!G681","v":1525},null,null,{"$f":"ROUND(IF(Calc_WHDHC!H681<0,Calc_WHDHC!I681*IF(Input!$B$4=\"Other\",0.95*0.95,0.98*0.95),2*PI()*Calc_WHDHC!G681/60*Calc_WHDHC!H681/1000),3)","v":241.94200000000001},null,null,675,null,"-",null,null,{"$f":"Calc_WHDHC!J681/3.6/(2*Input!$B$5*PI())*60","v":144.97830237111413},null,null,{"$f":"ROUND(IF(Calc_WHDHC!H681<0,Calc_WHDHC!I681,2*PI()*Calc_WHDHC!G681/60*Calc_WHDHC!H681/1000*IF(Input!$B$4=\"Other\",0.95*0.95,0.98*0.95)),3)","v":225.24799999999999}]
[676,null,{"$f":"Calc_WHDHC!G682","v":1566},null,null,{"$f":"ROUND(IF(Calc_WHDHC!H682<0,Calc_WHDHC!I682*IF(Input!$B$4=\"Other\",0.95*0.95,0.98*0.95),2*PI()*Calc_WHDHC!G682/60*Calc_WHDHC!H682/1000),3)","v":237.459},null,null,676,null,"-",null,null,{"$f":"Calc_WHDHC!J682/3.6/(2*Input!$B$5*PI())*60","v":148.79935006538722},null,null,{"$f":"ROUND(IF(Calc_WHDHC!H682<0,Calc_WHDHC!I682,2*PI()*Calc_WHDHC!G682/60*Calc_WHDHC!H682/1000*IF(Input!$B$4=\"Other\",0.95*0.95,0.98*0.95)),3)","v":221.07400000000001}]
[677,null,{"$f":"Calc_WHDHC!G683","v":1605},null,null,{"$f":"ROUND(IF(Calc_WHDHC!H683<0,Calc_WHDHC!I683*IF(Input!$B$4=\"Other\",0.95*0.95,0.98*0.95),2*PI()*Calc_WHDHC!G683/60*Calc_WHDHC!H683/1000),3)","v":245.054},null,null,677,null,"-",null,null,{"$f":"Calc_WHDHC!J683/3.6/(2*Input!$B$5*PI())*60","v":152.34351024558251},null,null,{"$f":"ROUND(IF(Calc_WHDHC!H683<0,Calc_WHDHC!I683,2*PI()*Calc_WHDHC!G683/60*Calc_WHDHC!H683/1000*IF(Input!$B$4=\"Other\",0.95*0.95,0.98*0.95)),3)","v":228.14500000000001}]
[678,null,{"$f":"Calc_WHDHC!G684","v":1640},null,null,{"$f":"ROUND(IF(Calc_WHDHC!H684<0,Calc_WHDHC!I684*IF(Input!$B$4=\"Other\",0.95*0.95,0.98*0.95),2*PI()*Calc_WHDHC!G684/60*Calc_WHDHC!H684/1000),3)","v":254.34800000000001},null,null,678,null,"-",null,null,{"$f":"Calc_WHDHC!J684/3.6/(2*Input!$B$5*PI())*60","v":155.72153791733115},null,null,{"$f":"ROUND(IF(Calc_WHDHC!H684<0,Calc_WHDHC!I684,2*PI()*Calc_WHDHC!G684/60*Calc_WHDHC!H684/1000*IF(Input!$B$4=\"Other\",0.95*0.95,0.98*0.95)),3)","v":236.798}]
[679,null,{"$f":"Calc_WHDHC!G685","v":1671},null,null,{"$f":"ROUND(IF(Calc_WHDHC!H685<0,Calc_WHDHC!I685*IF(Input!$B$4=\"Other\",0.95*0.95,0.98*0.95),2*PI()*Calc_WHDHC!G685/60*Calc_WHDHC!H685/1000),3)","v":127.215},null,null,679,null,"-",null,null,{"$f":"Calc_WHDHC!J685/3.6/(2*Input!$B$5*PI())*60","v":158.62885681514763},null,null,{"$f":"ROUND(IF(Calc_WHDHC!H685<0,Calc_WHDHC!I685,2*PI()*Calc_WHDHC!G685/60*Calc_WHDHC!H685/1000*IF(Input!$B$4=\"Other\",0.95*0.95,0.98*0.95)),3)","v":118.437}]
[680,null,{"$f":"Calc_WHDHC!G686","v":1479},null,null,{"$f":"ROUND(IF(Calc_WHDHC!H686<0,Calc_WHDHC!I686*IF(Input!$B$4=\"Other\",0.95*0.95,0.98*0.95),2*PI()*Calc_WHDHC!G686/60*Calc_WHDHC!H686/1000),3)","v":0},null,null,680,null,"-",null,null,{"$f":"Calc_WHDHC!J686/3.6/(2*Input!$B$5*PI())*60","v":161.09315569043966},null,null,{"$f":"ROUND(IF(Calc_WHDHC!H686<0,Calc_WHDHC!I686,2*PI()*Calc_WHDHC!G686/60*Calc_WHDHC!H686/1000*IF(Input!$B$4=\"Other\",0.95*0.95,0.98*0.95)),3)","v":0}]
[681,null,{"$f":"Calc_WHDHC!G687","v":1286},null,null,{"$f":"ROUND(IF(Calc_WHDHC!H687<0,Calc_WHDHC!I687*IF(Input!$B$4=\"Other\",0.95*0.95,0.98*0.95),2*PI()*Calc_WHDHC!G687/60*Calc_WHDHC!H687/1000),3)","v":71.510000000000005},null,null,681,null,"-",null,null,{"$f":"Calc_WHDHC!J687/3.6/(2*Input!$B$5*PI())*60","v":163.22518954883839},null,null,{"$f":"ROUND(IF(Calc_WHDHC!H687<0,Calc_WHDHC!I687,2*PI()*Calc_WHDHC!G687/60*Calc_WHDHC!H687/1000*IF(Input!$B$4=\"Other\",0.95*0.95,0.98*0.95)),3)","v":66.575000000000003}]
[682,null,{"$f":"Calc_WHDHC!G688","v":1297},null,null,{"$f":"ROUND(IF(Calc_WHDHC!H688<0,Calc_WHDHC!I688*IF(Input!$B$4=\"Other\",0.95*0.95,0.98*0.95),2*PI()*Calc_WHDHC!G688/60*Calc_WHDHC!H688/1000),3)","v":142.88399999999999},null,null,682,null,"-",null,null,{"$f":"Calc_WHDHC!J688/3.6/(2*Input!$B$5*PI())*60","v":164.72038212485828},null,null,{"$f":"ROUND(IF(Calc_WHDHC!H688<0,Calc_WHDHC!I688,2*PI()*Calc_WHDHC!G688/60*Calc_WHDHC!H688/1000*IF(Input!$B$4=\"Other\",0.95*0.95,0.98*0.95)),3)","v":133.02500000000001}]
[683,null,{"$f":"Calc_WHDHC!G689","v":1309},null,null,{"$f":"ROUND(IF(Calc_WHDHC!H689<0,Calc_WHDHC!I689*IF(Input!$B$4=\"Other\",0.95*0.95,0.98*0.95),2*PI()*Calc_WHDHC!G689/60*Calc_WHDHC!H689/1000),3)","v":134.06200000000001},null,null,683,null,"-",null,null,{"$f":"Calc_WHDHC!J689/3.6/(2*Input!$B$5*PI())*60","v":165.74486592694598},null,null,{"$f":"ROUND(IF(Calc_WHDHC!H689<0,Calc_WHDHC!I689,2*PI()*Calc_WHDHC!G689/60*Calc_WHDHC!H689/1000*IF(Input!$B$4=\"Other\",0.95*0.95,0.98*0.95)),3)","v":124.812}]
[684,null,{"$f":"Calc_WHDHC!G690","v":1321},null,null,{"$f":"ROUND(IF(Calc_WHDHC!H690<0,Calc_WHDHC!I690*IF(Input!$B$4=\"Other\",0.95*0.95,0.98*0.95),2*PI()*Calc_WHDHC!G690/60*Calc_WHDHC!H690/1000),3)","v":222.44200000000001},null,null,684,null,"-",null,null,{"$f":"Calc_WHDHC!J690/3.6/(2*Input!$B$5*PI())*60","v":166.96317098888812},null,null,{"$f":"ROUND(IF(Calc_WHDHC!H690<0,Calc_WHDHC!I690,2*PI()*Calc_WHDHC!G690/60*Calc_WHDHC!H690/1000*IF(Input!$B$4=\"Other\",0.95*0.95,0.98*0.95)),3)","v":207.09399999999999}]
[685,null,{"$f":"Calc_WHDHC!G691","v":1331},null,null,{"$f":"ROUND(IF(Calc_WHDHC!H691<0,Calc_WHDHC!I691*IF(Input!$B$4=\"Other\",0.95*0.95,0.98*0.95),2*PI()*Calc_WHDHC!G691/60*Calc_WHDHC!H691/1000),3)","v":272.35199999999998},null,null,685,null,"-",null,null,{"$f":"Calc_WHDHC!J691/3.6/(2*Input!$B$5*PI())*60","v":168.92907233884023},null,null,{"$f":"ROUND(IF(Calc_WHDHC!H691<0,Calc_WHDHC!I691,2*PI()*Calc_WHDHC!G691/60*Calc_WHDHC!H691/1000*IF(Input!$B$4=\"Other\",0.95*0.95,0.98*0.95)),3)","v":253.56}]
[686,null,{"$f":"Calc_WHDHC!G692","v":1343},null,null,{"$f":"ROUND(IF(Calc_WHDHC!H692<0,Calc_WHDHC!I692*IF(Input!$B$4=\"Other\",0.95*0.95,0.98*0.95),2*PI()*Calc_WHDHC!G692/60*Calc_WHDHC!H692/1000),3)","v":296.04399999999998},null,null,686,null,"-",null,null,{"$f":"Calc_WHDHC!J692/3.6/(2*Input!$B$5*PI())*60","v":171.55950372257891},null,null,{"$f":"ROUND(IF(Calc_WHDHC!H692<0,Calc_WHDHC!I692,2*PI()*Calc_WHDHC!G692/60*Calc_WHDHC!H692/1000*IF(Input!$B$4=\"Other\",0.95*0.95,0.98*0.95)),3)","v":275.61700000000002}]
[687,null,{"$f":"Calc_WHDHC!G693","v":1354},null,null,{"$f":"ROUND(IF(Calc_WHDHC!H693<0,Calc_WHDHC!I693*IF(Input!$B$4=\"Other\",0.95*0.95,0.98*0.95),2*PI()*Calc_WHDHC!G693/60*Calc_WHDHC!H693/1000),3)","v":283.86500000000001},null,null,687,null,"-",null,null,{"$f":"Calc_WHDHC!J693/3.6/(2*Input!$B$5*PI())*60","v":174.57757762602648},null,null,{"$f":"ROUND(IF(Calc_WHDHC!H693<0,Calc_WHDHC!I693,2*PI()*Calc_WHDHC!G693/60*Calc_WHDHC!H693/1000*IF(Input!$B$4=\"Other\",0.95*0.95,0.98*0.95)),3)","v":264.27800000000002}]
[688,null,{"$f":"Calc_WHDHC!G694","v":1366},null,null,{"$f":"ROUND(IF(Calc_WHDHC!H694<0,Calc_WHDHC!I694*IF(Input!$B$4=\"Other\",0.95*0.95,0.98*0.95),2*PI()*Calc_WHDHC!G694/60*Calc_WHDHC!H694/1000),3)","v":140.61500000000001},null,null,688,null,"-",null,null,{"$f":"Calc_WHDHC!J694/3.6/(2*Input!$B$5*PI())*60","v":177.65102903228956},null,null,{"$f":"ROUND(IF(Calc_WHDHC!H694<0,Calc_WHDHC!I694,2*PI()*Calc_WHDHC!G694/60*Calc_WHDHC!H694/1000*IF(Input!$B$4=\"Other\",0.95*0.95,0.98*0.95)),3)","v":130.91300000000001}]
[689,null,{"$f":"Calc_WHDHC!G695","v":1175},null,null,{"$f":"ROUND(IF(Calc_WHDHC!H695<0,Calc_WHDHC!I695*IF(Input!$B$4=\"Other\",0.95*0.95,0.98*0.95),2*PI()*Calc_WHDHC!G695/60*Calc_WHDHC!H695/1000),3)","v":0},null,null,689,null,"-",null,null,{"$f":"Calc_WHDHC!J695/3.6/(2*Input!$B$5*PI())*60","v":180.36452667025165},null,null,{"$f":"ROUND(IF(Calc_WHDHC!H695<0,Calc_WHDHC!I695,2*PI()*Calc_WHDHC!G695/60*Calc_WHDHC!H695/1000*IF(Input!$B$4=\"Other\",0.95*0.95,0.98*0.95)),3)","v":0}]
[690,null,{"$f":"Calc_WHDHC!G696","v":987},null,null,{"$f":"ROUND(IF(Calc_WHDHC!H696<0,Calc_WHDHC!I696*IF(Input!$B$4=\"Other\",0.95*0.95,0.98*0.95),2*PI()*Calc_WHDHC!G696/60*Calc_WHDHC!H696/1000),3)","v":70.903999999999996},null,null,690,null,"-",null,null,{"$f":"Calc_WHDHC!J696/3.6/(2*Input!$B$5*PI())*60","v":182.33042802020367},null,null,{"$f":"ROUND(IF(Calc_WHDHC!H696<0,Calc_WHDHC!I696,2*PI()*Calc_WHDHC!G696/60*Calc_WHDHC!H696/1000*IF(Input!$B$4=\"Other\",0.95*0.95,0.98*0.95)),3)","v":66.010999999999996}]
[691,null,{"$f":"Calc_WHDHC!G697","v":992},null,null,{"$f":"ROUND(IF(Calc_WHDHC!H697<0,Calc_WHDHC!I697*IF(Input!$B$4=\"Other\",0.95*0.95,0.98*0.95),2*PI()*Calc_WHDHC!G697/60*Calc_WHDHC!H697/1000),3)","v":141.79900000000001},null,null,691,null,"-",null,null,{"$f":"Calc_WHDHC!J697/3.6/(2*Input!$B$5*PI())*60","v":183.3549118222914},null,null,{"$f":"ROUND(IF(Calc_WHDHC!H697<0,Calc_WHDHC!I697,2*PI()*Calc_WHDHC!G697/60*Calc_WHDHC!H697/1000*IF(Input!$B$4=\"Other\",0.95*0.95,0.98*0.95)),3)","v":132.01499999999999}]
[692,null,{"$f":"Calc_WHDHC!G698","v":991},null,null,{"$f":"ROUND(IF(Calc_WHDHC!H698<0,Calc_WHDHC!I698*IF(Input!$B$4=\"Other\",0.95*0.95,0.98*0.95),2*PI()*Calc_WHDHC!G698/60*Calc_WHDHC!H698/1000),3)","v":138.23099999999999},null,null,692,null,"-",null,null,{"$f":"Calc_WHDHC!J698/3.6/(2*Input!$B$5*PI())*60","v":183.07802430821366},null,null,{"$f":"ROUND(IF(Calc_WHDHC!H698<0,Calc_WHDHC!I698,2*PI()*Calc_WHDHC!G698/60*Calc_WHDHC!H698/1000*IF(Input!$B$4=\"Other\",0.95*0.95,0.98*0.95)),3)","v":128.69300000000001}]
[693,null,{"$f":"Calc_WHDHC!G699","v":973},null,null,{"$f":"ROUND(IF(Calc_WHDHC!H699<0,Calc_WHDHC!I699*IF(Input!$B$4=\"Other\",0.95*0.95,0.98*0.95),2*PI()*Calc_WHDHC!G699/60*Calc_WHDHC!H699/1000),3)","v":-69.402000000000001},null,null,693,null,"-",null,null,{"$f":"Calc_WHDHC!J699/3.6/(2*Input!$B$5*PI())*60","v":180.00457290195055},null,null,{"$f":"ROUND(IF(Calc_WHDHC!H699<0,Calc_WHDHC!I699,2*PI()*Calc_WHDHC!G699/60*Calc_WHDHC!H699/1000*IF(Input!$B$4=\"Other\",0.95*0.95,0.98*0.95)),3)","v":-74.546000000000006}]
[694,null,{"$f":"Calc_WHDHC!G700","v":931},null,null,{"$f":"ROUND(IF(Calc_WHDHC!H700<0,Calc_WHDHC!I700*IF(Input!$B$4=\"Other\",0.95*0.95,0.98*0.95),2*PI()*Calc_WHDHC!G700/60*Calc_WHDHC!H700/1000),3)","v":-123.34099999999999},null,null,694,null,"-",null,null,{"$f":"Calc_WHDHC!J700/3.6/(2*Input!$B$5*PI())*60","v":172.27941125918107},null,null,{"$f":"ROUND(IF(Calc_WHDHC!H700<0,Calc_WHDHC!I700,2*PI()*Calc_WHDHC!G700/60*Calc_WHDHC!H700/1000*IF(Input!$B$4=\"Other\",0.95*0.95,0.98*0.95)),3)","v":-132.482}]
[695,null,{"$f":"Calc_WHDHC!G701","v":1128},null,null,{"$f":"ROUND(IF(Calc_WHDHC!H701<0,Calc_WHDHC!I701*IF(Input!$B$4=\"Other\",0.95*0.95,0.98*0.95),2*PI()*Calc_WHDHC!G701/60*Calc_WHDHC!H701/1000),3)","v":0},null,null,695,null,"-",null,null,{"$f":"Calc_WHDHC!J701/3.6/(2*Input!$B$5*PI())*60","v":159.04418808626423},null,null,{"$f":"ROUND(IF(Calc_WHDHC!H701<0,Calc_WHDHC!I701,2*PI()*Calc_WHDHC!G701/60*Calc_WHDHC!H701/1000*IF(Input!$B$4=\"Other\",0.95*0.95,0.98*0.95)),3)","v":0}]
[696,null,{"$f":"Calc_WHDHC!G702","v":1326},null,null,{"$f":"ROUND(IF(Calc_WHDHC!H702<0,Calc_WHDHC!I702*IF(Input!$B$4=\"Other\",0.95*0.95,0.98*0.95),2*PI()*Calc_WHDHC!G702/60*Calc_WHDHC!H702/1000),3)","v":-117.69},null,null,696,null,"-",null,null,{"$f":"Calc_WHDHC!J702/3.6/(2*Input!$B$5*PI())*60","v":142.51400349582207},null,null,{"$f":"ROUND(IF(Calc_WHDHC!H702<0,Calc_WHDHC!I702,2*PI()*Calc_WHDHC!G702/60*Calc_WHDHC!H702/1000*IF(Input!$B$4=\"Other\",0.95*0.95,0.98*0.95)),3)","v":-126.41200000000001}]
[697,null,{"$f":"Calc_WHDHC!G703","v":1338},null,null,{"$f":"ROUND(IF(Calc_WHDHC!H703<0,Calc_WHDHC!I703*IF(Input!$B$4=\"Other\",0.95*0.95,0.98*0.95),2*PI()*Calc_WHDHC!G703/60*Calc_WHDHC!H703/1000),3)","v":-79.998999999999995},null,null,697,null,"-",null,null,{"$f":"Calc_WHDHC!J703/3.6/(2*Input!$B$5*PI())*60","v":127.31287897295316},null,null,{"$f":"ROUND(IF(Calc_WHDHC!H703<0,Calc_WHDHC!I703,2*PI()*Calc_WHDHC!G703/60*Calc_WHDHC!H703/1000*IF(Input!$B$4=\"Other\",0.95*0.95,0.98*0.95)),3)","v":-85.927999999999997}]
[698,null,{"$f":"Calc_WHDHC!G704","v":1212},null,null,{"$f":"ROUND(IF(Calc_WHDHC!H704<0,Calc_WHDHC!I704*IF(Input!$B$4=\"Other\",0.95*0.95,0.98*0.95),2*PI()*Calc_WHDHC!G704/60*Calc_WHDHC!H704/1000),3)","v":-58.31},null,null,698,null,"-",null,null,{"$f":"Calc_WHDHC!J704/3.6/(2*Input!$B$5*PI())*60","v":115.51747087324067},null,null,{"$f":"ROUND(IF(Calc_WHDHC!H704<0,Calc_WHDHC!I704,2*PI()*Calc_WHDHC!G704/60*Calc_WHDHC!H704/1000*IF(Input!$B$4=\"Other\",0.95*0.95,0.98*0.95)),3)","v":-62.631999999999998}]
[699,null,{"$f":"Calc_WHDHC!G705","v":1108},null,null,{"$f":"ROUND(IF(Calc_WHDHC!H705<0,Calc_WHDHC!I705*IF(Input!$B$4=\"Other\",0.95*0.95,0.98*0.95),2*PI()*Calc_WHDHC!G705/60*Calc_WHDHC!H705/1000),3)","v":-54.125999999999998},null,null,699,null,"-",null,null,{"$f":"Calc_WHDHC!J705/3.6/(2*Input!$B$5*PI())*60","v":105.82640788051914},null,null,{"$f":"ROUND(IF(Calc_WHDHC!H705<0,Calc_WHDHC!I705,2*PI()*Calc_WHDHC!G705/60*Calc_WHDHC!H705/1000*IF(Input!$B$4=\"Other\",0.95*0.95,0.98*0.95)),3)","v":-58.137}]
[700,null,{"$f":"Calc_WHDHC!G706","v":1199},null,null,{"$f":"ROUND(IF(Calc_WHDHC!H706<0,Calc_WHDHC!I706*IF(Input!$B$4=\"Other\",0.95*0.95,0.98*0.95),2*PI()*Calc_WHDHC!G706/60*Calc_WHDHC!H706/1000),3)","v":0},null,null,700,null,"-",null,null,{"$f":"Calc_WHDHC!J706/3.6/(2*Input!$B$5*PI())*60","v":95.941523627943184},null,null,{"$f":"ROUND(IF(Calc_WHDHC!H706<0,Calc_WHDHC!I706,2*PI()*Calc_WHDHC!G706/60*Calc_WHDHC!H706/1000*IF(Input!$B$4=\"Other\",0.95*0.95,0.98*0.95)),3)","v":0}]
[701,null,{"$f":"Calc_WHDHC!G707","v":1290},null,null,{"$f":"ROUND(IF(Calc_WHDHC!H707<0,Calc_WHDHC!I707*IF(Input!$B$4=\"Other\",0.95*0.95,0.98*0.95),2*PI()*Calc_WHDHC!G707/60*Calc_WHDHC!H707/1000),3)","v":-50.671999999999997},null,null,701,null,"-",null,null,{"$f":"Calc_WHDHC!J707/3.6/(2*Input!$B$5*PI())*60","v":84.866023064832845},null,null,{"$f":"ROUND(IF(Calc_WHDHC!H707<0,Calc_WHDHC!I707,2*PI()*Calc_WHDHC!G707/60*Calc_WHDHC!H707/1000*IF(Input!$B$4=\"Other\",0.95*0.95,0.98*0.95)),3)","v":-54.427}]
[702,null,{"$f":"Calc_WHDHC!G708","v":1112},null,null,{"$f":"ROUND(IF(Calc_WHDHC!H708<0,Calc_WHDHC!I708*IF(Input!$B$4=\"Other\",0.95*0.95,0.98*0.95),2*PI()*Calc_WHDHC!G708/60*Calc_WHDHC!H708/1000),3)","v":-42.429000000000002},null,null,702,null,"-",null,null,{"$f":"Calc_WHDHC!J708/3.6/(2*Input!$B$5*PI())*60","v":73.264436224974787},null,null,{"$f":"ROUND(IF(Calc_WHDHC!H708<0,Calc_WHDHC!I708,2*PI()*Calc_WHDHC!G708/60*Calc_WHDHC!H708/1000*IF(Input!$B$4=\"Other\",0.95*0.95,0.98*0.95)),3)","v":-45.573999999999998}]
[703,null,{"$f":"Calc_WHDHC!G709","v":977},null,null,{"$f":"ROUND(IF(Calc_WHDHC!H709<0,Calc_WHDHC!I709*IF(Input!$B$4=\"Other\",0.95*0.95,0.98*0.95),2*PI()*Calc_WHDHC!G709/60*Calc_WHDHC!H709/1000),3)","v":-34.94},null,null,703,null,"-",null,null,{"$f":"Calc_WHDHC!J709/3.6/(2*Input!$B$5*PI())*60","v":61.801293142155615},null,null,{"$f":"ROUND(IF(Calc_WHDHC!H709<0,Calc_WHDHC!I709,2*PI()*Calc_WHDHC!G709/60*Calc_WHDHC!H709/1000*IF(Input!$B$4=\"Other\",0.95*0.95,0.98*0.95)),3)","v":-37.53}]
[704,null,{"$f":"Calc_WHDHC!G710","v":885},null,null,{"$f":"ROUND(IF(Calc_WHDHC!H710<0,Calc_WHDHC!I710*IF(Input!$B$4=\"Other\",0.95*0.95,0.98*0.95),2*PI()*Calc_WHDHC!G710/60*Calc_WHDHC!H710/1000),3)","v":-28.407},null,null,704,null,"-",null,null,{"$f":"Calc_WHDHC!J710/3.6/(2*Input!$B$5*PI())*60","v":50.255083805113088},null,null,{"$f":"ROUND(IF(Calc_WHDHC!H710<0,Calc_WHDHC!I710,2*PI()*Calc_WHDHC!G710/60*Calc_WHDHC!H710/1000*IF(Input!$B$4=\"Other\",0.95*0.95,0.98*0.95)),3)","v":-30.512}]
[705,null,{"$f":"Calc_WHDHC!G711","v":761},null,null,{"$f":"ROUND(IF(Calc_WHDHC!H711<0,Calc_WHDHC!I711*IF(Input!$B$4=\"Other\",0.95*0.95,0.98*0.95),2*PI()*Calc_WHDHC!G711/60*Calc_WHDHC!H711/1000),3)","v":-20.704000000000001},null,null,705,null,"-",null,null,{"$f":"Calc_WHDHC!J711/3.6/(2*Input!$B$5*PI())*60","v":38.182788191322842},null,null,{"$f":"ROUND(IF(Calc_WHDHC!H711<0,Calc_WHDHC!I711,2*PI()*Calc_WHDHC!G711/60*Calc_WHDHC!H711/1000*IF(Input!$B$4=\"Other\",0.95*0.95,0.98*0.95)),3)","v":-22.238}]
[706,null,{"$f":"Calc_WHDHC!G712","v":652},null,null,{"$f":"ROUND(IF(Calc_WHDHC!H712<0,Calc_WHDHC!I712*IF(Input!$B$4=\"Other\",0.95*0.95,0.98*0.95),2*PI()*Calc_WHDHC!G712/60*Calc_WHDHC!H712/1000),3)","v":-10.882999999999999},null,null,706,null,"-",null,null,{"$f":"Calc_WHDHC!J712/3.6/(2*Input!$B$5*PI())*60","v":25.722850057823724},null,null,{"$f":"ROUND(IF(Calc_WHDHC!H712<0,Calc_WHDHC!I712,2*PI()*Calc_WHDHC!G712/60*Calc_WHDHC!H712/1000*IF(Input!$B$4=\"Other\",0.95*0.95,0.98*0.95)),3)","v":-11.69}]
[707,null,{"$f":"Calc_WHDHC!G713","v":560},null,null,{"$f":"ROUND(IF(Calc_WHDHC!H713<0,Calc_WHDHC!I713*IF(Input!$B$4=\"Other\",0.95*0.95,0.98*0.95),2*PI()*Calc_WHDHC!G713/60*Calc_WHDHC!H713/1000),3)","v":0},null,null,707,null,"-",null,null,{"$f":"Calc_WHDHC!J713/3.6/(2*Input!$B$5*PI())*60","v":13.788998201072355},null,null,{"$f":"ROUND(IF(Calc_WHDHC!H713<0,Calc_WHDHC!I713,2*PI()*Calc_WHDHC!G713/60*Calc_WHDHC!H713/1000*IF(Input!$B$4=\"Other\",0.95*0.95,0.98*0.95)),3)","v":0}]
[708,null,{"$f":"Calc_WHDHC!G714","v":560},null,null,{"$f":"ROUND(IF(Calc_WHDHC!H714<0,Calc_WHDHC!I714*IF(Input!$B$4=\"Other\",0.95*0.95,0.98*0.95),2*PI()*Calc_WHDHC!G714/60*Calc_WHDHC!H714/1000),3)","v":0},null,null,708,null,"-",null,null,{"$f":"Calc_WHDHC!J714/3.6/(2*Input!$B$5*PI())*60","v":4.7347764907296632},null,null,{"$f":"ROUND(IF(Calc_WHDHC!H714<0,Calc_WHDHC!I714,2*PI()*Calc_WHDHC!G714/60*Calc_WHDHC!H714/1000*IF(Input!$B$4=\"Other\",0.95*0.95,0.98*0.95)),3)","v":0}]
[709,null,{"$f":"Calc_WHDHC!G715","v":560},null,null,{"$f":"ROUND(IF(Calc_WHDHC!H715<0,Calc_WHDHC!I715*IF(Input!$B$4=\"Other\",0.95*0.95,0.98*0.95),2*PI()*Calc_WHDHC!G715/60*Calc_WHDHC!H715/1000),3)","v":0},null,null,709,null,"-",null,null,{"$f":"Calc_WHDHC!J715/3.6/(2*Input!$B$5*PI())*60","v":0},null,null,{"$f":"ROUND(IF(Calc_WHDHC!H715<0,Calc_WHDHC!I715,2*PI()*Calc_WHDHC!G715/60*Calc_WHDHC!H715/1000*IF(Input!$B$4=\"Other\",0.95*0.95,0.98*0.95)),3)","v":0}]
[710,null,{"$f":"Calc_WHDHC!G716","v":560},null,null,{"$f":"ROUND(IF(Calc_WHDHC!H716<0,Calc_WHDHC!I716*IF(Input!$B$4=\"Other\",0.95*0.95,0.98*0.95),2*PI()*Calc_WHDHC!G716/60*Calc_WHDHC!H716/1000),3)","v":0},null,null,710,null,"-",null,null,{"$f":"Calc_WHDHC!J716/3.6/(2*Input!$B$5*PI())*60","v":0},null,null,{"$f":"ROUND(IF(Calc_WHDHC!H716<0,Calc_WHDHC!I716,2*PI()*Calc_WHDHC!G716/60*Calc_WHDHC!H716/1000*IF(Input!$B$4=\"Other\",0.95*0.95,0.98*0.95)),3)","v":0}]
[711,null,{"$f":"Calc_WHDHC!G717","v":560},null,null,{"$f":"ROUND(IF(Calc_WHDHC!H717<0,Calc_WHDHC!I717*IF(Input!$B$4=\"Other\",0.95*0.95,0.98*0.95),2*PI()*Calc_WHDHC!G717/60*Calc_WHDHC!H717/1000),3)","v":0},null,null,711,null,"-",null,null,{"$f":"Calc_WHDHC!J717/3.6/(2*Input!$B$5*PI())*60","v":0},null,null,{"$f":"ROUND(IF(Calc_WHDHC!H717<0,Calc_WHDHC!I717,2*PI()*Calc_WHDHC!G717/60*Calc_WHDHC!H717/1000*IF(Input!$B$4=\"Other\",0.95*0.95,0.98*0.95)),3)","v":0}]
[712,null,{"$f":"Calc_WHDHC!G718","v":560},null,null,{"$f":"ROUND(IF(Calc_WHDHC!H718<0,Calc_WHDHC!I718*IF(Input!$B$4=\"Other\",0.95*0.95,0.98*0.95),2*PI()*Calc_WHDHC!G718/60*Calc_WHDHC!H718/1000),3)","v":0},null,null,712,null,"-",null,null,{"$f":"Calc_WHDHC!J718/3.6/(2*Input!$B$5*PI())*60","v":0},null,null,{"$f":"ROUND(IF(Calc_WHDHC!H718<0,Calc_WHDHC!I718,2*PI()*Calc_WHDHC!G718/60*Calc_WHDHC!H718/1000*IF(Input!$B$4=\"Other\",0.95*0.95,0.98*0.95)),3)","v":0}]
[713,null,{"$f":"Calc_WHDHC!G719","v":560},null,null,{"$f":"ROUND(IF(Calc_WHDHC!H719<0,Calc_WHDHC!I719*IF(Input!$B$4=\"Other\",0.95*0.95,0.98*0.95),2*PI()*Calc_WHDHC!G719/60*Calc_WHDHC!H719/1000),3)","v":0},null,null,713,null,"-",null,null,{"$f":"Calc_WHDHC!J719/3.6/(2*Input!$B$5*PI())*60","v":0},null,null,{"$f":"ROUND(IF(Calc_WHDHC!H719<0,Calc_WHDHC!I719,2*PI()*Calc_WHDHC!G719/60*Calc_WHDHC!H719/1000*IF(Input!$B$4=\"Other\",0.95*0.95,0.98*0.95)),3)","v":0}]
[714,null,{"$f":"Calc_WHDHC!G720","v":560},null,null,{"$f":"ROUND(IF(Calc_WHDHC!H720<0,Calc_WHDHC!I720*IF(Input!$B$4=\"Other\",0.95*0.95,0.98*0.95),2*PI()*Calc_WHDHC!G720/60*Calc_WHDHC!H720/1000),3)","v":0},null,null,714,null,"-",null,null,{"$f":"Calc_WHDHC!J720/3.6/(2*Input!$B$5*PI())*60","v":0},null,null,{"$f":"ROUND(IF(Calc_WHDHC!H720<0,Calc_WHDHC!I720,2*PI()*Calc_WHDHC!G720/60*Calc_WHDHC!H720/1000*IF(Input!$B$4=\"Other\",0.95*0.95,0.98*0.95)),3)","v":0}]
[715,null,{"$f":"Calc_WHDHC!G721","v":560},null,null,{"$f":"ROUND(IF(Calc_WHDHC!H721<0,Calc_WHDHC!I721*IF(Input!$B$4=\"Other\",0.95*0.95,0.98*0.95),2*PI()*Calc_WHDHC!G721/60*Calc_WHDHC!H721/1000),3)","v":0},null,null,715,null,"-",null,null,{"$f":"Calc_WHDHC!J721/3.6/(2*Input!$B$5*PI())*60","v":0},null,null,{"$f":"ROUND(IF(Calc_WHDHC!H721<0,Calc_WHDHC!I721,2*PI()*Calc_WHDHC!G721/60*Calc_WHDHC!H721/1000*IF(Input!$B$4=\"Other\",0.95*0.95,0.98*0.95)),3)","v":0}]
[716,null,{"$f":"Calc_WHDHC!G722","v":560},null,null,{"$f":"ROUND(IF(Calc_WHDHC!H722<0,Calc_WHDHC!I722*IF(Input!$B$4=\"Other\",0.95*0.95,0.98*0.95),2*PI()*Calc_WHDHC!G722/60*Calc_WHDHC!H722/1000),3)","v":0},null,null,716,null,"-",null,null,{"$f":"Calc_WHDHC!J722/3.6/(2*Input!$B$5*PI())*60","v":0},null,null,{"$f":"ROUND(IF(Calc_WHDHC!H722<0,Calc_WHDHC!I722,2*PI()*Calc_WHDHC!G722/60*Calc_WHDHC!H722/1000*IF(Input!$B$4=\"Other\",0.95*0.95,0.98*0.95)),3)","v":0}]
[717,null,{"$f":"Calc_WHDHC!G723","v":560},null,null,{"$f":"ROUND(IF(Calc_WHDHC!H723<0,Calc_WHDHC!I723*IF(Input!$B$4=\"Other\",0.95*0.95,0.98*0.95),2*PI()*Calc_WHDHC!G723/60*Calc_WHDHC!H723/1000),3)","v":0},null,null,717,null,"-",null,null,{"$f":"Calc_WHDHC!J723/3.6/(2*Input!$B$5*PI())*60","v":0},null,null,{"$f":"ROUND(IF(Calc_WHDHC!H723<0,Calc_WHDHC!I723,2*PI()*Calc_WHDHC!G723/60*Calc_WHDHC!H723/1000*IF(Input!$B$4=\"Other\",0.95*0.95,0.98*0.95)),3)","v":0}]
[718,null,{"$f":"Calc_WHDHC!G724","v":560},null,null,{"$f":"ROUND(IF(Calc_WHDHC!H724<0,Calc_WHDHC!I724*IF(Input!$B$4=\"Other\",0.95*0.95,0.98*0.95),2*PI()*Calc_WHDHC!G724/60*Calc_WHDHC!H724/1000),3)","v":0},null,null,718,null,"-",null,null,{"$f":"Calc_WHDHC!J724/3.6/(2*Input!$B$5*PI())*60","v":0},null,null,{"$f":"ROUND(IF(Calc_WHDHC!H724<0,Calc_WHDHC!I724,2*PI()*Calc_WHDHC!G724/60*Calc_WHDHC!H724/1000*IF(Input!$B$4=\"Other\",0.95*0.95,0.98*0.95)),3)","v":0}]
[719,null,{"$f":"Calc_WHDHC!G725","v":560},null,null,{"$f":"ROUND(IF(Calc_WHDHC!H725<0,Calc_WHDHC!I725*IF(Input!$B$4=\"Other\",0.95*0.95,0.98*0.95),2*PI()*Calc_WHDHC!G725/60*Calc_WHDHC!H725/1000),3)","v":0},null,null,719,null,"-",null,null,{"$f":"Calc_WHDHC!J725/3.6/(2*Input!$B$5*PI())*60","v":0},null,null,{"$f":"ROUND(IF(Calc_WHDHC!H725<0,Calc_WHDHC!I725,2*PI()*Calc_WHDHC!G725/60*Calc_WHDHC!H725/1000*IF(Input!$B$4=\"Other\",0.95*0.95,0.98*0.95)),3)","v":0}]
[720,null,{"$f":"Calc_WHDHC!G726","v":560},null,null,{"$f":"ROUND(IF(Calc_WHDHC!H726<0,Calc_WHDHC!I726*IF(Input!$B$4=\"Other\",0.95*0.95,0.98*0.95),2*PI()*Calc_WHDHC!G726/60*Calc_WHDHC!H726/1000),3)","v":0},null,null,720,null,"-",null,null,{"$f":"Calc_WHDHC!J726/3.6/(2*Input!$B$5*PI())*60","v":0},null,null,{"$f":"ROUND(IF(Calc_WHDHC!H726<0,Calc_WHDHC!I726,2*PI()*Calc_WHDHC!G726/60*Calc_WHDHC!H726/1000*IF(Input!$B$4=\"Other\",0.95*0.95,0.98*0.95)),3)","v":0}]
[721,null,{"$f":"Calc_WHDHC!G727","v":560},null,null,{"$f":"ROUND(IF(Calc_WHDHC!H727<0,Calc_WHDHC!I727*IF(Input!$B$4=\"Other\",0.95*0.95,0.98*0.95),2*PI()*Calc_WHDHC!G727/60*Calc_WHDHC!H727/1000),3)","v":0},null,null,721,null,"-",null,null,{"$f":"Calc_WHDHC!J727/3.6/(2*Input!$B$5*PI())*60","v":0},null,null,{"$f":"ROUND(IF(Calc_WHDHC!H727<0,Calc_WHDHC!I727,2*PI()*Calc_WHDHC!G727/60*Calc_WHDHC!H727/1000*IF(Input!$B$4=\"Other\",0.95*0.95,0.98*0.95)),3)","v":0}]
[722,null,{"$f":"Calc_WHDHC!G728","v":560},null,null,{"$f":"ROUND(IF(Calc_WHDHC!H728<0,Calc_WHDHC!I728*IF(Input!$B$4=\"Other\",0.95*0.95,0.98*0.95),2*PI()*Calc_WHDHC!G728/60*Calc_WHDHC!H728/1000),3)","v":0},null,null,722,null,"-",null,null,{"$f":"Calc_WHDHC!J728/3.6/(2*Input!$B$5*PI())*60","v":0},null,null,{"$f":"ROUND(IF(Calc_WHDHC!H728<0,Calc_WHDHC!I728,2*PI()*Calc_WHDHC!G728/60*Calc_WHDHC!H728/1000*IF(Input!$B$4=\"Other\",0.95*0.95,0.98*0.95)),3)","v":0}]
[723,null,{"$f":"Calc_WHDHC!G729","v":560},null,null,{"$f":"ROUND(IF(Calc_WHDHC!H729<0,Calc_WHDHC!I729*IF(Input!$B$4=\"Other\",0.95*0.95,0.98*0.95),2*PI()*Calc_WHDHC!G729/60*Calc_WHDHC!H729/1000),3)","v":0},null,null,723,null,"-",null,null,{"$f":"Calc_WHDHC!J729/3.6/(2*Input!$B$5*PI())*60","v":0},null,null,{"$f":"ROUND(IF(Calc_WHDHC!H729<0,Calc_WHDHC!I729,2*PI()*Calc_WHDHC!G729/60*Calc_WHDHC!H729/1000*IF(Input!$B$4=\"Other\",0.95*0.95,0.98*0.95)),3)","v":0}]
[724,null,{"$f":"Calc_WHDHC!G730","v":560},null,null,{"$f":"ROUND(IF(Calc_WHDHC!H730<0,Calc_WHDHC!I730*IF(Input!$B$4=\"Other\",0.95*0.95,0.98*0.95),2*PI()*Calc_WHDHC!G730/60*Calc_WHDHC!H730/1000),3)","v":0},null,null,724,null,"-",null,null,{"$f":"Calc_WHDHC!J730/3.6/(2*Input!$B$5*PI())*60","v":0},null,null,{"$f":"ROUND(IF(Calc_WHDHC!H730<0,Calc_WHDHC!I730,2*PI()*Calc_WHDHC!G730/60*Calc_WHDHC!H730/1000*IF(Input!$B$4=\"Other\",0.95*0.95,0.98*0.95)),3)","v":0}]
[725,null,{"$f":"Calc_WHDHC!G731","v":560},null,null,{"$f":"ROUND(IF(Calc_WHDHC!H731<0,Calc_WHDHC!I731*IF(Input!$B$4=\"Other\",0.95*0.95,0.98*0.95),2*PI()*Calc_WHDHC!G731/60*Calc_WHDHC!H731/1000),3)","v":0},null,null,725,null,"-",null,null,{"$f":"Calc_WHDHC!J731/3.6/(2*Input!$B$5*PI())*60","v":0},null,null,{"$f":"ROUND(IF(Calc_WHDHC!H731<0,Calc_WHDHC!I731,2*PI()*Calc_WHDHC!G731/60*Calc_WHDHC!H731/1000*IF(Input!$B$4=\"Other\",0.95*0.95,0.98*0.95)),3)","v":0}]
[726,null,{"$f":"Calc_WHDHC!G732","v":560},null,null,{"$f":"ROUND(IF(Calc_WHDHC!H732<0,Calc_WHDHC!I732*IF(Input!$B$4=\"Other\",0.95*0.95,0.98*0.95),2*PI()*Calc_WHDHC!G732/60*Calc_WHDHC!H732/1000),3)","v":0},null,null,726,null,"-",null,null,{"$f":"Calc_WHDHC!J732/3.6/(2*Input!$B$5*PI())*60","v":0},null,null,{"$f":"ROUND(IF(Calc_WHDHC!H732<0,Calc_WHDHC!I732,2*PI()*Calc_WHDHC!G732/60*Calc_WHDHC!H732/1000*IF(Input!$B$4=\"Other\",0.95*0.95,0.98*0.95)),3)","v":0}]
[727,null,{"$f":"Calc_WHDHC!G733","v":560},null,null,{"$f":"ROUND(IF(Calc_WHDHC!H733<0,Calc_WHDHC!I733*IF(Input!$B$4=\"Other\",0.95*0.95,0.98*0.95),2*PI()*Calc_WHDHC!G733/60*Calc_WHDHC!H733/1000),3)","v":0},null,null,727,null,"-",null,null,{"$f":"Calc_WHDHC!J733/3.6/(2*Input!$B$5*PI())*60","v":0},null,null,{"$f":"ROUND(IF(Calc_WHDHC!H733<0,Calc_WHDHC!I733,2*PI()*Calc_WHDHC!G733/60*Calc_WHDHC!H733/1000*IF(Input!$B$4=\"Other\",0.95*0.95,0.98*0.95)),3)","v":0}]
[728,null,{"$f":"Calc_WHDHC!G734","v":560},null,null,{"$f":"ROUND(IF(Calc_WHDHC!H734<0,Calc_WHDHC!I734*IF(Input!$B$4=\"Other\",0.95*0.95,0.98*0.95),2*PI()*Calc_WHDHC!G734/60*Calc_WHDHC!H734/1000),3)","v":0},null,null,728,null,"-",null,null,{"$f":"Calc_WHDHC!J734/3.6/(2*Input!$B$5*PI())*60","v":0},null,null,{"$f":"ROUND(IF(Calc_WHDHC!H734<0,Calc_WHDHC!I734,2*PI()*Calc_WHDHC!G734/60*Calc_WHDHC!H734/1000*IF(Input!$B$4=\"Other\",0.95*0.95,0.98*0.95)),3)","v":0}]
[729,null,{"$f":"Calc_WHDHC!G735","v":560},null,null,{"$f":"ROUND(IF(Calc_WHDHC!H735<0,Calc_WHDHC!I735*IF(Input!$B$4=\"Other\",0.95*0.95,0.98*0.95),2*PI()*Calc_WHDHC!G735/60*Calc_WHDHC!H735/1000),3)","v":0},null,null,729,null,"-",null,null,{"$f":"Calc_WHDHC!J735/3.6/(2*Input!$B$5*PI())*60","v":0},null,null,{"$f":"ROUND(IF(Calc_WHDHC!H735<0,Calc_WHDHC!I735,2*PI()*Calc_WHDHC!G735/60*Calc_WHDHC!H735/1000*IF(Input!$B$4=\"Other\",0.95*0.95,0.98*0.95)),3)","v":0}]
[730,null,{"$f":"Calc_WHDHC!G736","v":560},null,null,{"$f":"ROUND(IF(Calc_WHDHC!H736<0,Calc_WHDHC!I736*IF(Input!$B$4=\"Other\",0.95*0.95,0.98*0.95),2*PI()*Calc_WHDHC!G736/60*Calc_WHDHC!H736/1000),3)","v":0},null,null,730,null,"-",null,null,{"$f":"Calc_WHDHC!J736/3.6/(2*Input!$B$5*PI())*60","v":0},null,null,{"$f":"ROUND(IF(Calc_WHDHC!H736<0,Calc_WHDHC!I736,2*PI()*Calc_WHDHC!G736/60*Calc_WHDHC!H736/1000*IF(Input!$B$4=\"Other\",0.95*0.95,0.98*0.95)),3)","v":0}]
[731,null,{"$f":"Calc_WHDHC!G737","v":560},null,null,{"$f":"ROUND(IF(Calc_WHDHC!H737<0,Calc_WHDHC!I737*IF(Input!$B$4=\"Other\",0.95*0.95,0.98*0.95),2*PI()*Calc_WHDHC!G737/60*Calc_WHDHC!H737/1000),3)","v":0},null,null,731,null,"-",null,null,{"$f":"Calc_WHDHC!J737/3.6/(2*Input!$B$5*PI())*60","v":0},null,null,{"$f":"ROUND(IF(Calc_WHDHC!H737<0,Calc_WHDHC!I737,2*PI()*Calc_WHDHC!G737/60*Calc_WHDHC!H737/1000*IF(Input!$B$4=\"Other\",0.95*0.95,0.98*0.95)),3)","v":0}]
[732,null,{"$f":"Calc_WHDHC!G738","v":560},null,null,{"$f":"ROUND(IF(Calc_WHDHC!H738<0,Calc_WHDHC!I738*IF(Input!$B$4=\"Other\",0.95*0.95,0.98*0.95),2*PI()*Calc_WHDHC!G738/60*Calc_WHDHC!H738/1000),3)","v":0},null,null,732,null,"-",null,null,{"$f":"Calc_WHDHC!J738/3.6/(2*Input!$B$5*PI())*60","v":0},null,null,{"$f":"ROUND(IF(Calc_WHDHC!H738<0,Calc_WHDHC!I738,2*PI()*Calc_WHDHC!G738/60*Calc_WHDHC!H738/1000*IF(Input!$B$4=\"Other\",0.95*0.95,0.98*0.95)),3)","v":0}]
[733,null,{"$f":"Calc_WHDHC!G739","v":560},null,null,{"$f":"ROUND(IF(Calc_WHDHC!H739<0,Calc_WHDHC!I739*IF(Input!$B$4=\"Other\",0.95*0.95,0.98*0.95),2*PI()*Calc_WHDHC!G739/60*Calc_WHDHC!H739/1000),3)","v":0},null,null,733,null,"-",null,null,{"$f":"Calc_WHDHC!J739/3.6/(2*Input!$B$5*PI())*60","v":0},null,null,{"$f":"ROUND(IF(Calc_WHDHC!H739<0,Calc_WHDHC!I739,2*PI()*Calc_WHDHC!G739/60*Calc_WHDHC!H739/1000*IF(Input!$B$4=\"Other\",0.95*0.95,0.98*0.95)),3)","v":0}]
[734,null,{"$f":"Calc_WHDHC!G740","v":560},null,null,{"$f":"ROUND(IF(Calc_WHDHC!H740<0,Calc_WHDHC!I740*IF(Input!$B$4=\"Other\",0.95*0.95,0.98*0.95),2*PI()*Calc_WHDHC!G740/60*Calc_WHDHC!H740/1000),3)","v":0},null,null,734,null,"-",null,null,{"$f":"Calc_WHDHC!J740/3.6/(2*Input!$B$5*PI())*60","v":0},null,null,{"$f":"ROUND(IF(Calc_WHDHC!H740<0,Calc_WHDHC!I740,2*PI()*Calc_WHDHC!G740/60*Calc_WHDHC!H740/1000*IF(Input!$B$4=\"Other\",0.95*0.95,0.98*0.95)),3)","v":0}]
[735,null,{"$f":"Calc_WHDHC!G741","v":560},null,null,{"$f":"ROUND(IF(Calc_WHDHC!H741<0,Calc_WHDHC!I741*IF(Input!$B$4=\"Other\",0.95*0.95,0.98*0.95),2*PI()*Calc_WHDHC!G741/60*Calc_WHDHC!H741/1000),3)","v":0},null,null,735,null,"-",null,null,{"$f":"Calc_WHDHC!J741/3.6/(2*Input!$B$5*PI())*60","v":0},null,null,{"$f":"ROUND(IF(Calc_WHDHC!H741<0,Calc_WHDHC!I741,2*PI()*Calc_WHDHC!G741/60*Calc_WHDHC!H741/1000*IF(Input!$B$4=\"Other\",0.95*0.95,0.98*0.95)),3)","v":0}]
[736,null,{"$f":"Calc_WHDHC!G742","v":560},null,null,{"$f":"ROUND(IF(Calc_WHDHC!H742<0,Calc_WHDHC!I742*IF(Input!$B$4=\"Other\",0.95*0.95,0.98*0.95),2*PI()*Calc_WHDHC!G742/60*Calc_WHDHC!H742/1000),3)","v":0},null,null,736,null,"-",null,null,{"$f":"Calc_WHDHC!J742/3.6/(2*Input!$B$5*PI())*60","v":0},null,null,{"$f":"ROUND(IF(Calc_WHDHC!H742<0,Calc_WHDHC!I742,2*PI()*Calc_WHDHC!G742/60*Calc_WHDHC!H742/1000*IF(Input!$B$4=\"Other\",0.95*0.95,0.98*0.95)),3)","v":0}]
[737,null,{"$f":"Calc_WHDHC!G743","v":560},null,null,{"$f":"ROUND(IF(Calc_WHDHC!H743<0,Calc_WHDHC!I743*IF(Input!$B$4=\"Other\",0.95*0.95,0.98*0.95),2*PI()*Calc_WHDHC!G743/60*Calc_WHDHC!H743/1000),3)","v":0},null,null,737,null,"-",null,null,{"$f":"Calc_WHDHC!J743/3.6/(2*Input!$B$5*PI())*60","v":0},null,null,{"$f":"ROUND(IF(Calc_WHDHC!H743<0,Calc_WHDHC!I743,2*PI()*Calc_WHDHC!G743/60*Calc_WHDHC!H743/1000*IF(Input!$B$4=\"Other\",0.95*0.95,0.98*0.95)),3)","v":0}]
[738,null,{"$f":"Calc_WHDHC!G744","v":560},null,null,{"$f":"ROUND(IF(Calc_WHDHC!H744<0,Calc_WHDHC!I744*IF(Input!$B$4=\"Other\",0.95*0.95,0.98*0.95),2*PI()*Calc_WHDHC!G744/60*Calc_WHDHC!H744/1000),3)","v":0},null,null,738,null,"-",null,null,{"$f":"Calc_WHDHC!J744/3.6/(2*Input!$B$5*PI())*60","v":0},null,null,{"$f":"ROUND(IF(Calc_WHDHC!H744<0,Calc_WHDHC!I744,2*PI()*Calc_WHDHC!G744/60*Calc_WHDHC!H744/1000*IF(Input!$B$4=\"Other\",0.95*0.95,0.98*0.95)),3)","v":0}]
[739,null,{"$f":"Calc_WHDHC!G745","v":560},null,null,{"$f":"ROUND(IF(Calc_WHDHC!H745<0,Calc_WHDHC!I745*IF(Input!$B$4=\"Other\",0.95*0.95,0.98*0.95),2*PI()*Calc_WHDHC!G745/60*Calc_WHDHC!H745/1000),3)","v":0},null,null,739,null,"-",null,null,{"$f":"Calc_WHDHC!J745/3.6/(2*Input!$B$5*PI())*60","v":0},null,null,{"$f":"ROUND(IF(Calc_WHDHC!H745<0,Calc_WHDHC!I745,2*PI()*Calc_WHDHC!G745/60*Calc_WHDHC!H745/1000*IF(Input!$B$4=\"Other\",0.95*0.95,0.98*0.95)),3)","v":0}]
[740,null,{"$f":"Calc_WHDHC!G746","v":560},null,null,{"$f":"ROUND(IF(Calc_WHDHC!H746<0,Calc_WHDHC!I746*IF(Input!$B$4=\"Other\",0.95*0.95,0.98*0.95),2*PI()*Calc_WHDHC!G746/60*Calc_WHDHC!H746/1000),3)","v":0},null,null,740,null,"-",null,null,{"$f":"Calc_WHDHC!J746/3.6/(2*Input!$B$5*PI())*60","v":0},null,null,{"$f":"ROUND(IF(Calc_WHDHC!H746<0,Calc_WHDHC!I746,2*PI()*Calc_WHDHC!G746/60*Calc_WHDHC!H746/1000*IF(Input!$B$4=\"Other\",0.95*0.95,0.98*0.95)),3)","v":0}]
[741,null,{"$f":"Calc_WHDHC!G747","v":560},null,null,{"$f":"ROUND(IF(Calc_WHDHC!H747<0,Calc_WHDHC!I747*IF(Input!$B$4=\"Other\",0.95*0.95,0.98*0.95),2*PI()*Calc_WHDHC!G747/60*Calc_WHDHC!H747/1000),3)","v":0},null,null,741,null,"-",null,null,{"$f":"Calc_WHDHC!J747/3.6/(2*Input!$B$5*PI())*60","v":0},null,null,{"$f":"ROUND(IF(Calc_WHDHC!H747<0,Calc_WHDHC!I747,2*PI()*Calc_WHDHC!G747/60*Calc_WHDHC!H747/1000*IF(Input!$B$4=\"Other\",0.95*0.95,0.98*0.95)),3)","v":0}]
[742,null,{"$f":"Calc_WHDHC!G748","v":560},null,null,{"$f":"ROUND(IF(Calc_WHDHC!H748<0,Calc_WHDHC!I748*IF(Input!$B$4=\"Other\",0.95*0.95,0.98*0.95),2*PI()*Calc_WHDHC!G748/60*Calc_WHDHC!H748/1000),3)","v":0},null,null,742,null,"-",null,null,{"$f":"Calc_WHDHC!J748/3.6/(2*Input!$B$5*PI())*60","v":0},null,null,{"$f":"ROUND(IF(Calc_WHDHC!H748<0,Calc_WHDHC!I748,2*PI()*Calc_WHDHC!G748/60*Calc_WHDHC!H748/1000*IF(Input!$B$4=\"Other\",0.95*0.95,0.98*0.95)),3)","v":0}]
[743,null,{"$f":"Calc_WHDHC!G749","v":560},null,null,{"$f":"ROUND(IF(Calc_WHDHC!H749<0,Calc_WHDHC!I749*IF(Input!$B$4=\"Other\",0.95*0.95,0.98*0.95),2*PI()*Calc_WHDHC!G749/60*Calc_WHDHC!H749/1000),3)","v":0},null,null,743,null,"-",null,null,{"$f":"Calc_WHDHC!J749/3.6/(2*Input!$B$5*PI())*60","v":0},null,null,{"$f":"ROUND(IF(Calc_WHDHC!H749<0,Calc_WHDHC!I749,2*PI()*Calc_WHDHC!G749/60*Calc_WHDHC!H749/1000*IF(Input!$B$4=\"Other\",0.95*0.95,0.98*0.95)),3)","v":0}]
[744,null,{"$f":"Calc_WHDHC!G750","v":560},null,null,{"$f":"ROUND(IF(Calc_WHDHC!H750<0,Calc_WHDHC!I750*IF(Input!$B$4=\"Other\",0.95*0.95,0.98*0.95),2*PI()*Calc_WHDHC!G750/60*Calc_WHDHC!H750/1000),3)","v":0},null,null,744,null,"-",null,null,{"$f":"Calc_WHDHC!J750/3.6/(2*Input!$B$5*PI())*60","v":0},null,null,{"$f":"ROUND(IF(Calc_WHDHC!H750<0,Calc_WHDHC!I750,2*PI()*Calc_WHDHC!G750/60*Calc_WHDHC!H750/1000*IF(Input!$B$4=\"Other\",0.95*0.95,0.98*0.95)),3)","v":0}]
[745,null,{"$f":"Calc_WHDHC!G751","v":560},null,null,{"$f":"ROUND(IF(Calc_WHDHC!H751<0,Calc_WHDHC!I751*IF(Input!$B$4=\"Other\",0.95*0.95,0.98*0.95),2*PI()*Calc_WHDHC!G751/60*Calc_WHDHC!H751/1000),3)","v":0},null,null,745,null,"-",null,null,{"$f":"Calc_WHDHC!J751/3.6/(2*Input!$B$5*PI())*60","v":0},null,null,{"$f":"ROUND(IF(Calc_WHDHC!H751<0,Calc_WHDHC!I751,2*PI()*Calc_WHDHC!G751/60*Calc_WHDHC!H751/1000*IF(Input!$B$4=\"Other\",0.95*0.95,0.98*0.95)),3)","v":0}]
[746,null,{"$f":"Calc_WHDHC!G752","v":560},null,null,{"$f":"ROUND(IF(Calc_WHDHC!H752<0,Calc_WHDHC!I752*IF(Input!$B$4=\"Other\",0.95*0.95,0.98*0.95),2*PI()*Calc_WHDHC!G752/60*Calc_WHDHC!H752/1000),3)","v":0},null,null,746,null,"-",null,null,{"$f":"Calc_WHDHC!J752/3.6/(2*Input!$B$5*PI())*60","v":0},null,null,{"$f":"ROUND(IF(Calc_WHDHC!H752<0,Calc_WHDHC!I752,2*PI()*Calc_WHDHC!G752/60*Calc_WHDHC!H752/1000*IF(Input!$B$4=\"Other\",0.95*0.95,0.98*0.95)),3)","v":0}]
[747,null,{"$f":"Calc_WHDHC!G753","v":560},null,null,{"$f":"ROUND(IF(Calc_WHDHC!H753<0,Calc_WHDHC!I753*IF(Input!$B$4=\"Other\",0.95*0.95,0.98*0.95),2*PI()*Calc_WHDHC!G753/60*Calc_WHDHC!H753/1000),3)","v":0},null,null,747,null,"-",null,null,{"$f":"Calc_WHDHC!J753/3.6/(2*Input!$B$5*PI())*60","v":0},null,null,{"$f":"ROUND(IF(Calc_WHDHC!H753<0,Calc_WHDHC!I753,2*PI()*Calc_WHDHC!G753/60*Calc_WHDHC!H753/1000*IF(Input!$B$4=\"Other\",0.95*0.95,0.98*0.95)),3)","v":0}]
[748,null,{"$f":"Calc_WHDHC!G754","v":560},null,null,{"$f":"ROUND(IF(Calc_WHDHC!H754<0,Calc_WHDHC!I754*IF(Input!$B$4=\"Other\",0.95*0.95,0.98*0.95),2*PI()*Calc_WHDHC!G754/60*Calc_WHDHC!H754/1000),3)","v":0},null,null,748,null,"-",null,null,{"$f":"Calc_WHDHC!J754/3.6/(2*Input!$B$5*PI())*60","v":0},null,null,{"$f":"ROUND(IF(Calc_WHDHC!H754<0,Calc_WHDHC!I754,2*PI()*Calc_WHDHC!G754/60*Calc_WHDHC!H754/1000*IF(Input!$B$4=\"Other\",0.95*0.95,0.98*0.95)),3)","v":0}]
[749,null,{"$f":"Calc_WHDHC!G755","v":560},null,null,{"$f":"ROUND(IF(Calc_WHDHC!H755<0,Calc_WHDHC!I755*IF(Input!$B$4=\"Other\",0.95*0.95,0.98*0.95),2*PI()*Calc_WHDHC!G755/60*Calc_WHDHC!H755/1000),3)","v":0},null,null,749,null,"-",null,null,{"$f":"Calc_WHDHC!J755/3.6/(2*Input!$B$5*PI())*60","v":0},null,null,{"$f":"ROUND(IF(Calc_WHDHC!H755<0,Calc_WHDHC!I755,2*PI()*Calc_WHDHC!G755/60*Calc_WHDHC!H755/1000*IF(Input!$B$4=\"Other\",0.95*0.95,0.98*0.95)),3)","v":0}]
[750,null,{"$f":"Calc_WHDHC!G756","v":560},null,null,{"$f":"ROUND(IF(Calc_WHDHC!H756<0,Calc_WHDHC!I756*IF(Input!$B$4=\"Other\",0.95*0.95,0.98*0.95),2*PI()*Calc_WHDHC!G756/60*Calc_WHDHC!H756/1000),3)","v":0},null,null,750,null,"-",null,null,{"$f":"Calc_WHDHC!J756/3.6/(2*Input!$B$5*PI())*60","v":0},null,null,{"$f":"ROUND(IF(Calc_WHDHC!H756<0,Calc_WHDHC!I756,2*PI()*Calc_WHDHC!G756/60*Calc_WHDHC!H756/1000*IF(Input!$B$4=\"Other\",0.95*0.95,0.98*0.95)),3)","v":0}]
[751,null,{"$f":"Calc_WHDHC!G757","v":560},null,null,{"$f":"ROUND(IF(Calc_WHDHC!H757<0,Calc_WHDHC!I757*IF(Input!$B$4=\"Other\",0.95*0.95,0.98*0.95),2*PI()*Calc_WHDHC!G757/60*Calc_WHDHC!H757/1000),3)","v":0},null,null,751,null,"-",null,null,{"$f":"Calc_WHDHC!J757/3.6/(2*Input!$B$5*PI())*60","v":0},null,null,{"$f":"ROUND(IF(Calc_WHDHC!H757<0,Calc_WHDHC!I757,2*PI()*Calc_WHDHC!G757/60*Calc_WHDHC!H757/1000*IF(Input!$B$4=\"Other\",0.95*0.95,0.98*0.95)),3)","v":0}]
[752,null,{"$f":"Calc_WHDHC!G758","v":560},null,null,{"$f":"ROUND(IF(Calc_WHDHC!H758<0,Calc_WHDHC!I758*IF(Input!$B$4=\"Other\",0.95*0.95,0.98*0.95),2*PI()*Calc_WHDHC!G758/60*Calc_WHDHC!H758/1000),3)","v":0},null,null,752,null,"-",null,null,{"$f":"Calc_WHDHC!J758/3.6/(2*Input!$B$5*PI())*60","v":0},null,null,{"$f":"ROUND(IF(Calc_WHDHC!H758<0,Calc_WHDHC!I758,2*PI()*Calc_WHDHC!G758/60*Calc_WHDHC!H758/1000*IF(Input!$B$4=\"Other\",0.95*0.95,0.98*0.95)),3)","v":0}]
[753,null,{"$f":"Calc_WHDHC!G759","v":560},null,null,{"$f":"ROUND(IF(Calc_WHDHC!H759<0,Calc_WHDHC!I759*IF(Input!$B$4=\"Other\",0.95*0.95,0.98*0.95),2*PI()*Calc_WHDHC!G759/60*Calc_WHDHC!H759/1000),3)","v":0},null,null,753,null,"-",null,null,{"$f":"Calc_WHDHC!J759/3.6/(2*Input!$B$5*PI())*60","v":0},null,null,{"$f":"ROUND(IF(Calc_WHDHC!H759<0,Calc_WHDHC!I759,2*PI()*Calc_WHDHC!G759/60*Calc_WHDHC!H759/1000*IF(Input!$B$4=\"Other\",0.95*0.95,0.98*0.95)),3)","v":0}]
[754,null,{"$f":"Calc_WHDHC!G760","v":560},null,null,{"$f":"ROUND(IF(Calc_WHDHC!H760<0,Calc_WHDHC!I760*IF(Input!$B$4=\"Other\",0.95*0.95,0.98*0.95),2*PI()*Calc_WHDHC!G760/60*Calc_WHDHC!H760/1000),3)","v":0},null,null,754,null,"-",null,null,{"$f":"Calc_WHDHC!J760/3.6/(2*Input!$B$5*PI())*60","v":0},null,null,{"$f":"ROUND(IF(Calc_WHDHC!H760<0,Calc_WHDHC!I760,2*PI()*Calc_WHDHC!G760/60*Calc_WHDHC!H760/1000*IF(Input!$B$4=\"Other\",0.95*0.95,0.98*0.95)),3)","v":0}]
[755,null,{"$f":"Calc_WHDHC!G761","v":560},null,null,{"$f":"ROUND(IF(Calc_WHDHC!H761<0,Calc_WHDHC!I761*IF(Input!$B$4=\"Other\",0.95*0.95,0.98*0.95),2*PI()*Calc_WHDHC!G761/60*Calc_WHDHC!H761/1000),3)","v":0},null,null,755,null,"-",null,null,{"$f":"Calc_WHDHC!J761/3.6/(2*Input!$B$5*PI())*60","v":0},null,null,{"$f":"ROUND(IF(Calc_WHDHC!H761<0,Calc_WHDHC!I761,2*PI()*Calc_WHDHC!G761/60*Calc_WHDHC!H761/1000*IF(Input!$B$4=\"Other\",0.95*0.95,0.98*0.95)),3)","v":0}]
[756,null,{"$f":"Calc_WHDHC!G762","v":560},null,null,{"$f":"ROUND(IF(Calc_WHDHC!H762<0,Calc_WHDHC!I762*IF(Input!$B$4=\"Other\",0.95*0.95,0.98*0.95),2*PI()*Calc_WHDHC!G762/60*Calc_WHDHC!H762/1000),3)","v":0},null,null,756,null,"-",null,null,{"$f":"Calc_WHDHC!J762/3.6/(2*Input!$B$5*PI())*60","v":0},null,null,{"$f":"ROUND(IF(Calc_WHDHC!H762<0,Calc_WHDHC!I762,2*PI()*Calc_WHDHC!G762/60*Calc_WHDHC!H762/1000*IF(Input!$B$4=\"Other\",0.95*0.95,0.98*0.95)),3)","v":0}]
[757,null,{"$f":"Calc_WHDHC!G763","v":560},null,null,{"$f":"ROUND(IF(Calc_WHDHC!H763<0,Calc_WHDHC!I763*IF(Input!$B$4=\"Other\",0.95*0.95,0.98*0.95),2*PI()*Calc_WHDHC!G763/60*Calc_WHDHC!H763/1000),3)","v":0},null,null,757,null,"-",null,null,{"$f":"Calc_WHDHC!J763/3.6/(2*Input!$B$5*PI())*60","v":0},null,null,{"$f":"ROUND(IF(Calc_WHDHC!H763<0,Calc_WHDHC!I763,2*PI()*Calc_WHDHC!G763/60*Calc_WHDHC!H763/1000*IF(Input!$B$4=\"Other\",0.95*0.95,0.98*0.95)),3)","v":0}]
[758,null,{"$f":"Calc_WHDHC!G764","v":560},null,null,{"$f":"ROUND(IF(Calc_WHDHC!H764<0,Calc_WHDHC!I764*IF(Input!$B$4=\"Other\",0.95*0.95,0.98*0.95),2*PI()*Calc_WHDHC!G764/60*Calc_WHDHC!H764/1000),3)","v":0},null,null,758,null,"-",null,null,{"$f":"Calc_WHDHC!J764/3.6/(2*Input!$B$5*PI())*60","v":0},null,null,{"$f":"ROUND(IF(Calc_WHDHC!H764<0,Calc_WHDHC!I764,2*PI()*Calc_WHDHC!G764/60*Calc_WHDHC!H764/1000*IF(Input!$B$4=\"Other\",0.95*0.95,0.98*0.95)),3)","v":0}]
[759,null,{"$f":"Calc_WHDHC!G765","v":560},null,null,{"$f":"ROUND(IF(Calc_WHDHC!H765<0,Calc_WHDHC!I765*IF(Input!$B$4=\"Other\",0.95*0.95,0.98*0.95),2*PI()*Calc_WHDHC!G765/60*Calc_WHDHC!H765/1000),3)","v":0},null,null,759,null,"-",null,null,{"$f":"Calc_WHDHC!J765/3.6/(2*Input!$B$5*PI())*60","v":0},null,null,{"$f":"ROUND(IF(Calc_WHDHC!H765<0,Calc_WHDHC!I765,2*PI()*Calc_WHDHC!G765/60*Calc_WHDHC!H765/1000*IF(Input!$B$4=\"Other\",0.95*0.95,0.98*0.95)),3)","v":0}]
[760,null,{"$f":"Calc_WHDHC!G766","v":560},null,null,{"$f":"ROUND(IF(Calc_WHDHC!H766<0,Calc_WHDHC!I766*IF(Input!$B$4=\"Other\",0.95*0.95,0.98*0.95),2*PI()*Calc_WHDHC!G766/60*Calc_WHDHC!H766/1000),3)","v":0},null,null,760,null,"-",null,null,{"$f":"Calc_WHDHC!J766/3.6/(2*Input!$B$5*PI())*60","v":0},null,null,{"$f":"ROUND(IF(Calc_WHDHC!H766<0,Calc_WHDHC!I766,2*PI()*Calc_WHDHC!G766/60*Calc_WHDHC!H766/1000*IF(Input!$B$4=\"Other\",0.95*0.95,0.98*0.95)),3)","v":0}]
[761,null,{"$f":"Calc_WHDHC!G767","v":560},null,null,{"$f":"ROUND(IF(Calc_WHDHC!H767<0,Calc_WHDHC!I767*IF(Input!$B$4=\"Other\",0.95*0.95,0.98*0.95),2*PI()*Calc_WHDHC!G767/60*Calc_WHDHC!H767/1000),3)","v":0},null,null,761,null,"-",null,null,{"$f":"Calc_WHDHC!J767/3.6/(2*Input!$B$5*PI())*60","v":0},null,null,{"$f":"ROUND(IF(Calc_WHDHC!H767<0,Calc_WHDHC!I767,2*PI()*Calc_WHDHC!G767/60*Calc_WHDHC!H767/1000*IF(Input!$B$4=\"Other\",0.95*0.95,0.98*0.95)),3)","v":0}]
[762,null,{"$f":"Calc_WHDHC!G768","v":560},null,null,{"$f":"ROUND(IF(Calc_WHDHC!H768<0,Calc_WHDHC!I768*IF(Input!$B$4=\"Other\",0.95*0.95,0.98*0.95),2*PI()*Calc_WHDHC!G768/60*Calc_WHDHC!H768/1000),3)","v":0},null,null,762,null,"-",null,null,{"$f":"Calc_WHDHC!J768/3.6/(2*Input!$B$5*PI())*60","v":0},null,null,{"$f":"ROUND(IF(Calc_WHDHC!H768<0,Calc_WHDHC!I768,2*PI()*Calc_WHDHC!G768/60*Calc_WHDHC!H768/1000*IF(Input!$B$4=\"Other\",0.95*0.95,0.98*0.95)),3)","v":0}]
[763,null,{"$f":"Calc_WHDHC!G769","v":560},null,null,{"$f":"ROUND(IF(Calc_WHDHC!H769<0,Calc_WHDHC!I769*IF(Input!$B$4=\"Other\",0.95*0.95,0.98*0.95),2*PI()*Calc_WHDHC!G769/60*Calc_WHDHC!H769/1000),3)","v":0},null,null,763,null,"-",null,null,{"$f":"Calc_WHDHC!J769/3.6/(2*Input!$B$5*PI())*60","v":0},null,null,{"$f":"ROUND(IF(Calc_WHDHC!H769<0,Calc_WHDHC!I769,2*PI()*Calc_WHDHC!G769/60*Calc_WHDHC!H769/1000*IF(Input!$B$4=\"Other\",0.95*0.95,0.98*0.95)),3)","v":0}]
[764,null,{"$f":"Calc_WHDHC!G770","v":560},null,null,{"$f":"ROUND(IF(Calc_WHDHC!H770<0,Calc_WHDHC!I770*IF(Input!$B$4=\"Other\",0.95*0.95,0.98*0.95),2*PI()*Calc_WHDHC!G770/60*Calc_WHDHC!H770/1000),3)","v":0},null,null,764,null,"-",null,null,{"$f":"Calc_WHDHC!J770/3.6/(2*Input!$B$5*PI())*60","v":0},null,null,{"$f":"ROUND(IF(Calc_WHDHC!H770<0,Calc_WHDHC!I770,2*PI()*Calc_WHDHC!G770/60*Calc_WHDHC!H770/1000*IF(Input!$B$4=\"Other\",0.95*0.95,0.98*0.95)),3)","v":0}]
[765,null,{"$f":"Calc_WHDHC!G771","v":560},null,null,{"$f":"ROUND(IF(Calc_WHDHC!H771<0,Calc_WHDHC!I771*IF(Input!$B$4=\"Other\",0.95*0.95,0.98*0.95),2*PI()*Calc_WHDHC!G771/60*Calc_WHDHC!H771/1000),3)","v":0},null,null,765,null,"-",null,null,{"$f":"Calc_WHDHC!J771/3.6/(2*Input!$B$5*PI())*60","v":0},null,null,{"$f":"ROUND(IF(Calc_WHDHC!H771<0,Calc_WHDHC!I771,2*PI()*Calc_WHDHC!G771/60*Calc_WHDHC!H771/1000*IF(Input!$B$4=\"Other\",0.95*0.95,0.98*0.95)),3)","v":0}]
[766,null,{"$f":"Calc_WHDHC!G772","v":560},null,null,{"$f":"ROUND(IF(Calc_WHDHC!H772<0,Calc_WHDHC!I772*IF(Input!$B$4=\"Other\",0.95*0.95,0.98*0.95),2*PI()*Calc_WHDHC!G772/60*Calc_WHDHC!H772/1000),3)","v":0},null,null,766,null,"-",null,null,{"$f":"Calc_WHDHC!J772/3.6/(2*Input!$B$5*PI())*60","v":0},null,null,{"$f":"ROUND(IF(Calc_WHDHC!H772<0,Calc_WHDHC!I772,2*PI()*Calc_WHDHC!G772/60*Calc_WHDHC!H772/1000*IF(Input!$B$4=\"Other\",0.95*0.95,0.98*0.95)),3)","v":0}]
[767,null,{"$f":"Calc_WHDHC!G773","v":560},null,null,{"$f":"ROUND(IF(Calc_WHDHC!H773<0,Calc_WHDHC!I773*IF(Input!$B$4=\"Other\",0.95*0.95,0.98*0.95),2*PI()*Calc_WHDHC!G773/60*Calc_WHDHC!H773/1000),3)","v":0},null,null,767,null,"-",null,null,{"$f":"Calc_WHDHC!J773/3.6/(2*Input!$B$5*PI())*60","v":0},null,null,{"$f":"ROUND(IF(Calc_WHDHC!H773<0,Calc_WHDHC!I773,2*PI()*Calc_WHDHC!G773/60*Calc_WHDHC!H773/1000*IF(Input!$B$4=\"Other\",0.95*0.95,0.98*0.95)),3)","v":0}]
[768,null,{"$f":"Calc_WHDHC!G774","v":560},null,null,{"$f":"ROUND(IF(Calc_WHDHC!H774<0,Calc_WHDHC!I774*IF(Input!$B$4=\"Other\",0.95*0.95,0.98*0.95),2*PI()*Calc_WHDHC!G774/60*Calc_WHDHC!H774/1000),3)","v":0},null,null,768,null,"-",null,null,{"$f":"Calc_WHDHC!J774/3.6/(2*Input!$B$5*PI())*60","v":0},null,null,{"$f":"ROUND(IF(Calc_WHDHC!H774<0,Calc_WHDHC!I774,2*PI()*Calc_WHDHC!G774/60*Calc_WHDHC!H774/1000*IF(Input!$B$4=\"Other\",0.95*0.95,0.98*0.95)),3)","v":0}]
[769,null,{"$f":"Calc_WHDHC!G775","v":560},null,null,{"$f":"ROUND(IF(Calc_WHDHC!H775<0,Calc_WHDHC!I775*IF(Input!$B$4=\"Other\",0.95*0.95,0.98*0.95),2*PI()*Calc_WHDHC!G775/60*Calc_WHDHC!H775/1000),3)","v":0},null,null,769,null,"-",null,null,{"$f":"Calc_WHDHC!J775/3.6/(2*Input!$B$5*PI())*60","v":0},null,null,{"$f":"ROUND(IF(Calc_WHDHC!H775<0,Calc_WHDHC!I775,2*PI()*Calc_WHDHC!G775/60*Calc_WHDHC!H775/1000*IF(Input!$B$4=\"Other\",0.95*0.95,0.98*0.95)),3)","v":0}]
[770,null,{"$f":"Calc_WHDHC!G776","v":560},null,null,{"$f":"ROUND(IF(Calc_WHDHC!H776<0,Calc_WHDHC!I776*IF(Input!$B$4=\"Other\",0.95*0.95,0.98*0.95),2*PI()*Calc_WHDHC!G776/60*Calc_WHDHC!H776/1000),3)","v":0},null,null,770,null,"-",null,null,{"$f":"Calc_WHDHC!J776/3.6/(2*Input!$B$5*PI())*60","v":0},null,null,{"$f":"ROUND(IF(Calc_WHDHC!H776<0,Calc_WHDHC!I776,2*PI()*Calc_WHDHC!G776/60*Calc_WHDHC!H776/1000*IF(Input!$B$4=\"Other\",0.95*0.95,0.98*0.95)),3)","v":0}]
[771,null,{"$f":"Calc_WHDHC!G777","v":560},null,null,{"$f":"ROUND(IF(Calc_WHDHC!H777<0,Calc_WHDHC!I777*IF(Input!$B$4=\"Other\",0.95*0.95,0.98*0.95),2*PI()*Calc_WHDHC!G777/60*Calc_WHDHC!H777/1000),3)","v":12.667},null,null,771,null,"-",null,null,{"$f":"Calc_WHDHC!J777/3.6/(2*Input!$B$5*PI())*60","v":0},null,null,{"$f":"ROUND(IF(Calc_WHDHC!H777<0,Calc_WHDHC!I777,2*PI()*Calc_WHDHC!G777/60*Calc_WHDHC!H777/1000*IF(Input!$B$4=\"Other\",0.95*0.95,0.98*0.95)),3)","v":11.792999999999999}]
[772,null,{"$f":"Calc_WHDHC!G778","v":619},null,null,{"$f":"ROUND(IF(Calc_WHDHC!H778<0,Calc_WHDHC!I778*IF(Input!$B$4=\"Other\",0.95*0.95,0.98*0.95),2*PI()*Calc_WHDHC!G778/60*Calc_WHDHC!H778/1000),3)","v":19.058},null,null,772,null,"-",null,null,{"$f":"Calc_WHDHC!J778/3.6/(2*Input!$B$5*PI())*60","v":4.4302002252441302},null,null,{"$f":"ROUND(IF(Calc_WHDHC!H778<0,Calc_WHDHC!I778,2*PI()*Calc_WHDHC!G778/60*Calc_WHDHC!H778/1000*IF(Input!$B$4=\"Other\",0.95*0.95,0.98*0.95)),3)","v":17.742999999999999}]
[773,null,{"$f":"Calc_WHDHC!G779","v":765},null,null,{"$f":"ROUND(IF(Calc_WHDHC!H779<0,Calc_WHDHC!I779*IF(Input!$B$4=\"Other\",0.95*0.95,0.98*0.95),2*PI()*Calc_WHDHC!G779/60*Calc_WHDHC!H779/1000),3)","v":50.87},null,null,773,null,"-",null,null,{"$f":"Calc_WHDHC!J779/3.6/(2*Input!$B$5*PI())*60","v":13.927441958111233},null,null,{"$f":"ROUND(IF(Calc_WHDHC!H779<0,Calc_WHDHC!I779,2*PI()*Calc_WHDHC!G779/60*Calc_WHDHC!H779/1000*IF(Input!$B$4=\"Other\",0.95*0.95,0.98*0.95)),3)","v":47.36}]
[774,null,{"$f":"Calc_WHDHC!G780","v":963},null,null,{"$f":"ROUND(IF(Calc_WHDHC!H780<0,Calc_WHDHC!I780*IF(Input!$B$4=\"Other\",0.95*0.95,0.98*0.95),2*PI()*Calc_WHDHC!G780/60*Calc_WHDHC!H780/1000),3)","v":92.072000000000003},null,null,774,null,"-",null,null,{"$f":"Calc_WHDHC!J780/3.6/(2*Input!$B$5*PI())*60","v":26.276625085979241},null,null,{"$f":"ROUND(IF(Calc_WHDHC!H780<0,Calc_WHDHC!I780,2*PI()*Calc_WHDHC!G780/60*Calc_WHDHC!H780/1000*IF(Input!$B$4=\"Other\",0.95*0.95,0.98*0.95)),3)","v":85.718999999999994}]
[775,null,{"$f":"Calc_WHDHC!G781","v":1161},null,null,{"$f":"ROUND(IF(Calc_WHDHC!H781<0,Calc_WHDHC!I781*IF(Input!$B$4=\"Other\",0.95*0.95,0.98*0.95),2*PI()*Calc_WHDHC!G781/60*Calc_WHDHC!H781/1000),3)","v":74.771000000000001},null,null,775,null,"-",null,null,{"$f":"Calc_WHDHC!J781/3.6/(2*Input!$B$5*PI())*60","v":35.995376830108555},null,null,{"$f":"ROUND(IF(Calc_WHDHC!H781<0,Calc_WHDHC!I781,2*PI()*Calc_WHDHC!G781/60*Calc_WHDHC!H781/1000*IF(Input!$B$4=\"Other\",0.95*0.95,0.98*0.95)),3)","v":69.611999999999995}]
[776,null,{"$f":"Calc_WHDHC!G782","v":1210},null,null,{"$f":"ROUND(IF(Calc_WHDHC!H782<0,Calc_WHDHC!I782*IF(Input!$B$4=\"Other\",0.95*0.95,0.98*0.95),2*PI()*Calc_WHDHC!G782/60*Calc_WHDHC!H782/1000),3)","v":36.238999999999997},null,null,776,null,"-",null,null,{"$f":"Calc_WHDHC!J782/3.6/(2*Input!$B$5*PI())*60","v":40.564020812391568},null,null,{"$f":"ROUND(IF(Calc_WHDHC!H782<0,Calc_WHDHC!I782,2*PI()*Calc_WHDHC!G782/60*Calc_WHDHC!H782/1000*IF(Input!$B$4=\"Other\",0.95*0.95,0.98*0.95)),3)","v":33.738999999999997}]
[777,null,{"$f":"Calc_WHDHC!G783","v":1082},null,null,{"$f":"ROUND(IF(Calc_WHDHC!H783<0,Calc_WHDHC!I783*IF(Input!$B$4=\"Other\",0.95*0.95,0.98*0.95),2*PI()*Calc_WHDHC!G783/60*Calc_WHDHC!H783/1000),3)","v":0},null,null,777,null,"-",null,null,{"$f":"Calc_WHDHC!J783/3.6/(2*Input!$B$5*PI())*60","v":41.948458382780352},null,null,{"$f":"ROUND(IF(Calc_WHDHC!H783<0,Calc_WHDHC!I783,2*PI()*Calc_WHDHC!G783/60*Calc_WHDHC!H783/1000*IF(Input!$B$4=\"Other\",0.95*0.95,0.98*0.95)),3)","v":0}]
[778,null,{"$f":"Calc_WHDHC!G784","v":952},null,null,{"$f":"ROUND(IF(Calc_WHDHC!H784<0,Calc_WHDHC!I784*IF(Input!$B$4=\"Other\",0.95*0.95,0.98*0.95),2*PI()*Calc_WHDHC!G784/60*Calc_WHDHC!H784/1000),3)","v":28.911000000000001},null,null,778,null,"-",null,null,{"$f":"Calc_WHDHC!J784/3.6/(2*Input!$B$5*PI())*60","v":43.388273455984695},null,null,{"$f":"ROUND(IF(Calc_WHDHC!H784<0,Calc_WHDHC!I784,2*PI()*Calc_WHDHC!G784/60*Calc_WHDHC!H784/1000*IF(Input!$B$4=\"Other\",0.95*0.95,0.98*0.95)),3)","v":26.916}]
[779,null,{"$f":"Calc_WHDHC!G785","v":1020},null,null,{"$f":"ROUND(IF(Calc_WHDHC!H785<0,Calc_WHDHC!I785*IF(Input!$B$4=\"Other\",0.95*0.95,0.98*0.95),2*PI()*Calc_WHDHC!G785/60*Calc_WHDHC!H785/1000),3)","v":58.213999999999999},null,null,779,null,"-",null,null,{"$f":"Calc_WHDHC!J785/3.6/(2*Input!$B$5*PI())*60","v":46.40634735943226},null,null,{"$f":"ROUND(IF(Calc_WHDHC!H785<0,Calc_WHDHC!I785,2*PI()*Calc_WHDHC!G785/60*Calc_WHDHC!H785/1000*IF(Input!$B$4=\"Other\",0.95*0.95,0.98*0.95)),3)","v":54.197000000000003}]
[780,null,{"$f":"Calc_WHDHC!G786","v":1088},null,null,{"$f":"ROUND(IF(Calc_WHDHC!H786<0,Calc_WHDHC!I786*IF(Input!$B$4=\"Other\",0.95*0.95,0.98*0.95),2*PI()*Calc_WHDHC!G786/60*Calc_WHDHC!H786/1000),3)","v":32.015999999999998},null,null,780,null,"-",null,null,{"$f":"Calc_WHDHC!J786/3.6/(2*Input!$B$5*PI())*60","v":49.507487517103137},null,null,{"$f":"ROUND(IF(Calc_WHDHC!H786<0,Calc_WHDHC!I786,2*PI()*Calc_WHDHC!G786/60*Calc_WHDHC!H786/1000*IF(Input!$B$4=\"Other\",0.95*0.95,0.98*0.95)),3)","v":29.806999999999999}]
[781,null,{"$f":"Calc_WHDHC!G787","v":1117},null,null,{"$f":"ROUND(IF(Calc_WHDHC!H787<0,Calc_WHDHC!I787*IF(Input!$B$4=\"Other\",0.95*0.95,0.98*0.95),2*PI()*Calc_WHDHC!G787/60*Calc_WHDHC!H787/1000),3)","v":0},null,null,781,null,"-",null,null,{"$f":"Calc_WHDHC!J787/3.6/(2*Input!$B$5*PI())*60","v":50.753481330453056},null,null,{"$f":"ROUND(IF(Calc_WHDHC!H787<0,Calc_WHDHC!I787,2*PI()*Calc_WHDHC!G787/60*Calc_WHDHC!H787/1000*IF(Input!$B$4=\"Other\",0.95*0.95,0.98*0.95)),3)","v":0}]
[782,null,{"$f":"Calc_WHDHC!G788","v":1116},null,null,{"$f":"ROUND(IF(Calc_WHDHC!H788<0,Calc_WHDHC!I788*IF(Input!$B$4=\"Other\",0.95*0.95,0.98*0.95),2*PI()*Calc_WHDHC!G788/60*Calc_WHDHC!H788/1000),3)","v":0},null,null,782,null,"-",null,null,{"$f":"Calc_WHDHC!J788/3.6/(2*Input!$B$5*PI())*60","v":50.698103827637496},null,null,{"$f":"ROUND(IF(Calc_WHDHC!H788<0,Calc_WHDHC!I788,2*PI()*Calc_WHDHC!G788/60*Calc_WHDHC!H788/1000*IF(Input!$B$4=\"Other\",0.95*0.95,0.98*0.95)),3)","v":0}]
[783,null,{"$f":"Calc_WHDHC!G789","v":1099},null,null,{"$f":"ROUND(IF(Calc_WHDHC!H789<0,Calc_WHDHC!I789*IF(Input!$B$4=\"Other\",0.95*0.95,0.98*0.95),2*PI()*Calc_WHDHC!G789/60*Calc_WHDHC!H789/1000),3)","v":-0.91600000000000004},null,null,783,null,"-",null,null,{"$f":"Calc_WHDHC!J789/3.6/(2*Input!$B$5*PI())*60","v":49.978196291035339},null,null,{"$f":"ROUND(IF(Calc_WHDHC!H789<0,Calc_WHDHC!I789,2*PI()*Calc_WHDHC!G789/60*Calc_WHDHC!H789/1000*IF(Input!$B$4=\"Other\",0.95*0.95,0.98*0.95)),3)","v":-0.98399999999999999}]
[784,null,{"$f":"Calc_WHDHC!G790","v":1058},null,null,{"$f":"ROUND(IF(Calc_WHDHC!H790<0,Calc_WHDHC!I790*IF(Input!$B$4=\"Other\",0.95*0.95,0.98*0.95),2*PI()*Calc_WHDHC!G790/60*Calc_WHDHC!H790/1000),3)","v":85.533000000000001},null,null,784,null,"-",null,null,{"$f":"Calc_WHDHC!J790/3.6/(2*Input!$B$5*PI())*60","v":48.15073869812214},null,null,{"$f":"ROUND(IF(Calc_WHDHC!H790<0,Calc_WHDHC!I790,2*PI()*Calc_WHDHC!G790/60*Calc_WHDHC!H790/1000*IF(Input!$B$4=\"Other\",0.95*0.95,0.98*0.95)),3)","v":79.631}]
[785,null,{"$f":"Calc_WHDHC!G791","v":1181},null,null,{"$f":"ROUND(IF(Calc_WHDHC!H791<0,Calc_WHDHC!I791*IF(Input!$B$4=\"Other\",0.95*0.95,0.98*0.95),2*PI()*Calc_WHDHC!G791/60*Calc_WHDHC!H791/1000),3)","v":90.9},null,null,785,null,"-",null,null,{"$f":"Calc_WHDHC!J791/3.6/(2*Input!$B$5*PI())*60","v":45.271108551713453},null,null,{"$f":"ROUND(IF(Calc_WHDHC!H791<0,Calc_WHDHC!I791,2*PI()*Calc_WHDHC!G791/60*Calc_WHDHC!H791/1000*IF(Input!$B$4=\"Other\",0.95*0.95,0.98*0.95)),3)","v":84.628}]
[786,null,{"$f":"Calc_WHDHC!G792","v":1204},null,null,{"$f":"ROUND(IF(Calc_WHDHC!H792<0,Calc_WHDHC!I792*IF(Input!$B$4=\"Other\",0.95*0.95,0.98*0.95),2*PI()*Calc_WHDHC!G792/60*Calc_WHDHC!H792/1000),3)","v":88.51},null,null,786,null,"-",null,null,{"$f":"Calc_WHDHC!J792/3.6/(2*Input!$B$5*PI())*60","v":40.730153320838212},null,null,{"$f":"ROUND(IF(Calc_WHDHC!H792<0,Calc_WHDHC!I792,2*PI()*Calc_WHDHC!G792/60*Calc_WHDHC!H792/1000*IF(Input!$B$4=\"Other\",0.95*0.95,0.98*0.95)),3)","v":82.403000000000006}]
[787,null,{"$f":"Calc_WHDHC!G793","v":1111},null,null,{"$f":"ROUND(IF(Calc_WHDHC!H793<0,Calc_WHDHC!I793*IF(Input!$B$4=\"Other\",0.95*0.95,0.98*0.95),2*PI()*Calc_WHDHC!G793/60*Calc_WHDHC!H793/1000),3)","v":-14.201000000000001},null,null,787,null,"-",null,null,{"$f":"Calc_WHDHC!J793/3.6/(2*Input!$B$5*PI())*60","v":32.423527898505476},null,null,{"$f":"ROUND(IF(Calc_WHDHC!H793<0,Calc_WHDHC!I793,2*PI()*Calc_WHDHC!G793/60*Calc_WHDHC!H793/1000*IF(Input!$B$4=\"Other\",0.95*0.95,0.98*0.95)),3)","v":-15.254}]
[788,null,{"$f":"Calc_WHDHC!G794","v":926},null,null,{"$f":"ROUND(IF(Calc_WHDHC!H794<0,Calc_WHDHC!I794*IF(Input!$B$4=\"Other\",0.95*0.95,0.98*0.95),2*PI()*Calc_WHDHC!G794/60*Calc_WHDHC!H794/1000),3)","v":-4.5659999999999998},null,null,788,null,"-",null,null,{"$f":"Calc_WHDHC!J794/3.6/(2*Input!$B$5*PI())*60","v":21.624914849472908},null,null,{"$f":"ROUND(IF(Calc_WHDHC!H794<0,Calc_WHDHC!I794,2*PI()*Calc_WHDHC!G794/60*Calc_WHDHC!H794/1000*IF(Input!$B$4=\"Other\",0.95*0.95,0.98*0.95)),3)","v":-4.9039999999999999}]
[789,null,{"$f":"Calc_WHDHC!G795","v":787},null,null,{"$f":"ROUND(IF(Calc_WHDHC!H795<0,Calc_WHDHC!I795*IF(Input!$B$4=\"Other\",0.95*0.95,0.98*0.95),2*PI()*Calc_WHDHC!G795/60*Calc_WHDHC!H795/1000),3)","v":0},null,null,789,null,"-",null,null,{"$f":"Calc_WHDHC!J795/3.6/(2*Input!$B$5*PI())*60","v":14.536594489082299},null,null,{"$f":"ROUND(IF(Calc_WHDHC!H795<0,Calc_WHDHC!I795,2*PI()*Calc_WHDHC!G795/60*Calc_WHDHC!H795/1000*IF(Input!$B$4=\"Other\",0.95*0.95,0.98*0.95)),3)","v":0}]
[790,null,{"$f":"Calc_WHDHC!G796","v":745},null,null,{"$f":"ROUND(IF(Calc_WHDHC!H796<0,Calc_WHDHC!I796*IF(Input!$B$4=\"Other\",0.95*0.95,0.98*0.95),2*PI()*Calc_WHDHC!G796/60*Calc_WHDHC!H796/1000),3)","v":42.207000000000001},null,null,790,null,"-",null,null,{"$f":"Calc_WHDHC!J796/3.6/(2*Input!$B$5*PI())*60","v":12.792203150392425},null,null,{"$f":"ROUND(IF(Calc_WHDHC!H796<0,Calc_WHDHC!I796,2*PI()*Calc_WHDHC!G796/60*Calc_WHDHC!H796/1000*IF(Input!$B$4=\"Other\",0.95*0.95,0.98*0.95)),3)","v":39.295000000000002}]
[791,null,{"$f":"Calc_WHDHC!G797","v":803},null,null,{"$f":"ROUND(IF(Calc_WHDHC!H797<0,Calc_WHDHC!I797*IF(Input!$B$4=\"Other\",0.95*0.95,0.98*0.95),2*PI()*Calc_WHDHC!G797/60*Calc_WHDHC!H797/1000),3)","v":32.795000000000002},null,null,791,null,"-",null,null,{"$f":"Calc_WHDHC!J797/3.6/(2*Input!$B$5*PI())*60","v":15.561078291170006},null,null,{"$f":"ROUND(IF(Calc_WHDHC!H797<0,Calc_WHDHC!I797,2*PI()*Calc_WHDHC!G797/60*Calc_WHDHC!H797/1000*IF(Input!$B$4=\"Other\",0.95*0.95,0.98*0.95)),3)","v":30.532}]
[792,null,{"$f":"Calc_WHDHC!G798","v":924},null,null,{"$f":"ROUND(IF(Calc_WHDHC!H798<0,Calc_WHDHC!I798*IF(Input!$B$4=\"Other\",0.95*0.95,0.98*0.95),2*PI()*Calc_WHDHC!G798/60*Calc_WHDHC!H798/1000),3)","v":31.446999999999999},null,null,792,null,"-",null,null,{"$f":"Calc_WHDHC!J798/3.6/(2*Input!$B$5*PI())*60","v":22.815531160007268},null,null,{"$f":"ROUND(IF(Calc_WHDHC!H798<0,Calc_WHDHC!I798,2*PI()*Calc_WHDHC!G798/60*Calc_WHDHC!H798/1000*IF(Input!$B$4=\"Other\",0.95*0.95,0.98*0.95)),3)","v":29.277000000000001}]
[793,null,{"$f":"Calc_WHDHC!G799","v":1086},null,null,{"$f":"ROUND(IF(Calc_WHDHC!H799<0,Calc_WHDHC!I799*IF(Input!$B$4=\"Other\",0.95*0.95,0.98*0.95),2*PI()*Calc_WHDHC!G799/60*Calc_WHDHC!H799/1000),3)","v":16.035},null,null,793,null,"-",null,null,{"$f":"Calc_WHDHC!J799/3.6/(2*Input!$B$5*PI())*60","v":30.402249045737836},null,null,{"$f":"ROUND(IF(Calc_WHDHC!H799<0,Calc_WHDHC!I799,2*PI()*Calc_WHDHC!G799/60*Calc_WHDHC!H799/1000*IF(Input!$B$4=\"Other\",0.95*0.95,0.98*0.95)),3)","v":14.929}]
[794,null,{"$f":"Calc_WHDHC!G800","v":1013},null,null,{"$f":"ROUND(IF(Calc_WHDHC!H800<0,Calc_WHDHC!I800*IF(Input!$B$4=\"Other\",0.95*0.95,0.98*0.95),2*PI()*Calc_WHDHC!G800/60*Calc_WHDHC!H800/1000),3)","v":0},null,null,794,null,"-",null,null,{"$f":"Calc_WHDHC!J800/3.6/(2*Input!$B$5*PI())*60","v":36.41070810122519},null,null,{"$f":"ROUND(IF(Calc_WHDHC!H800<0,Calc_WHDHC!I800,2*PI()*Calc_WHDHC!G800/60*Calc_WHDHC!H800/1000*IF(Input!$B$4=\"Other\",0.95*0.95,0.98*0.95)),3)","v":0}]
[795,null,{"$f":"Calc_WHDHC!G801","v":939},null,null,{"$f":"ROUND(IF(Calc_WHDHC!H801<0,Calc_WHDHC!I801*IF(Input!$B$4=\"Other\",0.95*0.95,0.98*0.95),2*PI()*Calc_WHDHC!G801/60*Calc_WHDHC!H801/1000),3)","v":49.067999999999998},null,null,795,null,"-",null,null,{"$f":"Calc_WHDHC!J801/3.6/(2*Input!$B$5*PI())*60","v":42.834498427829182},null,null,{"$f":"ROUND(IF(Calc_WHDHC!H801<0,Calc_WHDHC!I801,2*PI()*Calc_WHDHC!G801/60*Calc_WHDHC!H801/1000*IF(Input!$B$4=\"Other\",0.95*0.95,0.98*0.95)),3)","v":45.682000000000002}]
[796,null,{"$f":"Calc_WHDHC!G802","v":1108},null,null,{"$f":"ROUND(IF(Calc_WHDHC!H802<0,Calc_WHDHC!I802*IF(Input!$B$4=\"Other\",0.95*0.95,0.98*0.95),2*PI()*Calc_WHDHC!G802/60*Calc_WHDHC!H802/1000),3)","v":98.625},null,null,796,null,"-",null,null,{"$f":"Calc_WHDHC!J802/3.6/(2*Input!$B$5*PI())*60","v":50.365838810744201},null,null,{"$f":"ROUND(IF(Calc_WHDHC!H802<0,Calc_WHDHC!I802,2*PI()*Calc_WHDHC!G802/60*Calc_WHDHC!H802/1000*IF(Input!$B$4=\"Other\",0.95*0.95,0.98*0.95)),3)","v":91.82}]
[797,null,{"$f":"Calc_WHDHC!G803","v":1269},null,null,{"$f":"ROUND(IF(Calc_WHDHC!H803<0,Calc_WHDHC!I803*IF(Input!$B$4=\"Other\",0.95*0.95,0.98*0.95),2*PI()*Calc_WHDHC!G803/60*Calc_WHDHC!H803/1000),3)","v":49.036000000000001},null,null,797,null,"-",null,null,{"$f":"Calc_WHDHC!J803/3.6/(2*Input!$B$5*PI())*60","v":57.564914176765903},null,null,{"$f":"ROUND(IF(Calc_WHDHC!H803<0,Calc_WHDHC!I803,2*PI()*Calc_WHDHC!G803/60*Calc_WHDHC!H803/1000*IF(Input!$B$4=\"Other\",0.95*0.95,0.98*0.95)),3)","v":45.652999999999999}]
[798,null,{"$f":"Calc_WHDHC!G804","v":1120},null,null,{"$f":"ROUND(IF(Calc_WHDHC!H804<0,Calc_WHDHC!I804*IF(Input!$B$4=\"Other\",0.95*0.95,0.98*0.95),2*PI()*Calc_WHDHC!G804/60*Calc_WHDHC!H804/1000),3)","v":0},null,null,798,null,"-",null,null,{"$f":"Calc_WHDHC!J804/3.6/(2*Input!$B$5*PI())*60","v":62.299690667495575},null,null,{"$f":"ROUND(IF(Calc_WHDHC!H804<0,Calc_WHDHC!I804,2*PI()*Calc_WHDHC!G804/60*Calc_WHDHC!H804/1000*IF(Input!$B$4=\"Other\",0.95*0.95,0.98*0.95)),3)","v":0}]
[799,null,{"$f":"Calc_WHDHC!G805","v":972},null,null,{"$f":"ROUND(IF(Calc_WHDHC!H805<0,Calc_WHDHC!I805*IF(Input!$B$4=\"Other\",0.95*0.95,0.98*0.95),2*PI()*Calc_WHDHC!G805/60*Calc_WHDHC!H805/1000),3)","v":54.558},null,null,799,null,"-",null,null,{"$f":"Calc_WHDHC!J805/3.6/(2*Input!$B$5*PI())*60","v":64.210214514632099},null,null,{"$f":"ROUND(IF(Calc_WHDHC!H805<0,Calc_WHDHC!I805,2*PI()*Calc_WHDHC!G805/60*Calc_WHDHC!H805/1000*IF(Input!$B$4=\"Other\",0.95*0.95,0.98*0.95)),3)","v":50.793999999999997}]
[800,null,{"$f":"Calc_WHDHC!G806","v":987},null,null,{"$f":"ROUND(IF(Calc_WHDHC!H806<0,Calc_WHDHC!I806*IF(Input!$B$4=\"Other\",0.95*0.95,0.98*0.95),2*PI()*Calc_WHDHC!G806/60*Calc_WHDHC!H806/1000),3)","v":109.04300000000001},null,null,800,null,"-",null,null,{"$f":"Calc_WHDHC!J806/3.6/(2*Input!$B$5*PI())*60","v":65.179320813904255},null,null,{"$f":"ROUND(IF(Calc_WHDHC!H806<0,Calc_WHDHC!I806,2*PI()*Calc_WHDHC!G806/60*Calc_WHDHC!H806/1000*IF(Input!$B$4=\"Other\",0.95*0.95,0.98*0.95)),3)","v":101.51900000000001}]
[801,null,{"$f":"Calc_WHDHC!G807","v":1016},null,null,{"$f":"ROUND(IF(Calc_WHDHC!H807<0,Calc_WHDHC!I807*IF(Input!$B$4=\"Other\",0.95*0.95,0.98*0.95),2*PI()*Calc_WHDHC!G807/60*Calc_WHDHC!H807/1000),3)","v":130.334},null,null,801,null,"-",null,null,{"$f":"Calc_WHDHC!J807/3.6/(2*Input!$B$5*PI())*60","v":67.00677840681746},null,null,{"$f":"ROUND(IF(Calc_WHDHC!H807<0,Calc_WHDHC!I807,2*PI()*Calc_WHDHC!G807/60*Calc_WHDHC!H807/1000*IF(Input!$B$4=\"Other\",0.95*0.95,0.98*0.95)),3)","v":121.34099999999999}]
[802,null,{"$f":"Calc_WHDHC!G808","v":1057},null,null,{"$f":"ROUND(IF(Calc_WHDHC!H808<0,Calc_WHDHC!I808*IF(Input!$B$4=\"Other\",0.95*0.95,0.98*0.95),2*PI()*Calc_WHDHC!G808/60*Calc_WHDHC!H808/1000),3)","v":154.52199999999999},null,null,802,null,"-",null,null,{"$f":"Calc_WHDHC!J808/3.6/(2*Input!$B$5*PI())*60","v":69.692587293371716},null,null,{"$f":"ROUND(IF(Calc_WHDHC!H808<0,Calc_WHDHC!I808,2*PI()*Calc_WHDHC!G808/60*Calc_WHDHC!H808/1000*IF(Input!$B$4=\"Other\",0.95*0.95,0.98*0.95)),3)","v":143.86000000000001}]
[803,null,{"$f":"Calc_WHDHC!G809","v":1104},null,null,{"$f":"ROUND(IF(Calc_WHDHC!H809<0,Calc_WHDHC!I809*IF(Input!$B$4=\"Other\",0.95*0.95,0.98*0.95),2*PI()*Calc_WHDHC!G809/60*Calc_WHDHC!H809/1000),3)","v":180.93100000000001},null,null,803,null,"-",null,null,{"$f":"Calc_WHDHC!J809/3.6/(2*Input!$B$5*PI())*60","v":72.766038699634819},null,null,{"$f":"ROUND(IF(Calc_WHDHC!H809<0,Calc_WHDHC!I809,2*PI()*Calc_WHDHC!G809/60*Calc_WHDHC!H809/1000*IF(Input!$B$4=\"Other\",0.95*0.95,0.98*0.95)),3)","v":168.446}]
[804,null,{"$f":"Calc_WHDHC!G810","v":1165},null,null,{"$f":"ROUND(IF(Calc_WHDHC!H810<0,Calc_WHDHC!I810*IF(Input!$B$4=\"Other\",0.95*0.95,0.98*0.95),2*PI()*Calc_WHDHC!G810/60*Calc_WHDHC!H810/1000),3)","v":212.03299999999999},null,null,804,null,"-",null,null,{"$f":"Calc_WHDHC!J810/3.6/(2*Input!$B$5*PI())*60","v":76.670152648131221},null,null,{"$f":"ROUND(IF(Calc_WHDHC!H810<0,Calc_WHDHC!I810,2*PI()*Calc_WHDHC!G810/60*Calc_WHDHC!H810/1000*IF(Input!$B$4=\"Other\",0.95*0.95,0.98*0.95)),3)","v":197.40299999999999}]
[805,null,{"$f":"Calc_WHDHC!G811","v":1251},null,null,{"$f":"ROUND(IF(Calc_WHDHC!H811<0,Calc_WHDHC!I811*IF(Input!$B$4=\"Other\",0.95*0.95,0.98*0.95),2*PI()*Calc_WHDHC!G811/60*Calc_WHDHC!H811/1000),3)","v":105.328},null,null,805,null,"-",null,null,{"$f":"Calc_WHDHC!J811/3.6/(2*Input!$B$5*PI())*60","v":82.290969183909695},null,null,{"$f":"ROUND(IF(Calc_WHDHC!H811<0,Calc_WHDHC!I811,2*PI()*Calc_WHDHC!G811/60*Calc_WHDHC!H811/1000*IF(Input!$B$4=\"Other\",0.95*0.95,0.98*0.95)),3)","v":98.06}]
[806,null,{"$f":"Calc_WHDHC!G812","v":1121},null,null,{"$f":"ROUND(IF(Calc_WHDHC!H812<0,Calc_WHDHC!I812*IF(Input!$B$4=\"Other\",0.95*0.95,0.98*0.95),2*PI()*Calc_WHDHC!G812/60*Calc_WHDHC!H812/1000),3)","v":0},null,null,806,null,"-",null,null,{"$f":"Calc_WHDHC!J812/3.6/(2*Input!$B$5*PI())*60","v":89.074713278814784},null,null,{"$f":"ROUND(IF(Calc_WHDHC!H812<0,Calc_WHDHC!I812,2*PI()*Calc_WHDHC!G812/60*Calc_WHDHC!H812/1000*IF(Input!$B$4=\"Other\",0.95*0.95,0.98*0.95)),3)","v":0}]
[807,null,{"$f":"Calc_WHDHC!G813","v":991},null,null,{"$f":"ROUND(IF(Calc_WHDHC!H813<0,Calc_WHDHC!I813*IF(Input!$B$4=\"Other\",0.95*0.95,0.98*0.95),2*PI()*Calc_WHDHC!G813/60*Calc_WHDHC!H813/1000),3)","v":62.889000000000003},null,null,807,null,"-",null,null,{"$f":"Calc_WHDHC!J813/3.6/(2*Input!$B$5*PI())*60","v":94.750907317408817},null,null,{"$f":"ROUND(IF(Calc_WHDHC!H813<0,Calc_WHDHC!I813,2*PI()*Calc_WHDHC!G813/60*Calc_WHDHC!H813/1000*IF(Input!$B$4=\"Other\",0.95*0.95,0.98*0.95)),3)","v":58.55}]
[808,null,{"$f":"Calc_WHDHC!G814","v":1022},null,null,{"$f":"ROUND(IF(Calc_WHDHC!H814<0,Calc_WHDHC!I814*IF(Input!$B$4=\"Other\",0.95*0.95,0.98*0.95),2*PI()*Calc_WHDHC!G814/60*Calc_WHDHC!H814/1000),3)","v":125.753},null,null,808,null,"-",null,null,{"$f":"Calc_WHDHC!J814/3.6/(2*Input!$B$5*PI())*60","v":97.768981220856389},null,null,{"$f":"ROUND(IF(Calc_WHDHC!H814<0,Calc_WHDHC!I814,2*PI()*Calc_WHDHC!G814/60*Calc_WHDHC!H814/1000*IF(Input!$B$4=\"Other\",0.95*0.95,0.98*0.95)),3)","v":117.07599999999999}]
[809,null,{"$f":"Calc_WHDHC!G815","v":1035},null,null,{"$f":"ROUND(IF(Calc_WHDHC!H815<0,Calc_WHDHC!I815*IF(Input!$B$4=\"Other\",0.95*0.95,0.98*0.95),2*PI()*Calc_WHDHC!G815/60*Calc_WHDHC!H815/1000),3)","v":171.03100000000001},null,null,809,null,"-",null,null,{"$f":"Calc_WHDHC!J815/3.6/(2*Input!$B$5*PI())*60","v":98.959597531390756},null,null,{"$f":"ROUND(IF(Calc_WHDHC!H815<0,Calc_WHDHC!I815,2*PI()*Calc_WHDHC!G815/60*Calc_WHDHC!H815/1000*IF(Input!$B$4=\"Other\",0.95*0.95,0.98*0.95)),3)","v":159.22999999999999}]
[810,null,{"$f":"Calc_WHDHC!G816","v":1050},null,null,{"$f":"ROUND(IF(Calc_WHDHC!H816<0,Calc_WHDHC!I816*IF(Input!$B$4=\"Other\",0.95*0.95,0.98*0.95),2*PI()*Calc_WHDHC!G816/60*Calc_WHDHC!H816/1000),3)","v":218.042},null,null,810,null,"-",null,null,{"$f":"Calc_WHDHC!J816/3.6/(2*Input!$B$5*PI())*60","v":100.31634635037176},null,null,{"$f":"ROUND(IF(Calc_WHDHC!H816<0,Calc_WHDHC!I816,2*PI()*Calc_WHDHC!G816/60*Calc_WHDHC!H816/1000*IF(Input!$B$4=\"Other\",0.95*0.95,0.98*0.95)),3)","v":202.99700000000001}]
[811,null,{"$f":"Calc_WHDHC!G817","v":1083},null,null,{"$f":"ROUND(IF(Calc_WHDHC!H817<0,Calc_WHDHC!I817*IF(Input!$B$4=\"Other\",0.95*0.95,0.98*0.95),2*PI()*Calc_WHDHC!G817/60*Calc_WHDHC!H817/1000),3)","v":189.28399999999999},null,null,811,null,"-",null,null,{"$f":"Calc_WHDHC!J817/3.6/(2*Input!$B$5*PI())*60","v":103.38979775663488},null,null,{"$f":"ROUND(IF(Calc_WHDHC!H817<0,Calc_WHDHC!I817,2*PI()*Calc_WHDHC!G817/60*Calc_WHDHC!H817/1000*IF(Input!$B$4=\"Other\",0.95*0.95,0.98*0.95)),3)","v":176.22300000000001}]
[812,null,{"$f":"Calc_WHDHC!G818","v":1133},null,null,{"$f":"ROUND(IF(Calc_WHDHC!H818<0,Calc_WHDHC!I818*IF(Input!$B$4=\"Other\",0.95*0.95,0.98*0.95),2*PI()*Calc_WHDHC!G818/60*Calc_WHDHC!H818/1000),3)","v":193.87},null,null,812,null,"-",null,null,{"$f":"Calc_WHDHC!J818/3.6/(2*Input!$B$5*PI())*60","v":108.12457424736454},null,null,{"$f":"ROUND(IF(Calc_WHDHC!H818<0,Calc_WHDHC!I818,2*PI()*Calc_WHDHC!G818/60*Calc_WHDHC!H818/1000*IF(Input!$B$4=\"Other\",0.95*0.95,0.98*0.95)),3)","v":180.49299999999999}]
[813,null,{"$f":"Calc_WHDHC!G819","v":1183},null,null,{"$f":"ROUND(IF(Calc_WHDHC!H819<0,Calc_WHDHC!I819*IF(Input!$B$4=\"Other\",0.95*0.95,0.98*0.95),2*PI()*Calc_WHDHC!G819/60*Calc_WHDHC!H819/1000),3)","v":191.02799999999999},null,null,813,null,"-",null,null,{"$f":"Calc_WHDHC!J819/3.6/(2*Input!$B$5*PI())*60","v":112.85935073809419},null,null,{"$f":"ROUND(IF(Calc_WHDHC!H819<0,Calc_WHDHC!I819,2*PI()*Calc_WHDHC!G819/60*Calc_WHDHC!H819/1000*IF(Input!$B$4=\"Other\",0.95*0.95,0.98*0.95)),3)","v":177.84700000000001}]
[814,null,{"$f":"Calc_WHDHC!G820","v":1215},null,null,{"$f":"ROUND(IF(Calc_WHDHC!H820<0,Calc_WHDHC!I820*IF(Input!$B$4=\"Other\",0.95*0.95,0.98*0.95),2*PI()*Calc_WHDHC!G820/60*Calc_WHDHC!H820/1000),3)","v":179.01900000000001},null,null,814,null,"-",null,null,{"$f":"Calc_WHDHC!J820/3.6/(2*Input!$B$5*PI())*60","v":115.79435838731844},null,null,{"$f":"ROUND(IF(Calc_WHDHC!H820<0,Calc_WHDHC!I820,2*PI()*Calc_WHDHC!G820/60*Calc_WHDHC!H820/1000*IF(Input!$B$4=\"Other\",0.95*0.95,0.98*0.95)),3)","v":166.667}]
[815,null,{"$f":"Calc_WHDHC!G821","v":1223},null,null,{"$f":"ROUND(IF(Calc_WHDHC!H821<0,Calc_WHDHC!I821*IF(Input!$B$4=\"Other\",0.95*0.95,0.98*0.95),2*PI()*Calc_WHDHC!G821/60*Calc_WHDHC!H821/1000),3)","v":167.006},null,null,815,null,"-",null,null,{"$f":"Calc_WHDHC!J821/3.6/(2*Input!$B$5*PI())*60","v":116.6250209295517},null,null,{"$f":"ROUND(IF(Calc_WHDHC!H821<0,Calc_WHDHC!I821,2*PI()*Calc_WHDHC!G821/60*Calc_WHDHC!H821/1000*IF(Input!$B$4=\"Other\",0.95*0.95,0.98*0.95)),3)","v":155.483}]
[816,null,{"$f":"Calc_WHDHC!G822","v":1223},null,null,{"$f":"ROUND(IF(Calc_WHDHC!H822<0,Calc_WHDHC!I822*IF(Input!$B$4=\"Other\",0.95*0.95,0.98*0.95),2*PI()*Calc_WHDHC!G822/60*Calc_WHDHC!H822/1000),3)","v":155.47999999999999},null,null,816,null,"-",null,null,{"$f":"Calc_WHDHC!J822/3.6/(2*Input!$B$5*PI())*60","v":116.5142659239206},null,null,{"$f":"ROUND(IF(Calc_WHDHC!H822<0,Calc_WHDHC!I822,2*PI()*Calc_WHDHC!G822/60*Calc_WHDHC!H822/1000*IF(Input!$B$4=\"Other\",0.95*0.95,0.98*0.95)),3)","v":144.75200000000001}]
[817,null,{"$f":"Calc_WHDHC!G823","v":1228},null,null,{"$f":"ROUND(IF(Calc_WHDHC!H823<0,Calc_WHDHC!I823*IF(Input!$B$4=\"Other\",0.95*0.95,0.98*0.95),2*PI()*Calc_WHDHC!G823/60*Calc_WHDHC!H823/1000),3)","v":167.946},null,null,817,null,"-",null,null,{"$f":"Calc_WHDHC!J823/3.6/(2*Input!$B$5*PI())*60","v":117.04035220066835},null,null,{"$f":"ROUND(IF(Calc_WHDHC!H823<0,Calc_WHDHC!I823,2*PI()*Calc_WHDHC!G823/60*Calc_WHDHC!H823/1000*IF(Input!$B$4=\"Other\",0.95*0.95,0.98*0.95)),3)","v":156.358}]
[818,null,{"$f":"Calc_WHDHC!G824","v":1251},null,null,{"$f":"ROUND(IF(Calc_WHDHC!H824<0,Calc_WHDHC!I824*IF(Input!$B$4=\"Other\",0.95*0.95,0.98*0.95),2*PI()*Calc_WHDHC!G824/60*Calc_WHDHC!H824/1000),3)","v":173.45},null,null,818,null,"-",null,null,{"$f":"Calc_WHDHC!J824/3.6/(2*Input!$B$5*PI())*60","v":119.14469730765931},null,null,{"$f":"ROUND(IF(Calc_WHDHC!H824<0,Calc_WHDHC!I824,2*PI()*Calc_WHDHC!G824/60*Calc_WHDHC!H824/1000*IF(Input!$B$4=\"Other\",0.95*0.95,0.98*0.95)),3)","v":161.482}]
[819,null,{"$f":"Calc_WHDHC!G825","v":1284},null,null,{"$f":"ROUND(IF(Calc_WHDHC!H825<0,Calc_WHDHC!I825*IF(Input!$B$4=\"Other\",0.95*0.95,0.98*0.95),2*PI()*Calc_WHDHC!G825/60*Calc_WHDHC!H825/1000),3)","v":106.224},null,null,819,null,"-",null,null,{"$f":"Calc_WHDHC!J825/3.6/(2*Input!$B$5*PI())*60","v":122.21814871392242},null,null,{"$f":"ROUND(IF(Calc_WHDHC!H825<0,Calc_WHDHC!I825,2*PI()*Calc_WHDHC!G825/60*Calc_WHDHC!H825/1000*IF(Input!$B$4=\"Other\",0.95*0.95,0.98*0.95)),3)","v":98.894000000000005}]
[820,null,{"$f":"Calc_WHDHC!G826","v":1313},null,null,{"$f":"ROUND(IF(Calc_WHDHC!H826<0,Calc_WHDHC!I826*IF(Input!$B$4=\"Other\",0.95*0.95,0.98*0.95),2*PI()*Calc_WHDHC!G826/60*Calc_WHDHC!H826/1000),3)","v":53.073999999999998},null,null,820,null,"-",null,null,{"$f":"Calc_WHDHC!J826/3.6/(2*Input!$B$5*PI())*60","v":124.95933510329225},null,null,{"$f":"ROUND(IF(Calc_WHDHC!H826<0,Calc_WHDHC!I826,2*PI()*Calc_WHDHC!G826/60*Calc_WHDHC!H826/1000*IF(Input!$B$4=\"Other\",0.95*0.95,0.98*0.95)),3)","v":49.411999999999999}]
[821,null,{"$f":"Calc_WHDHC!G827","v":1119},null,null,{"$f":"ROUND(IF(Calc_WHDHC!H827<0,Calc_WHDHC!I827*IF(Input!$B$4=\"Other\",0.95*0.95,0.98*0.95),2*PI()*Calc_WHDHC!G827/60*Calc_WHDHC!H827/1000),3)","v":0},null,null,821,null,"-",null,null,{"$f":"Calc_WHDHC!J827/3.6/(2*Input!$B$5*PI())*60","v":126.92523645324434},null,null,{"$f":"ROUND(IF(Calc_WHDHC!H827<0,Calc_WHDHC!I827,2*PI()*Calc_WHDHC!G827/60*Calc_WHDHC!H827/1000*IF(Input!$B$4=\"Other\",0.95*0.95,0.98*0.95)),3)","v":0}]
[822,null,{"$f":"Calc_WHDHC!G828","v":924},null,null,{"$f":"ROUND(IF(Calc_WHDHC!H828<0,Calc_WHDHC!I828*IF(Input!$B$4=\"Other\",0.95*0.95,0.98*0.95),2*PI()*Calc_WHDHC!G828/60*Calc_WHDHC!H828/1000),3)","v":51.767000000000003},null,null,822,null,"-",null,null,{"$f":"Calc_WHDHC!J828/3.6/(2*Input!$B$5*PI())*60","v":128.47580653207976},null,null,{"$f":"ROUND(IF(Calc_WHDHC!H828<0,Calc_WHDHC!I828,2*PI()*Calc_WHDHC!G828/60*Calc_WHDHC!H828/1000*IF(Input!$B$4=\"Other\",0.95*0.95,0.98*0.95)),3)","v":48.195}]
[823,null,{"$f":"Calc_WHDHC!G829","v":935},null,null,{"$f":"ROUND(IF(Calc_WHDHC!H829<0,Calc_WHDHC!I829*IF(Input!$B$4=\"Other\",0.95*0.95,0.98*0.95),2*PI()*Calc_WHDHC!G829/60*Calc_WHDHC!H829/1000),3)","v":104.375},null,null,823,null,"-",null,null,{"$f":"Calc_WHDHC!J829/3.6/(2*Input!$B$5*PI())*60","v":129.83255535106076},null,null,{"$f":"ROUND(IF(Calc_WHDHC!H829<0,Calc_WHDHC!I829,2*PI()*Calc_WHDHC!G829/60*Calc_WHDHC!H829/1000*IF(Input!$B$4=\"Other\",0.95*0.95,0.98*0.95)),3)","v":97.173000000000002}]
[824,null,{"$f":"Calc_WHDHC!G830","v":944},null,null,{"$f":"ROUND(IF(Calc_WHDHC!H830<0,Calc_WHDHC!I830*IF(Input!$B$4=\"Other\",0.95*0.95,0.98*0.95),2*PI()*Calc_WHDHC!G830/60*Calc_WHDHC!H830/1000),3)","v":97.174999999999997},null,null,824,null,"-",null,null,{"$f":"Calc_WHDHC!J830/3.6/(2*Input!$B$5*PI())*60","v":131.07854916441067},null,null,{"$f":"ROUND(IF(Calc_WHDHC!H830<0,Calc_WHDHC!I830,2*PI()*Calc_WHDHC!G830/60*Calc_WHDHC!H830/1000*IF(Input!$B$4=\"Other\",0.95*0.95,0.98*0.95)),3)","v":90.47}]
[825,null,{"$f":"Calc_WHDHC!G831","v":951},null,null,{"$f":"ROUND(IF(Calc_WHDHC!H831<0,Calc_WHDHC!I831*IF(Input!$B$4=\"Other\",0.95*0.95,0.98*0.95),2*PI()*Calc_WHDHC!G831/60*Calc_WHDHC!H831/1000),3)","v":67.421000000000006},null,null,825,null,"-",null,null,{"$f":"Calc_WHDHC!J831/3.6/(2*Input!$B$5*PI())*60","v":131.96458920945952},null,null,{"$f":"ROUND(IF(Calc_WHDHC!H831<0,Calc_WHDHC!I831,2*PI()*Calc_WHDHC!G831/60*Calc_WHDHC!H831/1000*IF(Input!$B$4=\"Other\",0.95*0.95,0.98*0.95)),3)","v":62.768999999999998}]
[826,null,{"$f":"Calc_WHDHC!G832","v":952},null,null,{"$f":"ROUND(IF(Calc_WHDHC!H832<0,Calc_WHDHC!I832*IF(Input!$B$4=\"Other\",0.95*0.95,0.98*0.95),2*PI()*Calc_WHDHC!G832/60*Calc_WHDHC!H832/1000),3)","v":63.804000000000002},null,null,826,null,"-",null,null,{"$f":"Calc_WHDHC!J832/3.6/(2*Input!$B$5*PI())*60","v":132.26916547494505},null,null,{"$f":"ROUND(IF(Calc_WHDHC!H832<0,Calc_WHDHC!I832,2*PI()*Calc_WHDHC!G832/60*Calc_WHDHC!H832/1000*IF(Input!$B$4=\"Other\",0.95*0.95,0.98*0.95)),3)","v":59.401000000000003}]
[827,null,{"$f":"Calc_WHDHC!G833","v":954},null,null,{"$f":"ROUND(IF(Calc_WHDHC!H833<0,Calc_WHDHC!I833*IF(Input!$B$4=\"Other\",0.95*0.95,0.98*0.95),2*PI()*Calc_WHDHC!G833/60*Calc_WHDHC!H833/1000),3)","v":34.067},null,null,827,null,"-",null,null,{"$f":"Calc_WHDHC!J833/3.6/(2*Input!$B$5*PI())*60","v":132.29685422635279},null,null,{"$f":"ROUND(IF(Calc_WHDHC!H833<0,Calc_WHDHC!I833,2*PI()*Calc_WHDHC!G833/60*Calc_WHDHC!H833/1000*IF(Input!$B$4=\"Other\",0.95*0.95,0.98*0.95)),3)","v":31.716000000000001}]
[828,null,{"$f":"Calc_WHDHC!G834","v":950},null,null,{"$f":"ROUND(IF(Calc_WHDHC!H834<0,Calc_WHDHC!I834*IF(Input!$B$4=\"Other\",0.95*0.95,0.98*0.95),2*PI()*Calc_WHDHC!G834/60*Calc_WHDHC!H834/1000),3)","v":-0.38500000000000001},null,null,828,null,"-",null,null,{"$f":"Calc_WHDHC!J834/3.6/(2*Input!$B$5*PI())*60","v":131.90921170664396},null,null,{"$f":"ROUND(IF(Calc_WHDHC!H834<0,Calc_WHDHC!I834,2*PI()*Calc_WHDHC!G834/60*Calc_WHDHC!H834/1000*IF(Input!$B$4=\"Other\",0.95*0.95,0.98*0.95)),3)","v":-0.41399999999999998}]
[829,null,{"$f":"Calc_WHDHC!G835","v":942},null,null,{"$f":"ROUND(IF(Calc_WHDHC!H835<0,Calc_WHDHC!I835*IF(Input!$B$4=\"Other\",0.95*0.95,0.98*0.95),2*PI()*Calc_WHDHC!G835/60*Calc_WHDHC!H835/1000),3)","v":-2.2010000000000001},null,null,829,null,"-",null,null,{"$f":"Calc_WHDHC!J835/3.6/(2*Input!$B$5*PI())*60","v":130.77397289892514},null,null,{"$f":"ROUND(IF(Calc_WHDHC!H835<0,Calc_WHDHC!I835,2*PI()*Calc_WHDHC!G835/60*Calc_WHDHC!H835/1000*IF(Input!$B$4=\"Other\",0.95*0.95,0.98*0.95)),3)","v":-2.3639999999999999}]
[830,null,{"$f":"Calc_WHDHC!G836","v":1128},null,null,{"$f":"ROUND(IF(Calc_WHDHC!H836<0,Calc_WHDHC!I836*IF(Input!$B$4=\"Other\",0.95*0.95,0.98*0.95),2*PI()*Calc_WHDHC!G836/60*Calc_WHDHC!H836/1000),3)","v":0},null,null,830,null,"-",null,null,{"$f":"Calc_WHDHC!J836/3.6/(2*Input!$B$5*PI())*60","v":129.19571406868192},null,null,{"$f":"ROUND(IF(Calc_WHDHC!H836<0,Calc_WHDHC!I836,2*PI()*Calc_WHDHC!G836/60*Calc_WHDHC!H836/1000*IF(Input!$B$4=\"Other\",0.95*0.95,0.98*0.95)),3)","v":0}]
[831,null,{"$f":"Calc_WHDHC!G837","v":1314},null,null,{"$f":"ROUND(IF(Calc_WHDHC!H837<0,Calc_WHDHC!I837*IF(Input!$B$4=\"Other\",0.95*0.95,0.98*0.95),2*PI()*Calc_WHDHC!G837/60*Calc_WHDHC!H837/1000),3)","v":-3.226},null,null,831,null,"-",null,null,{"$f":"Calc_WHDHC!J837/3.6/(2*Input!$B$5*PI())*60","v":127.58976648703091},null,null,{"$f":"ROUND(IF(Calc_WHDHC!H837<0,Calc_WHDHC!I837,2*PI()*Calc_WHDHC!G837/60*Calc_WHDHC!H837/1000*IF(Input!$B$4=\"Other\",0.95*0.95,0.98*0.95)),3)","v":-3.4649999999999999}]
[832,null,{"$f":"Calc_WHDHC!G838","v":1322},null,null,{"$f":"ROUND(IF(Calc_WHDHC!H838<0,Calc_WHDHC!I838*IF(Input!$B$4=\"Other\",0.95*0.95,0.98*0.95),2*PI()*Calc_WHDHC!G838/60*Calc_WHDHC!H838/1000),3)","v":-5.8360000000000003},null,null,832,null,"-",null,null,{"$f":"Calc_WHDHC!J838/3.6/(2*Input!$B$5*PI())*60","v":125.84537514834106},null,null,{"$f":"ROUND(IF(Calc_WHDHC!H838<0,Calc_WHDHC!I838,2*PI()*Calc_WHDHC!G838/60*Calc_WHDHC!H838/1000*IF(Input!$B$4=\"Other\",0.95*0.95,0.98*0.95)),3)","v":-6.2690000000000001}]
[833,null,{"$f":"Calc_WHDHC!G839","v":1300},null,null,{"$f":"ROUND(IF(Calc_WHDHC!H839<0,Calc_WHDHC!I839*IF(Input!$B$4=\"Other\",0.95*0.95,0.98*0.95),2*PI()*Calc_WHDHC!G839/60*Calc_WHDHC!H839/1000),3)","v":-9.9939999999999998},null,null,833,null,"-",null,null,{"$f":"Calc_WHDHC!J839/3.6/(2*Input!$B$5*PI())*60","v":123.7410300413501},null,null,{"$f":"ROUND(IF(Calc_WHDHC!H839<0,Calc_WHDHC!I839,2*PI()*Calc_WHDHC!G839/60*Calc_WHDHC!H839/1000*IF(Input!$B$4=\"Other\",0.95*0.95,0.98*0.95)),3)","v":-10.734999999999999}]
[834,null,{"$f":"Calc_WHDHC!G840","v":1271},null,null,{"$f":"ROUND(IF(Calc_WHDHC!H840<0,Calc_WHDHC!I840*IF(Input!$B$4=\"Other\",0.95*0.95,0.98*0.95),2*PI()*Calc_WHDHC!G840/60*Calc_WHDHC!H840/1000),3)","v":-14.36},null,null,834,null,"-",null,null,{"$f":"Calc_WHDHC!J840/3.6/(2*Input!$B$5*PI())*60","v":121.08290990620358},null,null,{"$f":"ROUND(IF(Calc_WHDHC!H840<0,Calc_WHDHC!I840,2*PI()*Calc_WHDHC!G840/60*Calc_WHDHC!H840/1000*IF(Input!$B$4=\"Other\",0.95*0.95,0.98*0.95)),3)","v":-15.423999999999999}]
[835,null,{"$f":"Calc_WHDHC!G841","v":1236},null,null,{"$f":"ROUND(IF(Calc_WHDHC!H841<0,Calc_WHDHC!I841*IF(Input!$B$4=\"Other\",0.95*0.95,0.98*0.95),2*PI()*Calc_WHDHC!G841/60*Calc_WHDHC!H841/1000),3)","v":-18.600000000000001},null,null,835,null,"-",null,null,{"$f":"Calc_WHDHC!J841/3.6/(2*Input!$B$5*PI())*60","v":117.81563724008605},null,null,{"$f":"ROUND(IF(Calc_WHDHC!H841<0,Calc_WHDHC!I841,2*PI()*Calc_WHDHC!G841/60*Calc_WHDHC!H841/1000*IF(Input!$B$4=\"Other\",0.95*0.95,0.98*0.95)),3)","v":-19.978000000000002}]
[836,null,{"$f":"Calc_WHDHC!G842","v":1195},null,null,{"$f":"ROUND(IF(Calc_WHDHC!H842<0,Calc_WHDHC!I842*IF(Input!$B$4=\"Other\",0.95*0.95,0.98*0.95),2*PI()*Calc_WHDHC!G842/60*Calc_WHDHC!H842/1000),3)","v":-21.268000000000001},null,null,836,null,"-",null,null,{"$f":"Calc_WHDHC!J842/3.6/(2*Input!$B$5*PI())*60","v":113.91152329158967},null,null,{"$f":"ROUND(IF(Calc_WHDHC!H842<0,Calc_WHDHC!I842,2*PI()*Calc_WHDHC!G842/60*Calc_WHDHC!H842/1000*IF(Input!$B$4=\"Other\",0.95*0.95,0.98*0.95)),3)","v":-22.844000000000001}]
[837,null,{"$f":"Calc_WHDHC!G843","v":1148},null,null,{"$f":"ROUND(IF(Calc_WHDHC!H843<0,Calc_WHDHC!I843*IF(Input!$B$4=\"Other\",0.95*0.95,0.98*0.95),2*PI()*Calc_WHDHC!G843/60*Calc_WHDHC!H843/1000),3)","v":-21.294},null,null,837,null,"-",null,null,{"$f":"Calc_WHDHC!J843/3.6/(2*Input!$B$5*PI())*60","v":109.5367005691611},null,null,{"$f":"ROUND(IF(Calc_WHDHC!H843<0,Calc_WHDHC!I843,2*PI()*Calc_WHDHC!G843/60*Calc_WHDHC!H843/1000*IF(Input!$B$4=\"Other\",0.95*0.95,0.98*0.95)),3)","v":-22.872}]
[838,null,{"$f":"Calc_WHDHC!G844","v":1100},null,null,{"$f":"ROUND(IF(Calc_WHDHC!H844<0,Calc_WHDHC!I844*IF(Input!$B$4=\"Other\",0.95*0.95,0.98*0.95),2*PI()*Calc_WHDHC!G844/60*Calc_WHDHC!H844/1000),3)","v":-13.412000000000001},null,null,838,null,"-",null,null,{"$f":"Calc_WHDHC!J844/3.6/(2*Input!$B$5*PI())*60","v":105.02343408969365},null,null,{"$f":"ROUND(IF(Calc_WHDHC!H844<0,Calc_WHDHC!I844,2*PI()*Calc_WHDHC!G844/60*Calc_WHDHC!H844/1000*IF(Input!$B$4=\"Other\",0.95*0.95,0.98*0.95)),3)","v":-14.406000000000001}]
[839,null,{"$f":"Calc_WHDHC!G845","v":1063},null,null,{"$f":"ROUND(IF(Calc_WHDHC!H845<0,Calc_WHDHC!I845*IF(Input!$B$4=\"Other\",0.95*0.95,0.98*0.95),2*PI()*Calc_WHDHC!G845/60*Calc_WHDHC!H845/1000),3)","v":-0.39100000000000001},null,null,839,null,"-",null,null,{"$f":"Calc_WHDHC!J845/3.6/(2*Input!$B$5*PI())*60","v":101.59002891512944},null,null,{"$f":"ROUND(IF(Calc_WHDHC!H845<0,Calc_WHDHC!I845,2*PI()*Calc_WHDHC!G845/60*Calc_WHDHC!H845/1000*IF(Input!$B$4=\"Other\",0.95*0.95,0.98*0.95)),3)","v":-0.42}]
[840,null,{"$f":"Calc_WHDHC!G846","v":1051},null,null,{"$f":"ROUND(IF(Calc_WHDHC!H846<0,Calc_WHDHC!I846*IF(Input!$B$4=\"Other\",0.95*0.95,0.98*0.95),2*PI()*Calc_WHDHC!G846/60*Calc_WHDHC!H846/1000),3)","v":96.302999999999997},null,null,840,null,"-",null,null,{"$f":"Calc_WHDHC!J846/3.6/(2*Input!$B$5*PI())*60","v":100.42710135600288},null,null,{"$f":"ROUND(IF(Calc_WHDHC!H846<0,Calc_WHDHC!I846,2*PI()*Calc_WHDHC!G846/60*Calc_WHDHC!H846/1000*IF(Input!$B$4=\"Other\",0.95*0.95,0.98*0.95)),3)","v":89.658000000000001}]
[841,null,{"$f":"Calc_WHDHC!G847","v":1055},null,null,{"$f":"ROUND(IF(Calc_WHDHC!H847<0,Calc_WHDHC!I847*IF(Input!$B$4=\"Other\",0.95*0.95,0.98*0.95),2*PI()*Calc_WHDHC!G847/60*Calc_WHDHC!H847/1000),3)","v":160.416},null,null,841,null,"-",null,null,{"$f":"Calc_WHDHC!J847/3.6/(2*Input!$B$5*PI())*60","v":100.84243262711951},null,null,{"$f":"ROUND(IF(Calc_WHDHC!H847<0,Calc_WHDHC!I847,2*PI()*Calc_WHDHC!G847/60*Calc_WHDHC!H847/1000*IF(Input!$B$4=\"Other\",0.95*0.95,0.98*0.95)),3)","v":149.34700000000001}]
[842,null,{"$f":"Calc_WHDHC!G848","v":1076},null,null,{"$f":"ROUND(IF(Calc_WHDHC!H848<0,Calc_WHDHC!I848*IF(Input!$B$4=\"Other\",0.95*0.95,0.98*0.95),2*PI()*Calc_WHDHC!G848/60*Calc_WHDHC!H848/1000),3)","v":112.904},null,null,842,null,"-",null,null,{"$f":"Calc_WHDHC!J848/3.6/(2*Input!$B$5*PI())*60","v":102.83602272847935},null,null,{"$f":"ROUND(IF(Calc_WHDHC!H848<0,Calc_WHDHC!I848,2*PI()*Calc_WHDHC!G848/60*Calc_WHDHC!H848/1000*IF(Input!$B$4=\"Other\",0.95*0.95,0.98*0.95)),3)","v":105.113}]
[843,null,{"$f":"Calc_WHDHC!G849","v":1105},null,null,{"$f":"ROUND(IF(Calc_WHDHC!H849<0,Calc_WHDHC!I849*IF(Input!$B$4=\"Other\",0.95*0.95,0.98*0.95),2*PI()*Calc_WHDHC!G849/60*Calc_WHDHC!H849/1000),3)","v":0.23100000000000001},null,null,843,null,"-",null,null,{"$f":"Calc_WHDHC!J849/3.6/(2*Input!$B$5*PI())*60","v":105.57720911784916},null,null,{"$f":"ROUND(IF(Calc_WHDHC!H849<0,Calc_WHDHC!I849,2*PI()*Calc_WHDHC!G849/60*Calc_WHDHC!H849/1000*IF(Input!$B$4=\"Other\",0.95*0.95,0.98*0.95)),3)","v":0.215}]
[844,null,{"$f":"Calc_WHDHC!G850","v":1119},null,null,{"$f":"ROUND(IF(Calc_WHDHC!H850<0,Calc_WHDHC!I850*IF(Input!$B$4=\"Other\",0.95*0.95,0.98*0.95),2*PI()*Calc_WHDHC!G850/60*Calc_WHDHC!H850/1000),3)","v":0},null,null,844,null,"-",null,null,{"$f":"Calc_WHDHC!J850/3.6/(2*Input!$B$5*PI())*60","v":106.74013667697574},null,null,{"$f":"ROUND(IF(Calc_WHDHC!H850<0,Calc_WHDHC!I850,2*PI()*Calc_WHDHC!G850/60*Calc_WHDHC!H850/1000*IF(Input!$B$4=\"Other\",0.95*0.95,0.98*0.95)),3)","v":0}]
[845,null,{"$f":"Calc_WHDHC!G851","v":1115},null,null,{"$f":"ROUND(IF(Calc_WHDHC!H851<0,Calc_WHDHC!I851*IF(Input!$B$4=\"Other\",0.95*0.95,0.98*0.95),2*PI()*Calc_WHDHC!G851/60*Calc_WHDHC!H851/1000),3)","v":-1.3140000000000001},null,null,845,null,"-",null,null,{"$f":"Calc_WHDHC!J851/3.6/(2*Input!$B$5*PI())*60","v":106.38018290867467},null,null,{"$f":"ROUND(IF(Calc_WHDHC!H851<0,Calc_WHDHC!I851,2*PI()*Calc_WHDHC!G851/60*Calc_WHDHC!H851/1000*IF(Input!$B$4=\"Other\",0.95*0.95,0.98*0.95)),3)","v":-1.411}]
[846,null,{"$f":"Calc_WHDHC!G852","v":1099},null,null,{"$f":"ROUND(IF(Calc_WHDHC!H852<0,Calc_WHDHC!I852*IF(Input!$B$4=\"Other\",0.95*0.95,0.98*0.95),2*PI()*Calc_WHDHC!G852/60*Calc_WHDHC!H852/1000),3)","v":-9.1159999999999997},null,null,846,null,"-",null,null,{"$f":"Calc_WHDHC!J852/3.6/(2*Input!$B$5*PI())*60","v":104.91267908406255},null,null,{"$f":"ROUND(IF(Calc_WHDHC!H852<0,Calc_WHDHC!I852,2*PI()*Calc_WHDHC!G852/60*Calc_WHDHC!H852/1000*IF(Input!$B$4=\"Other\",0.95*0.95,0.98*0.95)),3)","v":-9.7919999999999998}]
[847,null,{"$f":"Calc_WHDHC!G853","v":1070},null,null,{"$f":"ROUND(IF(Calc_WHDHC!H853<0,Calc_WHDHC!I853*IF(Input!$B$4=\"Other\",0.95*0.95,0.98*0.95),2*PI()*Calc_WHDHC!G853/60*Calc_WHDHC!H853/1000),3)","v":-15.108000000000001},null,null,847,null,"-",null,null,{"$f":"Calc_WHDHC!J853/3.6/(2*Input!$B$5*PI())*60","v":102.14380394328496},null,null,{"$f":"ROUND(IF(Calc_WHDHC!H853<0,Calc_WHDHC!I853,2*PI()*Calc_WHDHC!G853/60*Calc_WHDHC!H853/1000*IF(Input!$B$4=\"Other\",0.95*0.95,0.98*0.95)),3)","v":-16.228000000000002}]
[848,null,{"$f":"Calc_WHDHC!G854","v":1029},null,null,{"$f":"ROUND(IF(Calc_WHDHC!H854<0,Calc_WHDHC!I854*IF(Input!$B$4=\"Other\",0.95*0.95,0.98*0.95),2*PI()*Calc_WHDHC!G854/60*Calc_WHDHC!H854/1000),3)","v":-17.154},null,null,848,null,"-",null,null,{"$f":"Calc_WHDHC!J854/3.6/(2*Input!$B$5*PI())*60","v":98.378133751827463},null,null,{"$f":"ROUND(IF(Calc_WHDHC!H854<0,Calc_WHDHC!I854,2*PI()*Calc_WHDHC!G854/60*Calc_WHDHC!H854/1000*IF(Input!$B$4=\"Other\",0.95*0.95,0.98*0.95)),3)","v":-18.425000000000001}]
[849,null,{"$f":"Calc_WHDHC!G855","v":984},null,null,{"$f":"ROUND(IF(Calc_WHDHC!H855<0,Calc_WHDHC!I855*IF(Input!$B$4=\"Other\",0.95*0.95,0.98*0.95),2*PI()*Calc_WHDHC!G855/60*Calc_WHDHC!H855/1000),3)","v":-10.19},null,null,849,null,"-",null,null,{"$f":"Calc_WHDHC!J855/3.6/(2*Input!$B$5*PI())*60","v":94.169443537845524},null,null,{"$f":"ROUND(IF(Calc_WHDHC!H855<0,Calc_WHDHC!I855,2*PI()*Calc_WHDHC!G855/60*Calc_WHDHC!H855/1000*IF(Input!$B$4=\"Other\",0.95*0.95,0.98*0.95)),3)","v":-10.945}]
[850,null,{"$f":"Calc_WHDHC!G856","v":951},null,null,{"$f":"ROUND(IF(Calc_WHDHC!H856<0,Calc_WHDHC!I856*IF(Input!$B$4=\"Other\",0.95*0.95,0.98*0.95),2*PI()*Calc_WHDHC!G856/60*Calc_WHDHC!H856/1000),3)","v":-0.11600000000000001},null,null,850,null,"-",null,null,{"$f":"Calc_WHDHC!J856/3.6/(2*Input!$B$5*PI())*60","v":91.040614628766875},null,null,{"$f":"ROUND(IF(Calc_WHDHC!H856<0,Calc_WHDHC!I856,2*PI()*Calc_WHDHC!G856/60*Calc_WHDHC!H856/1000*IF(Input!$B$4=\"Other\",0.95*0.95,0.98*0.95)),3)","v":-0.125}]
[851,null,{"$f":"Calc_WHDHC!G857","v":940},null,null,{"$f":"ROUND(IF(Calc_WHDHC!H857<0,Calc_WHDHC!I857*IF(Input!$B$4=\"Other\",0.95*0.95,0.98*0.95),2*PI()*Calc_WHDHC!G857/60*Calc_WHDHC!H857/1000),3)","v":74.123000000000005},null,null,851,null,"-",null,null,{"$f":"Calc_WHDHC!J857/3.6/(2*Input!$B$5*PI())*60","v":90.043819578086925},null,null,{"$f":"ROUND(IF(Calc_WHDHC!H857<0,Calc_WHDHC!I857,2*PI()*Calc_WHDHC!G857/60*Calc_WHDHC!H857/1000*IF(Input!$B$4=\"Other\",0.95*0.95,0.98*0.95)),3)","v":69.007999999999996}]
[852,null,{"$f":"Calc_WHDHC!G858","v":946},null,null,{"$f":"ROUND(IF(Calc_WHDHC!H858<0,Calc_WHDHC!I858*IF(Input!$B$4=\"Other\",0.95*0.95,0.98*0.95),2*PI()*Calc_WHDHC!G858/60*Calc_WHDHC!H858/1000),3)","v":99.757999999999996},null,null,852,null,"-",null,null,{"$f":"Calc_WHDHC!J858/3.6/(2*Input!$B$5*PI())*60","v":90.542217103426907},null,null,{"$f":"ROUND(IF(Calc_WHDHC!H858<0,Calc_WHDHC!I858,2*PI()*Calc_WHDHC!G858/60*Calc_WHDHC!H858/1000*IF(Input!$B$4=\"Other\",0.95*0.95,0.98*0.95)),3)","v":92.875}]
[853,null,{"$f":"Calc_WHDHC!G859","v":968},null,null,{"$f":"ROUND(IF(Calc_WHDHC!H859<0,Calc_WHDHC!I859*IF(Input!$B$4=\"Other\",0.95*0.95,0.98*0.95),2*PI()*Calc_WHDHC!G859/60*Calc_WHDHC!H859/1000),3)","v":151.03899999999999},null,null,853,null,"-",null,null,{"$f":"Calc_WHDHC!J859/3.6/(2*Input!$B$5*PI())*60","v":92.701939713233401},null,null,{"$f":"ROUND(IF(Calc_WHDHC!H859<0,Calc_WHDHC!I859,2*PI()*Calc_WHDHC!G859/60*Calc_WHDHC!H859/1000*IF(Input!$B$4=\"Other\",0.95*0.95,0.98*0.95)),3)","v":140.61799999999999}]
[854,null,{"$f":"Calc_WHDHC!G860","v":1013},null,null,{"$f":"ROUND(IF(Calc_WHDHC!H860<0,Calc_WHDHC!I860*IF(Input!$B$4=\"Other\",0.95*0.95,0.98*0.95),2*PI()*Calc_WHDHC!G860/60*Calc_WHDHC!H860/1000),3)","v":163.68299999999999},null,null,854,null,"-",null,null,{"$f":"Calc_WHDHC!J860/3.6/(2*Input!$B$5*PI())*60","v":96.827563672992},null,null,{"$f":"ROUND(IF(Calc_WHDHC!H860<0,Calc_WHDHC!I860,2*PI()*Calc_WHDHC!G860/60*Calc_WHDHC!H860/1000*IF(Input!$B$4=\"Other\",0.95*0.95,0.98*0.95)),3)","v":152.38900000000001}]
[855,null,{"$f":"Calc_WHDHC!G861","v":1066},null,null,{"$f":"ROUND(IF(Calc_WHDHC!H861<0,Calc_WHDHC!I861*IF(Input!$B$4=\"Other\",0.95*0.95,0.98*0.95),2*PI()*Calc_WHDHC!G861/60*Calc_WHDHC!H861/1000),3)","v":173.363},null,null,855,null,"-",null,null,{"$f":"Calc_WHDHC!J861/3.6/(2*Input!$B$5*PI())*60","v":101.83922767779944},null,null,{"$f":"ROUND(IF(Calc_WHDHC!H861<0,Calc_WHDHC!I861,2*PI()*Calc_WHDHC!G861/60*Calc_WHDHC!H861/1000*IF(Input!$B$4=\"Other\",0.95*0.95,0.98*0.95)),3)","v":161.40100000000001}]
[856,null,{"$f":"Calc_WHDHC!G862","v":1121},null,null,{"$f":"ROUND(IF(Calc_WHDHC!H862<0,Calc_WHDHC!I862*IF(Input!$B$4=\"Other\",0.95*0.95,0.98*0.95),2*PI()*Calc_WHDHC!G862/60*Calc_WHDHC!H862/1000),3)","v":182.89500000000001},null,null,856,null,"-",null,null,{"$f":"Calc_WHDHC!J862/3.6/(2*Input!$B$5*PI())*60","v":106.98933543964571},null,null,{"$f":"ROUND(IF(Calc_WHDHC!H862<0,Calc_WHDHC!I862,2*PI()*Calc_WHDHC!G862/60*Calc_WHDHC!H862/1000*IF(Input!$B$4=\"Other\",0.95*0.95,0.98*0.95)),3)","v":170.27500000000001}]
[857,null,{"$f":"Calc_WHDHC!G863","v":1175},null,null,{"$f":"ROUND(IF(Calc_WHDHC!H863<0,Calc_WHDHC!I863*IF(Input!$B$4=\"Other\",0.95*0.95,0.98*0.95),2*PI()*Calc_WHDHC!G863/60*Calc_WHDHC!H863/1000),3)","v":191.70500000000001},null,null,857,null,"-",null,null,{"$f":"Calc_WHDHC!J863/3.6/(2*Input!$B$5*PI())*60","v":112.08406569867647},null,null,{"$f":"ROUND(IF(Calc_WHDHC!H863<0,Calc_WHDHC!I863,2*PI()*Calc_WHDHC!G863/60*Calc_WHDHC!H863/1000*IF(Input!$B$4=\"Other\",0.95*0.95,0.98*0.95)),3)","v":178.47800000000001}]
[858,null,{"$f":"Calc_WHDHC!G864","v":1230},null,null,{"$f":"ROUND(IF(Calc_WHDHC!H864<0,Calc_WHDHC!I864*IF(Input!$B$4=\"Other\",0.95*0.95,0.98*0.95),2*PI()*Calc_WHDHC!G864/60*Calc_WHDHC!H864/1000),3)","v":206.47499999999999},null,null,858,null,"-",null,null,{"$f":"Calc_WHDHC!J864/3.6/(2*Input!$B$5*PI())*60","v":117.23417346052278},null,null,{"$f":"ROUND(IF(Calc_WHDHC!H864<0,Calc_WHDHC!I864,2*PI()*Calc_WHDHC!G864/60*Calc_WHDHC!H864/1000*IF(Input!$B$4=\"Other\",0.95*0.95,0.98*0.95)),3)","v":192.22800000000001}]
[859,null,{"$f":"Calc_WHDHC!G865","v":1284},null,null,{"$f":"ROUND(IF(Calc_WHDHC!H865<0,Calc_WHDHC!I865*IF(Input!$B$4=\"Other\",0.95*0.95,0.98*0.95),2*PI()*Calc_WHDHC!G865/60*Calc_WHDHC!H865/1000),3)","v":212.85},null,null,859,null,"-",null,null,{"$f":"Calc_WHDHC!J865/3.6/(2*Input!$B$5*PI())*60","v":122.27352621673796},null,null,{"$f":"ROUND(IF(Calc_WHDHC!H865<0,Calc_WHDHC!I865,2*PI()*Calc_WHDHC!G865/60*Calc_WHDHC!H865/1000*IF(Input!$B$4=\"Other\",0.95*0.95,0.98*0.95)),3)","v":198.16399999999999}]
[860,null,{"$f":"Calc_WHDHC!G866","v":1335},null,null,{"$f":"ROUND(IF(Calc_WHDHC!H866<0,Calc_WHDHC!I866*IF(Input!$B$4=\"Other\",0.95*0.95,0.98*0.95),2*PI()*Calc_WHDHC!G866/60*Calc_WHDHC!H866/1000),3)","v":106.94799999999999},null,null,860,null,"-",null,null,{"$f":"Calc_WHDHC!J866/3.6/(2*Input!$B$5*PI())*60","v":127.09136896169097},null,null,{"$f":"ROUND(IF(Calc_WHDHC!H866<0,Calc_WHDHC!I866,2*PI()*Calc_WHDHC!G866/60*Calc_WHDHC!H866/1000*IF(Input!$B$4=\"Other\",0.95*0.95,0.98*0.95)),3)","v":99.567999999999998}]
[861,null,{"$f":"Calc_WHDHC!G867","v":1157},null,null,{"$f":"ROUND(IF(Calc_WHDHC!H867<0,Calc_WHDHC!I867*IF(Input!$B$4=\"Other\",0.95*0.95,0.98*0.95),2*PI()*Calc_WHDHC!G867/60*Calc_WHDHC!H867/1000),3)","v":0},null,null,861,null,"-",null,null,{"$f":"Calc_WHDHC!J867/3.6/(2*Input!$B$5*PI())*60","v":131.66001294397398},null,null,{"$f":"ROUND(IF(Calc_WHDHC!H867<0,Calc_WHDHC!I867,2*PI()*Calc_WHDHC!G867/60*Calc_WHDHC!H867/1000*IF(Input!$B$4=\"Other\",0.95*0.95,0.98*0.95)),3)","v":0}]
[862,null,{"$f":"Calc_WHDHC!G868","v":980},null,null,{"$f":"ROUND(IF(Calc_WHDHC!H868<0,Calc_WHDHC!I868*IF(Input!$B$4=\"Other\",0.95*0.95,0.98*0.95),2*PI()*Calc_WHDHC!G868/60*Calc_WHDHC!H868/1000),3)","v":75.326999999999998},null,null,862,null,"-",null,null,{"$f":"Calc_WHDHC!J868/3.6/(2*Input!$B$5*PI())*60","v":135.92408066077147},null,null,{"$f":"ROUND(IF(Calc_WHDHC!H868<0,Calc_WHDHC!I868,2*PI()*Calc_WHDHC!G868/60*Calc_WHDHC!H868/1000*IF(Input!$B$4=\"Other\",0.95*0.95,0.98*0.95)),3)","v":70.129000000000005}]
[863,null,{"$f":"Calc_WHDHC!G869","v":1006},null,null,{"$f":"ROUND(IF(Calc_WHDHC!H869<0,Calc_WHDHC!I869*IF(Input!$B$4=\"Other\",0.95*0.95,0.98*0.95),2*PI()*Calc_WHDHC!G869/60*Calc_WHDHC!H869/1000),3)","v":150.648},null,null,863,null,"-",null,null,{"$f":"Calc_WHDHC!J869/3.6/(2*Input!$B$5*PI())*60","v":139.60668459800564},null,null,{"$f":"ROUND(IF(Calc_WHDHC!H869<0,Calc_WHDHC!I869,2*PI()*Calc_WHDHC!G869/60*Calc_WHDHC!H869/1000*IF(Input!$B$4=\"Other\",0.95*0.95,0.98*0.95)),3)","v":140.25299999999999}]
[864,null,{"$f":"Calc_WHDHC!G870","v":1029},null,null,{"$f":"ROUND(IF(Calc_WHDHC!H870<0,Calc_WHDHC!I870*IF(Input!$B$4=\"Other\",0.95*0.95,0.98*0.95),2*PI()*Calc_WHDHC!G870/60*Calc_WHDHC!H870/1000),3)","v":101.83},null,null,864,null,"-",null,null,{"$f":"Calc_WHDHC!J870/3.6/(2*Input!$B$5*PI())*60","v":142.56938099863763},null,null,{"$f":"ROUND(IF(Calc_WHDHC!H870<0,Calc_WHDHC!I870,2*PI()*Calc_WHDHC!G870/60*Calc_WHDHC!H870/1000*IF(Input!$B$4=\"Other\",0.95*0.95,0.98*0.95)),3)","v":94.804000000000002}]
[865,null,{"$f":"Calc_WHDHC!G871","v":1043},null,null,{"$f":"ROUND(IF(Calc_WHDHC!H871<0,Calc_WHDHC!I871*IF(Input!$B$4=\"Other\",0.95*0.95,0.98*0.95),2*PI()*Calc_WHDHC!G871/60*Calc_WHDHC!H871/1000),3)","v":75.036000000000001},null,null,865,null,"-",null,null,{"$f":"Calc_WHDHC!J871/3.6/(2*Input!$B$5*PI())*60","v":144.61834860281303},null,null,{"$f":"ROUND(IF(Calc_WHDHC!H871<0,Calc_WHDHC!I871,2*PI()*Calc_WHDHC!G871/60*Calc_WHDHC!H871/1000*IF(Input!$B$4=\"Other\",0.95*0.95,0.98*0.95)),3)","v":69.858999999999995}]
[866,null,{"$f":"Calc_WHDHC!G872","v":1051},null,null,{"$f":"ROUND(IF(Calc_WHDHC!H872<0,Calc_WHDHC!I872*IF(Input!$B$4=\"Other\",0.95*0.95,0.98*0.95),2*PI()*Calc_WHDHC!G872/60*Calc_WHDHC!H872/1000),3)","v":45.125},null,null,866,null,"-",null,null,{"$f":"Calc_WHDHC!J872/3.6/(2*Input!$B$5*PI())*60","v":145.5874549020852},null,null,{"$f":"ROUND(IF(Calc_WHDHC!H872<0,Calc_WHDHC!I872,2*PI()*Calc_WHDHC!G872/60*Calc_WHDHC!H872/1000*IF(Input!$B$4=\"Other\",0.95*0.95,0.98*0.95)),3)","v":42.011000000000003}]
[867,null,{"$f":"Calc_WHDHC!G873","v":1051},null,null,{"$f":"ROUND(IF(Calc_WHDHC!H873<0,Calc_WHDHC!I873*IF(Input!$B$4=\"Other\",0.95*0.95,0.98*0.95),2*PI()*Calc_WHDHC!G873/60*Calc_WHDHC!H873/1000),3)","v":0},null,null,867,null,"-",null,null,{"$f":"Calc_WHDHC!J873/3.6/(2*Input!$B$5*PI())*60","v":145.72589865912411},null,null,{"$f":"ROUND(IF(Calc_WHDHC!H873<0,Calc_WHDHC!I873,2*PI()*Calc_WHDHC!G873/60*Calc_WHDHC!H873/1000*IF(Input!$B$4=\"Other\",0.95*0.95,0.98*0.95)),3)","v":0}]
[868,null,{"$f":"Calc_WHDHC!G874","v":1049},null,null,{"$f":"ROUND(IF(Calc_WHDHC!H874<0,Calc_WHDHC!I874*IF(Input!$B$4=\"Other\",0.95*0.95,0.98*0.95),2*PI()*Calc_WHDHC!G874/60*Calc_WHDHC!H874/1000),3)","v":0},null,null,868,null,"-",null,null,{"$f":"Calc_WHDHC!J874/3.6/(2*Input!$B$5*PI())*60","v":145.33825613941522},null,null,{"$f":"ROUND(IF(Calc_WHDHC!H874<0,Calc_WHDHC!I874,2*PI()*Calc_WHDHC!G874/60*Calc_WHDHC!H874/1000*IF(Input!$B$4=\"Other\",0.95*0.95,0.98*0.95)),3)","v":0}]
[869,null,{"$f":"Calc_WHDHC!G875","v":1043},null,null,{"$f":"ROUND(IF(Calc_WHDHC!H875<0,Calc_WHDHC!I875*IF(Input!$B$4=\"Other\",0.95*0.95,0.98*0.95),2*PI()*Calc_WHDHC!G875/60*Calc_WHDHC!H875/1000),3)","v":-0.17100000000000001},null,null,869,null,"-",null,null,{"$f":"Calc_WHDHC!J875/3.6/(2*Input!$B$5*PI())*60","v":144.50759359718197},null,null,{"$f":"ROUND(IF(Calc_WHDHC!H875<0,Calc_WHDHC!I875,2*PI()*Calc_WHDHC!G875/60*Calc_WHDHC!H875/1000*IF(Input!$B$4=\"Other\",0.95*0.95,0.98*0.95)),3)","v":-0.184}]
[870,null,{"$f":"Calc_WHDHC!G876","v":1035},null,null,{"$f":"ROUND(IF(Calc_WHDHC!H876<0,Calc_WHDHC!I876*IF(Input!$B$4=\"Other\",0.95*0.95,0.98*0.95),2*PI()*Calc_WHDHC!G876/60*Calc_WHDHC!H876/1000),3)","v":-0.28399999999999997},null,null,870,null,"-",null,null,{"$f":"Calc_WHDHC!J876/3.6/(2*Input!$B$5*PI())*60","v":143.48310979509424},null,null,{"$f":"ROUND(IF(Calc_WHDHC!H876<0,Calc_WHDHC!I876,2*PI()*Calc_WHDHC!G876/60*Calc_WHDHC!H876/1000*IF(Input!$B$4=\"Other\",0.95*0.95,0.98*0.95)),3)","v":-0.30499999999999999}]
[871,null,{"$f":"Calc_WHDHC!G877","v":1028},null,null,{"$f":"ROUND(IF(Calc_WHDHC!H877<0,Calc_WHDHC!I877*IF(Input!$B$4=\"Other\",0.95*0.95,0.98*0.95),2*PI()*Calc_WHDHC!G877/60*Calc_WHDHC!H877/1000),3)","v":-0.39500000000000002},null,null,871,null,"-",null,null,{"$f":"Calc_WHDHC!J877/3.6/(2*Input!$B$5*PI())*60","v":142.40324849019098},null,null,{"$f":"ROUND(IF(Calc_WHDHC!H877<0,Calc_WHDHC!I877,2*PI()*Calc_WHDHC!G877/60*Calc_WHDHC!H877/1000*IF(Input!$B$4=\"Other\",0.95*0.95,0.98*0.95)),3)","v":-0.42399999999999999}]
[872,null,{"$f":"Calc_WHDHC!G878","v":1018},null,null,{"$f":"ROUND(IF(Calc_WHDHC!H878<0,Calc_WHDHC!I878*IF(Input!$B$4=\"Other\",0.95*0.95,0.98*0.95),2*PI()*Calc_WHDHC!G878/60*Calc_WHDHC!H878/1000),3)","v":-0.39500000000000002},null,null,872,null,"-",null,null,{"$f":"Calc_WHDHC!J878/3.6/(2*Input!$B$5*PI())*60","v":141.26800968247218},null,null,{"$f":"ROUND(IF(Calc_WHDHC!H878<0,Calc_WHDHC!I878,2*PI()*Calc_WHDHC!G878/60*Calc_WHDHC!H878/1000*IF(Input!$B$4=\"Other\",0.95*0.95,0.98*0.95)),3)","v":-0.42399999999999999}]
[873,null,{"$f":"Calc_WHDHC!G879","v":1010},null,null,{"$f":"ROUND(IF(Calc_WHDHC!H879<0,Calc_WHDHC!I879*IF(Input!$B$4=\"Other\",0.95*0.95,0.98*0.95),2*PI()*Calc_WHDHC!G879/60*Calc_WHDHC!H879/1000),3)","v":-7.1999999999999995E-2},null,null,873,null,"-",null,null,{"$f":"Calc_WHDHC!J879/3.6/(2*Input!$B$5*PI())*60","v":140.13277087475339},null,null,{"$f":"ROUND(IF(Calc_WHDHC!H879<0,Calc_WHDHC!I879,2*PI()*Calc_WHDHC!G879/60*Calc_WHDHC!H879/1000*IF(Input!$B$4=\"Other\",0.95*0.95,0.98*0.95)),3)","v":-7.6999999999999999E-2}]
[874,null,{"$f":"Calc_WHDHC!G880","v":1004},null,null,{"$f":"ROUND(IF(Calc_WHDHC!H880<0,Calc_WHDHC!I880*IF(Input!$B$4=\"Other\",0.95*0.95,0.98*0.95),2*PI()*Calc_WHDHC!G880/60*Calc_WHDHC!H880/1000),3)","v":0},null,null,874,null,"-",null,null,{"$f":"Calc_WHDHC!J880/3.6/(2*Input!$B$5*PI())*60","v":139.16366457548122},null,null,{"$f":"ROUND(IF(Calc_WHDHC!H880<0,Calc_WHDHC!I880,2*PI()*Calc_WHDHC!G880/60*Calc_WHDHC!H880/1000*IF(Input!$B$4=\"Other\",0.95*0.95,0.98*0.95)),3)","v":0}]
[875,null,{"$f":"Calc_WHDHC!G881","v":1000},null,null,{"$f":"ROUND(IF(Calc_WHDHC!H881<0,Calc_WHDHC!I881*IF(Input!$B$4=\"Other\",0.95*0.95,0.98*0.95),2*PI()*Calc_WHDHC!G881/60*Calc_WHDHC!H881/1000),3)","v":0},null,null,875,null,"-",null,null,{"$f":"Calc_WHDHC!J881/3.6/(2*Input!$B$5*PI())*60","v":138.60988954732571},null,null,{"$f":"ROUND(IF(Calc_WHDHC!H881<0,Calc_WHDHC!I881,2*PI()*Calc_WHDHC!G881/60*Calc_WHDHC!H881/1000*IF(Input!$B$4=\"Other\",0.95*0.95,0.98*0.95)),3)","v":0}]
[876,null,{"$f":"Calc_WHDHC!G882","v":997},null,null,{"$f":"ROUND(IF(Calc_WHDHC!H882<0,Calc_WHDHC!I882*IF(Input!$B$4=\"Other\",0.95*0.95,0.98*0.95),2*PI()*Calc_WHDHC!G882/60*Calc_WHDHC!H882/1000),3)","v":0},null,null,876,null,"-",null,null,{"$f":"Calc_WHDHC!J882/3.6/(2*Input!$B$5*PI())*60","v":138.36069078465573},null,null,{"$f":"ROUND(IF(Calc_WHDHC!H882<0,Calc_WHDHC!I882,2*PI()*Calc_WHDHC!G882/60*Calc_WHDHC!H882/1000*IF(Input!$B$4=\"Other\",0.95*0.95,0.98*0.95)),3)","v":0}]
[877,null,{"$f":"Calc_WHDHC!G883","v":992},null,null,{"$f":"ROUND(IF(Calc_WHDHC!H883<0,Calc_WHDHC!I883*IF(Input!$B$4=\"Other\",0.95*0.95,0.98*0.95),2*PI()*Calc_WHDHC!G883/60*Calc_WHDHC!H883/1000),3)","v":-7.5529999999999999},null,null,877,null,"-",null,null,{"$f":"Calc_WHDHC!J883/3.6/(2*Input!$B$5*PI())*60","v":137.53002824242245},null,null,{"$f":"ROUND(IF(Calc_WHDHC!H883<0,Calc_WHDHC!I883,2*PI()*Calc_WHDHC!G883/60*Calc_WHDHC!H883/1000*IF(Input!$B$4=\"Other\",0.95*0.95,0.98*0.95)),3)","v":-8.1129999999999995}]
[878,null,{"$f":"Calc_WHDHC!G884","v":975},null,null,{"$f":"ROUND(IF(Calc_WHDHC!H884<0,Calc_WHDHC!I884*IF(Input!$B$4=\"Other\",0.95*0.95,0.98*0.95),2*PI()*Calc_WHDHC!G884/60*Calc_WHDHC!H884/1000),3)","v":-19.547000000000001},null,null,878,null,"-",null,null,{"$f":"Calc_WHDHC!J884/3.6/(2*Input!$B$5*PI())*60","v":135.2872393783926},null,null,{"$f":"ROUND(IF(Calc_WHDHC!H884<0,Calc_WHDHC!I884,2*PI()*Calc_WHDHC!G884/60*Calc_WHDHC!H884/1000*IF(Input!$B$4=\"Other\",0.95*0.95,0.98*0.95)),3)","v":-20.995999999999999}]
[879,null,{"$f":"Calc_WHDHC!G885","v":1154},null,null,{"$f":"ROUND(IF(Calc_WHDHC!H885<0,Calc_WHDHC!I885*IF(Input!$B$4=\"Other\",0.95*0.95,0.98*0.95),2*PI()*Calc_WHDHC!G885/60*Calc_WHDHC!H885/1000),3)","v":0},null,null,879,null,"-",null,null,{"$f":"Calc_WHDHC!J885/3.6/(2*Input!$B$5*PI())*60","v":131.60463544115842},null,null,{"$f":"ROUND(IF(Calc_WHDHC!H885<0,Calc_WHDHC!I885,2*PI()*Calc_WHDHC!G885/60*Calc_WHDHC!H885/1000*IF(Input!$B$4=\"Other\",0.95*0.95,0.98*0.95)),3)","v":0}]
[880,null,{"$f":"Calc_WHDHC!G886","v":1333},null,null,{"$f":"ROUND(IF(Calc_WHDHC!H886<0,Calc_WHDHC!I886*IF(Input!$B$4=\"Other\",0.95*0.95,0.98*0.95),2*PI()*Calc_WHDHC!G886/60*Calc_WHDHC!H886/1000),3)","v":-36.003999999999998},null,null,880,null,"-",null,null,{"$f":"Calc_WHDHC!J886/3.6/(2*Input!$B$5*PI())*60","v":126.86985895042875},null,null,{"$f":"ROUND(IF(Calc_WHDHC!H886<0,Calc_WHDHC!I886,2*PI()*Calc_WHDHC!G886/60*Calc_WHDHC!H886/1000*IF(Input!$B$4=\"Other\",0.95*0.95,0.98*0.95)),3)","v":-38.671999999999997}]
[881,null,{"$f":"Calc_WHDHC!G887","v":1269},null,null,{"$f":"ROUND(IF(Calc_WHDHC!H887<0,Calc_WHDHC!I887*IF(Input!$B$4=\"Other\",0.95*0.95,0.98*0.95),2*PI()*Calc_WHDHC!G887/60*Calc_WHDHC!H887/1000),3)","v":-46.097999999999999},null,null,881,null,"-",null,null,{"$f":"Calc_WHDHC!J887/3.6/(2*Input!$B$5*PI())*60","v":120.88908864634918},null,null,{"$f":"ROUND(IF(Calc_WHDHC!H887<0,Calc_WHDHC!I887,2*PI()*Calc_WHDHC!G887/60*Calc_WHDHC!H887/1000*IF(Input!$B$4=\"Other\",0.95*0.95,0.98*0.95)),3)","v":-49.515000000000001}]
[882,null,{"$f":"Calc_WHDHC!G888","v":1187},null,null,{"$f":"ROUND(IF(Calc_WHDHC!H888<0,Calc_WHDHC!I888*IF(Input!$B$4=\"Other\",0.95*0.95,0.98*0.95),2*PI()*Calc_WHDHC!G888/60*Calc_WHDHC!H888/1000),3)","v":-50.146999999999998},null,null,882,null,"-",null,null,{"$f":"Calc_WHDHC!J888/3.6/(2*Input!$B$5*PI())*60","v":113.27468200921082},null,null,{"$f":"ROUND(IF(Calc_WHDHC!H888<0,Calc_WHDHC!I888,2*PI()*Calc_WHDHC!G888/60*Calc_WHDHC!H888/1000*IF(Input!$B$4=\"Other\",0.95*0.95,0.98*0.95)),3)","v":-53.863999999999997}]
[883,null,{"$f":"Calc_WHDHC!G889","v":1096},null,null,{"$f":"ROUND(IF(Calc_WHDHC!H889<0,Calc_WHDHC!I889*IF(Input!$B$4=\"Other\",0.95*0.95,0.98*0.95),2*PI()*Calc_WHDHC!G889/60*Calc_WHDHC!H889/1000),3)","v":-41.953000000000003},null,null,883,null,"-",null,null,{"$f":"Calc_WHDHC!J889/3.6/(2*Input!$B$5*PI())*60","v":104.60810281857701},null,null,{"$f":"ROUND(IF(Calc_WHDHC!H889<0,Calc_WHDHC!I889,2*PI()*Calc_WHDHC!G889/60*Calc_WHDHC!H889/1000*IF(Input!$B$4=\"Other\",0.95*0.95,0.98*0.95)),3)","v":-45.061999999999998}]
[884,null,{"$f":"Calc_WHDHC!G890","v":1010},null,null,{"$f":"ROUND(IF(Calc_WHDHC!H890<0,Calc_WHDHC!I890*IF(Input!$B$4=\"Other\",0.95*0.95,0.98*0.95),2*PI()*Calc_WHDHC!G890/60*Calc_WHDHC!H890/1000),3)","v":-27.727},null,null,884,null,"-",null,null,{"$f":"Calc_WHDHC!J890/3.6/(2*Input!$B$5*PI())*60","v":96.606053661729803},null,null,{"$f":"ROUND(IF(Calc_WHDHC!H890<0,Calc_WHDHC!I890,2*PI()*Calc_WHDHC!G890/60*Calc_WHDHC!H890/1000*IF(Input!$B$4=\"Other\",0.95*0.95,0.98*0.95)),3)","v":-29.782}]
[885,null,{"$f":"Calc_WHDHC!G891","v":1158},null,null,{"$f":"ROUND(IF(Calc_WHDHC!H891<0,Calc_WHDHC!I891*IF(Input!$B$4=\"Other\",0.95*0.95,0.98*0.95),2*PI()*Calc_WHDHC!G891/60*Calc_WHDHC!H891/1000),3)","v":0},null,null,885,null,"-",null,null,{"$f":"Calc_WHDHC!J891/3.6/(2*Input!$B$5*PI())*60","v":90.514528352019113},null,null,{"$f":"ROUND(IF(Calc_WHDHC!H891<0,Calc_WHDHC!I891,2*PI()*Calc_WHDHC!G891/60*Calc_WHDHC!H891/1000*IF(Input!$B$4=\"Other\",0.95*0.95,0.98*0.95)),3)","v":0}]
[886,null,{"$f":"Calc_WHDHC!G892","v":1305},null,null,{"$f":"ROUND(IF(Calc_WHDHC!H892<0,Calc_WHDHC!I892*IF(Input!$B$4=\"Other\",0.95*0.95,0.98*0.95),2*PI()*Calc_WHDHC!G892/60*Calc_WHDHC!H892/1000),3)","v":-16.995999999999999},null,null,886,null,"-",null,null,{"$f":"Calc_WHDHC!J892/3.6/(2*Input!$B$5*PI())*60","v":85.807440612697221},null,null,{"$f":"ROUND(IF(Calc_WHDHC!H892<0,Calc_WHDHC!I892,2*PI()*Calc_WHDHC!G892/60*Calc_WHDHC!H892/1000*IF(Input!$B$4=\"Other\",0.95*0.95,0.98*0.95)),3)","v":-18.256}]
[887,null,{"$f":"Calc_WHDHC!G893","v":1234},null,null,{"$f":"ROUND(IF(Calc_WHDHC!H893<0,Calc_WHDHC!I893*IF(Input!$B$4=\"Other\",0.95*0.95,0.98*0.95),2*PI()*Calc_WHDHC!G893/60*Calc_WHDHC!H893/1000),3)","v":-20.431000000000001},null,null,887,null,"-",null,null,{"$f":"Calc_WHDHC!J893/3.6/(2*Input!$B$5*PI())*60","v":81.155730376190888},null,null,{"$f":"ROUND(IF(Calc_WHDHC!H893<0,Calc_WHDHC!I893,2*PI()*Calc_WHDHC!G893/60*Calc_WHDHC!H893/1000*IF(Input!$B$4=\"Other\",0.95*0.95,0.98*0.95)),3)","v":-21.945}]
[888,null,{"$f":"Calc_WHDHC!G894","v":1148},null,null,{"$f":"ROUND(IF(Calc_WHDHC!H894<0,Calc_WHDHC!I894*IF(Input!$B$4=\"Other\",0.95*0.95,0.98*0.95),2*PI()*Calc_WHDHC!G894/60*Calc_WHDHC!H894/1000),3)","v":-24.625},null,null,888,null,"-",null,null,{"$f":"Calc_WHDHC!J894/3.6/(2*Input!$B$5*PI())*60","v":75.56260259182018},null,null,{"$f":"ROUND(IF(Calc_WHDHC!H894<0,Calc_WHDHC!I894,2*PI()*Calc_WHDHC!G894/60*Calc_WHDHC!H894/1000*IF(Input!$B$4=\"Other\",0.95*0.95,0.98*0.95)),3)","v":-26.45}]
[889,null,{"$f":"Calc_WHDHC!G895","v":1041},null,null,{"$f":"ROUND(IF(Calc_WHDHC!H895<0,Calc_WHDHC!I895*IF(Input!$B$4=\"Other\",0.95*0.95,0.98*0.95),2*PI()*Calc_WHDHC!G895/60*Calc_WHDHC!H895/1000),3)","v":-27.518000000000001},null,null,889,null,"-",null,null,{"$f":"Calc_WHDHC!J895/3.6/(2*Input!$B$5*PI())*60","v":68.640414739876235},null,null,{"$f":"ROUND(IF(Calc_WHDHC!H895<0,Calc_WHDHC!I895,2*PI()*Calc_WHDHC!G895/60*Calc_WHDHC!H895/1000*IF(Input!$B$4=\"Other\",0.95*0.95,0.98*0.95)),3)","v":-29.558}]
[890,null,{"$f":"Calc_WHDHC!G896","v":911},null,null,{"$f":"ROUND(IF(Calc_WHDHC!H896<0,Calc_WHDHC!I896*IF(Input!$B$4=\"Other\",0.95*0.95,0.98*0.95),2*PI()*Calc_WHDHC!G896/60*Calc_WHDHC!H896/1000),3)","v":-26.071000000000002},null,null,890,null,"-",null,null,{"$f":"Calc_WHDHC!J896/3.6/(2*Input!$B$5*PI())*60","v":60.306100566135704},null,null,{"$f":"ROUND(IF(Calc_WHDHC!H896<0,Calc_WHDHC!I896,2*PI()*Calc_WHDHC!G896/60*Calc_WHDHC!H896/1000*IF(Input!$B$4=\"Other\",0.95*0.95,0.98*0.95)),3)","v":-28.003}]
[891,null,{"$f":"Calc_WHDHC!G897","v":824},null,null,{"$f":"ROUND(IF(Calc_WHDHC!H897<0,Calc_WHDHC!I897*IF(Input!$B$4=\"Other\",0.95*0.95,0.98*0.95),2*PI()*Calc_WHDHC!G897/60*Calc_WHDHC!H897/1000),3)","v":-22.376999999999999},null,null,891,null,"-",null,null,{"$f":"Calc_WHDHC!J897/3.6/(2*Input!$B$5*PI())*60","v":51.251878855793024},null,null,{"$f":"ROUND(IF(Calc_WHDHC!H897<0,Calc_WHDHC!I897,2*PI()*Calc_WHDHC!G897/60*Calc_WHDHC!H897/1000*IF(Input!$B$4=\"Other\",0.95*0.95,0.98*0.95)),3)","v":-24.035}]
[892,null,{"$f":"Calc_WHDHC!G898","v":736},null,null,{"$f":"ROUND(IF(Calc_WHDHC!H898<0,Calc_WHDHC!I898*IF(Input!$B$4=\"Other\",0.95*0.95,0.98*0.95),2*PI()*Calc_WHDHC!G898/60*Calc_WHDHC!H898/1000),3)","v":-20.866},null,null,892,null,"-",null,null,{"$f":"Calc_WHDHC!J898/3.6/(2*Input!$B$5*PI())*60","v":41.810014625741474},null,null,{"$f":"ROUND(IF(Calc_WHDHC!H898<0,Calc_WHDHC!I898,2*PI()*Calc_WHDHC!G898/60*Calc_WHDHC!H898/1000*IF(Input!$B$4=\"Other\",0.95*0.95,0.98*0.95)),3)","v":-22.411999999999999}]
[893,null,{"$f":"Calc_WHDHC!G899","v":648},null,null,{"$f":"ROUND(IF(Calc_WHDHC!H899<0,Calc_WHDHC!I899*IF(Input!$B$4=\"Other\",0.95*0.95,0.98*0.95),2*PI()*Calc_WHDHC!G899/60*Calc_WHDHC!H899/1000),3)","v":-16.04},null,null,893,null,"-",null,null,{"$f":"Calc_WHDHC!J899/3.6/(2*Input!$B$5*PI())*60","v":30.623759057000047},null,null,{"$f":"ROUND(IF(Calc_WHDHC!H899<0,Calc_WHDHC!I899,2*PI()*Calc_WHDHC!G899/60*Calc_WHDHC!H899/1000*IF(Input!$B$4=\"Other\",0.95*0.95,0.98*0.95)),3)","v":-17.228999999999999}]
[894,null,{"$f":"Calc_WHDHC!G900","v":560},null,null,{"$f":"ROUND(IF(Calc_WHDHC!H900<0,Calc_WHDHC!I900*IF(Input!$B$4=\"Other\",0.95*0.95,0.98*0.95),2*PI()*Calc_WHDHC!G900/60*Calc_WHDHC!H900/1000),3)","v":0},null,null,894,null,"-",null,null,{"$f":"Calc_WHDHC!J900/3.6/(2*Input!$B$5*PI())*60","v":17.388535884083208},null,null,{"$f":"ROUND(IF(Calc_WHDHC!H900<0,Calc_WHDHC!I900,2*PI()*Calc_WHDHC!G900/60*Calc_WHDHC!H900/1000*IF(Input!$B$4=\"Other\",0.95*0.95,0.98*0.95)),3)","v":0}]
[895,null,{"$f":"Calc_WHDHC!G901","v":560},null,null,{"$f":"ROUND(IF(Calc_WHDHC!H901<0,Calc_WHDHC!I901*IF(Input!$B$4=\"Other\",0.95*0.95,0.98*0.95),2*PI()*Calc_WHDHC!G901/60*Calc_WHDHC!H901/1000),3)","v":0},null,null,895,null,"-",null,null,{"$f":"Calc_WHDHC!J901/3.6/(2*Input!$B$5*PI())*60","v":6.2022803153417811},null,null,{"$f":"ROUND(IF(Calc_WHDHC!H901<0,Calc_WHDHC!I901,2*PI()*Calc_WHDHC!G901/60*Calc_WHDHC!H901/1000*IF(Input!$B$4=\"Other\",0.95*0.95,0.98*0.95)),3)","v":0}]
[896,null,{"$f":"Calc_WHDHC!G902","v":560},null,null,{"$f":"ROUND(IF(Calc_WHDHC!H902<0,Calc_WHDHC!I902*IF(Input!$B$4=\"Other\",0.95*0.95,0.98*0.95),2*PI()*Calc_WHDHC!G902/60*Calc_WHDHC!H902/1000),3)","v":0},null,null,896,null,"-",null,null,{"$f":"Calc_WHDHC!J902/3.6/(2*Input!$B$5*PI())*60","v":0},null,null,{"$f":"ROUND(IF(Calc_WHDHC!H902<0,Calc_WHDHC!I902,2*PI()*Calc_WHDHC!G902/60*Calc_WHDHC!H902/1000*IF(Input!$B$4=\"Other\",0.95*0.95,0.98*0.95)),3)","v":0}]
[897,null,{"$f":"Calc_WHDHC!G903","v":560},null,null,{"$f":"ROUND(IF(Calc_WHDHC!H903<0,Calc_WHDHC!I903*IF(Input!$B$4=\"Other\",0.95*0.95,0.98*0.95),2*PI()*Calc_WHDHC!G903/60*Calc_WHDHC!H903/1000),3)","v":0},null,null,897,null,"-",null,null,{"$f":"Calc_WHDHC!J903/3.6/(2*Input!$B$5*PI())*60","v":0},null,null,{"$f":"ROUND(IF(Calc_WHDHC!H903<0,Calc_WHDHC!I903,2*PI()*Calc_WHDHC!G903/60*Calc_WHDHC!H903/1000*IF(Input!$B$4=\"Other\",0.95*0.95,0.98*0.95)),3)","v":0}]
[898,null,{"$f":"Calc_WHDHC!G904","v":560},null,null,{"$f":"ROUND(IF(Calc_WHDHC!H904<0,Calc_WHDHC!I904*IF(Input!$B$4=\"Other\",0.95*0.95,0.98*0.95),2*PI()*Calc_WHDHC!G904/60*Calc_WHDHC!H904/1000),3)","v":0},null,null,898,null,"-",null,null,{"$f":"Calc_WHDHC!J904/3.6/(2*Input!$B$5*PI())*60","v":0},null,null,{"$f":"ROUND(IF(Calc_WHDHC!H904<0,Calc_WHDHC!I904,2*PI()*Calc_WHDHC!G904/60*Calc_WHDHC!H904/1000*IF(Input!$B$4=\"Other\",0.95*0.95,0.98*0.95)),3)","v":0}]
[899,null,{"$f":"Calc_WHDHC!G905","v":560},null,null,{"$f":"ROUND(IF(Calc_WHDHC!H905<0,Calc_WHDHC!I905*IF(Input!$B$4=\"Other\",0.95*0.95,0.98*0.95),2*PI()*Calc_WHDHC!G905/60*Calc_WHDHC!H905/1000),3)","v":0},null,null,899,null,"-",null,null,{"$f":"Calc_WHDHC!J905/3.6/(2*Input!$B$5*PI())*60","v":0},null,null,{"$f":"ROUND(IF(Calc_WHDHC!H905<0,Calc_WHDHC!I905,2*PI()*Calc_WHDHC!G905/60*Calc_WHDHC!H905/1000*IF(Input!$B$4=\"Other\",0.95*0.95,0.98*0.95)),3)","v":0}]
[900,null,{"$f":"Calc_WHDHC!G906","v":560},null,null,{"$f":"ROUND(IF(Calc_WHDHC!H906<0,Calc_WHDHC!I906*IF(Input!$B$4=\"Other\",0.95*0.95,0.98*0.95),2*PI()*Calc_WHDHC!G906/60*Calc_WHDHC!H906/1000),3)","v":0},null,null,900,null,"-",null,null,{"$f":"Calc_WHDHC!J906/3.6/(2*Input!$B$5*PI())*60","v":0},null,null,{"$f":"ROUND(IF(Calc_WHDHC!H906<0,Calc_WHDHC!I906,2*PI()*Calc_WHDHC!G906/60*Calc_WHDHC!H906/1000*IF(Input!$B$4=\"Other\",0.95*0.95,0.98*0.95)),3)","v":0}]
[901,null,{"$f":"Calc_WHDHC!G907","v":560},null,null,{"$f":"ROUND(IF(Calc_WHDHC!H907<0,Calc_WHDHC!I907*IF(Input!$B$4=\"Other\",0.95*0.95,0.98*0.95),2*PI()*Calc_WHDHC!G907/60*Calc_WHDHC!H907/1000),3)","v":3.343},null,null,901,null,"-",null,null,{"$f":"Calc_WHDHC!J907/3.6/(2*Input!$B$5*PI())*60","v":0},null,null,{"$f":"ROUND(IF(Calc_WHDHC!H907<0,Calc_WHDHC!I907,2*PI()*Calc_WHDHC!G907/60*Calc_WHDHC!H907/1000*IF(Input!$B$4=\"Other\",0.95*0.95,0.98*0.95)),3)","v":3.1120000000000001}]
[902,null,{"$f":"Calc_WHDHC!G908","v":593},null,null,{"$f":"ROUND(IF(Calc_WHDHC!H908<0,Calc_WHDHC!I908*IF(Input!$B$4=\"Other\",0.95*0.95,0.98*0.95),2*PI()*Calc_WHDHC!G908/60*Calc_WHDHC!H908/1000),3)","v":18.568000000000001},null,null,902,null,"-",null,null,{"$f":"Calc_WHDHC!J908/3.6/(2*Input!$B$5*PI())*60","v":7.0883203603906075},null,null,{"$f":"ROUND(IF(Calc_WHDHC!H908<0,Calc_WHDHC!I908,2*PI()*Calc_WHDHC!G908/60*Calc_WHDHC!H908/1000*IF(Input!$B$4=\"Other\",0.95*0.95,0.98*0.95)),3)","v":17.286000000000001}]
[903,null,{"$f":"Calc_WHDHC!G909","v":724},null,null,{"$f":"ROUND(IF(Calc_WHDHC!H909<0,Calc_WHDHC!I909*IF(Input!$B$4=\"Other\",0.95*0.95,0.98*0.95),2*PI()*Calc_WHDHC!G909/60*Calc_WHDHC!H909/1000),3)","v":30.63},null,null,903,null,"-",null,null,{"$f":"Calc_WHDHC!J909/3.6/(2*Input!$B$5*PI())*60","v":13.318289427140163},null,null,{"$f":"ROUND(IF(Calc_WHDHC!H909<0,Calc_WHDHC!I909,2*PI()*Calc_WHDHC!G909/60*Calc_WHDHC!H909/1000*IF(Input!$B$4=\"Other\",0.95*0.95,0.98*0.95)),3)","v":28.516999999999999}]
[904,null,{"$f":"Calc_WHDHC!G910","v":816},null,null,{"$f":"ROUND(IF(Calc_WHDHC!H910<0,Calc_WHDHC!I910*IF(Input!$B$4=\"Other\",0.95*0.95,0.98*0.95),2*PI()*Calc_WHDHC!G910/60*Calc_WHDHC!H910/1000),3)","v":40.845999999999997},null,null,904,null,"-",null,null,{"$f":"Calc_WHDHC!J910/3.6/(2*Input!$B$5*PI())*60","v":17.665423398160964},null,null,{"$f":"ROUND(IF(Calc_WHDHC!H910<0,Calc_WHDHC!I910,2*PI()*Calc_WHDHC!G910/60*Calc_WHDHC!H910/1000*IF(Input!$B$4=\"Other\",0.95*0.95,0.98*0.95)),3)","v":38.027000000000001}]
[905,null,{"$f":"Calc_WHDHC!G911","v":947},null,null,{"$f":"ROUND(IF(Calc_WHDHC!H911<0,Calc_WHDHC!I911*IF(Input!$B$4=\"Other\",0.95*0.95,0.98*0.95),2*PI()*Calc_WHDHC!G911/60*Calc_WHDHC!H911/1000),3)","v":59.006},null,null,905,null,"-",null,null,{"$f":"Calc_WHDHC!J911/3.6/(2*Input!$B$5*PI())*60","v":23.867703713502745},null,null,{"$f":"ROUND(IF(Calc_WHDHC!H911<0,Calc_WHDHC!I911,2*PI()*Calc_WHDHC!G911/60*Calc_WHDHC!H911/1000*IF(Input!$B$4=\"Other\",0.95*0.95,0.98*0.95)),3)","v":54.935000000000002}]
[906,null,{"$f":"Calc_WHDHC!G912","v":1050},null,null,{"$f":"ROUND(IF(Calc_WHDHC!H912<0,Calc_WHDHC!I912*IF(Input!$B$4=\"Other\",0.95*0.95,0.98*0.95),2*PI()*Calc_WHDHC!G912/60*Calc_WHDHC!H912/1000),3)","v":23.420999999999999},null,null,906,null,"-",null,null,{"$f":"Calc_WHDHC!J912/3.6/(2*Input!$B$5*PI())*60","v":28.713235209863512},null,null,{"$f":"ROUND(IF(Calc_WHDHC!H912<0,Calc_WHDHC!I912,2*PI()*Calc_WHDHC!G912/60*Calc_WHDHC!H912/1000*IF(Input!$B$4=\"Other\",0.95*0.95,0.98*0.95)),3)","v":21.805}]
[907,null,{"$f":"Calc_WHDHC!G913","v":1096},null,null,{"$f":"ROUND(IF(Calc_WHDHC!H913<0,Calc_WHDHC!I913*IF(Input!$B$4=\"Other\",0.95*0.95,0.98*0.95),2*PI()*Calc_WHDHC!G913/60*Calc_WHDHC!H913/1000),3)","v":11.707000000000001},null,null,907,null,"-",null,null,{"$f":"Calc_WHDHC!J913/3.6/(2*Input!$B$5*PI())*60","v":30.928335322485584},null,null,{"$f":"ROUND(IF(Calc_WHDHC!H913<0,Calc_WHDHC!I913,2*PI()*Calc_WHDHC!G913/60*Calc_WHDHC!H913/1000*IF(Input!$B$4=\"Other\",0.95*0.95,0.98*0.95)),3)","v":10.898999999999999}]
[908,null,{"$f":"Calc_WHDHC!G914","v":1033},null,null,{"$f":"ROUND(IF(Calc_WHDHC!H914<0,Calc_WHDHC!I914*IF(Input!$B$4=\"Other\",0.95*0.95,0.98*0.95),2*PI()*Calc_WHDHC!G914/60*Calc_WHDHC!H914/1000),3)","v":0},null,null,908,null,"-",null,null,{"$f":"Calc_WHDHC!J914/3.6/(2*Input!$B$5*PI())*60","v":36.881416875157385},null,null,{"$f":"ROUND(IF(Calc_WHDHC!H914<0,Calc_WHDHC!I914,2*PI()*Calc_WHDHC!G914/60*Calc_WHDHC!H914/1000*IF(Input!$B$4=\"Other\",0.95*0.95,0.98*0.95)),3)","v":0}]
[909,null,{"$f":"Calc_WHDHC!G915","v":968},null,null,{"$f":"ROUND(IF(Calc_WHDHC!H915<0,Calc_WHDHC!I915*IF(Input!$B$4=\"Other\",0.95*0.95,0.98*0.95),2*PI()*Calc_WHDHC!G915/60*Calc_WHDHC!H915/1000),3)","v":15.103999999999999},null,null,909,null,"-",null,null,{"$f":"Calc_WHDHC!J915/3.6/(2*Input!$B$5*PI())*60","v":44.135869743994633},null,null,{"$f":"ROUND(IF(Calc_WHDHC!H915<0,Calc_WHDHC!I915,2*PI()*Calc_WHDHC!G915/60*Calc_WHDHC!H915/1000*IF(Input!$B$4=\"Other\",0.95*0.95,0.98*0.95)),3)","v":14.061999999999999}]
[910,null,{"$f":"Calc_WHDHC!G916","v":1028},null,null,{"$f":"ROUND(IF(Calc_WHDHC!H916<0,Calc_WHDHC!I916*IF(Input!$B$4=\"Other\",0.95*0.95,0.98*0.95),2*PI()*Calc_WHDHC!G916/60*Calc_WHDHC!H916/1000),3)","v":30.25},null,null,910,null,"-",null,null,{"$f":"Calc_WHDHC!J916/3.6/(2*Input!$B$5*PI())*60","v":46.766301127733342},null,null,{"$f":"ROUND(IF(Calc_WHDHC!H916<0,Calc_WHDHC!I916,2*PI()*Calc_WHDHC!G916/60*Calc_WHDHC!H916/1000*IF(Input!$B$4=\"Other\",0.95*0.95,0.98*0.95)),3)","v":28.163}]
[911,null,{"$f":"Calc_WHDHC!G917","v":1042},null,null,{"$f":"ROUND(IF(Calc_WHDHC!H917<0,Calc_WHDHC!I917*IF(Input!$B$4=\"Other\",0.95*0.95,0.98*0.95),2*PI()*Calc_WHDHC!G917/60*Calc_WHDHC!H917/1000),3)","v":24.77},null,null,911,null,"-",null,null,{"$f":"Calc_WHDHC!J917/3.6/(2*Input!$B$5*PI())*60","v":47.430831161519954},null,null,{"$f":"ROUND(IF(Calc_WHDHC!H917<0,Calc_WHDHC!I917,2*PI()*Calc_WHDHC!G917/60*Calc_WHDHC!H917/1000*IF(Input!$B$4=\"Other\",0.95*0.95,0.98*0.95)),3)","v":23.061}]
[912,null,{"$f":"Calc_WHDHC!G918","v":1099},null,null,{"$f":"ROUND(IF(Calc_WHDHC!H918<0,Calc_WHDHC!I918*IF(Input!$B$4=\"Other\",0.95*0.95,0.98*0.95),2*PI()*Calc_WHDHC!G918/60*Calc_WHDHC!H918/1000),3)","v":115.77800000000001},null,null,912,null,"-",null,null,{"$f":"Calc_WHDHC!J918/3.6/(2*Input!$B$5*PI())*60","v":49.950507539627559},null,null,{"$f":"ROUND(IF(Calc_WHDHC!H918<0,Calc_WHDHC!I918,2*PI()*Calc_WHDHC!G918/60*Calc_WHDHC!H918/1000*IF(Input!$B$4=\"Other\",0.95*0.95,0.98*0.95)),3)","v":107.789}]
[913,null,{"$f":"Calc_WHDHC!G919","v":1218},null,null,{"$f":"ROUND(IF(Calc_WHDHC!H919<0,Calc_WHDHC!I919*IF(Input!$B$4=\"Other\",0.95*0.95,0.98*0.95),2*PI()*Calc_WHDHC!G919/60*Calc_WHDHC!H919/1000),3)","v":9.9489999999999998},null,null,913,null,"-",null,null,{"$f":"Calc_WHDHC!J919/3.6/(2*Input!$B$5*PI())*60","v":55.266747809920517},null,null,{"$f":"ROUND(IF(Calc_WHDHC!H919<0,Calc_WHDHC!I919,2*PI()*Calc_WHDHC!G919/60*Calc_WHDHC!H919/1000*IF(Input!$B$4=\"Other\",0.95*0.95,0.98*0.95)),3)","v":9.2620000000000005}]
[914,null,{"$f":"Calc_WHDHC!G920","v":1104},null,null,{"$f":"ROUND(IF(Calc_WHDHC!H920<0,Calc_WHDHC!I920*IF(Input!$B$4=\"Other\",0.95*0.95,0.98*0.95),2*PI()*Calc_WHDHC!G920/60*Calc_WHDHC!H920/1000),3)","v":0},null,null,914,null,"-",null,null,{"$f":"Calc_WHDHC!J920/3.6/(2*Input!$B$5*PI())*60","v":61.053696854145663},null,null,{"$f":"ROUND(IF(Calc_WHDHC!H920<0,Calc_WHDHC!I920,2*PI()*Calc_WHDHC!G920/60*Calc_WHDHC!H920/1000*IF(Input!$B$4=\"Other\",0.95*0.95,0.98*0.95)),3)","v":0}]
[915,null,{"$f":"Calc_WHDHC!G921","v":992},null,null,{"$f":"ROUND(IF(Calc_WHDHC!H921<0,Calc_WHDHC!I921*IF(Input!$B$4=\"Other\",0.95*0.95,0.98*0.95),2*PI()*Calc_WHDHC!G921/60*Calc_WHDHC!H921/1000),3)","v":61.393999999999998},null,null,915,null,"-",null,null,{"$f":"Calc_WHDHC!J921/3.6/(2*Input!$B$5*PI())*60","v":65.483897079389791},null,null,{"$f":"ROUND(IF(Calc_WHDHC!H921<0,Calc_WHDHC!I921,2*PI()*Calc_WHDHC!G921/60*Calc_WHDHC!H921/1000*IF(Input!$B$4=\"Other\",0.95*0.95,0.98*0.95)),3)","v":57.158000000000001}]
[916,null,{"$f":"Calc_WHDHC!G922","v":1080},null,null,{"$f":"ROUND(IF(Calc_WHDHC!H922<0,Calc_WHDHC!I922*IF(Input!$B$4=\"Other\",0.95*0.95,0.98*0.95),2*PI()*Calc_WHDHC!G922/60*Calc_WHDHC!H922/1000),3)","v":121.58},null,null,916,null,"-",null,null,{"$f":"Calc_WHDHC!J922/3.6/(2*Input!$B$5*PI())*60","v":71.215468620799371},null,null,{"$f":"ROUND(IF(Calc_WHDHC!H922<0,Calc_WHDHC!I922,2*PI()*Calc_WHDHC!G922/60*Calc_WHDHC!H922/1000*IF(Input!$B$4=\"Other\",0.95*0.95,0.98*0.95)),3)","v":113.191}]
[917,null,{"$f":"Calc_WHDHC!G923","v":1204},null,null,{"$f":"ROUND(IF(Calc_WHDHC!H923<0,Calc_WHDHC!I923*IF(Input!$B$4=\"Other\",0.95*0.95,0.98*0.95),2*PI()*Calc_WHDHC!G923/60*Calc_WHDHC!H923/1000),3)","v":60.140999999999998},null,null,917,null,"-",null,null,{"$f":"Calc_WHDHC!J923/3.6/(2*Input!$B$5*PI())*60","v":79.245206529054371},null,null,{"$f":"ROUND(IF(Calc_WHDHC!H923<0,Calc_WHDHC!I923,2*PI()*Calc_WHDHC!G923/60*Calc_WHDHC!H923/1000*IF(Input!$B$4=\"Other\",0.95*0.95,0.98*0.95)),3)","v":55.991999999999997}]
[918,null,{"$f":"Calc_WHDHC!G924","v":1109},null,null,{"$f":"ROUND(IF(Calc_WHDHC!H924<0,Calc_WHDHC!I924*IF(Input!$B$4=\"Other\",0.95*0.95,0.98*0.95),2*PI()*Calc_WHDHC!G924/60*Calc_WHDHC!H924/1000),3)","v":0},null,null,918,null,"-",null,null,{"$f":"Calc_WHDHC!J924/3.6/(2*Input!$B$5*PI())*60","v":88.576315753474816},null,null,{"$f":"ROUND(IF(Calc_WHDHC!H924<0,Calc_WHDHC!I924,2*PI()*Calc_WHDHC!G924/60*Calc_WHDHC!H924/1000*IF(Input!$B$4=\"Other\",0.95*0.95,0.98*0.95)),3)","v":0}]
[919,null,{"$f":"Calc_WHDHC!G925","v":1016},null,null,{"$f":"ROUND(IF(Calc_WHDHC!H925<0,Calc_WHDHC!I925*IF(Input!$B$4=\"Other\",0.95*0.95,0.98*0.95),2*PI()*Calc_WHDHC!G925/60*Calc_WHDHC!H925/1000),3)","v":100.224},null,null,919,null,"-",null,null,{"$f":"Calc_WHDHC!J925/3.6/(2*Input!$B$5*PI())*60","v":97.10445118706977},null,null,{"$f":"ROUND(IF(Calc_WHDHC!H925<0,Calc_WHDHC!I925,2*PI()*Calc_WHDHC!G925/60*Calc_WHDHC!H925/1000*IF(Input!$B$4=\"Other\",0.95*0.95,0.98*0.95)),3)","v":93.308999999999997}]
[920,null,{"$f":"Calc_WHDHC!G926","v":1084},null,null,{"$f":"ROUND(IF(Calc_WHDHC!H926<0,Calc_WHDHC!I926*IF(Input!$B$4=\"Other\",0.95*0.95,0.98*0.95),2*PI()*Calc_WHDHC!G926/60*Calc_WHDHC!H926/1000),3)","v":197.97200000000001},null,null,920,null,"-",null,null,{"$f":"Calc_WHDHC!J926/3.6/(2*Input!$B$5*PI())*60","v":103.61130776789707},null,null,{"$f":"ROUND(IF(Calc_WHDHC!H926<0,Calc_WHDHC!I926,2*PI()*Calc_WHDHC!G926/60*Calc_WHDHC!H926/1000*IF(Input!$B$4=\"Other\",0.95*0.95,0.98*0.95)),3)","v":184.31200000000001}]
[921,null,{"$f":"Calc_WHDHC!G927","v":1150},null,null,{"$f":"ROUND(IF(Calc_WHDHC!H927<0,Calc_WHDHC!I927*IF(Input!$B$4=\"Other\",0.95*0.95,0.98*0.95),2*PI()*Calc_WHDHC!G927/60*Calc_WHDHC!H927/1000),3)","v":209.785},null,null,921,null,"-",null,null,{"$f":"Calc_WHDHC!J927/3.6/(2*Input!$B$5*PI())*60","v":109.78589933183108},null,null,{"$f":"ROUND(IF(Calc_WHDHC!H927<0,Calc_WHDHC!I927,2*PI()*Calc_WHDHC!G927/60*Calc_WHDHC!H927/1000*IF(Input!$B$4=\"Other\",0.95*0.95,0.98*0.95)),3)","v":195.31}]
[922,null,{"$f":"Calc_WHDHC!G928","v":1214},null,null,{"$f":"ROUND(IF(Calc_WHDHC!H928<0,Calc_WHDHC!I928*IF(Input!$B$4=\"Other\",0.95*0.95,0.98*0.95),2*PI()*Calc_WHDHC!G928/60*Calc_WHDHC!H928/1000),3)","v":210.90799999999999},null,null,922,null,"-",null,null,{"$f":"Calc_WHDHC!J928/3.6/(2*Input!$B$5*PI())*60","v":115.68360338168733},null,null,{"$f":"ROUND(IF(Calc_WHDHC!H928<0,Calc_WHDHC!I928,2*PI()*Calc_WHDHC!G928/60*Calc_WHDHC!H928/1000*IF(Input!$B$4=\"Other\",0.95*0.95,0.98*0.95)),3)","v":196.35599999999999}]
[923,null,{"$f":"Calc_WHDHC!G929","v":1251},null,null,{"$f":"ROUND(IF(Calc_WHDHC!H929<0,Calc_WHDHC!I929*IF(Input!$B$4=\"Other\",0.95*0.95,0.98*0.95),2*PI()*Calc_WHDHC!G929/60*Calc_WHDHC!H929/1000),3)","v":231.09200000000001},null,null,923,null,"-",null,null,{"$f":"Calc_WHDHC!J929/3.6/(2*Input!$B$5*PI())*60","v":119.17238605906708},null,null,{"$f":"ROUND(IF(Calc_WHDHC!H929<0,Calc_WHDHC!I929,2*PI()*Calc_WHDHC!G929/60*Calc_WHDHC!H929/1000*IF(Input!$B$4=\"Other\",0.95*0.95,0.98*0.95)),3)","v":215.14599999999999}]
[924,null,{"$f":"Calc_WHDHC!G930","v":1265},null,null,{"$f":"ROUND(IF(Calc_WHDHC!H930<0,Calc_WHDHC!I930*IF(Input!$B$4=\"Other\",0.95*0.95,0.98*0.95),2*PI()*Calc_WHDHC!G930/60*Calc_WHDHC!H930/1000),3)","v":216.72200000000001},null,null,924,null,"-",null,null,{"$f":"Calc_WHDHC!J930/3.6/(2*Input!$B$5*PI())*60","v":120.58451238086364},null,null,{"$f":"ROUND(IF(Calc_WHDHC!H930<0,Calc_WHDHC!I930,2*PI()*Calc_WHDHC!G930/60*Calc_WHDHC!H930/1000*IF(Input!$B$4=\"Other\",0.95*0.95,0.98*0.95)),3)","v":201.768}]
[925,null,{"$f":"Calc_WHDHC!G931","v":1248},null,null,{"$f":"ROUND(IF(Calc_WHDHC!H931<0,Calc_WHDHC!I931*IF(Input!$B$4=\"Other\",0.95*0.95,0.98*0.95),2*PI()*Calc_WHDHC!G931/60*Calc_WHDHC!H931/1000),3)","v":191.46100000000001},null,null,925,null,"-",null,null,{"$f":"Calc_WHDHC!J931/3.6/(2*Input!$B$5*PI())*60","v":118.97856479921265},null,null,{"$f":"ROUND(IF(Calc_WHDHC!H931<0,Calc_WHDHC!I931,2*PI()*Calc_WHDHC!G931/60*Calc_WHDHC!H931/1000*IF(Input!$B$4=\"Other\",0.95*0.95,0.98*0.95)),3)","v":178.25}]
[926,null,{"$f":"Calc_WHDHC!G932","v":1193},null,null,{"$f":"ROUND(IF(Calc_WHDHC!H932<0,Calc_WHDHC!I932*IF(Input!$B$4=\"Other\",0.95*0.95,0.98*0.95),2*PI()*Calc_WHDHC!G932/60*Calc_WHDHC!H932/1000),3)","v":166.90700000000001},null,null,926,null,"-",null,null,{"$f":"Calc_WHDHC!J932/3.6/(2*Input!$B$5*PI())*60","v":113.74539078314301},null,null,{"$f":"ROUND(IF(Calc_WHDHC!H932<0,Calc_WHDHC!I932,2*PI()*Calc_WHDHC!G932/60*Calc_WHDHC!H932/1000*IF(Input!$B$4=\"Other\",0.95*0.95,0.98*0.95)),3)","v":155.39099999999999}]
[927,null,{"$f":"Calc_WHDHC!G933","v":1173},null,null,{"$f":"ROUND(IF(Calc_WHDHC!H933<0,Calc_WHDHC!I933*IF(Input!$B$4=\"Other\",0.95*0.95,0.98*0.95),2*PI()*Calc_WHDHC!G933/60*Calc_WHDHC!H933/1000),3)","v":142.36699999999999},null,null,927,null,"-",null,null,{"$f":"Calc_WHDHC!J933/3.6/(2*Input!$B$5*PI())*60","v":111.80717818459871},null,null,{"$f":"ROUND(IF(Calc_WHDHC!H933<0,Calc_WHDHC!I933,2*PI()*Calc_WHDHC!G933/60*Calc_WHDHC!H933/1000*IF(Input!$B$4=\"Other\",0.95*0.95,0.98*0.95)),3)","v":132.54400000000001}]
[928,null,{"$f":"Calc_WHDHC!G934","v":1174},null,null,{"$f":"ROUND(IF(Calc_WHDHC!H934<0,Calc_WHDHC!I934*IF(Input!$B$4=\"Other\",0.95*0.95,0.98*0.95),2*PI()*Calc_WHDHC!G934/60*Calc_WHDHC!H934/1000),3)","v":138.43199999999999},null,null,928,null,"-",null,null,{"$f":"Calc_WHDHC!J934/3.6/(2*Input!$B$5*PI())*60","v":111.94562194163761},null,null,{"$f":"ROUND(IF(Calc_WHDHC!H934<0,Calc_WHDHC!I934,2*PI()*Calc_WHDHC!G934/60*Calc_WHDHC!H934/1000*IF(Input!$B$4=\"Other\",0.95*0.95,0.98*0.95)),3)","v":128.88}]
[929,null,{"$f":"Calc_WHDHC!G935","v":1173},null,null,{"$f":"ROUND(IF(Calc_WHDHC!H935<0,Calc_WHDHC!I935*IF(Input!$B$4=\"Other\",0.95*0.95,0.98*0.95),2*PI()*Calc_WHDHC!G935/60*Calc_WHDHC!H935/1000),3)","v":160.66999999999999},null,null,929,null,"-",null,null,{"$f":"Calc_WHDHC!J935/3.6/(2*Input!$B$5*PI())*60","v":111.86255568741426},null,null,{"$f":"ROUND(IF(Calc_WHDHC!H935<0,Calc_WHDHC!I935,2*PI()*Calc_WHDHC!G935/60*Calc_WHDHC!H935/1000*IF(Input!$B$4=\"Other\",0.95*0.95,0.98*0.95)),3)","v":149.584}]
[930,null,{"$f":"Calc_WHDHC!G936","v":1169},null,null,{"$f":"ROUND(IF(Calc_WHDHC!H936<0,Calc_WHDHC!I936*IF(Input!$B$4=\"Other\",0.95*0.95,0.98*0.95),2*PI()*Calc_WHDHC!G936/60*Calc_WHDHC!H936/1000),3)","v":149.59399999999999},null,null,930,null,"-",null,null,{"$f":"Calc_WHDHC!J936/3.6/(2*Input!$B$5*PI())*60","v":111.44722441629763},null,null,{"$f":"ROUND(IF(Calc_WHDHC!H936<0,Calc_WHDHC!I936,2*PI()*Calc_WHDHC!G936/60*Calc_WHDHC!H936/1000*IF(Input!$B$4=\"Other\",0.95*0.95,0.98*0.95)),3)","v":139.27199999999999}]
[931,null,{"$f":"Calc_WHDHC!G937","v":1170},null,null,{"$f":"ROUND(IF(Calc_WHDHC!H937<0,Calc_WHDHC!I937*IF(Input!$B$4=\"Other\",0.95*0.95,0.98*0.95),2*PI()*Calc_WHDHC!G937/60*Calc_WHDHC!H937/1000),3)","v":159.03399999999999},null,null,931,null,"-",null,null,{"$f":"Calc_WHDHC!J937/3.6/(2*Input!$B$5*PI())*60","v":111.64104567615206},null,null,{"$f":"ROUND(IF(Calc_WHDHC!H937<0,Calc_WHDHC!I937,2*PI()*Calc_WHDHC!G937/60*Calc_WHDHC!H937/1000*IF(Input!$B$4=\"Other\",0.95*0.95,0.98*0.95)),3)","v":148.06}]
[932,null,{"$f":"Calc_WHDHC!G938","v":1185},null,null,{"$f":"ROUND(IF(Calc_WHDHC!H938<0,Calc_WHDHC!I938*IF(Input!$B$4=\"Other\",0.95*0.95,0.98*0.95),2*PI()*Calc_WHDHC!G938/60*Calc_WHDHC!H938/1000),3)","v":162.43799999999999},null,null,932,null,"-",null,null,{"$f":"Calc_WHDHC!J938/3.6/(2*Input!$B$5*PI())*60","v":112.9701057437253},null,null,{"$f":"ROUND(IF(Calc_WHDHC!H938<0,Calc_WHDHC!I938,2*PI()*Calc_WHDHC!G938/60*Calc_WHDHC!H938/1000*IF(Input!$B$4=\"Other\",0.95*0.95,0.98*0.95)),3)","v":151.22900000000001}]
[933,null,{"$f":"Calc_WHDHC!G939","v":1211},null,null,{"$f":"ROUND(IF(Calc_WHDHC!H939<0,Calc_WHDHC!I939*IF(Input!$B$4=\"Other\",0.95*0.95,0.98*0.95),2*PI()*Calc_WHDHC!G939/60*Calc_WHDHC!H939/1000),3)","v":152.30600000000001},null,null,933,null,"-",null,null,{"$f":"Calc_WHDHC!J939/3.6/(2*Input!$B$5*PI())*60","v":115.48978212183289},null,null,{"$f":"ROUND(IF(Calc_WHDHC!H939<0,Calc_WHDHC!I939,2*PI()*Calc_WHDHC!G939/60*Calc_WHDHC!H939/1000*IF(Input!$B$4=\"Other\",0.95*0.95,0.98*0.95)),3)","v":141.79599999999999}]
[934,null,{"$f":"Calc_WHDHC!G940","v":1255},null,null,{"$f":"ROUND(IF(Calc_WHDHC!H940<0,Calc_WHDHC!I940*IF(Input!$B$4=\"Other\",0.95*0.95,0.98*0.95),2*PI()*Calc_WHDHC!G940/60*Calc_WHDHC!H940/1000),3)","v":160.73099999999999},null,null,934,null,"-",null,null,{"$f":"Calc_WHDHC!J940/3.6/(2*Input!$B$5*PI())*60","v":119.50465107596037},null,null,{"$f":"ROUND(IF(Calc_WHDHC!H940<0,Calc_WHDHC!I940,2*PI()*Calc_WHDHC!G940/60*Calc_WHDHC!H940/1000*IF(Input!$B$4=\"Other\",0.95*0.95,0.98*0.95)),3)","v":149.63999999999999}]
[935,null,{"$f":"Calc_WHDHC!G941","v":1304},null,null,{"$f":"ROUND(IF(Calc_WHDHC!H941<0,Calc_WHDHC!I941*IF(Input!$B$4=\"Other\",0.95*0.95,0.98*0.95),2*PI()*Calc_WHDHC!G941/60*Calc_WHDHC!H941/1000),3)","v":161.13399999999999},null,null,935,null,"-",null,null,{"$f":"Calc_WHDHC!J941/3.6/(2*Input!$B$5*PI())*60","v":124.15636131246674},null,null,{"$f":"ROUND(IF(Calc_WHDHC!H941<0,Calc_WHDHC!I941,2*PI()*Calc_WHDHC!G941/60*Calc_WHDHC!H941/1000*IF(Input!$B$4=\"Other\",0.95*0.95,0.98*0.95)),3)","v":150.01599999999999}]
[936,null,{"$f":"Calc_WHDHC!G942","v":1351},null,null,{"$f":"ROUND(IF(Calc_WHDHC!H942<0,Calc_WHDHC!I942*IF(Input!$B$4=\"Other\",0.95*0.95,0.98*0.95),2*PI()*Calc_WHDHC!G942/60*Calc_WHDHC!H942/1000),3)","v":81.066000000000003},null,null,936,null,"-",null,null,{"$f":"Calc_WHDHC!J942/3.6/(2*Input!$B$5*PI())*60","v":128.53118403489532},null,null,{"$f":"ROUND(IF(Calc_WHDHC!H942<0,Calc_WHDHC!I942,2*PI()*Calc_WHDHC!G942/60*Calc_WHDHC!H942/1000*IF(Input!$B$4=\"Other\",0.95*0.95,0.98*0.95)),3)","v":75.471999999999994}]
[937,null,{"$f":"Calc_WHDHC!G943","v":1165},null,null,{"$f":"ROUND(IF(Calc_WHDHC!H943<0,Calc_WHDHC!I943*IF(Input!$B$4=\"Other\",0.95*0.95,0.98*0.95),2*PI()*Calc_WHDHC!G943/60*Calc_WHDHC!H943/1000),3)","v":0},null,null,937,null,"-",null,null,{"$f":"Calc_WHDHC!J943/3.6/(2*Input!$B$5*PI())*60","v":132.65680799465389},null,null,{"$f":"ROUND(IF(Calc_WHDHC!H943<0,Calc_WHDHC!I943,2*PI()*Calc_WHDHC!G943/60*Calc_WHDHC!H943/1000*IF(Input!$B$4=\"Other\",0.95*0.95,0.98*0.95)),3)","v":0}]
[938,null,{"$f":"Calc_WHDHC!G944","v":980},null,null,{"$f":"ROUND(IF(Calc_WHDHC!H944<0,Calc_WHDHC!I944*IF(Input!$B$4=\"Other\",0.95*0.95,0.98*0.95),2*PI()*Calc_WHDHC!G944/60*Calc_WHDHC!H944/1000),3)","v":58.393999999999998},null,null,938,null,"-",null,null,{"$f":"Calc_WHDHC!J944/3.6/(2*Input!$B$5*PI())*60","v":135.89639190936367},null,null,{"$f":"ROUND(IF(Calc_WHDHC!H944<0,Calc_WHDHC!I944,2*PI()*Calc_WHDHC!G944/60*Calc_WHDHC!H944/1000*IF(Input!$B$4=\"Other\",0.95*0.95,0.98*0.95)),3)","v":54.365000000000002}]
[939,null,{"$f":"Calc_WHDHC!G945","v":992},null,null,{"$f":"ROUND(IF(Calc_WHDHC!H945<0,Calc_WHDHC!I945*IF(Input!$B$4=\"Other\",0.95*0.95,0.98*0.95),2*PI()*Calc_WHDHC!G945/60*Calc_WHDHC!H945/1000),3)","v":116.76300000000001},null,null,939,null,"-",null,null,{"$f":"Calc_WHDHC!J945/3.6/(2*Input!$B$5*PI())*60","v":137.50233949101465},null,null,{"$f":"ROUND(IF(Calc_WHDHC!H945<0,Calc_WHDHC!I945,2*PI()*Calc_WHDHC!G945/60*Calc_WHDHC!H945/1000*IF(Input!$B$4=\"Other\",0.95*0.95,0.98*0.95)),3)","v":108.70699999999999}]
[940,null,{"$f":"Calc_WHDHC!G946","v":1001},null,null,{"$f":"ROUND(IF(Calc_WHDHC!H946<0,Calc_WHDHC!I946*IF(Input!$B$4=\"Other\",0.95*0.95,0.98*0.95),2*PI()*Calc_WHDHC!G946/60*Calc_WHDHC!H946/1000),3)","v":131.76400000000001},null,null,940,null,"-",null,null,{"$f":"Calc_WHDHC!J946/3.6/(2*Input!$B$5*PI())*60","v":138.85908830999568},null,null,{"$f":"ROUND(IF(Calc_WHDHC!H946<0,Calc_WHDHC!I946,2*PI()*Calc_WHDHC!G946/60*Calc_WHDHC!H946/1000*IF(Input!$B$4=\"Other\",0.95*0.95,0.98*0.95)),3)","v":122.673}]
[941,null,{"$f":"Calc_WHDHC!G947","v":1017},null,null,{"$f":"ROUND(IF(Calc_WHDHC!H947<0,Calc_WHDHC!I947*IF(Input!$B$4=\"Other\",0.95*0.95,0.98*0.95),2*PI()*Calc_WHDHC!G947/60*Calc_WHDHC!H947/1000),3)","v":146.863},null,null,941,null,"-",null,null,{"$f":"Calc_WHDHC!J947/3.6/(2*Input!$B$5*PI())*60","v":141.04649967120997},null,null,{"$f":"ROUND(IF(Calc_WHDHC!H947<0,Calc_WHDHC!I947,2*PI()*Calc_WHDHC!G947/60*Calc_WHDHC!H947/1000*IF(Input!$B$4=\"Other\",0.95*0.95,0.98*0.95)),3)","v":136.72999999999999}]
[942,null,{"$f":"Calc_WHDHC!G948","v":1033},null,null,{"$f":"ROUND(IF(Calc_WHDHC!H948<0,Calc_WHDHC!I948*IF(Input!$B$4=\"Other\",0.95*0.95,0.98*0.95),2*PI()*Calc_WHDHC!G948/60*Calc_WHDHC!H948/1000),3)","v":151.446},null,null,942,null,"-",null,null,{"$f":"Calc_WHDHC!J948/3.6/(2*Input!$B$5*PI())*60","v":143.12315602679314},null,null,{"$f":"ROUND(IF(Calc_WHDHC!H948<0,Calc_WHDHC!I948,2*PI()*Calc_WHDHC!G948/60*Calc_WHDHC!H948/1000*IF(Input!$B$4=\"Other\",0.95*0.95,0.98*0.95)),3)","v":140.99600000000001}]
[943,null,{"$f":"Calc_WHDHC!G949","v":1070},null,null,{"$f":"ROUND(IF(Calc_WHDHC!H949<0,Calc_WHDHC!I949*IF(Input!$B$4=\"Other\",0.95*0.95,0.98*0.95),2*PI()*Calc_WHDHC!G949/60*Calc_WHDHC!H949/1000),3)","v":149.923},null,null,943,null,"-",null,null,{"$f":"Calc_WHDHC!J949/3.6/(2*Input!$B$5*PI())*60","v":148.13482003160058},null,null,{"$f":"ROUND(IF(Calc_WHDHC!H949<0,Calc_WHDHC!I949,2*PI()*Calc_WHDHC!G949/60*Calc_WHDHC!H949/1000*IF(Input!$B$4=\"Other\",0.95*0.95,0.98*0.95)),3)","v":139.578}]
[944,null,{"$f":"Calc_WHDHC!G950","v":1119},null,null,{"$f":"ROUND(IF(Calc_WHDHC!H950<0,Calc_WHDHC!I950*IF(Input!$B$4=\"Other\",0.95*0.95,0.98*0.95),2*PI()*Calc_WHDHC!G950/60*Calc_WHDHC!H950/1000),3)","v":151.047},null,null,944,null,"-",null,null,{"$f":"Calc_WHDHC!J950/3.6/(2*Input!$B$5*PI())*60","v":154.78012036946677},null,null,{"$f":"ROUND(IF(Calc_WHDHC!H950<0,Calc_WHDHC!I950,2*PI()*Calc_WHDHC!G950/60*Calc_WHDHC!H950/1000*IF(Input!$B$4=\"Other\",0.95*0.95,0.98*0.95)),3)","v":140.625}]
[945,null,{"$f":"Calc_WHDHC!G951","v":1142},null,null,{"$f":"ROUND(IF(Calc_WHDHC!H951<0,Calc_WHDHC!I951*IF(Input!$B$4=\"Other\",0.95*0.95,0.98*0.95),2*PI()*Calc_WHDHC!G951/60*Calc_WHDHC!H951/1000),3)","v":163.24},null,null,945,null,"-",null,null,{"$f":"Calc_WHDHC!J951/3.6/(2*Input!$B$5*PI())*60","v":158.13045928980765},null,null,{"$f":"ROUND(IF(Calc_WHDHC!H951<0,Calc_WHDHC!I951,2*PI()*Calc_WHDHC!G951/60*Calc_WHDHC!H951/1000*IF(Input!$B$4=\"Other\",0.95*0.95,0.98*0.95)),3)","v":151.977}]
[946,null,{"$f":"Calc_WHDHC!G952","v":1158},null,null,{"$f":"ROUND(IF(Calc_WHDHC!H952<0,Calc_WHDHC!I952*IF(Input!$B$4=\"Other\",0.95*0.95,0.98*0.95),2*PI()*Calc_WHDHC!G952/60*Calc_WHDHC!H952/1000),3)","v":160.67699999999999},null,null,946,null,"-",null,null,{"$f":"Calc_WHDHC!J952/3.6/(2*Input!$B$5*PI())*60","v":160.2624931482064},null,null,{"$f":"ROUND(IF(Calc_WHDHC!H952<0,Calc_WHDHC!I952,2*PI()*Calc_WHDHC!G952/60*Calc_WHDHC!H952/1000*IF(Input!$B$4=\"Other\",0.95*0.95,0.98*0.95)),3)","v":149.59}]
[947,null,{"$f":"Calc_WHDHC!G953","v":1174},null,null,{"$f":"ROUND(IF(Calc_WHDHC!H953<0,Calc_WHDHC!I953*IF(Input!$B$4=\"Other\",0.95*0.95,0.98*0.95),2*PI()*Calc_WHDHC!G953/60*Calc_WHDHC!H953/1000),3)","v":79.051000000000002},null,null,947,null,"-",null,null,{"$f":"Calc_WHDHC!J953/3.6/(2*Input!$B$5*PI())*60","v":162.33914950378957},null,null,{"$f":"ROUND(IF(Calc_WHDHC!H953<0,Calc_WHDHC!I953,2*PI()*Calc_WHDHC!G953/60*Calc_WHDHC!H953/1000*IF(Input!$B$4=\"Other\",0.95*0.95,0.98*0.95)),3)","v":73.596999999999994}]
[948,null,{"$f":"Calc_WHDHC!G954","v":1177},null,null,{"$f":"ROUND(IF(Calc_WHDHC!H954<0,Calc_WHDHC!I954*IF(Input!$B$4=\"Other\",0.95*0.95,0.98*0.95),2*PI()*Calc_WHDHC!G954/60*Calc_WHDHC!H954/1000),3)","v":28.718},null,null,948,null,"-",null,null,{"$f":"Calc_WHDHC!J954/3.6/(2*Input!$B$5*PI())*60","v":162.67141452068284},null,null,{"$f":"ROUND(IF(Calc_WHDHC!H954<0,Calc_WHDHC!I954,2*PI()*Calc_WHDHC!G954/60*Calc_WHDHC!H954/1000*IF(Input!$B$4=\"Other\",0.95*0.95,0.98*0.95)),3)","v":26.736999999999998}]
[949,null,{"$f":"Calc_WHDHC!G955","v":1166},null,null,{"$f":"ROUND(IF(Calc_WHDHC!H955<0,Calc_WHDHC!I955*IF(Input!$B$4=\"Other\",0.95*0.95,0.98*0.95),2*PI()*Calc_WHDHC!G955/60*Calc_WHDHC!H955/1000),3)","v":41.271000000000001},null,null,949,null,"-",null,null,{"$f":"Calc_WHDHC!J955/3.6/(2*Input!$B$5*PI())*60","v":161.31466570170187},null,null,{"$f":"ROUND(IF(Calc_WHDHC!H955<0,Calc_WHDHC!I955,2*PI()*Calc_WHDHC!G955/60*Calc_WHDHC!H955/1000*IF(Input!$B$4=\"Other\",0.95*0.95,0.98*0.95)),3)","v":38.423000000000002}]
[950,null,{"$f":"Calc_WHDHC!G956","v":1162},null,null,{"$f":"ROUND(IF(Calc_WHDHC!H956<0,Calc_WHDHC!I956*IF(Input!$B$4=\"Other\",0.95*0.95,0.98*0.95),2*PI()*Calc_WHDHC!G956/60*Calc_WHDHC!H956/1000),3)","v":55.61},null,null,950,null,"-",null,null,{"$f":"Calc_WHDHC!J956/3.6/(2*Input!$B$5*PI())*60","v":160.67782441932303},null,null,{"$f":"ROUND(IF(Calc_WHDHC!H956<0,Calc_WHDHC!I956,2*PI()*Calc_WHDHC!G956/60*Calc_WHDHC!H956/1000*IF(Input!$B$4=\"Other\",0.95*0.95,0.98*0.95)),3)","v":51.773000000000003}]
[951,null,{"$f":"Calc_WHDHC!G957","v":1166},null,null,{"$f":"ROUND(IF(Calc_WHDHC!H957<0,Calc_WHDHC!I957*IF(Input!$B$4=\"Other\",0.95*0.95,0.98*0.95),2*PI()*Calc_WHDHC!G957/60*Calc_WHDHC!H957/1000),3)","v":62.027999999999999},null,null,951,null,"-",null,null,{"$f":"Calc_WHDHC!J957/3.6/(2*Input!$B$5*PI())*60","v":161.37004320451743},null,null,{"$f":"ROUND(IF(Calc_WHDHC!H957<0,Calc_WHDHC!I957,2*PI()*Calc_WHDHC!G957/60*Calc_WHDHC!H957/1000*IF(Input!$B$4=\"Other\",0.95*0.95,0.98*0.95)),3)","v":57.747999999999998}]
[952,null,{"$f":"Calc_WHDHC!G958","v":1174},null,null,{"$f":"ROUND(IF(Calc_WHDHC!H958<0,Calc_WHDHC!I958*IF(Input!$B$4=\"Other\",0.95*0.95,0.98*0.95),2*PI()*Calc_WHDHC!G958/60*Calc_WHDHC!H958/1000),3)","v":63.805999999999997},null,null,952,null,"-",null,null,{"$f":"Calc_WHDHC!J958/3.6/(2*Input!$B$5*PI())*60","v":162.44990450942066},null,null,{"$f":"ROUND(IF(Calc_WHDHC!H958<0,Calc_WHDHC!I958,2*PI()*Calc_WHDHC!G958/60*Calc_WHDHC!H958/1000*IF(Input!$B$4=\"Other\",0.95*0.95,0.98*0.95)),3)","v":59.404000000000003}]
[953,null,{"$f":"Calc_WHDHC!G959","v":1177},null,null,{"$f":"ROUND(IF(Calc_WHDHC!H959<0,Calc_WHDHC!I959*IF(Input!$B$4=\"Other\",0.95*0.95,0.98*0.95),2*PI()*Calc_WHDHC!G959/60*Calc_WHDHC!H959/1000),3)","v":63.969000000000001},null,null,953,null,"-",null,null,{"$f":"Calc_WHDHC!J959/3.6/(2*Input!$B$5*PI())*60","v":162.69910327209067},null,null,{"$f":"ROUND(IF(Calc_WHDHC!H959<0,Calc_WHDHC!I959,2*PI()*Calc_WHDHC!G959/60*Calc_WHDHC!H959/1000*IF(Input!$B$4=\"Other\",0.95*0.95,0.98*0.95)),3)","v":59.555999999999997}]
[954,null,{"$f":"Calc_WHDHC!G960","v":1178},null,null,{"$f":"ROUND(IF(Calc_WHDHC!H960<0,Calc_WHDHC!I960*IF(Input!$B$4=\"Other\",0.95*0.95,0.98*0.95),2*PI()*Calc_WHDHC!G960/60*Calc_WHDHC!H960/1000),3)","v":73.028999999999996},null,null,954,null,"-",null,null,{"$f":"Calc_WHDHC!J960/3.6/(2*Input!$B$5*PI())*60","v":162.86523578053732},null,null,{"$f":"ROUND(IF(Calc_WHDHC!H960<0,Calc_WHDHC!I960,2*PI()*Calc_WHDHC!G960/60*Calc_WHDHC!H960/1000*IF(Input!$B$4=\"Other\",0.95*0.95,0.98*0.95)),3)","v":67.989999999999995}]
[955,null,{"$f":"Calc_WHDHC!G961","v":1183},null,null,{"$f":"ROUND(IF(Calc_WHDHC!H961<0,Calc_WHDHC!I961*IF(Input!$B$4=\"Other\",0.95*0.95,0.98*0.95),2*PI()*Calc_WHDHC!G961/60*Calc_WHDHC!H961/1000),3)","v":81.144000000000005},null,null,955,null,"-",null,null,{"$f":"Calc_WHDHC!J961/3.6/(2*Input!$B$5*PI())*60","v":163.61283206854725},null,null,{"$f":"ROUND(IF(Calc_WHDHC!H961<0,Calc_WHDHC!I961,2*PI()*Calc_WHDHC!G961/60*Calc_WHDHC!H961/1000*IF(Input!$B$4=\"Other\",0.95*0.95,0.98*0.95)),3)","v":75.545000000000002}]
[956,null,{"$f":"Calc_WHDHC!G962","v":1189},null,null,{"$f":"ROUND(IF(Calc_WHDHC!H962<0,Calc_WHDHC!I962*IF(Input!$B$4=\"Other\",0.95*0.95,0.98*0.95),2*PI()*Calc_WHDHC!G962/60*Calc_WHDHC!H962/1000),3)","v":77.445999999999998},null,null,956,null,"-",null,null,{"$f":"Calc_WHDHC!J962/3.6/(2*Input!$B$5*PI())*60","v":164.41580585937277},null,null,{"$f":"ROUND(IF(Calc_WHDHC!H962<0,Calc_WHDHC!I962,2*PI()*Calc_WHDHC!G962/60*Calc_WHDHC!H962/1000*IF(Input!$B$4=\"Other\",0.95*0.95,0.98*0.95)),3)","v":72.102999999999994}]
[957,null,{"$f":"Calc_WHDHC!G963","v":1197},null,null,{"$f":"ROUND(IF(Calc_WHDHC!H963<0,Calc_WHDHC!I963*IF(Input!$B$4=\"Other\",0.95*0.95,0.98*0.95),2*PI()*Calc_WHDHC!G963/60*Calc_WHDHC!H963/1000),3)","v":82.228999999999999},null,null,957,null,"-",null,null,{"$f":"Calc_WHDHC!J963/3.6/(2*Input!$B$5*PI())*60","v":165.35722340723714},null,null,{"$f":"ROUND(IF(Calc_WHDHC!H963<0,Calc_WHDHC!I963,2*PI()*Calc_WHDHC!G963/60*Calc_WHDHC!H963/1000*IF(Input!$B$4=\"Other\",0.95*0.95,0.98*0.95)),3)","v":76.555000000000007}]
[958,null,{"$f":"Calc_WHDHC!G964","v":1202},null,null,{"$f":"ROUND(IF(Calc_WHDHC!H964<0,Calc_WHDHC!I964*IF(Input!$B$4=\"Other\",0.95*0.95,0.98*0.95),2*PI()*Calc_WHDHC!G964/60*Calc_WHDHC!H964/1000),3)","v":88.614999999999995},null,null,958,null,"-",null,null,{"$f":"Calc_WHDHC!J964/3.6/(2*Input!$B$5*PI())*60","v":166.24326345228596},null,null,{"$f":"ROUND(IF(Calc_WHDHC!H964<0,Calc_WHDHC!I964,2*PI()*Calc_WHDHC!G964/60*Calc_WHDHC!H964/1000*IF(Input!$B$4=\"Other\",0.95*0.95,0.98*0.95)),3)","v":82.5}]
[959,null,{"$f":"Calc_WHDHC!G965","v":1204},null,null,{"$f":"ROUND(IF(Calc_WHDHC!H965<0,Calc_WHDHC!I965*IF(Input!$B$4=\"Other\",0.95*0.95,0.98*0.95),2*PI()*Calc_WHDHC!G965/60*Calc_WHDHC!H965/1000),3)","v":-8.1669999999999998},null,null,959,null,"-",null,null,{"$f":"Calc_WHDHC!J965/3.6/(2*Input!$B$5*PI())*60","v":166.49246221495596},null,null,{"$f":"ROUND(IF(Calc_WHDHC!H965<0,Calc_WHDHC!I965,2*PI()*Calc_WHDHC!G965/60*Calc_WHDHC!H965/1000*IF(Input!$B$4=\"Other\",0.95*0.95,0.98*0.95)),3)","v":-8.7720000000000002}]
[960,null,{"$f":"Calc_WHDHC!G966","v":1189},null,null,{"$f":"ROUND(IF(Calc_WHDHC!H966<0,Calc_WHDHC!I966*IF(Input!$B$4=\"Other\",0.95*0.95,0.98*0.95),2*PI()*Calc_WHDHC!G966/60*Calc_WHDHC!H966/1000),3)","v":-8.3960000000000008},null,null,960,null,"-",null,null,{"$f":"Calc_WHDHC!J966/3.6/(2*Input!$B$5*PI())*60","v":164.27736210233385},null,null,{"$f":"ROUND(IF(Calc_WHDHC!H966<0,Calc_WHDHC!I966,2*PI()*Calc_WHDHC!G966/60*Calc_WHDHC!H966/1000*IF(Input!$B$4=\"Other\",0.95*0.95,0.98*0.95)),3)","v":-9.0180000000000007}]
[961,null,{"$f":"Calc_WHDHC!G967","v":1171},null,null,{"$f":"ROUND(IF(Calc_WHDHC!H967<0,Calc_WHDHC!I967*IF(Input!$B$4=\"Other\",0.95*0.95,0.98*0.95),2*PI()*Calc_WHDHC!G967/60*Calc_WHDHC!H967/1000),3)","v":-5.4420000000000002},null,null,961,null,"-",null,null,{"$f":"Calc_WHDHC!J967/3.6/(2*Input!$B$5*PI())*60","v":162.03457323830403},null,null,{"$f":"ROUND(IF(Calc_WHDHC!H967<0,Calc_WHDHC!I967,2*PI()*Calc_WHDHC!G967/60*Calc_WHDHC!H967/1000*IF(Input!$B$4=\"Other\",0.95*0.95,0.98*0.95)),3)","v":-5.8449999999999998}]
[962,null,{"$f":"Calc_WHDHC!G968","v":1157},null,null,{"$f":"ROUND(IF(Calc_WHDHC!H968<0,Calc_WHDHC!I968*IF(Input!$B$4=\"Other\",0.95*0.95,0.98*0.95),2*PI()*Calc_WHDHC!G968/60*Calc_WHDHC!H968/1000),3)","v":-17.391999999999999},null,null,962,null,"-",null,null,{"$f":"Calc_WHDHC!J968/3.6/(2*Input!$B$5*PI())*60","v":160.09636063975972},null,null,{"$f":"ROUND(IF(Calc_WHDHC!H968<0,Calc_WHDHC!I968,2*PI()*Calc_WHDHC!G968/60*Calc_WHDHC!H968/1000*IF(Input!$B$4=\"Other\",0.95*0.95,0.98*0.95)),3)","v":-18.681000000000001}]
[963,null,{"$f":"Calc_WHDHC!G969","v":1134},null,null,{"$f":"ROUND(IF(Calc_WHDHC!H969<0,Calc_WHDHC!I969*IF(Input!$B$4=\"Other\",0.95*0.95,0.98*0.95),2*PI()*Calc_WHDHC!G969/60*Calc_WHDHC!H969/1000),3)","v":-22.01},null,null,963,null,"-",null,null,{"$f":"Calc_WHDHC!J969/3.6/(2*Input!$B$5*PI())*60","v":156.93984297927329},null,null,{"$f":"ROUND(IF(Calc_WHDHC!H969<0,Calc_WHDHC!I969,2*PI()*Calc_WHDHC!G969/60*Calc_WHDHC!H969/1000*IF(Input!$B$4=\"Other\",0.95*0.95,0.98*0.95)),3)","v":-23.640999999999998}]
[964,null,{"$f":"Calc_WHDHC!G970","v":1107},null,null,{"$f":"ROUND(IF(Calc_WHDHC!H970<0,Calc_WHDHC!I970*IF(Input!$B$4=\"Other\",0.95*0.95,0.98*0.95),2*PI()*Calc_WHDHC!G970/60*Calc_WHDHC!H970/1000),3)","v":-6.1059999999999999},null,null,964,null,"-",null,null,{"$f":"Calc_WHDHC!J970/3.6/(2*Input!$B$5*PI())*60","v":153.28492779344688},null,null,{"$f":"ROUND(IF(Calc_WHDHC!H970<0,Calc_WHDHC!I970,2*PI()*Calc_WHDHC!G970/60*Calc_WHDHC!H970/1000*IF(Input!$B$4=\"Other\",0.95*0.95,0.98*0.95)),3)","v":-6.5590000000000002}]
[965,null,{"$f":"Calc_WHDHC!G971","v":1092},null,null,{"$f":"ROUND(IF(Calc_WHDHC!H971<0,Calc_WHDHC!I971*IF(Input!$B$4=\"Other\",0.95*0.95,0.98*0.95),2*PI()*Calc_WHDHC!G971/60*Calc_WHDHC!H971/1000),3)","v":-2.8380000000000001},null,null,965,null,"-",null,null,{"$f":"Calc_WHDHC!J971/3.6/(2*Input!$B$5*PI())*60","v":151.26364894067927},null,null,{"$f":"ROUND(IF(Calc_WHDHC!H971<0,Calc_WHDHC!I971,2*PI()*Calc_WHDHC!G971/60*Calc_WHDHC!H971/1000*IF(Input!$B$4=\"Other\",0.95*0.95,0.98*0.95)),3)","v":-3.048}]
[966,null,{"$f":"Calc_WHDHC!G972","v":1080},null,null,{"$f":"ROUND(IF(Calc_WHDHC!H972<0,Calc_WHDHC!I972*IF(Input!$B$4=\"Other\",0.95*0.95,0.98*0.95),2*PI()*Calc_WHDHC!G972/60*Calc_WHDHC!H972/1000),3)","v":-10.093},null,null,966,null,"-",null,null,{"$f":"Calc_WHDHC!J972/3.6/(2*Input!$B$5*PI())*60","v":149.63001260762047},null,null,{"$f":"ROUND(IF(Calc_WHDHC!H972<0,Calc_WHDHC!I972,2*PI()*Calc_WHDHC!G972/60*Calc_WHDHC!H972/1000*IF(Input!$B$4=\"Other\",0.95*0.95,0.98*0.95)),3)","v":-10.840999999999999}]
[967,null,{"$f":"Calc_WHDHC!G973","v":1062},null,null,{"$f":"ROUND(IF(Calc_WHDHC!H973<0,Calc_WHDHC!I973*IF(Input!$B$4=\"Other\",0.95*0.95,0.98*0.95),2*PI()*Calc_WHDHC!G973/60*Calc_WHDHC!H973/1000),3)","v":-16.077000000000002},null,null,967,null,"-",null,null,{"$f":"Calc_WHDHC!J973/3.6/(2*Input!$B$5*PI())*60","v":147.16571373232841},null,null,{"$f":"ROUND(IF(Calc_WHDHC!H973<0,Calc_WHDHC!I973,2*PI()*Calc_WHDHC!G973/60*Calc_WHDHC!H973/1000*IF(Input!$B$4=\"Other\",0.95*0.95,0.98*0.95)),3)","v":-17.268999999999998}]
[968,null,{"$f":"Calc_WHDHC!G974","v":1039},null,null,{"$f":"ROUND(IF(Calc_WHDHC!H974<0,Calc_WHDHC!I974*IF(Input!$B$4=\"Other\",0.95*0.95,0.98*0.95),2*PI()*Calc_WHDHC!G974/60*Calc_WHDHC!H974/1000),3)","v":-4.05},null,null,968,null,"-",null,null,{"$f":"Calc_WHDHC!J974/3.6/(2*Input!$B$5*PI())*60","v":144.03688482324978},null,null,{"$f":"ROUND(IF(Calc_WHDHC!H974<0,Calc_WHDHC!I974,2*PI()*Calc_WHDHC!G974/60*Calc_WHDHC!H974/1000*IF(Input!$B$4=\"Other\",0.95*0.95,0.98*0.95)),3)","v":-4.3499999999999996}]
[969,null,{"$f":"Calc_WHDHC!G975","v":1026},null,null,{"$f":"ROUND(IF(Calc_WHDHC!H975<0,Calc_WHDHC!I975*IF(Input!$B$4=\"Other\",0.95*0.95,0.98*0.95),2*PI()*Calc_WHDHC!G975/60*Calc_WHDHC!H975/1000),3)","v":12.678000000000001},null,null,969,null,"-",null,null,{"$f":"Calc_WHDHC!J975/3.6/(2*Input!$B$5*PI())*60","v":142.23711598174432},null,null,{"$f":"ROUND(IF(Calc_WHDHC!H975<0,Calc_WHDHC!I975,2*PI()*Calc_WHDHC!G975/60*Calc_WHDHC!H975/1000*IF(Input!$B$4=\"Other\",0.95*0.95,0.98*0.95)),3)","v":11.803000000000001}]
[970,null,{"$f":"Calc_WHDHC!G976","v":1028},null,null,{"$f":"ROUND(IF(Calc_WHDHC!H976<0,Calc_WHDHC!I976*IF(Input!$B$4=\"Other\",0.95*0.95,0.98*0.95),2*PI()*Calc_WHDHC!G976/60*Calc_WHDHC!H976/1000),3)","v":66.206000000000003},null,null,970,null,"-",null,null,{"$f":"Calc_WHDHC!J976/3.6/(2*Input!$B$5*PI())*60","v":142.34787098737544},null,null,{"$f":"ROUND(IF(Calc_WHDHC!H976<0,Calc_WHDHC!I976,2*PI()*Calc_WHDHC!G976/60*Calc_WHDHC!H976/1000*IF(Input!$B$4=\"Other\",0.95*0.95,0.98*0.95)),3)","v":61.637999999999998}]
[971,null,{"$f":"Calc_WHDHC!G977","v":1043},null,null,{"$f":"ROUND(IF(Calc_WHDHC!H977<0,Calc_WHDHC!I977*IF(Input!$B$4=\"Other\",0.95*0.95,0.98*0.95),2*PI()*Calc_WHDHC!G977/60*Calc_WHDHC!H977/1000),3)","v":124.18600000000001},null,null,971,null,"-",null,null,{"$f":"Calc_WHDHC!J977/3.6/(2*Input!$B$5*PI())*60","v":144.5352823485897},null,null,{"$f":"ROUND(IF(Calc_WHDHC!H977<0,Calc_WHDHC!I977,2*PI()*Calc_WHDHC!G977/60*Calc_WHDHC!H977/1000*IF(Input!$B$4=\"Other\",0.95*0.95,0.98*0.95)),3)","v":115.617}]
[972,null,{"$f":"Calc_WHDHC!G978","v":1070},null,null,{"$f":"ROUND(IF(Calc_WHDHC!H978<0,Calc_WHDHC!I978*IF(Input!$B$4=\"Other\",0.95*0.95,0.98*0.95),2*PI()*Calc_WHDHC!G978/60*Calc_WHDHC!H978/1000),3)","v":111.938},null,null,972,null,"-",null,null,{"$f":"Calc_WHDHC!J978/3.6/(2*Input!$B$5*PI())*60","v":148.19019753441614},null,null,{"$f":"ROUND(IF(Calc_WHDHC!H978<0,Calc_WHDHC!I978,2*PI()*Calc_WHDHC!G978/60*Calc_WHDHC!H978/1000*IF(Input!$B$4=\"Other\",0.95*0.95,0.98*0.95)),3)","v":104.214}]
[973,null,{"$f":"Calc_WHDHC!G979","v":1087},null,null,{"$f":"ROUND(IF(Calc_WHDHC!H979<0,Calc_WHDHC!I979*IF(Input!$B$4=\"Other\",0.95*0.95,0.98*0.95),2*PI()*Calc_WHDHC!G979/60*Calc_WHDHC!H979/1000),3)","v":98.349000000000004},null,null,973,null,"-",null,null,{"$f":"Calc_WHDHC!J979/3.6/(2*Input!$B$5*PI())*60","v":150.46067514985376},null,null,{"$f":"ROUND(IF(Calc_WHDHC!H979<0,Calc_WHDHC!I979,2*PI()*Calc_WHDHC!G979/60*Calc_WHDHC!H979/1000*IF(Input!$B$4=\"Other\",0.95*0.95,0.98*0.95)),3)","v":91.563000000000002}]
[974,null,{"$f":"Calc_WHDHC!G980","v":1092},null,null,{"$f":"ROUND(IF(Calc_WHDHC!H980<0,Calc_WHDHC!I980*IF(Input!$B$4=\"Other\",0.95*0.95,0.98*0.95),2*PI()*Calc_WHDHC!G980/60*Calc_WHDHC!H980/1000),3)","v":90.453999999999994},null,null,974,null,"-",null,null,{"$f":"Calc_WHDHC!J980/3.6/(2*Input!$B$5*PI())*60","v":151.15289393504816},null,null,{"$f":"ROUND(IF(Calc_WHDHC!H980<0,Calc_WHDHC!I980,2*PI()*Calc_WHDHC!G980/60*Calc_WHDHC!H980/1000*IF(Input!$B$4=\"Other\",0.95*0.95,0.98*0.95)),3)","v":84.212999999999994}]
[975,null,{"$f":"Calc_WHDHC!G981","v":1099},null,null,{"$f":"ROUND(IF(Calc_WHDHC!H981<0,Calc_WHDHC!I981*IF(Input!$B$4=\"Other\",0.95*0.95,0.98*0.95),2*PI()*Calc_WHDHC!G981/60*Calc_WHDHC!H981/1000),3)","v":83.552999999999997},null,null,975,null,"-",null,null,{"$f":"Calc_WHDHC!J981/3.6/(2*Input!$B$5*PI())*60","v":152.06662273150476},null,null,{"$f":"ROUND(IF(Calc_WHDHC!H981<0,Calc_WHDHC!I981,2*PI()*Calc_WHDHC!G981/60*Calc_WHDHC!H981/1000*IF(Input!$B$4=\"Other\",0.95*0.95,0.98*0.95)),3)","v":77.787999999999997}]
[976,null,{"$f":"Calc_WHDHC!G982","v":1113},null,null,{"$f":"ROUND(IF(Calc_WHDHC!H982<0,Calc_WHDHC!I982*IF(Input!$B$4=\"Other\",0.95*0.95,0.98*0.95),2*PI()*Calc_WHDHC!G982/60*Calc_WHDHC!H982/1000),3)","v":78.557000000000002},null,null,976,null,"-",null,null,{"$f":"Calc_WHDHC!J982/3.6/(2*Input!$B$5*PI())*60","v":154.19865658990346},null,null,{"$f":"ROUND(IF(Calc_WHDHC!H982<0,Calc_WHDHC!I982,2*PI()*Calc_WHDHC!G982/60*Calc_WHDHC!H982/1000*IF(Input!$B$4=\"Other\",0.95*0.95,0.98*0.95)),3)","v":73.135999999999996}]
[977,null,{"$f":"Calc_WHDHC!G983","v":1131},null,null,{"$f":"ROUND(IF(Calc_WHDHC!H983<0,Calc_WHDHC!I983*IF(Input!$B$4=\"Other\",0.95*0.95,0.98*0.95),2*PI()*Calc_WHDHC!G983/60*Calc_WHDHC!H983/1000),3)","v":65.259},null,null,977,null,"-",null,null,{"$f":"Calc_WHDHC!J983/3.6/(2*Input!$B$5*PI())*60","v":156.46913420534111},null,null,{"$f":"ROUND(IF(Calc_WHDHC!H983<0,Calc_WHDHC!I983,2*PI()*Calc_WHDHC!G983/60*Calc_WHDHC!H983/1000*IF(Input!$B$4=\"Other\",0.95*0.95,0.98*0.95)),3)","v":60.756}]
[978,null,{"$f":"Calc_WHDHC!G984","v":1134},null,null,{"$f":"ROUND(IF(Calc_WHDHC!H984<0,Calc_WHDHC!I984*IF(Input!$B$4=\"Other\",0.95*0.95,0.98*0.95),2*PI()*Calc_WHDHC!G984/60*Calc_WHDHC!H984/1000),3)","v":-0.317},null,null,978,null,"-",null,null,{"$f":"Calc_WHDHC!J984/3.6/(2*Input!$B$5*PI())*60","v":157.07828673631218},null,null,{"$f":"ROUND(IF(Calc_WHDHC!H984<0,Calc_WHDHC!I984,2*PI()*Calc_WHDHC!G984/60*Calc_WHDHC!H984/1000*IF(Input!$B$4=\"Other\",0.95*0.95,0.98*0.95)),3)","v":-0.34100000000000003}]
[979,null,{"$f":"Calc_WHDHC!G985","v":1127},null,null,{"$f":"ROUND(IF(Calc_WHDHC!H985<0,Calc_WHDHC!I985*IF(Input!$B$4=\"Other\",0.95*0.95,0.98*0.95),2*PI()*Calc_WHDHC!G985/60*Calc_WHDHC!H985/1000),3)","v":-11.939},null,null,979,null,"-",null,null,{"$f":"Calc_WHDHC!J985/3.6/(2*Input!$B$5*PI())*60","v":155.97073668000112},null,null,{"$f":"ROUND(IF(Calc_WHDHC!H985<0,Calc_WHDHC!I985,2*PI()*Calc_WHDHC!G985/60*Calc_WHDHC!H985/1000*IF(Input!$B$4=\"Other\",0.95*0.95,0.98*0.95)),3)","v":-12.824}]
[980,null,{"$f":"Calc_WHDHC!G986","v":1108},null,null,{"$f":"ROUND(IF(Calc_WHDHC!H986<0,Calc_WHDHC!I986*IF(Input!$B$4=\"Other\",0.95*0.95,0.98*0.95),2*PI()*Calc_WHDHC!G986/60*Calc_WHDHC!H986/1000),3)","v":-0.26600000000000001},null,null,980,null,"-",null,null,{"$f":"Calc_WHDHC!J986/3.6/(2*Input!$B$5*PI())*60","v":153.34030529626244},null,null,{"$f":"ROUND(IF(Calc_WHDHC!H986<0,Calc_WHDHC!I986,2*PI()*Calc_WHDHC!G986/60*Calc_WHDHC!H986/1000*IF(Input!$B$4=\"Other\",0.95*0.95,0.98*0.95)),3)","v":-0.28599999999999998}]
[981,null,{"$f":"Calc_WHDHC!G987","v":1100},null,null,{"$f":"ROUND(IF(Calc_WHDHC!H987<0,Calc_WHDHC!I987*IF(Input!$B$4=\"Other\",0.95*0.95,0.98*0.95),2*PI()*Calc_WHDHC!G987/60*Calc_WHDHC!H987/1000),3)","v":0},null,null,981,null,"-",null,null,{"$f":"Calc_WHDHC!J987/3.6/(2*Input!$B$5*PI())*60","v":152.26044399135918},null,null,{"$f":"ROUND(IF(Calc_WHDHC!H987<0,Calc_WHDHC!I987,2*PI()*Calc_WHDHC!G987/60*Calc_WHDHC!H987/1000*IF(Input!$B$4=\"Other\",0.95*0.95,0.98*0.95)),3)","v":0}]
[982,null,{"$f":"Calc_WHDHC!G988","v":1095},null,null,{"$f":"ROUND(IF(Calc_WHDHC!H988<0,Calc_WHDHC!I988*IF(Input!$B$4=\"Other\",0.95*0.95,0.98*0.95),2*PI()*Calc_WHDHC!G988/60*Calc_WHDHC!H988/1000),3)","v":-3.851},null,null,982,null,"-",null,null,{"$f":"Calc_WHDHC!J988/3.6/(2*Input!$B$5*PI())*60","v":151.59591395757252},null,null,{"$f":"ROUND(IF(Calc_WHDHC!H988<0,Calc_WHDHC!I988,2*PI()*Calc_WHDHC!G988/60*Calc_WHDHC!H988/1000*IF(Input!$B$4=\"Other\",0.95*0.95,0.98*0.95)),3)","v":-4.1360000000000001}]
[983,null,{"$f":"Calc_WHDHC!G989","v":1082},null,null,{"$f":"ROUND(IF(Calc_WHDHC!H989<0,Calc_WHDHC!I989*IF(Input!$B$4=\"Other\",0.95*0.95,0.98*0.95),2*PI()*Calc_WHDHC!G989/60*Calc_WHDHC!H989/1000),3)","v":-7.5110000000000001},null,null,983,null,"-",null,null,{"$f":"Calc_WHDHC!J989/3.6/(2*Input!$B$5*PI())*60","v":149.82383386747489},null,null,{"$f":"ROUND(IF(Calc_WHDHC!H989<0,Calc_WHDHC!I989,2*PI()*Calc_WHDHC!G989/60*Calc_WHDHC!H989/1000*IF(Input!$B$4=\"Other\",0.95*0.95,0.98*0.95)),3)","v":-8.0679999999999996}]
[984,null,{"$f":"Calc_WHDHC!G990","v":1066},null,null,{"$f":"ROUND(IF(Calc_WHDHC!H990<0,Calc_WHDHC!I990*IF(Input!$B$4=\"Other\",0.95*0.95,0.98*0.95),2*PI()*Calc_WHDHC!G990/60*Calc_WHDHC!H990/1000),3)","v":-10.523},null,null,984,null,"-",null,null,{"$f":"Calc_WHDHC!J990/3.6/(2*Input!$B$5*PI())*60","v":147.6364225062606},null,null,{"$f":"ROUND(IF(Calc_WHDHC!H990<0,Calc_WHDHC!I990,2*PI()*Calc_WHDHC!G990/60*Calc_WHDHC!H990/1000*IF(Input!$B$4=\"Other\",0.95*0.95,0.98*0.95)),3)","v":-11.303000000000001}]
[985,null,{"$f":"Calc_WHDHC!G991","v":1047},null,null,{"$f":"ROUND(IF(Calc_WHDHC!H991<0,Calc_WHDHC!I991*IF(Input!$B$4=\"Other\",0.95*0.95,0.98*0.95),2*PI()*Calc_WHDHC!G991/60*Calc_WHDHC!H991/1000),3)","v":-11.66},null,null,985,null,"-",null,null,{"$f":"Calc_WHDHC!J991/3.6/(2*Input!$B$5*PI())*60","v":145.11674612815301},null,null,{"$f":"ROUND(IF(Calc_WHDHC!H991<0,Calc_WHDHC!I991,2*PI()*Calc_WHDHC!G991/60*Calc_WHDHC!H991/1000*IF(Input!$B$4=\"Other\",0.95*0.95,0.98*0.95)),3)","v":-12.523999999999999}]
[986,null,{"$f":"Calc_WHDHC!G992","v":1028},null,null,{"$f":"ROUND(IF(Calc_WHDHC!H992<0,Calc_WHDHC!I992*IF(Input!$B$4=\"Other\",0.95*0.95,0.98*0.95),2*PI()*Calc_WHDHC!G992/60*Calc_WHDHC!H992/1000),3)","v":-2.7730000000000001},null,null,986,null,"-",null,null,{"$f":"Calc_WHDHC!J992/3.6/(2*Input!$B$5*PI())*60","v":142.45862599300654},null,null,{"$f":"ROUND(IF(Calc_WHDHC!H992<0,Calc_WHDHC!I992,2*PI()*Calc_WHDHC!G992/60*Calc_WHDHC!H992/1000*IF(Input!$B$4=\"Other\",0.95*0.95,0.98*0.95)),3)","v":-2.9790000000000001}]
[987,null,{"$f":"Calc_WHDHC!G993","v":1016},null,null,{"$f":"ROUND(IF(Calc_WHDHC!H993<0,Calc_WHDHC!I993*IF(Input!$B$4=\"Other\",0.95*0.95,0.98*0.95),2*PI()*Calc_WHDHC!G993/60*Calc_WHDHC!H993/1000),3)","v":-0.23300000000000001},null,null,987,null,"-",null,null,{"$f":"Calc_WHDHC!J993/3.6/(2*Input!$B$5*PI())*60","v":140.82498965994776},null,null,{"$f":"ROUND(IF(Calc_WHDHC!H993<0,Calc_WHDHC!I993,2*PI()*Calc_WHDHC!G993/60*Calc_WHDHC!H993/1000*IF(Input!$B$4=\"Other\",0.95*0.95,0.98*0.95)),3)","v":-0.25}]
[988,null,{"$f":"Calc_WHDHC!G994","v":1008},null,null,{"$f":"ROUND(IF(Calc_WHDHC!H994<0,Calc_WHDHC!I994*IF(Input!$B$4=\"Other\",0.95*0.95,0.98*0.95),2*PI()*Calc_WHDHC!G994/60*Calc_WHDHC!H994/1000),3)","v":-9.3179999999999996},null,null,988,null,"-",null,null,{"$f":"Calc_WHDHC!J994/3.6/(2*Input!$B$5*PI())*60","v":139.77281710645227},null,null,{"$f":"ROUND(IF(Calc_WHDHC!H994<0,Calc_WHDHC!I994,2*PI()*Calc_WHDHC!G994/60*Calc_WHDHC!H994/1000*IF(Input!$B$4=\"Other\",0.95*0.95,0.98*0.95)),3)","v":-10.009}]
[989,null,{"$f":"Calc_WHDHC!G995","v":991},null,null,{"$f":"ROUND(IF(Calc_WHDHC!H995<0,Calc_WHDHC!I995*IF(Input!$B$4=\"Other\",0.95*0.95,0.98*0.95),2*PI()*Calc_WHDHC!G995/60*Calc_WHDHC!H995/1000),3)","v":-13.227},null,null,989,null,"-",null,null,{"$f":"Calc_WHDHC!J995/3.6/(2*Input!$B$5*PI())*60","v":137.33620698256803},null,null,{"$f":"ROUND(IF(Calc_WHDHC!H995<0,Calc_WHDHC!I995,2*PI()*Calc_WHDHC!G995/60*Calc_WHDHC!H995/1000*IF(Input!$B$4=\"Other\",0.95*0.95,0.98*0.95)),3)","v":-14.207000000000001}]
[990,null,{"$f":"Calc_WHDHC!G996","v":968},null,null,{"$f":"ROUND(IF(Calc_WHDHC!H996<0,Calc_WHDHC!I996*IF(Input!$B$4=\"Other\",0.95*0.95,0.98*0.95),2*PI()*Calc_WHDHC!G996/60*Calc_WHDHC!H996/1000),3)","v":-4.4770000000000003},null,null,990,null,"-",null,null,{"$f":"Calc_WHDHC!J996/3.6/(2*Input!$B$5*PI())*60","v":134.42888808475155},null,null,{"$f":"ROUND(IF(Calc_WHDHC!H996<0,Calc_WHDHC!I996,2*PI()*Calc_WHDHC!G996/60*Calc_WHDHC!H996/1000*IF(Input!$B$4=\"Other\",0.95*0.95,0.98*0.95)),3)","v":-4.8090000000000002}]
[991,null,{"$f":"Calc_WHDHC!G997","v":955},null,null,{"$f":"ROUND(IF(Calc_WHDHC!H997<0,Calc_WHDHC!I997*IF(Input!$B$4=\"Other\",0.95*0.95,0.98*0.95),2*PI()*Calc_WHDHC!G997/60*Calc_WHDHC!H997/1000),3)","v":-0.66400000000000003},null,null,991,null,"-",null,null,{"$f":"Calc_WHDHC!J997/3.6/(2*Input!$B$5*PI())*60","v":132.5460529890228},null,null,{"$f":"ROUND(IF(Calc_WHDHC!H997<0,Calc_WHDHC!I997,2*PI()*Calc_WHDHC!G997/60*Calc_WHDHC!H997/1000*IF(Input!$B$4=\"Other\",0.95*0.95,0.98*0.95)),3)","v":-0.71299999999999997}]
[992,null,{"$f":"Calc_WHDHC!G998","v":946},null,null,{"$f":"ROUND(IF(Calc_WHDHC!H998<0,Calc_WHDHC!I998*IF(Input!$B$4=\"Other\",0.95*0.95,0.98*0.95),2*PI()*Calc_WHDHC!G998/60*Calc_WHDHC!H998/1000),3)","v":-2.0920000000000001},null,null,992,null,"-",null,null,{"$f":"Calc_WHDHC!J998/3.6/(2*Input!$B$5*PI())*60","v":131.30005917567291},null,null,{"$f":"ROUND(IF(Calc_WHDHC!H998<0,Calc_WHDHC!I998,2*PI()*Calc_WHDHC!G998/60*Calc_WHDHC!H998/1000*IF(Input!$B$4=\"Other\",0.95*0.95,0.98*0.95)),3)","v":-2.2469999999999999}]
[993,null,{"$f":"Calc_WHDHC!G999","v":1142},null,null,{"$f":"ROUND(IF(Calc_WHDHC!H999<0,Calc_WHDHC!I999*IF(Input!$B$4=\"Other\",0.95*0.95,0.98*0.95),2*PI()*Calc_WHDHC!G999/60*Calc_WHDHC!H999/1000),3)","v":0},null,null,993,null,"-",null,null,{"$f":"Calc_WHDHC!J999/3.6/(2*Input!$B$5*PI())*60","v":129.74948909683744},null,null,{"$f":"ROUND(IF(Calc_WHDHC!H999<0,Calc_WHDHC!I999,2*PI()*Calc_WHDHC!G999/60*Calc_WHDHC!H999/1000*IF(Input!$B$4=\"Other\",0.95*0.95,0.98*0.95)),3)","v":0}]
[994,null,{"$f":"Calc_WHDHC!G1000","v":1341},null,null,{"$f":"ROUND(IF(Calc_WHDHC!H1000<0,Calc_WHDHC!I1000*IF(Input!$B$4=\"Other\",0.95*0.95,0.98*0.95),2*PI()*Calc_WHDHC!G1000/60*Calc_WHDHC!H1000/1000),3)","v":-11.411},null,null,994,null,"-",null,null,{"$f":"Calc_WHDHC!J1000/3.6/(2*Input!$B$5*PI())*60","v":127.58976648703091},null,null,{"$f":"ROUND(IF(Calc_WHDHC!H1000<0,Calc_WHDHC!I1000,2*PI()*Calc_WHDHC!G1000/60*Calc_WHDHC!H1000/1000*IF(Input!$B$4=\"Other\",0.95*0.95,0.98*0.95)),3)","v":-12.257}]
[995,null,{"$f":"Calc_WHDHC!G1001","v":1310},null,null,{"$f":"ROUND(IF(Calc_WHDHC!H1001<0,Calc_WHDHC!I1001*IF(Input!$B$4=\"Other\",0.95*0.95,0.98*0.95),2*PI()*Calc_WHDHC!G1001/60*Calc_WHDHC!H1001/1000),3)","v":-21.366},null,null,995,null,"-",null,null,{"$f":"Calc_WHDHC!J1001/3.6/(2*Input!$B$5*PI())*60","v":124.79320259484558},null,null,{"$f":"ROUND(IF(Calc_WHDHC!H1001<0,Calc_WHDHC!I1001,2*PI()*Calc_WHDHC!G1001/60*Calc_WHDHC!H1001/1000*IF(Input!$B$4=\"Other\",0.95*0.95,0.98*0.95)),3)","v":-22.949000000000002}]
[996,null,{"$f":"Calc_WHDHC!G1002","v":1267},null,null,{"$f":"ROUND(IF(Calc_WHDHC!H1002<0,Calc_WHDHC!I1002*IF(Input!$B$4=\"Other\",0.95*0.95,0.98*0.95),2*PI()*Calc_WHDHC!G1002/60*Calc_WHDHC!H1002/1000),3)","v":-41.841999999999999},null,null,996,null,"-",null,null,{"$f":"Calc_WHDHC!J1002/3.6/(2*Input!$B$5*PI())*60","v":120.66757863508697},null,null,{"$f":"ROUND(IF(Calc_WHDHC!H1002<0,Calc_WHDHC!I1002,2*PI()*Calc_WHDHC!G1002/60*Calc_WHDHC!H1002/1000*IF(Input!$B$4=\"Other\",0.95*0.95,0.98*0.95)),3)","v":-44.942999999999998}]
[997,null,{"$f":"Calc_WHDHC!G1003","v":1191},null,null,{"$f":"ROUND(IF(Calc_WHDHC!H1003<0,Calc_WHDHC!I1003*IF(Input!$B$4=\"Other\",0.95*0.95,0.98*0.95),2*PI()*Calc_WHDHC!G1003/60*Calc_WHDHC!H1003/1000),3)","v":-41.405000000000001},null,null,997,null,"-",null,null,{"$f":"Calc_WHDHC!J1003/3.6/(2*Input!$B$5*PI())*60","v":113.63463577751193},null,null,{"$f":"ROUND(IF(Calc_WHDHC!H1003<0,Calc_WHDHC!I1003,2*PI()*Calc_WHDHC!G1003/60*Calc_WHDHC!H1003/1000*IF(Input!$B$4=\"Other\",0.95*0.95,0.98*0.95)),3)","v":-44.473999999999997}]
[998,null,{"$f":"Calc_WHDHC!G1004","v":1113},null,null,{"$f":"ROUND(IF(Calc_WHDHC!H1004<0,Calc_WHDHC!I1004*IF(Input!$B$4=\"Other\",0.95*0.95,0.98*0.95),2*PI()*Calc_WHDHC!G1004/60*Calc_WHDHC!H1004/1000),3)","v":-39.378},null,null,998,null,"-",null,null,{"$f":"Calc_WHDHC!J1004/3.6/(2*Input!$B$5*PI())*60","v":106.29711665445133},null,null,{"$f":"ROUND(IF(Calc_WHDHC!H1004<0,Calc_WHDHC!I1004,2*PI()*Calc_WHDHC!G1004/60*Calc_WHDHC!H1004/1000*IF(Input!$B$4=\"Other\",0.95*0.95,0.98*0.95)),3)","v":-42.295999999999999}]
[999,null,{"$f":"Calc_WHDHC!G1005","v":1034},null,null,{"$f":"ROUND(IF(Calc_WHDHC!H1005<0,Calc_WHDHC!I1005*IF(Input!$B$4=\"Other\",0.95*0.95,0.98*0.95),2*PI()*Calc_WHDHC!G1005/60*Calc_WHDHC!H1005/1000),3)","v":-41.399000000000001},null,null,999,null,"-",null,null,{"$f":"Calc_WHDHC!J1005/3.6/(2*Input!$B$5*PI())*60","v":98.821153774351856},null,null,{"$f":"ROUND(IF(Calc_WHDHC!H1005<0,Calc_WHDHC!I1005,2*PI()*Calc_WHDHC!G1005/60*Calc_WHDHC!H1005/1000*IF(Input!$B$4=\"Other\",0.95*0.95,0.98*0.95)),3)","v":-44.466999999999999}]
[1000,null,{"$f":"Calc_WHDHC!G1006","v":1145},null,null,{"$f":"ROUND(IF(Calc_WHDHC!H1006<0,Calc_WHDHC!I1006*IF(Input!$B$4=\"Other\",0.95*0.95,0.98*0.95),2*PI()*Calc_WHDHC!G1006/60*Calc_WHDHC!H1006/1000),3)","v":0},null,null,1000,null,"-",null,null,{"$f":"Calc_WHDHC!J1006/3.6/(2*Input!$B$5*PI())*60","v":90.486839600611347},null,null,{"$f":"ROUND(IF(Calc_WHDHC!H1006<0,Calc_WHDHC!I1006,2*PI()*Calc_WHDHC!G1006/60*Calc_WHDHC!H1006/1000*IF(Input!$B$4=\"Other\",0.95*0.95,0.98*0.95)),3)","v":0}]
[1001,null,{"$f":"Calc_WHDHC!G1007","v":1255},null,null,{"$f":"ROUND(IF(Calc_WHDHC!H1007<0,Calc_WHDHC!I1007*IF(Input!$B$4=\"Other\",0.95*0.95,0.98*0.95),2*PI()*Calc_WHDHC!G1007/60*Calc_WHDHC!H1007/1000),3)","v":-31.917000000000002},null,null,1001,null,"-",null,null,{"$f":"Calc_WHDHC!J1007/3.6/(2*Input!$B$5*PI())*60","v":82.567856697987466},null,null,{"$f":"ROUND(IF(Calc_WHDHC!H1007<0,Calc_WHDHC!I1007,2*PI()*Calc_WHDHC!G1007/60*Calc_WHDHC!H1007/1000*IF(Input!$B$4=\"Other\",0.95*0.95,0.98*0.95)),3)","v":-34.283000000000001}]
[1002,null,{"$f":"Calc_WHDHC!G1008","v":1133},null,null,{"$f":"ROUND(IF(Calc_WHDHC!H1008<0,Calc_WHDHC!I1008*IF(Input!$B$4=\"Other\",0.95*0.95,0.98*0.95),2*PI()*Calc_WHDHC!G1008/60*Calc_WHDHC!H1008/1000),3)","v":-29.42},null,null,1002,null,"-",null,null,{"$f":"Calc_WHDHC!J1008/3.6/(2*Input!$B$5*PI())*60","v":74.676562546771365},null,null,{"$f":"ROUND(IF(Calc_WHDHC!H1008<0,Calc_WHDHC!I1008,2*PI()*Calc_WHDHC!G1008/60*Calc_WHDHC!H1008/1000*IF(Input!$B$4=\"Other\",0.95*0.95,0.98*0.95)),3)","v":-31.6}]
[1003,null,{"$f":"Calc_WHDHC!G1009","v":1228},null,null,{"$f":"ROUND(IF(Calc_WHDHC!H1009<0,Calc_WHDHC!I1009*IF(Input!$B$4=\"Other\",0.95*0.95,0.98*0.95),2*PI()*Calc_WHDHC!G1009/60*Calc_WHDHC!H1009/1000),3)","v":0},null,null,1003,null,"-",null,null,{"$f":"Calc_WHDHC!J1009/3.6/(2*Input!$B$5*PI())*60","v":66.536069632885273},null,null,{"$f":"ROUND(IF(Calc_WHDHC!H1009<0,Calc_WHDHC!I1009,2*PI()*Calc_WHDHC!G1009/60*Calc_WHDHC!H1009/1000*IF(Input!$B$4=\"Other\",0.95*0.95,0.98*0.95)),3)","v":0}]
[1004,null,{"$f":"Calc_WHDHC!G1010","v":1323},null,null,{"$f":"ROUND(IF(Calc_WHDHC!H1010<0,Calc_WHDHC!I1010*IF(Input!$B$4=\"Other\",0.95*0.95,0.98*0.95),2*PI()*Calc_WHDHC!G1010/60*Calc_WHDHC!H1010/1000),3)","v":-7.6970000000000001},null,null,1004,null,"-",null,null,{"$f":"Calc_WHDHC!J1010/3.6/(2*Input!$B$5*PI())*60","v":60.001524300650182},null,null,{"$f":"ROUND(IF(Calc_WHDHC!H1010<0,Calc_WHDHC!I1010,2*PI()*Calc_WHDHC!G1010/60*Calc_WHDHC!H1010/1000*IF(Input!$B$4=\"Other\",0.95*0.95,0.98*0.95)),3)","v":-8.2669999999999995}]
[1005,null,{"$f":"Calc_WHDHC!G1011","v":1241},null,null,{"$f":"ROUND(IF(Calc_WHDHC!H1011<0,Calc_WHDHC!I1011*IF(Input!$B$4=\"Other\",0.95*0.95,0.98*0.95),2*PI()*Calc_WHDHC!G1011/60*Calc_WHDHC!H1011/1000),3)","v":-8.0890000000000004},null,null,1005,null,"-",null,null,{"$f":"Calc_WHDHC!J1011/3.6/(2*Input!$B$5*PI())*60","v":56.318920363415991},null,null,{"$f":"ROUND(IF(Calc_WHDHC!H1011<0,Calc_WHDHC!I1011,2*PI()*Calc_WHDHC!G1011/60*Calc_WHDHC!H1011/1000*IF(Input!$B$4=\"Other\",0.95*0.95,0.98*0.95)),3)","v":-8.6880000000000006}]
[1006,null,{"$f":"Calc_WHDHC!G1012","v":1152},null,null,{"$f":"ROUND(IF(Calc_WHDHC!H1012<0,Calc_WHDHC!I1012*IF(Input!$B$4=\"Other\",0.95*0.95,0.98*0.95),2*PI()*Calc_WHDHC!G1012/60*Calc_WHDHC!H1012/1000),3)","v":-17.431000000000001},null,null,1006,null,"-",null,null,{"$f":"Calc_WHDHC!J1012/3.6/(2*Input!$B$5*PI())*60","v":52.33174016069627},null,null,{"$f":"ROUND(IF(Calc_WHDHC!H1012<0,Calc_WHDHC!I1012,2*PI()*Calc_WHDHC!G1012/60*Calc_WHDHC!H1012/1000*IF(Input!$B$4=\"Other\",0.95*0.95,0.98*0.95)),3)","v":-18.722999999999999}]
[1007,null,{"$f":"Calc_WHDHC!G1013","v":1202},null,null,{"$f":"ROUND(IF(Calc_WHDHC!H1013<0,Calc_WHDHC!I1013*IF(Input!$B$4=\"Other\",0.95*0.95,0.98*0.95),2*PI()*Calc_WHDHC!G1013/60*Calc_WHDHC!H1013/1000),3)","v":0},null,null,1007,null,"-",null,null,{"$f":"Calc_WHDHC!J1013/3.6/(2*Input!$B$5*PI())*60","v":44.883466032004591},null,null,{"$f":"ROUND(IF(Calc_WHDHC!H1013<0,Calc_WHDHC!I1013,2*PI()*Calc_WHDHC!G1013/60*Calc_WHDHC!H1013/1000*IF(Input!$B$4=\"Other\",0.95*0.95,0.98*0.95)),3)","v":0}]
[1008,null,{"$f":"Calc_WHDHC!G1014","v":1252},null,null,{"$f":"ROUND(IF(Calc_WHDHC!H1014<0,Calc_WHDHC!I1014*IF(Input!$B$4=\"Other\",0.95*0.95,0.98*0.95),2*PI()*Calc_WHDHC!G1014/60*Calc_WHDHC!H1014/1000),3)","v":-5.5609999999999999},null,null,1008,null,"-",null,null,{"$f":"Calc_WHDHC!J1014/3.6/(2*Input!$B$5*PI())*60","v":38.321231948361721},null,null,{"$f":"ROUND(IF(Calc_WHDHC!H1014<0,Calc_WHDHC!I1014,2*PI()*Calc_WHDHC!G1014/60*Calc_WHDHC!H1014/1000*IF(Input!$B$4=\"Other\",0.95*0.95,0.98*0.95)),3)","v":-5.9729999999999999}]
[1009,null,{"$f":"Calc_WHDHC!G1015","v":1160},null,null,{"$f":"ROUND(IF(Calc_WHDHC!H1015<0,Calc_WHDHC!I1015*IF(Input!$B$4=\"Other\",0.95*0.95,0.98*0.95),2*PI()*Calc_WHDHC!G1015/60*Calc_WHDHC!H1015/1000),3)","v":-5.9359999999999999},null,null,1009,null,"-",null,null,{"$f":"Calc_WHDHC!J1015/3.6/(2*Input!$B$5*PI())*60","v":33.918720474525365},null,null,{"$f":"ROUND(IF(Calc_WHDHC!H1015<0,Calc_WHDHC!I1015,2*PI()*Calc_WHDHC!G1015/60*Calc_WHDHC!H1015/1000*IF(Input!$B$4=\"Other\",0.95*0.95,0.98*0.95)),3)","v":-6.3760000000000003}]
[1010,null,{"$f":"Calc_WHDHC!G1016","v":1051},null,null,{"$f":"ROUND(IF(Calc_WHDHC!H1016<0,Calc_WHDHC!I1016*IF(Input!$B$4=\"Other\",0.95*0.95,0.98*0.95),2*PI()*Calc_WHDHC!G1016/60*Calc_WHDHC!H1016/1000),3)","v":-6.85},null,null,1010,null,"-",null,null,{"$f":"Calc_WHDHC!J1016/3.6/(2*Input!$B$5*PI())*60","v":28.796301464086842},null,null,{"$f":"ROUND(IF(Calc_WHDHC!H1016<0,Calc_WHDHC!I1016,2*PI()*Calc_WHDHC!G1016/60*Calc_WHDHC!H1016/1000*IF(Input!$B$4=\"Other\",0.95*0.95,0.98*0.95)),3)","v":-7.3579999999999997}]
[1011,null,{"$f":"Calc_WHDHC!G1017","v":907},null,null,{"$f":"ROUND(IF(Calc_WHDHC!H1017<0,Calc_WHDHC!I1017*IF(Input!$B$4=\"Other\",0.95*0.95,0.98*0.95),2*PI()*Calc_WHDHC!G1017/60*Calc_WHDHC!H1017/1000),3)","v":-2.823},null,null,1011,null,"-",null,null,{"$f":"Calc_WHDHC!J1017/3.6/(2*Input!$B$5*PI())*60","v":21.984868617773994},null,null,{"$f":"ROUND(IF(Calc_WHDHC!H1017<0,Calc_WHDHC!I1017,2*PI()*Calc_WHDHC!G1017/60*Calc_WHDHC!H1017/1000*IF(Input!$B$4=\"Other\",0.95*0.95,0.98*0.95)),3)","v":-3.032}]
[1012,null,{"$f":"Calc_WHDHC!G1018","v":796},null,null,{"$f":"ROUND(IF(Calc_WHDHC!H1018<0,Calc_WHDHC!I1018*IF(Input!$B$4=\"Other\",0.95*0.95,0.98*0.95),2*PI()*Calc_WHDHC!G1018/60*Calc_WHDHC!H1018/1000),3)","v":0},null,null,1012,null,"-",null,null,{"$f":"Calc_WHDHC!J1018/3.6/(2*Input!$B$5*PI())*60","v":16.751694601704365},null,null,{"$f":"ROUND(IF(Calc_WHDHC!H1018<0,Calc_WHDHC!I1018,2*PI()*Calc_WHDHC!G1018/60*Calc_WHDHC!H1018/1000*IF(Input!$B$4=\"Other\",0.95*0.95,0.98*0.95)),3)","v":0}]
[1013,null,{"$f":"Calc_WHDHC!G1019","v":774},null,null,{"$f":"ROUND(IF(Calc_WHDHC!H1019<0,Calc_WHDHC!I1019*IF(Input!$B$4=\"Other\",0.95*0.95,0.98*0.95),2*PI()*Calc_WHDHC!G1019/60*Calc_WHDHC!H1019/1000),3)","v":2.351},null,null,1013,null,"-",null,null,{"$f":"Calc_WHDHC!J1019/3.6/(2*Input!$B$5*PI())*60","v":15.699522048208884},null,null,{"$f":"ROUND(IF(Calc_WHDHC!H1019<0,Calc_WHDHC!I1019,2*PI()*Calc_WHDHC!G1019/60*Calc_WHDHC!H1019/1000*IF(Input!$B$4=\"Other\",0.95*0.95,0.98*0.95)),3)","v":2.1880000000000002}]
[1014,null,{"$f":"Calc_WHDHC!G1020","v":795},null,null,{"$f":"ROUND(IF(Calc_WHDHC!H1020<0,Calc_WHDHC!I1020*IF(Input!$B$4=\"Other\",0.95*0.95,0.98*0.95),2*PI()*Calc_WHDHC!G1020/60*Calc_WHDHC!H1020/1000),3)","v":9.657},null,null,1014,null,"-",null,null,{"$f":"Calc_WHDHC!J1020/3.6/(2*Input!$B$5*PI())*60","v":16.696317098888812},null,null,{"$f":"ROUND(IF(Calc_WHDHC!H1020<0,Calc_WHDHC!I1020,2*PI()*Calc_WHDHC!G1020/60*Calc_WHDHC!H1020/1000*IF(Input!$B$4=\"Other\",0.95*0.95,0.98*0.95)),3)","v":8.9909999999999997}]
[1015,null,{"$f":"Calc_WHDHC!G1021","v":893},null,null,{"$f":"ROUND(IF(Calc_WHDHC!H1021<0,Calc_WHDHC!I1021*IF(Input!$B$4=\"Other\",0.95*0.95,0.98*0.95),2*PI()*Calc_WHDHC!G1021/60*Calc_WHDHC!H1021/1000),3)","v":29.457000000000001},null,null,1015,null,"-",null,null,{"$f":"Calc_WHDHC!J1021/3.6/(2*Input!$B$5*PI())*60","v":21.264961081171823},null,null,{"$f":"ROUND(IF(Calc_WHDHC!H1021<0,Calc_WHDHC!I1021,2*PI()*Calc_WHDHC!G1021/60*Calc_WHDHC!H1021/1000*IF(Input!$B$4=\"Other\",0.95*0.95,0.98*0.95)),3)","v":27.425000000000001}]
[1016,null,{"$f":"Calc_WHDHC!G1022","v":1084},null,null,{"$f":"ROUND(IF(Calc_WHDHC!H1022<0,Calc_WHDHC!I1022*IF(Input!$B$4=\"Other\",0.95*0.95,0.98*0.95),2*PI()*Calc_WHDHC!G1022/60*Calc_WHDHC!H1022/1000),3)","v":15.211},null,null,1016,null,"-",null,null,{"$f":"Calc_WHDHC!J1022/3.6/(2*Input!$B$5*PI())*60","v":30.374560294330063},null,null,{"$f":"ROUND(IF(Calc_WHDHC!H1022<0,Calc_WHDHC!I1022,2*PI()*Calc_WHDHC!G1022/60*Calc_WHDHC!H1022/1000*IF(Input!$B$4=\"Other\",0.95*0.95,0.98*0.95)),3)","v":14.162000000000001}]
[1017,null,{"$f":"Calc_WHDHC!G1023","v":1070},null,null,{"$f":"ROUND(IF(Calc_WHDHC!H1023<0,Calc_WHDHC!I1023*IF(Input!$B$4=\"Other\",0.95*0.95,0.98*0.95),2*PI()*Calc_WHDHC!G1023/60*Calc_WHDHC!H1023/1000),3)","v":0},null,null,1017,null,"-",null,null,{"$f":"Calc_WHDHC!J1023/3.6/(2*Input!$B$5*PI())*60","v":40.757842072245985},null,null,{"$f":"ROUND(IF(Calc_WHDHC!H1023<0,Calc_WHDHC!I1023,2*PI()*Calc_WHDHC!G1023/60*Calc_WHDHC!H1023/1000*IF(Input!$B$4=\"Other\",0.95*0.95,0.98*0.95)),3)","v":0}]
[1018,null,{"$f":"Calc_WHDHC!G1024","v":1054},null,null,{"$f":"ROUND(IF(Calc_WHDHC!H1024<0,Calc_WHDHC!I1024*IF(Input!$B$4=\"Other\",0.95*0.95,0.98*0.95),2*PI()*Calc_WHDHC!G1024/60*Calc_WHDHC!H1024/1000),3)","v":12.252000000000001},null,null,1018,null,"-",null,null,{"$f":"Calc_WHDHC!J1024/3.6/(2*Input!$B$5*PI())*60","v":47.956917438267702},null,null,{"$f":"ROUND(IF(Calc_WHDHC!H1024<0,Calc_WHDHC!I1024,2*PI()*Calc_WHDHC!G1024/60*Calc_WHDHC!H1024/1000*IF(Input!$B$4=\"Other\",0.95*0.95,0.98*0.95)),3)","v":11.406000000000001}]
[1019,null,{"$f":"Calc_WHDHC!G1025","v":1133},null,null,{"$f":"ROUND(IF(Calc_WHDHC!H1025<0,Calc_WHDHC!I1025*IF(Input!$B$4=\"Other\",0.95*0.95,0.98*0.95),2*PI()*Calc_WHDHC!G1025/60*Calc_WHDHC!H1025/1000),3)","v":23.966999999999999},null,null,1019,null,"-",null,null,{"$f":"Calc_WHDHC!J1025/3.6/(2*Input!$B$5*PI())*60","v":51.473388867055228},null,null,{"$f":"ROUND(IF(Calc_WHDHC!H1025<0,Calc_WHDHC!I1025,2*PI()*Calc_WHDHC!G1025/60*Calc_WHDHC!H1025/1000*IF(Input!$B$4=\"Other\",0.95*0.95,0.98*0.95)),3)","v":22.312999999999999}]
[1020,null,{"$f":"Calc_WHDHC!G1026","v":1179},null,null,{"$f":"ROUND(IF(Calc_WHDHC!H1026<0,Calc_WHDHC!I1026*IF(Input!$B$4=\"Other\",0.95*0.95,0.98*0.95),2*PI()*Calc_WHDHC!G1026/60*Calc_WHDHC!H1026/1000),3)","v":40.743000000000002},null,null,1020,null,"-",null,null,{"$f":"Calc_WHDHC!J1026/3.6/(2*Input!$B$5*PI())*60","v":53.57773397404619},null,null,{"$f":"ROUND(IF(Calc_WHDHC!H1026<0,Calc_WHDHC!I1026,2*PI()*Calc_WHDHC!G1026/60*Calc_WHDHC!H1026/1000*IF(Input!$B$4=\"Other\",0.95*0.95,0.98*0.95)),3)","v":37.932000000000002}]
[1021,null,{"$f":"Calc_WHDHC!G1027","v":1253},null,null,{"$f":"ROUND(IF(Calc_WHDHC!H1027<0,Calc_WHDHC!I1027*IF(Input!$B$4=\"Other\",0.95*0.95,0.98*0.95),2*PI()*Calc_WHDHC!G1027/60*Calc_WHDHC!H1027/1000),3)","v":36.215000000000003},null,null,1021,null,"-",null,null,{"$f":"Calc_WHDHC!J1027/3.6/(2*Input!$B$5*PI())*60","v":56.872695391571504},null,null,{"$f":"ROUND(IF(Calc_WHDHC!H1027<0,Calc_WHDHC!I1027,2*PI()*Calc_WHDHC!G1027/60*Calc_WHDHC!H1027/1000*IF(Input!$B$4=\"Other\",0.95*0.95,0.98*0.95)),3)","v":33.716000000000001}]
[1022,null,{"$f":"Calc_WHDHC!G1028","v":1302},null,null,{"$f":"ROUND(IF(Calc_WHDHC!H1028<0,Calc_WHDHC!I1028*IF(Input!$B$4=\"Other\",0.95*0.95,0.98*0.95),2*PI()*Calc_WHDHC!G1028/60*Calc_WHDHC!H1028/1000),3)","v":18.134},null,null,1022,null,"-",null,null,{"$f":"Calc_WHDHC!J1028/3.6/(2*Input!$B$5*PI())*60","v":59.060106752785799},null,null,{"$f":"ROUND(IF(Calc_WHDHC!H1028<0,Calc_WHDHC!I1028,2*PI()*Calc_WHDHC!G1028/60*Calc_WHDHC!H1028/1000*IF(Input!$B$4=\"Other\",0.95*0.95,0.98*0.95)),3)","v":16.882999999999999}]
[1023,null,{"$f":"Calc_WHDHC!G1029","v":1141},null,null,{"$f":"ROUND(IF(Calc_WHDHC!H1029<0,Calc_WHDHC!I1029*IF(Input!$B$4=\"Other\",0.95*0.95,0.98*0.95),2*PI()*Calc_WHDHC!G1029/60*Calc_WHDHC!H1029/1000),3)","v":0},null,null,1023,null,"-",null,null,{"$f":"Calc_WHDHC!J1029/3.6/(2*Input!$B$5*PI())*60","v":61.081385605553429},null,null,{"$f":"ROUND(IF(Calc_WHDHC!H1029<0,Calc_WHDHC!I1029,2*PI()*Calc_WHDHC!G1029/60*Calc_WHDHC!H1029/1000*IF(Input!$B$4=\"Other\",0.95*0.95,0.98*0.95)),3)","v":0}]
[1024,null,{"$f":"Calc_WHDHC!G1030","v":980},null,null,{"$f":"ROUND(IF(Calc_WHDHC!H1030<0,Calc_WHDHC!I1030*IF(Input!$B$4=\"Other\",0.95*0.95,0.98*0.95),2*PI()*Calc_WHDHC!G1030/60*Calc_WHDHC!H1030/1000),3)","v":42.384},null,null,1024,null,"-",null,null,{"$f":"Calc_WHDHC!J1030/3.6/(2*Input!$B$5*PI())*60","v":64.763989542787613},null,null,{"$f":"ROUND(IF(Calc_WHDHC!H1030<0,Calc_WHDHC!I1030,2*PI()*Calc_WHDHC!G1030/60*Calc_WHDHC!H1030/1000*IF(Input!$B$4=\"Other\",0.95*0.95,0.98*0.95)),3)","v":39.46}]
[1025,null,{"$f":"Calc_WHDHC!G1031","v":1071},null,null,{"$f":"ROUND(IF(Calc_WHDHC!H1031<0,Calc_WHDHC!I1031*IF(Input!$B$4=\"Other\",0.95*0.95,0.98*0.95),2*PI()*Calc_WHDHC!G1031/60*Calc_WHDHC!H1031/1000),3)","v":83.891999999999996},null,null,1025,null,"-",null,null,{"$f":"Calc_WHDHC!J1031/3.6/(2*Input!$B$5*PI())*60","v":70.661693592643857},null,null,{"$f":"ROUND(IF(Calc_WHDHC!H1031<0,Calc_WHDHC!I1031,2*PI()*Calc_WHDHC!G1031/60*Calc_WHDHC!H1031/1000*IF(Input!$B$4=\"Other\",0.95*0.95,0.98*0.95)),3)","v":78.102999999999994}]
[1026,null,{"$f":"Calc_WHDHC!G1032","v":1190},null,null,{"$f":"ROUND(IF(Calc_WHDHC!H1032<0,Calc_WHDHC!I1032*IF(Input!$B$4=\"Other\",0.95*0.95,0.98*0.95),2*PI()*Calc_WHDHC!G1032/60*Calc_WHDHC!H1032/1000),3)","v":124.367},null,null,1026,null,"-",null,null,{"$f":"Calc_WHDHC!J1032/3.6/(2*Input!$B$5*PI())*60","v":78.303788981189996},null,null,{"$f":"ROUND(IF(Calc_WHDHC!H1032<0,Calc_WHDHC!I1032,2*PI()*Calc_WHDHC!G1032/60*Calc_WHDHC!H1032/1000*IF(Input!$B$4=\"Other\",0.95*0.95,0.98*0.95)),3)","v":115.786}]
[1027,null,{"$f":"Calc_WHDHC!G1033","v":1280},null,null,{"$f":"ROUND(IF(Calc_WHDHC!H1033<0,Calc_WHDHC!I1033*IF(Input!$B$4=\"Other\",0.95*0.95,0.98*0.95),2*PI()*Calc_WHDHC!G1033/60*Calc_WHDHC!H1033/1000),3)","v":62.195},null,null,1027,null,"-",null,null,{"$f":"Calc_WHDHC!J1033/3.6/(2*Input!$B$5*PI())*60","v":84.118426776822901},null,null,{"$f":"ROUND(IF(Calc_WHDHC!H1033<0,Calc_WHDHC!I1033,2*PI()*Calc_WHDHC!G1033/60*Calc_WHDHC!H1033/1000*IF(Input!$B$4=\"Other\",0.95*0.95,0.98*0.95)),3)","v":57.904000000000003}]
[1028,null,{"$f":"Calc_WHDHC!G1034","v":1105},null,null,{"$f":"ROUND(IF(Calc_WHDHC!H1034<0,Calc_WHDHC!I1034*IF(Input!$B$4=\"Other\",0.95*0.95,0.98*0.95),2*PI()*Calc_WHDHC!G1034/60*Calc_WHDHC!H1034/1000),3)","v":0},null,null,1028,null,"-",null,null,{"$f":"Calc_WHDHC!J1034/3.6/(2*Input!$B$5*PI())*60","v":86.444281895076088},null,null,{"$f":"ROUND(IF(Calc_WHDHC!H1034<0,Calc_WHDHC!I1034,2*PI()*Calc_WHDHC!G1034/60*Calc_WHDHC!H1034/1000*IF(Input!$B$4=\"Other\",0.95*0.95,0.98*0.95)),3)","v":0}]
[1029,null,{"$f":"Calc_WHDHC!G1035","v":931},null,null,{"$f":"ROUND(IF(Calc_WHDHC!H1035<0,Calc_WHDHC!I1035*IF(Input!$B$4=\"Other\",0.95*0.95,0.98*0.95),2*PI()*Calc_WHDHC!G1035/60*Calc_WHDHC!H1035/1000),3)","v":48.552},null,null,1029,null,"-",null,null,{"$f":"Calc_WHDHC!J1035/3.6/(2*Input!$B$5*PI())*60","v":89.213157035853655},null,null,{"$f":"ROUND(IF(Calc_WHDHC!H1035<0,Calc_WHDHC!I1035,2*PI()*Calc_WHDHC!G1035/60*Calc_WHDHC!H1035/1000*IF(Input!$B$4=\"Other\",0.95*0.95,0.98*0.95)),3)","v":45.201999999999998}]
[1030,null,{"$f":"Calc_WHDHC!G1036","v":977},null,null,{"$f":"ROUND(IF(Calc_WHDHC!H1036<0,Calc_WHDHC!I1036*IF(Input!$B$4=\"Other\",0.95*0.95,0.98*0.95),2*PI()*Calc_WHDHC!G1036/60*Calc_WHDHC!H1036/1000),3)","v":99.14},null,null,1030,null,"-",null,null,{"$f":"Calc_WHDHC!J1036/3.6/(2*Input!$B$5*PI())*60","v":93.532602255466685},null,null,{"$f":"ROUND(IF(Calc_WHDHC!H1036<0,Calc_WHDHC!I1036,2*PI()*Calc_WHDHC!G1036/60*Calc_WHDHC!H1036/1000*IF(Input!$B$4=\"Other\",0.95*0.95,0.98*0.95)),3)","v":92.299000000000007}]
[1031,null,{"$f":"Calc_WHDHC!G1037","v":1016},null,null,{"$f":"ROUND(IF(Calc_WHDHC!H1037<0,Calc_WHDHC!I1037*IF(Input!$B$4=\"Other\",0.95*0.95,0.98*0.95),2*PI()*Calc_WHDHC!G1037/60*Calc_WHDHC!H1037/1000),3)","v":84.903000000000006},null,null,1031,null,"-",null,null,{"$f":"Calc_WHDHC!J1037/3.6/(2*Input!$B$5*PI())*60","v":97.132139938477522},null,null,{"$f":"ROUND(IF(Calc_WHDHC!H1037<0,Calc_WHDHC!I1037,2*PI()*Calc_WHDHC!G1037/60*Calc_WHDHC!H1037/1000*IF(Input!$B$4=\"Other\",0.95*0.95,0.98*0.95)),3)","v":79.045000000000002}]
[1032,null,{"$f":"Calc_WHDHC!G1038","v":1041},null,null,{"$f":"ROUND(IF(Calc_WHDHC!H1038<0,Calc_WHDHC!I1038*IF(Input!$B$4=\"Other\",0.95*0.95,0.98*0.95),2*PI()*Calc_WHDHC!G1038/60*Calc_WHDHC!H1038/1000),3)","v":53.526000000000003},null,null,1032,null,"-",null,null,{"$f":"Calc_WHDHC!J1038/3.6/(2*Input!$B$5*PI())*60","v":99.430306305322929},null,null,{"$f":"ROUND(IF(Calc_WHDHC!H1038<0,Calc_WHDHC!I1038,2*PI()*Calc_WHDHC!G1038/60*Calc_WHDHC!H1038/1000*IF(Input!$B$4=\"Other\",0.95*0.95,0.98*0.95)),3)","v":49.832000000000001}]
[1033,null,{"$f":"Calc_WHDHC!G1039","v":1045},null,null,{"$f":"ROUND(IF(Calc_WHDHC!H1039<0,Calc_WHDHC!I1039*IF(Input!$B$4=\"Other\",0.95*0.95,0.98*0.95),2*PI()*Calc_WHDHC!G1039/60*Calc_WHDHC!H1039/1000),3)","v":-1.5580000000000001},null,null,1033,null,"-",null,null,{"$f":"Calc_WHDHC!J1039/3.6/(2*Input!$B$5*PI())*60","v":99.845637576439572},null,null,{"$f":"ROUND(IF(Calc_WHDHC!H1039<0,Calc_WHDHC!I1039,2*PI()*Calc_WHDHC!G1039/60*Calc_WHDHC!H1039/1000*IF(Input!$B$4=\"Other\",0.95*0.95,0.98*0.95)),3)","v":-1.673}]
[1034,null,{"$f":"Calc_WHDHC!G1040","v":1029},null,null,{"$f":"ROUND(IF(Calc_WHDHC!H1040<0,Calc_WHDHC!I1040*IF(Input!$B$4=\"Other\",0.95*0.95,0.98*0.95),2*PI()*Calc_WHDHC!G1040/60*Calc_WHDHC!H1040/1000),3)","v":-4.133},null,null,1034,null,"-",null,null,{"$f":"Calc_WHDHC!J1040/3.6/(2*Input!$B$5*PI())*60","v":98.295067497604123},null,null,{"$f":"ROUND(IF(Calc_WHDHC!H1040<0,Calc_WHDHC!I1040,2*PI()*Calc_WHDHC!G1040/60*Calc_WHDHC!H1040/1000*IF(Input!$B$4=\"Other\",0.95*0.95,0.98*0.95)),3)","v":-4.4390000000000001}]
[1035,null,{"$f":"Calc_WHDHC!G1041","v":1006},null,null,{"$f":"ROUND(IF(Calc_WHDHC!H1041<0,Calc_WHDHC!I1041*IF(Input!$B$4=\"Other\",0.95*0.95,0.98*0.95),2*PI()*Calc_WHDHC!G1041/60*Calc_WHDHC!H1041/1000),3)","v":0},null,null,1035,null,"-",null,null,{"$f":"Calc_WHDHC!J1041/3.6/(2*Input!$B$5*PI())*60","v":96.246099893428706},null,null,{"$f":"ROUND(IF(Calc_WHDHC!H1041<0,Calc_WHDHC!I1041,2*PI()*Calc_WHDHC!G1041/60*Calc_WHDHC!H1041/1000*IF(Input!$B$4=\"Other\",0.95*0.95,0.98*0.95)),3)","v":0}]
[1036,null,{"$f":"Calc_WHDHC!G1042","v":1005},null,null,{"$f":"ROUND(IF(Calc_WHDHC!H1042<0,Calc_WHDHC!I1042*IF(Input!$B$4=\"Other\",0.95*0.95,0.98*0.95),2*PI()*Calc_WHDHC!G1042/60*Calc_WHDHC!H1042/1000),3)","v":41.781999999999996},null,null,1036,null,"-",null,null,{"$f":"Calc_WHDHC!J1042/3.6/(2*Input!$B$5*PI())*60","v":96.079967384982069},null,null,{"$f":"ROUND(IF(Calc_WHDHC!H1042<0,Calc_WHDHC!I1042,2*PI()*Calc_WHDHC!G1042/60*Calc_WHDHC!H1042/1000*IF(Input!$B$4=\"Other\",0.95*0.95,0.98*0.95)),3)","v":38.899000000000001}]
[1037,null,{"$f":"Calc_WHDHC!G1043","v":1026},null,null,{"$f":"ROUND(IF(Calc_WHDHC!H1043<0,Calc_WHDHC!I1043*IF(Input!$B$4=\"Other\",0.95*0.95,0.98*0.95),2*PI()*Calc_WHDHC!G1043/60*Calc_WHDHC!H1043/1000),3)","v":76.713999999999999},null,null,1037,null,"-",null,null,{"$f":"Calc_WHDHC!J1043/3.6/(2*Input!$B$5*PI())*60","v":98.045868734934132},null,null,{"$f":"ROUND(IF(Calc_WHDHC!H1043<0,Calc_WHDHC!I1043,2*PI()*Calc_WHDHC!G1043/60*Calc_WHDHC!H1043/1000*IF(Input!$B$4=\"Other\",0.95*0.95,0.98*0.95)),3)","v":71.421000000000006}]
[1038,null,{"$f":"Calc_WHDHC!G1044","v":1062},null,null,{"$f":"ROUND(IF(Calc_WHDHC!H1044<0,Calc_WHDHC!I1044*IF(Input!$B$4=\"Other\",0.95*0.95,0.98*0.95),2*PI()*Calc_WHDHC!G1044/60*Calc_WHDHC!H1044/1000),3)","v":77.515000000000001},null,null,1038,null,"-",null,null,{"$f":"Calc_WHDHC!J1044/3.6/(2*Input!$B$5*PI())*60","v":101.47927390949835},null,null,{"$f":"ROUND(IF(Calc_WHDHC!H1044<0,Calc_WHDHC!I1044,2*PI()*Calc_WHDHC!G1044/60*Calc_WHDHC!H1044/1000*IF(Input!$B$4=\"Other\",0.95*0.95,0.98*0.95)),3)","v":72.165999999999997}]
[1039,null,{"$f":"Calc_WHDHC!G1045","v":1090},null,null,{"$f":"ROUND(IF(Calc_WHDHC!H1045<0,Calc_WHDHC!I1045*IF(Input!$B$4=\"Other\",0.95*0.95,0.98*0.95),2*PI()*Calc_WHDHC!G1045/60*Calc_WHDHC!H1045/1000),3)","v":81.498999999999995},null,null,1039,null,"-",null,null,{"$f":"Calc_WHDHC!J1045/3.6/(2*Input!$B$5*PI())*60","v":104.02663903901372},null,null,{"$f":"ROUND(IF(Calc_WHDHC!H1045<0,Calc_WHDHC!I1045,2*PI()*Calc_WHDHC!G1045/60*Calc_WHDHC!H1045/1000*IF(Input!$B$4=\"Other\",0.95*0.95,0.98*0.95)),3)","v":75.876000000000005}]
[1040,null,{"$f":"Calc_WHDHC!G1046","v":1117},null,null,{"$f":"ROUND(IF(Calc_WHDHC!H1046<0,Calc_WHDHC!I1046*IF(Input!$B$4=\"Other\",0.95*0.95,0.98*0.95),2*PI()*Calc_WHDHC!G1046/60*Calc_WHDHC!H1046/1000),3)","v":98.373000000000005},null,null,1040,null,"-",null,null,{"$f":"Calc_WHDHC!J1046/3.6/(2*Input!$B$5*PI())*60","v":106.62938167134463},null,null,{"$f":"ROUND(IF(Calc_WHDHC!H1046<0,Calc_WHDHC!I1046,2*PI()*Calc_WHDHC!G1046/60*Calc_WHDHC!H1046/1000*IF(Input!$B$4=\"Other\",0.95*0.95,0.98*0.95)),3)","v":91.585999999999999}]
[1041,null,{"$f":"Calc_WHDHC!G1047","v":1157},null,null,{"$f":"ROUND(IF(Calc_WHDHC!H1047<0,Calc_WHDHC!I1047*IF(Input!$B$4=\"Other\",0.95*0.95,0.98*0.95),2*PI()*Calc_WHDHC!G1047/60*Calc_WHDHC!H1047/1000),3)","v":111.831},null,null,1041,null,"-",null,null,{"$f":"Calc_WHDHC!J1047/3.6/(2*Input!$B$5*PI())*60","v":110.42274061420993},null,null,{"$f":"ROUND(IF(Calc_WHDHC!H1047<0,Calc_WHDHC!I1047,2*PI()*Calc_WHDHC!G1047/60*Calc_WHDHC!H1047/1000*IF(Input!$B$4=\"Other\",0.95*0.95,0.98*0.95)),3)","v":104.11499999999999}]
[1042,null,{"$f":"Calc_WHDHC!G1048","v":1198},null,null,{"$f":"ROUND(IF(Calc_WHDHC!H1048<0,Calc_WHDHC!I1048*IF(Input!$B$4=\"Other\",0.95*0.95,0.98*0.95),2*PI()*Calc_WHDHC!G1048/60*Calc_WHDHC!H1048/1000),3)","v":94.718000000000004},null,null,1042,null,"-",null,null,{"$f":"Calc_WHDHC!J1048/3.6/(2*Input!$B$5*PI())*60","v":114.21609955707522},null,null,{"$f":"ROUND(IF(Calc_WHDHC!H1048<0,Calc_WHDHC!I1048,2*PI()*Calc_WHDHC!G1048/60*Calc_WHDHC!H1048/1000*IF(Input!$B$4=\"Other\",0.95*0.95,0.98*0.95)),3)","v":88.182000000000002}]
[1043,null,{"$f":"Calc_WHDHC!G1049","v":1222},null,null,{"$f":"ROUND(IF(Calc_WHDHC!H1049<0,Calc_WHDHC!I1049*IF(Input!$B$4=\"Other\",0.95*0.95,0.98*0.95),2*PI()*Calc_WHDHC!G1049/60*Calc_WHDHC!H1049/1000),3)","v":79.724000000000004},null,null,1043,null,"-",null,null,{"$f":"Calc_WHDHC!J1049/3.6/(2*Input!$B$5*PI())*60","v":116.48657717251284},null,null,{"$f":"ROUND(IF(Calc_WHDHC!H1049<0,Calc_WHDHC!I1049,2*PI()*Calc_WHDHC!G1049/60*Calc_WHDHC!H1049/1000*IF(Input!$B$4=\"Other\",0.95*0.95,0.98*0.95)),3)","v":74.222999999999999}]
[1044,null,{"$f":"Calc_WHDHC!G1050","v":1251},null,null,{"$f":"ROUND(IF(Calc_WHDHC!H1050<0,Calc_WHDHC!I1050*IF(Input!$B$4=\"Other\",0.95*0.95,0.98*0.95),2*PI()*Calc_WHDHC!G1050/60*Calc_WHDHC!H1050/1000),3)","v":106.114},null,null,1044,null,"-",null,null,{"$f":"Calc_WHDHC!J1050/3.6/(2*Input!$B$5*PI())*60","v":119.14469730765931},null,null,{"$f":"ROUND(IF(Calc_WHDHC!H1050<0,Calc_WHDHC!I1050,2*PI()*Calc_WHDHC!G1050/60*Calc_WHDHC!H1050/1000*IF(Input!$B$4=\"Other\",0.95*0.95,0.98*0.95)),3)","v":98.792000000000002}]
[1045,null,{"$f":"Calc_WHDHC!G1051","v":1290},null,null,{"$f":"ROUND(IF(Calc_WHDHC!H1051<0,Calc_WHDHC!I1051*IF(Input!$B$4=\"Other\",0.95*0.95,0.98*0.95),2*PI()*Calc_WHDHC!G1051/60*Calc_WHDHC!H1051/1000),3)","v":164.268},null,null,1045,null,"-",null,null,{"$f":"Calc_WHDHC!J1051/3.6/(2*Input!$B$5*PI())*60","v":122.9380562505246},null,null,{"$f":"ROUND(IF(Calc_WHDHC!H1051<0,Calc_WHDHC!I1051,2*PI()*Calc_WHDHC!G1051/60*Calc_WHDHC!H1051/1000*IF(Input!$B$4=\"Other\",0.95*0.95,0.98*0.95)),3)","v":152.93299999999999}]
[1046,null,{"$f":"Calc_WHDHC!G1052","v":1313},null,null,{"$f":"ROUND(IF(Calc_WHDHC!H1052<0,Calc_WHDHC!I1052*IF(Input!$B$4=\"Other\",0.95*0.95,0.98*0.95),2*PI()*Calc_WHDHC!G1052/60*Calc_WHDHC!H1052/1000),3)","v":146.98400000000001},null,null,1046,null,"-",null,null,{"$f":"Calc_WHDHC!J1052/3.6/(2*Input!$B$5*PI())*60","v":124.9870238547},null,null,{"$f":"ROUND(IF(Calc_WHDHC!H1052<0,Calc_WHDHC!I1052,2*PI()*Calc_WHDHC!G1052/60*Calc_WHDHC!H1052/1000*IF(Input!$B$4=\"Other\",0.95*0.95,0.98*0.95)),3)","v":136.84200000000001}]
[1047,null,{"$f":"Calc_WHDHC!G1053","v":1322},null,null,{"$f":"ROUND(IF(Calc_WHDHC!H1053<0,Calc_WHDHC!I1053*IF(Input!$B$4=\"Other\",0.95*0.95,0.98*0.95),2*PI()*Calc_WHDHC!G1053/60*Calc_WHDHC!H1053/1000),3)","v":73.510999999999996},null,null,1047,null,"-",null,null,{"$f":"Calc_WHDHC!J1053/3.6/(2*Input!$B$5*PI())*60","v":125.81768639693327},null,null,{"$f":"ROUND(IF(Calc_WHDHC!H1053<0,Calc_WHDHC!I1053,2*PI()*Calc_WHDHC!G1053/60*Calc_WHDHC!H1053/1000*IF(Input!$B$4=\"Other\",0.95*0.95,0.98*0.95)),3)","v":68.438999999999993}]
[1048,null,{"$f":"Calc_WHDHC!G1054","v":1127},null,null,{"$f":"ROUND(IF(Calc_WHDHC!H1054<0,Calc_WHDHC!I1054*IF(Input!$B$4=\"Other\",0.95*0.95,0.98*0.95),2*PI()*Calc_WHDHC!G1054/60*Calc_WHDHC!H1054/1000),3)","v":0},null,null,1048,null,"-",null,null,{"$f":"Calc_WHDHC!J1054/3.6/(2*Input!$B$5*PI())*60","v":127.72821024406981},null,null,{"$f":"ROUND(IF(Calc_WHDHC!H1054<0,Calc_WHDHC!I1054,2*PI()*Calc_WHDHC!G1054/60*Calc_WHDHC!H1054/1000*IF(Input!$B$4=\"Other\",0.95*0.95,0.98*0.95)),3)","v":0}]
[1049,null,{"$f":"Calc_WHDHC!G1055","v":932},null,null,{"$f":"ROUND(IF(Calc_WHDHC!H1055<0,Calc_WHDHC!I1055*IF(Input!$B$4=\"Other\",0.95*0.95,0.98*0.95),2*PI()*Calc_WHDHC!G1055/60*Calc_WHDHC!H1055/1000),3)","v":28.498999999999999},null,null,1049,null,"-",null,null,{"$f":"Calc_WHDHC!J1055/3.6/(2*Input!$B$5*PI())*60","v":129.55566783698299},null,null,{"$f":"ROUND(IF(Calc_WHDHC!H1055<0,Calc_WHDHC!I1055,2*PI()*Calc_WHDHC!G1055/60*Calc_WHDHC!H1055/1000*IF(Input!$B$4=\"Other\",0.95*0.95,0.98*0.95)),3)","v":26.532}]
[1050,null,{"$f":"Calc_WHDHC!G1056","v":946},null,null,{"$f":"ROUND(IF(Calc_WHDHC!H1056<0,Calc_WHDHC!I1056*IF(Input!$B$4=\"Other\",0.95*0.95,0.98*0.95),2*PI()*Calc_WHDHC!G1056/60*Calc_WHDHC!H1056/1000),3)","v":57.557000000000002},null,null,1050,null,"-",null,null,{"$f":"Calc_WHDHC!J1056/3.6/(2*Input!$B$5*PI())*60","v":131.38312542989621},null,null,{"$f":"ROUND(IF(Calc_WHDHC!H1056<0,Calc_WHDHC!I1056,2*PI()*Calc_WHDHC!G1056/60*Calc_WHDHC!H1056/1000*IF(Input!$B$4=\"Other\",0.95*0.95,0.98*0.95)),3)","v":53.585000000000001}]
[1051,null,{"$f":"Calc_WHDHC!G1057","v":971},null,null,{"$f":"ROUND(IF(Calc_WHDHC!H1057<0,Calc_WHDHC!I1057*IF(Input!$B$4=\"Other\",0.95*0.95,0.98*0.95),2*PI()*Calc_WHDHC!G1057/60*Calc_WHDHC!H1057/1000),3)","v":104.937},null,null,1051,null,"-",null,null,{"$f":"Calc_WHDHC!J1057/3.6/(2*Input!$B$5*PI())*60","v":134.78884185305265},null,null,{"$f":"ROUND(IF(Calc_WHDHC!H1057<0,Calc_WHDHC!I1057,2*PI()*Calc_WHDHC!G1057/60*Calc_WHDHC!H1057/1000*IF(Input!$B$4=\"Other\",0.95*0.95,0.98*0.95)),3)","v":97.695999999999998}]
[1052,null,{"$f":"Calc_WHDHC!G1058","v":1001},null,null,{"$f":"ROUND(IF(Calc_WHDHC!H1058<0,Calc_WHDHC!I1058*IF(Input!$B$4=\"Other\",0.95*0.95,0.98*0.95),2*PI()*Calc_WHDHC!G1058/60*Calc_WHDHC!H1058/1000),3)","v":127.36199999999999},null,null,1052,null,"-",null,null,{"$f":"Calc_WHDHC!J1058/3.6/(2*Input!$B$5*PI())*60","v":138.80371080718012},null,null,{"$f":"ROUND(IF(Calc_WHDHC!H1058<0,Calc_WHDHC!I1058,2*PI()*Calc_WHDHC!G1058/60*Calc_WHDHC!H1058/1000*IF(Input!$B$4=\"Other\",0.95*0.95,0.98*0.95)),3)","v":118.574}]
[1053,null,{"$f":"Calc_WHDHC!G1059","v":1022},null,null,{"$f":"ROUND(IF(Calc_WHDHC!H1059<0,Calc_WHDHC!I1059*IF(Input!$B$4=\"Other\",0.95*0.95,0.98*0.95),2*PI()*Calc_WHDHC!G1059/60*Calc_WHDHC!H1059/1000),3)","v":133.351},null,null,1053,null,"-",null,null,{"$f":"Calc_WHDHC!J1059/3.6/(2*Input!$B$5*PI())*60","v":141.65565220218105},null,null,{"$f":"ROUND(IF(Calc_WHDHC!H1059<0,Calc_WHDHC!I1059,2*PI()*Calc_WHDHC!G1059/60*Calc_WHDHC!H1059/1000*IF(Input!$B$4=\"Other\",0.95*0.95,0.98*0.95)),3)","v":124.15}]
[1054,null,{"$f":"Calc_WHDHC!G1060","v":1026},null,null,{"$f":"ROUND(IF(Calc_WHDHC!H1060<0,Calc_WHDHC!I1060*IF(Input!$B$4=\"Other\",0.95*0.95,0.98*0.95),2*PI()*Calc_WHDHC!G1060/60*Calc_WHDHC!H1060/1000),3)","v":39.753999999999998},null,null,1054,null,"-",null,null,{"$f":"Calc_WHDHC!J1060/3.6/(2*Input!$B$5*PI())*60","v":142.23711598174432},null,null,{"$f":"ROUND(IF(Calc_WHDHC!H1060<0,Calc_WHDHC!I1060,2*PI()*Calc_WHDHC!G1060/60*Calc_WHDHC!H1060/1000*IF(Input!$B$4=\"Other\",0.95*0.95,0.98*0.95)),3)","v":37.011000000000003}]
[1055,null,{"$f":"Calc_WHDHC!G1061","v":1025},null,null,{"$f":"ROUND(IF(Calc_WHDHC!H1061<0,Calc_WHDHC!I1061*IF(Input!$B$4=\"Other\",0.95*0.95,0.98*0.95),2*PI()*Calc_WHDHC!G1061/60*Calc_WHDHC!H1061/1000),3)","v":32.523000000000003},null,null,1055,null,"-",null,null,{"$f":"Calc_WHDHC!J1061/3.6/(2*Input!$B$5*PI())*60","v":142.04329472188991},null,null,{"$f":"ROUND(IF(Calc_WHDHC!H1061<0,Calc_WHDHC!I1061,2*PI()*Calc_WHDHC!G1061/60*Calc_WHDHC!H1061/1000*IF(Input!$B$4=\"Other\",0.95*0.95,0.98*0.95)),3)","v":30.279}]
[1056,null,{"$f":"Calc_WHDHC!G1062","v":1021},null,null,{"$f":"ROUND(IF(Calc_WHDHC!H1062<0,Calc_WHDHC!I1062*IF(Input!$B$4=\"Other\",0.95*0.95,0.98*0.95),2*PI()*Calc_WHDHC!G1062/60*Calc_WHDHC!H1062/1000),3)","v":25.34},null,null,1056,null,"-",null,null,{"$f":"Calc_WHDHC!J1062/3.6/(2*Input!$B$5*PI())*60","v":141.62796345077325},null,null,{"$f":"ROUND(IF(Calc_WHDHC!H1062<0,Calc_WHDHC!I1062,2*PI()*Calc_WHDHC!G1062/60*Calc_WHDHC!H1062/1000*IF(Input!$B$4=\"Other\",0.95*0.95,0.98*0.95)),3)","v":23.591000000000001}]
[1057,null,{"$f":"Calc_WHDHC!G1063","v":1016},null,null,{"$f":"ROUND(IF(Calc_WHDHC!H1063<0,Calc_WHDHC!I1063*IF(Input!$B$4=\"Other\",0.95*0.95,0.98*0.95),2*PI()*Calc_WHDHC!G1063/60*Calc_WHDHC!H1063/1000),3)","v":27.768999999999998},null,null,1057,null,"-",null,null,{"$f":"Calc_WHDHC!J1063/3.6/(2*Input!$B$5*PI())*60","v":140.88036716276329},null,null,{"$f":"ROUND(IF(Calc_WHDHC!H1063<0,Calc_WHDHC!I1063,2*PI()*Calc_WHDHC!G1063/60*Calc_WHDHC!H1063/1000*IF(Input!$B$4=\"Other\",0.95*0.95,0.98*0.95)),3)","v":25.853000000000002}]
[1058,null,{"$f":"Calc_WHDHC!G1064","v":1010},null,null,{"$f":"ROUND(IF(Calc_WHDHC!H1064<0,Calc_WHDHC!I1064*IF(Input!$B$4=\"Other\",0.95*0.95,0.98*0.95),2*PI()*Calc_WHDHC!G1064/60*Calc_WHDHC!H1064/1000),3)","v":32.999000000000002},null,null,1058,null,"-",null,null,{"$f":"Calc_WHDHC!J1064/3.6/(2*Input!$B$5*PI())*60","v":140.18814837756895},null,null,{"$f":"ROUND(IF(Calc_WHDHC!H1064<0,Calc_WHDHC!I1064,2*PI()*Calc_WHDHC!G1064/60*Calc_WHDHC!H1064/1000*IF(Input!$B$4=\"Other\",0.95*0.95,0.98*0.95)),3)","v":30.722000000000001}]
[1059,null,{"$f":"Calc_WHDHC!G1065","v":1002},null,null,{"$f":"ROUND(IF(Calc_WHDHC!H1065<0,Calc_WHDHC!I1065*IF(Input!$B$4=\"Other\",0.95*0.95,0.98*0.95),2*PI()*Calc_WHDHC!G1065/60*Calc_WHDHC!H1065/1000),3)","v":-14.07},null,null,1059,null,"-",null,null,{"$f":"Calc_WHDHC!J1065/3.6/(2*Input!$B$5*PI())*60","v":138.99753206703457},null,null,{"$f":"ROUND(IF(Calc_WHDHC!H1065<0,Calc_WHDHC!I1065,2*PI()*Calc_WHDHC!G1065/60*Calc_WHDHC!H1065/1000*IF(Input!$B$4=\"Other\",0.95*0.95,0.98*0.95)),3)","v":-15.113}]
[1060,null,{"$f":"Calc_WHDHC!G1066","v":980},null,null,{"$f":"ROUND(IF(Calc_WHDHC!H1066<0,Calc_WHDHC!I1066*IF(Input!$B$4=\"Other\",0.95*0.95,0.98*0.95),2*PI()*Calc_WHDHC!G1066/60*Calc_WHDHC!H1066/1000),3)","v":-14.292},null,null,1060,null,"-",null,null,{"$f":"Calc_WHDHC!J1066/3.6/(2*Input!$B$5*PI())*60","v":136.00714691499476},null,null,{"$f":"ROUND(IF(Calc_WHDHC!H1066<0,Calc_WHDHC!I1066,2*PI()*Calc_WHDHC!G1066/60*Calc_WHDHC!H1066/1000*IF(Input!$B$4=\"Other\",0.95*0.95,0.98*0.95)),3)","v":-15.351000000000001}]
[1061,null,{"$f":"Calc_WHDHC!G1067","v":958},null,null,{"$f":"ROUND(IF(Calc_WHDHC!H1067<0,Calc_WHDHC!I1067*IF(Input!$B$4=\"Other\",0.95*0.95,0.98*0.95),2*PI()*Calc_WHDHC!G1067/60*Calc_WHDHC!H1067/1000),3)","v":0},null,null,1061,null,"-",null,null,{"$f":"Calc_WHDHC!J1067/3.6/(2*Input!$B$5*PI())*60","v":132.96138426013943},null,null,{"$f":"ROUND(IF(Calc_WHDHC!H1067<0,Calc_WHDHC!I1067,2*PI()*Calc_WHDHC!G1067/60*Calc_WHDHC!H1067/1000*IF(Input!$B$4=\"Other\",0.95*0.95,0.98*0.95)),3)","v":0}]
[1062,null,{"$f":"Calc_WHDHC!G1068","v":951},null,null,{"$f":"ROUND(IF(Calc_WHDHC!H1068<0,Calc_WHDHC!I1068*IF(Input!$B$4=\"Other\",0.95*0.95,0.98*0.95),2*PI()*Calc_WHDHC!G1068/60*Calc_WHDHC!H1068/1000),3)","v":19.719000000000001},null,null,1062,null,"-",null,null,{"$f":"Calc_WHDHC!J1068/3.6/(2*Input!$B$5*PI())*60","v":132.07534421509061},null,null,{"$f":"ROUND(IF(Calc_WHDHC!H1068<0,Calc_WHDHC!I1068,2*PI()*Calc_WHDHC!G1068/60*Calc_WHDHC!H1068/1000*IF(Input!$B$4=\"Other\",0.95*0.95,0.98*0.95)),3)","v":18.358000000000001}]
[1063,null,{"$f":"Calc_WHDHC!G1069","v":956},null,null,{"$f":"ROUND(IF(Calc_WHDHC!H1069<0,Calc_WHDHC!I1069*IF(Input!$B$4=\"Other\",0.95*0.95,0.98*0.95),2*PI()*Calc_WHDHC!G1069/60*Calc_WHDHC!H1069/1000),3)","v":51.256999999999998},null,null,1063,null,"-",null,null,{"$f":"Calc_WHDHC!J1069/3.6/(2*Input!$B$5*PI())*60","v":132.71218549746945},null,null,{"$f":"ROUND(IF(Calc_WHDHC!H1069<0,Calc_WHDHC!I1069,2*PI()*Calc_WHDHC!G1069/60*Calc_WHDHC!H1069/1000*IF(Input!$B$4=\"Other\",0.95*0.95,0.98*0.95)),3)","v":47.720999999999997}]
[1064,null,{"$f":"Calc_WHDHC!G1070","v":969},null,null,{"$f":"ROUND(IF(Calc_WHDHC!H1070<0,Calc_WHDHC!I1070*IF(Input!$B$4=\"Other\",0.95*0.95,0.98*0.95),2*PI()*Calc_WHDHC!G1070/60*Calc_WHDHC!H1070/1000),3)","v":37.341999999999999},null,null,1064,null,"-",null,null,{"$f":"Calc_WHDHC!J1070/3.6/(2*Input!$B$5*PI())*60","v":134.48426558756711},null,null,{"$f":"ROUND(IF(Calc_WHDHC!H1070<0,Calc_WHDHC!I1070,2*PI()*Calc_WHDHC!G1070/60*Calc_WHDHC!H1070/1000*IF(Input!$B$4=\"Other\",0.95*0.95,0.98*0.95)),3)","v":34.765999999999998}]
[1065,null,{"$f":"Calc_WHDHC!G1071","v":976},null,null,{"$f":"ROUND(IF(Calc_WHDHC!H1071<0,Calc_WHDHC!I1071*IF(Input!$B$4=\"Other\",0.95*0.95,0.98*0.95),2*PI()*Calc_WHDHC!G1071/60*Calc_WHDHC!H1071/1000),3)","v":53.351999999999997},null,null,1065,null,"-",null,null,{"$f":"Calc_WHDHC!J1071/3.6/(2*Input!$B$5*PI())*60","v":135.34261688120813},null,null,{"$f":"ROUND(IF(Calc_WHDHC!H1071<0,Calc_WHDHC!I1071,2*PI()*Calc_WHDHC!G1071/60*Calc_WHDHC!H1071/1000*IF(Input!$B$4=\"Other\",0.95*0.95,0.98*0.95)),3)","v":49.670999999999999}]
[1066,null,{"$f":"Calc_WHDHC!G1072","v":979},null,null,{"$f":"ROUND(IF(Calc_WHDHC!H1072<0,Calc_WHDHC!I1072*IF(Input!$B$4=\"Other\",0.95*0.95,0.98*0.95),2*PI()*Calc_WHDHC!G1072/60*Calc_WHDHC!H1072/1000),3)","v":0},null,null,1066,null,"-",null,null,{"$f":"Calc_WHDHC!J1072/3.6/(2*Input!$B$5*PI())*60","v":135.75794815232479},null,null,{"$f":"ROUND(IF(Calc_WHDHC!H1072<0,Calc_WHDHC!I1072,2*PI()*Calc_WHDHC!G1072/60*Calc_WHDHC!H1072/1000*IF(Input!$B$4=\"Other\",0.95*0.95,0.98*0.95)),3)","v":0}]
[1067,null,{"$f":"Calc_WHDHC!G1073","v":976},null,null,{"$f":"ROUND(IF(Calc_WHDHC!H1073<0,Calc_WHDHC!I1073*IF(Input!$B$4=\"Other\",0.95*0.95,0.98*0.95),2*PI()*Calc_WHDHC!G1073/60*Calc_WHDHC!H1073/1000),3)","v":-3.2050000000000001},null,null,1067,null,"-",null,null,{"$f":"Calc_WHDHC!J1073/3.6/(2*Input!$B$5*PI())*60","v":135.50874938965481},null,null,{"$f":"ROUND(IF(Calc_WHDHC!H1073<0,Calc_WHDHC!I1073,2*PI()*Calc_WHDHC!G1073/60*Calc_WHDHC!H1073/1000*IF(Input!$B$4=\"Other\",0.95*0.95,0.98*0.95)),3)","v":-3.4420000000000002}]
[1068,null,{"$f":"Calc_WHDHC!G1074","v":964},null,null,{"$f":"ROUND(IF(Calc_WHDHC!H1074<0,Calc_WHDHC!I1074*IF(Input!$B$4=\"Other\",0.95*0.95,0.98*0.95),2*PI()*Calc_WHDHC!G1074/60*Calc_WHDHC!H1074/1000),3)","v":-8.5999999999999993E-2},null,null,1068,null,"-",null,null,{"$f":"Calc_WHDHC!J1074/3.6/(2*Input!$B$5*PI())*60","v":133.79204680237274},null,null,{"$f":"ROUND(IF(Calc_WHDHC!H1074<0,Calc_WHDHC!I1074,2*PI()*Calc_WHDHC!G1074/60*Calc_WHDHC!H1074/1000*IF(Input!$B$4=\"Other\",0.95*0.95,0.98*0.95)),3)","v":-9.1999999999999998E-2}]
[1069,null,{"$f":"Calc_WHDHC!G1075","v":956},null,null,{"$f":"ROUND(IF(Calc_WHDHC!H1075<0,Calc_WHDHC!I1075*IF(Input!$B$4=\"Other\",0.95*0.95,0.98*0.95),2*PI()*Calc_WHDHC!G1075/60*Calc_WHDHC!H1075/1000),3)","v":0},null,null,1069,null,"-",null,null,{"$f":"Calc_WHDHC!J1075/3.6/(2*Input!$B$5*PI())*60","v":132.82294050310057},null,null,{"$f":"ROUND(IF(Calc_WHDHC!H1075<0,Calc_WHDHC!I1075,2*PI()*Calc_WHDHC!G1075/60*Calc_WHDHC!H1075/1000*IF(Input!$B$4=\"Other\",0.95*0.95,0.98*0.95)),3)","v":0}]
[1070,null,{"$f":"Calc_WHDHC!G1076","v":956},null,null,{"$f":"ROUND(IF(Calc_WHDHC!H1076<0,Calc_WHDHC!I1076*IF(Input!$B$4=\"Other\",0.95*0.95,0.98*0.95),2*PI()*Calc_WHDHC!G1076/60*Calc_WHDHC!H1076/1000),3)","v":-0.24099999999999999},null,null,1070,null,"-",null,null,{"$f":"Calc_WHDHC!J1076/3.6/(2*Input!$B$5*PI())*60","v":132.68449674606168},null,null,{"$f":"ROUND(IF(Calc_WHDHC!H1076<0,Calc_WHDHC!I1076,2*PI()*Calc_WHDHC!G1076/60*Calc_WHDHC!H1076/1000*IF(Input!$B$4=\"Other\",0.95*0.95,0.98*0.95)),3)","v":-0.25900000000000001}]
[1071,null,{"$f":"Calc_WHDHC!G1077","v":948},null,null,{"$f":"ROUND(IF(Calc_WHDHC!H1077<0,Calc_WHDHC!I1077*IF(Input!$B$4=\"Other\",0.95*0.95,0.98*0.95),2*PI()*Calc_WHDHC!G1077/60*Calc_WHDHC!H1077/1000),3)","v":-5.9359999999999999},null,null,1071,null,"-",null,null,{"$f":"Calc_WHDHC!J1077/3.6/(2*Input!$B$5*PI())*60","v":131.63232419256622},null,null,{"$f":"ROUND(IF(Calc_WHDHC!H1077<0,Calc_WHDHC!I1077,2*PI()*Calc_WHDHC!G1077/60*Calc_WHDHC!H1077/1000*IF(Input!$B$4=\"Other\",0.95*0.95,0.98*0.95)),3)","v":-6.3760000000000003}]
[1072,null,{"$f":"Calc_WHDHC!G1078","v":1145},null,null,{"$f":"ROUND(IF(Calc_WHDHC!H1078<0,Calc_WHDHC!I1078*IF(Input!$B$4=\"Other\",0.95*0.95,0.98*0.95),2*PI()*Calc_WHDHC!G1078/60*Calc_WHDHC!H1078/1000),3)","v":0},null,null,1072,null,"-",null,null,{"$f":"Calc_WHDHC!J1078/3.6/(2*Input!$B$5*PI())*60","v":129.55566783698299},null,null,{"$f":"ROUND(IF(Calc_WHDHC!H1078<0,Calc_WHDHC!I1078,2*PI()*Calc_WHDHC!G1078/60*Calc_WHDHC!H1078/1000*IF(Input!$B$4=\"Other\",0.95*0.95,0.98*0.95)),3)","v":0}]
[1073,null,{"$f":"Calc_WHDHC!G1079","v":1342},null,null,{"$f":"ROUND(IF(Calc_WHDHC!H1079<0,Calc_WHDHC!I1079*IF(Input!$B$4=\"Other\",0.95*0.95,0.98*0.95),2*PI()*Calc_WHDHC!G1079/60*Calc_WHDHC!H1079/1000),3)","v":-0.33400000000000002},null,null,1073,null,"-",null,null,{"$f":"Calc_WHDHC!J1079/3.6/(2*Input!$B$5*PI())*60","v":127.72821024406981},null,null,{"$f":"ROUND(IF(Calc_WHDHC!H1079<0,Calc_WHDHC!I1079,2*PI()*Calc_WHDHC!G1079/60*Calc_WHDHC!H1079/1000*IF(Input!$B$4=\"Other\",0.95*0.95,0.98*0.95)),3)","v":-0.35899999999999999}]
[1074,null,{"$f":"Calc_WHDHC!G1080","v":1330},null,null,{"$f":"ROUND(IF(Calc_WHDHC!H1080<0,Calc_WHDHC!I1080*IF(Input!$B$4=\"Other\",0.95*0.95,0.98*0.95),2*PI()*Calc_WHDHC!G1080/60*Calc_WHDHC!H1080/1000),3)","v":-2.0049999999999999},null,null,1074,null,"-",null,null,{"$f":"Calc_WHDHC!J1080/3.6/(2*Input!$B$5*PI())*60","v":126.62066018775874},null,null,{"$f":"ROUND(IF(Calc_WHDHC!H1080<0,Calc_WHDHC!I1080,2*PI()*Calc_WHDHC!G1080/60*Calc_WHDHC!H1080/1000*IF(Input!$B$4=\"Other\",0.95*0.95,0.98*0.95)),3)","v":-2.1539999999999999}]
[1075,null,{"$f":"Calc_WHDHC!G1081","v":1314},null,null,{"$f":"ROUND(IF(Calc_WHDHC!H1081<0,Calc_WHDHC!I1081*IF(Input!$B$4=\"Other\",0.95*0.95,0.98*0.95),2*PI()*Calc_WHDHC!G1081/60*Calc_WHDHC!H1081/1000),3)","v":-5.3789999999999996},null,null,1075,null,"-",null,null,{"$f":"Calc_WHDHC!J1081/3.6/(2*Input!$B$5*PI())*60","v":125.07009010892332},null,null,{"$f":"ROUND(IF(Calc_WHDHC!H1081<0,Calc_WHDHC!I1081,2*PI()*Calc_WHDHC!G1081/60*Calc_WHDHC!H1081/1000*IF(Input!$B$4=\"Other\",0.95*0.95,0.98*0.95)),3)","v":-5.7779999999999996}]
[1076,null,{"$f":"Calc_WHDHC!G1082","v":1292},null,null,{"$f":"ROUND(IF(Calc_WHDHC!H1082<0,Calc_WHDHC!I1082*IF(Input!$B$4=\"Other\",0.95*0.95,0.98*0.95),2*PI()*Calc_WHDHC!G1082/60*Calc_WHDHC!H1082/1000),3)","v":-7.41},null,null,1076,null,"-",null,null,{"$f":"Calc_WHDHC!J1082/3.6/(2*Input!$B$5*PI())*60","v":123.02112250474791},null,null,{"$f":"ROUND(IF(Calc_WHDHC!H1082<0,Calc_WHDHC!I1082,2*PI()*Calc_WHDHC!G1082/60*Calc_WHDHC!H1082/1000*IF(Input!$B$4=\"Other\",0.95*0.95,0.98*0.95)),3)","v":-7.9589999999999996}]
[1077,null,{"$f":"Calc_WHDHC!G1083","v":1267},null,null,{"$f":"ROUND(IF(Calc_WHDHC!H1083<0,Calc_WHDHC!I1083*IF(Input!$B$4=\"Other\",0.95*0.95,0.98*0.95),2*PI()*Calc_WHDHC!G1083/60*Calc_WHDHC!H1083/1000),3)","v":-8.7439999999999998},null,null,1077,null,"-",null,null,{"$f":"Calc_WHDHC!J1083/3.6/(2*Input!$B$5*PI())*60","v":120.69526738649475},null,null,{"$f":"ROUND(IF(Calc_WHDHC!H1083<0,Calc_WHDHC!I1083,2*PI()*Calc_WHDHC!G1083/60*Calc_WHDHC!H1083/1000*IF(Input!$B$4=\"Other\",0.95*0.95,0.98*0.95)),3)","v":-9.3919999999999995}]
[1078,null,{"$f":"Calc_WHDHC!G1084","v":1240},null,null,{"$f":"ROUND(IF(Calc_WHDHC!H1084<0,Calc_WHDHC!I1084*IF(Input!$B$4=\"Other\",0.95*0.95,0.98*0.95),2*PI()*Calc_WHDHC!G1084/60*Calc_WHDHC!H1084/1000),3)","v":-6.1470000000000002},null,null,1078,null,"-",null,null,{"$f":"Calc_WHDHC!J1084/3.6/(2*Input!$B$5*PI())*60","v":118.17559100838716},null,null,{"$f":"ROUND(IF(Calc_WHDHC!H1084<0,Calc_WHDHC!I1084,2*PI()*Calc_WHDHC!G1084/60*Calc_WHDHC!H1084/1000*IF(Input!$B$4=\"Other\",0.95*0.95,0.98*0.95)),3)","v":-6.6029999999999998}]
[1079,null,{"$f":"Calc_WHDHC!G1085","v":1216},null,null,{"$f":"ROUND(IF(Calc_WHDHC!H1085<0,Calc_WHDHC!I1085*IF(Input!$B$4=\"Other\",0.95*0.95,0.98*0.95),2*PI()*Calc_WHDHC!G1085/60*Calc_WHDHC!H1085/1000),3)","v":-6.2489999999999997},null,null,1079,null,"-",null,null,{"$f":"Calc_WHDHC!J1085/3.6/(2*Input!$B$5*PI())*60","v":115.98817964717286},null,null,{"$f":"ROUND(IF(Calc_WHDHC!H1085<0,Calc_WHDHC!I1085,2*PI()*Calc_WHDHC!G1085/60*Calc_WHDHC!H1085/1000*IF(Input!$B$4=\"Other\",0.95*0.95,0.98*0.95)),3)","v":-6.7119999999999997}]
[1080,null,{"$f":"Calc_WHDHC!G1086","v":1193},null,null,{"$f":"ROUND(IF(Calc_WHDHC!H1086<0,Calc_WHDHC!I1086*IF(Input!$B$4=\"Other\",0.95*0.95,0.98*0.95),2*PI()*Calc_WHDHC!G1086/60*Calc_WHDHC!H1086/1000),3)","v":-4.3810000000000002},null,null,1080,null,"-",null,null,{"$f":"Calc_WHDHC!J1086/3.6/(2*Input!$B$5*PI())*60","v":113.77307953455082},null,null,{"$f":"ROUND(IF(Calc_WHDHC!H1086<0,Calc_WHDHC!I1086,2*PI()*Calc_WHDHC!G1086/60*Calc_WHDHC!H1086/1000*IF(Input!$B$4=\"Other\",0.95*0.95,0.98*0.95)),3)","v":-4.7060000000000004}]
[1081,null,{"$f":"Calc_WHDHC!G1087","v":1173},null,null,{"$f":"ROUND(IF(Calc_WHDHC!H1087<0,Calc_WHDHC!I1087*IF(Input!$B$4=\"Other\",0.95*0.95,0.98*0.95),2*PI()*Calc_WHDHC!G1087/60*Calc_WHDHC!H1087/1000),3)","v":-0.27300000000000002},null,null,1081,null,"-",null,null,{"$f":"Calc_WHDHC!J1087/3.6/(2*Input!$B$5*PI())*60","v":111.80717818459871},null,null,{"$f":"ROUND(IF(Calc_WHDHC!H1087<0,Calc_WHDHC!I1087,2*PI()*Calc_WHDHC!G1087/60*Calc_WHDHC!H1087/1000*IF(Input!$B$4=\"Other\",0.95*0.95,0.98*0.95)),3)","v":-0.29299999999999998}]
[1082,null,{"$f":"Calc_WHDHC!G1088","v":1161},null,null,{"$f":"ROUND(IF(Calc_WHDHC!H1088<0,Calc_WHDHC!I1088*IF(Input!$B$4=\"Other\",0.95*0.95,0.98*0.95),2*PI()*Calc_WHDHC!G1088/60*Calc_WHDHC!H1088/1000),3)","v":0},null,null,1082,null,"-",null,null,{"$f":"Calc_WHDHC!J1088/3.6/(2*Input!$B$5*PI())*60","v":110.72731687969548},null,null,{"$f":"ROUND(IF(Calc_WHDHC!H1088<0,Calc_WHDHC!I1088,2*PI()*Calc_WHDHC!G1088/60*Calc_WHDHC!H1088/1000*IF(Input!$B$4=\"Other\",0.95*0.95,0.98*0.95)),3)","v":0}]
[1083,null,{"$f":"Calc_WHDHC!G1089","v":1157},null,null,{"$f":"ROUND(IF(Calc_WHDHC!H1089<0,Calc_WHDHC!I1089*IF(Input!$B$4=\"Other\",0.95*0.95,0.98*0.95),2*PI()*Calc_WHDHC!G1089/60*Calc_WHDHC!H1089/1000),3)","v":-0.22800000000000001},null,null,1083,null,"-",null,null,{"$f":"Calc_WHDHC!J1089/3.6/(2*Input!$B$5*PI())*60","v":110.31198560857884},null,null,{"$f":"ROUND(IF(Calc_WHDHC!H1089<0,Calc_WHDHC!I1089,2*PI()*Calc_WHDHC!G1089/60*Calc_WHDHC!H1089/1000*IF(Input!$B$4=\"Other\",0.95*0.95,0.98*0.95)),3)","v":-0.245}]
[1084,null,{"$f":"Calc_WHDHC!G1090","v":1145},null,null,{"$f":"ROUND(IF(Calc_WHDHC!H1090<0,Calc_WHDHC!I1090*IF(Input!$B$4=\"Other\",0.95*0.95,0.98*0.95),2*PI()*Calc_WHDHC!G1090/60*Calc_WHDHC!H1090/1000),3)","v":0},null,null,1084,null,"-",null,null,{"$f":"Calc_WHDHC!J1090/3.6/(2*Input!$B$5*PI())*60","v":109.25981305508334},null,null,{"$f":"ROUND(IF(Calc_WHDHC!H1090<0,Calc_WHDHC!I1090,2*PI()*Calc_WHDHC!G1090/60*Calc_WHDHC!H1090/1000*IF(Input!$B$4=\"Other\",0.95*0.95,0.98*0.95)),3)","v":0}]
[1085,null,{"$f":"Calc_WHDHC!G1091","v":1136},null,null,{"$f":"ROUND(IF(Calc_WHDHC!H1091<0,Calc_WHDHC!I1091*IF(Input!$B$4=\"Other\",0.95*0.95,0.98*0.95),2*PI()*Calc_WHDHC!G1091/60*Calc_WHDHC!H1091/1000),3)","v":0},null,null,1085,null,"-",null,null,{"$f":"Calc_WHDHC!J1091/3.6/(2*Input!$B$5*PI())*60","v":108.40146176144231},null,null,{"$f":"ROUND(IF(Calc_WHDHC!H1091<0,Calc_WHDHC!I1091,2*PI()*Calc_WHDHC!G1091/60*Calc_WHDHC!H1091/1000*IF(Input!$B$4=\"Other\",0.95*0.95,0.98*0.95)),3)","v":0}]
[1086,null,{"$f":"Calc_WHDHC!G1092","v":1129},null,null,{"$f":"ROUND(IF(Calc_WHDHC!H1092<0,Calc_WHDHC!I1092*IF(Input!$B$4=\"Other\",0.95*0.95,0.98*0.95),2*PI()*Calc_WHDHC!G1092/60*Calc_WHDHC!H1092/1000),3)","v":0},null,null,1086,null,"-",null,null,{"$f":"Calc_WHDHC!J1092/3.6/(2*Input!$B$5*PI())*60","v":107.70924297624789},null,null,{"$f":"ROUND(IF(Calc_WHDHC!H1092<0,Calc_WHDHC!I1092,2*PI()*Calc_WHDHC!G1092/60*Calc_WHDHC!H1092/1000*IF(Input!$B$4=\"Other\",0.95*0.95,0.98*0.95)),3)","v":0}]
[1087,null,{"$f":"Calc_WHDHC!G1093","v":1121},null,null,{"$f":"ROUND(IF(Calc_WHDHC!H1093<0,Calc_WHDHC!I1093*IF(Input!$B$4=\"Other\",0.95*0.95,0.98*0.95),2*PI()*Calc_WHDHC!G1093/60*Calc_WHDHC!H1093/1000),3)","v":62.569000000000003},null,null,1087,null,"-",null,null,{"$f":"Calc_WHDHC!J1093/3.6/(2*Input!$B$5*PI())*60","v":107.07240169386905},null,null,{"$f":"ROUND(IF(Calc_WHDHC!H1093<0,Calc_WHDHC!I1093,2*PI()*Calc_WHDHC!G1093/60*Calc_WHDHC!H1093/1000*IF(Input!$B$4=\"Other\",0.95*0.95,0.98*0.95)),3)","v":58.252000000000002}]
[1088,null,{"$f":"Calc_WHDHC!G1094","v":1132},null,null,{"$f":"ROUND(IF(Calc_WHDHC!H1094<0,Calc_WHDHC!I1094*IF(Input!$B$4=\"Other\",0.95*0.95,0.98*0.95),2*PI()*Calc_WHDHC!G1094/60*Calc_WHDHC!H1094/1000),3)","v":63.539000000000001},null,null,1088,null,"-",null,null,{"$f":"Calc_WHDHC!J1094/3.6/(2*Input!$B$5*PI())*60","v":108.06919674454899},null,null,{"$f":"ROUND(IF(Calc_WHDHC!H1094<0,Calc_WHDHC!I1094,2*PI()*Calc_WHDHC!G1094/60*Calc_WHDHC!H1094/1000*IF(Input!$B$4=\"Other\",0.95*0.95,0.98*0.95)),3)","v":59.155000000000001}]
[1089,null,{"$f":"Calc_WHDHC!G1095","v":1171},null,null,{"$f":"ROUND(IF(Calc_WHDHC!H1095<0,Calc_WHDHC!I1095*IF(Input!$B$4=\"Other\",0.95*0.95,0.98*0.95),2*PI()*Calc_WHDHC!G1095/60*Calc_WHDHC!H1095/1000),3)","v":61.804000000000002},null,null,1089,null,"-",null,null,{"$f":"Calc_WHDHC!J1095/3.6/(2*Input!$B$5*PI())*60","v":111.77948943319095},null,null,{"$f":"ROUND(IF(Calc_WHDHC!H1095<0,Calc_WHDHC!I1095,2*PI()*Calc_WHDHC!G1095/60*Calc_WHDHC!H1095/1000*IF(Input!$B$4=\"Other\",0.95*0.95,0.98*0.95)),3)","v":57.539000000000001}]
[1090,null,{"$f":"Calc_WHDHC!G1096","v":1191},null,null,{"$f":"ROUND(IF(Calc_WHDHC!H1096<0,Calc_WHDHC!I1096*IF(Input!$B$4=\"Other\",0.95*0.95,0.98*0.95),2*PI()*Calc_WHDHC!G1096/60*Calc_WHDHC!H1096/1000),3)","v":54.003999999999998},null,null,1090,null,"-",null,null,{"$f":"Calc_WHDHC!J1096/3.6/(2*Input!$B$5*PI())*60","v":113.60694702610415},null,null,{"$f":"ROUND(IF(Calc_WHDHC!H1096<0,Calc_WHDHC!I1096,2*PI()*Calc_WHDHC!G1096/60*Calc_WHDHC!H1096/1000*IF(Input!$B$4=\"Other\",0.95*0.95,0.98*0.95)),3)","v":50.277999999999999}]
[1091,null,{"$f":"Calc_WHDHC!G1097","v":1183},null,null,{"$f":"ROUND(IF(Calc_WHDHC!H1097<0,Calc_WHDHC!I1097*IF(Input!$B$4=\"Other\",0.95*0.95,0.98*0.95),2*PI()*Calc_WHDHC!G1097/60*Calc_WHDHC!H1097/1000),3)","v":9.9109999999999996},null,null,1091,null,"-",null,null,{"$f":"Calc_WHDHC!J1097/3.6/(2*Input!$B$5*PI())*60","v":112.85935073809419},null,null,{"$f":"ROUND(IF(Calc_WHDHC!H1097<0,Calc_WHDHC!I1097,2*PI()*Calc_WHDHC!G1097/60*Calc_WHDHC!H1097/1000*IF(Input!$B$4=\"Other\",0.95*0.95,0.98*0.95)),3)","v":9.2270000000000003}]
[1092,null,{"$f":"Calc_WHDHC!G1098","v":1162},null,null,{"$f":"ROUND(IF(Calc_WHDHC!H1098<0,Calc_WHDHC!I1098*IF(Input!$B$4=\"Other\",0.95*0.95,0.98*0.95),2*PI()*Calc_WHDHC!G1098/60*Calc_WHDHC!H1098/1000),3)","v":11.195},null,null,1092,null,"-",null,null,{"$f":"Calc_WHDHC!J1098/3.6/(2*Input!$B$5*PI())*60","v":110.81038313391879},null,null,{"$f":"ROUND(IF(Calc_WHDHC!H1098<0,Calc_WHDHC!I1098,2*PI()*Calc_WHDHC!G1098/60*Calc_WHDHC!H1098/1000*IF(Input!$B$4=\"Other\",0.95*0.95,0.98*0.95)),3)","v":10.423}]
[1093,null,{"$f":"Calc_WHDHC!G1099","v":1149},null,null,{"$f":"ROUND(IF(Calc_WHDHC!H1099<0,Calc_WHDHC!I1099*IF(Input!$B$4=\"Other\",0.95*0.95,0.98*0.95),2*PI()*Calc_WHDHC!G1099/60*Calc_WHDHC!H1099/1000),3)","v":10.348000000000001},null,null,1093,null,"-",null,null,{"$f":"Calc_WHDHC!J1099/3.6/(2*Input!$B$5*PI())*60","v":109.64745557479222},null,null,{"$f":"ROUND(IF(Calc_WHDHC!H1099<0,Calc_WHDHC!I1099,2*PI()*Calc_WHDHC!G1099/60*Calc_WHDHC!H1099/1000*IF(Input!$B$4=\"Other\",0.95*0.95,0.98*0.95)),3)","v":9.6340000000000003}]
[1094,null,{"$f":"Calc_WHDHC!G1100","v":1142},null,null,{"$f":"ROUND(IF(Calc_WHDHC!H1100<0,Calc_WHDHC!I1100*IF(Input!$B$4=\"Other\",0.95*0.95,0.98*0.95),2*PI()*Calc_WHDHC!G1100/60*Calc_WHDHC!H1100/1000),3)","v":-1.3839999999999999},null,null,1094,null,"-",null,null,{"$f":"Calc_WHDHC!J1100/3.6/(2*Input!$B$5*PI())*60","v":109.01061429241335},null,null,{"$f":"ROUND(IF(Calc_WHDHC!H1100<0,Calc_WHDHC!I1100,2*PI()*Calc_WHDHC!G1100/60*Calc_WHDHC!H1100/1000*IF(Input!$B$4=\"Other\",0.95*0.95,0.98*0.95)),3)","v":-1.4870000000000001}]
[1095,null,{"$f":"Calc_WHDHC!G1101","v":1127},null,null,{"$f":"ROUND(IF(Calc_WHDHC!H1101<0,Calc_WHDHC!I1101*IF(Input!$B$4=\"Other\",0.95*0.95,0.98*0.95),2*PI()*Calc_WHDHC!G1101/60*Calc_WHDHC!H1101/1000),3)","v":-7.7750000000000004},null,null,1095,null,"-",null,null,{"$f":"Calc_WHDHC!J1101/3.6/(2*Input!$B$5*PI())*60","v":107.54311046780124},null,null,{"$f":"ROUND(IF(Calc_WHDHC!H1101<0,Calc_WHDHC!I1101,2*PI()*Calc_WHDHC!G1101/60*Calc_WHDHC!H1101/1000*IF(Input!$B$4=\"Other\",0.95*0.95,0.98*0.95)),3)","v":-8.3510000000000009}]
[1096,null,{"$f":"Calc_WHDHC!G1102","v":1100},null,null,{"$f":"ROUND(IF(Calc_WHDHC!H1102<0,Calc_WHDHC!I1102*IF(Input!$B$4=\"Other\",0.95*0.95,0.98*0.95),2*PI()*Calc_WHDHC!G1102/60*Calc_WHDHC!H1102/1000),3)","v":-4.4509999999999996},null,null,1096,null,"-",null,null,{"$f":"Calc_WHDHC!J1102/3.6/(2*Input!$B$5*PI())*60","v":105.02343408969365},null,null,{"$f":"ROUND(IF(Calc_WHDHC!H1102<0,Calc_WHDHC!I1102,2*PI()*Calc_WHDHC!G1102/60*Calc_WHDHC!H1102/1000*IF(Input!$B$4=\"Other\",0.95*0.95,0.98*0.95)),3)","v":-4.7809999999999997}]
[1097,null,{"$f":"Calc_WHDHC!G1103","v":1078},null,null,{"$f":"ROUND(IF(Calc_WHDHC!H1103<0,Calc_WHDHC!I1103*IF(Input!$B$4=\"Other\",0.95*0.95,0.98*0.95),2*PI()*Calc_WHDHC!G1103/60*Calc_WHDHC!H1103/1000),3)","v":-8.593},null,null,1097,null,"-",null,null,{"$f":"Calc_WHDHC!J1103/3.6/(2*Input!$B$5*PI())*60","v":102.97446648551822},null,null,{"$f":"ROUND(IF(Calc_WHDHC!H1103<0,Calc_WHDHC!I1103,2*PI()*Calc_WHDHC!G1103/60*Calc_WHDHC!H1103/1000*IF(Input!$B$4=\"Other\",0.95*0.95,0.98*0.95)),3)","v":-9.23}]
[1098,null,{"$f":"Calc_WHDHC!G1104","v":1049},null,null,{"$f":"ROUND(IF(Calc_WHDHC!H1104<0,Calc_WHDHC!I1104*IF(Input!$B$4=\"Other\",0.95*0.95,0.98*0.95),2*PI()*Calc_WHDHC!G1104/60*Calc_WHDHC!H1104/1000),3)","v":-6.819},null,null,1098,null,"-",null,null,{"$f":"Calc_WHDHC!J1104/3.6/(2*Input!$B$5*PI())*60","v":100.26096884755621},null,null,{"$f":"ROUND(IF(Calc_WHDHC!H1104<0,Calc_WHDHC!I1104,2*PI()*Calc_WHDHC!G1104/60*Calc_WHDHC!H1104/1000*IF(Input!$B$4=\"Other\",0.95*0.95,0.98*0.95)),3)","v":-7.3239999999999998}]
[1099,null,{"$f":"Calc_WHDHC!G1105","v":1024},null,null,{"$f":"ROUND(IF(Calc_WHDHC!H1105<0,Calc_WHDHC!I1105*IF(Input!$B$4=\"Other\",0.95*0.95,0.98*0.95),2*PI()*Calc_WHDHC!G1105/60*Calc_WHDHC!H1105/1000),3)","v":4.3970000000000002},null,null,1099,null,"-",null,null,{"$f":"Calc_WHDHC!J1105/3.6/(2*Input!$B$5*PI())*60","v":97.796669972264169},null,null,{"$f":"ROUND(IF(Calc_WHDHC!H1105<0,Calc_WHDHC!I1105,2*PI()*Calc_WHDHC!G1105/60*Calc_WHDHC!H1105/1000*IF(Input!$B$4=\"Other\",0.95*0.95,0.98*0.95)),3)","v":4.093}]
[1100,null,{"$f":"Calc_WHDHC!G1106","v":1030},null,null,{"$f":"ROUND(IF(Calc_WHDHC!H1106<0,Calc_WHDHC!I1106*IF(Input!$B$4=\"Other\",0.95*0.95,0.98*0.95),2*PI()*Calc_WHDHC!G1106/60*Calc_WHDHC!H1106/1000),3)","v":95.242000000000004},null,null,1100,null,"-",null,null,{"$f":"Calc_WHDHC!J1106/3.6/(2*Input!$B$5*PI())*60","v":98.461200006050788},null,null,{"$f":"ROUND(IF(Calc_WHDHC!H1106<0,Calc_WHDHC!I1106,2*PI()*Calc_WHDHC!G1106/60*Calc_WHDHC!H1106/1000*IF(Input!$B$4=\"Other\",0.95*0.95,0.98*0.95)),3)","v":88.67}]
[1101,null,{"$f":"Calc_WHDHC!G1107","v":1071},null,null,{"$f":"ROUND(IF(Calc_WHDHC!H1107<0,Calc_WHDHC!I1107*IF(Input!$B$4=\"Other\",0.95*0.95,0.98*0.95),2*PI()*Calc_WHDHC!G1107/60*Calc_WHDHC!H1107/1000),3)","v":109.91200000000001},null,null,1101,null,"-",null,null,{"$f":"Calc_WHDHC!J1107/3.6/(2*Input!$B$5*PI())*60","v":102.3376252031394},null,null,{"$f":"ROUND(IF(Calc_WHDHC!H1107<0,Calc_WHDHC!I1107,2*PI()*Calc_WHDHC!G1107/60*Calc_WHDHC!H1107/1000*IF(Input!$B$4=\"Other\",0.95*0.95,0.98*0.95)),3)","v":102.328}]
[1102,null,{"$f":"Calc_WHDHC!G1108","v":1105},null,null,{"$f":"ROUND(IF(Calc_WHDHC!H1108<0,Calc_WHDHC!I1108*IF(Input!$B$4=\"Other\",0.95*0.95,0.98*0.95),2*PI()*Calc_WHDHC!G1108/60*Calc_WHDHC!H1108/1000),3)","v":97.084999999999994},null,null,1102,null,"-",null,null,{"$f":"Calc_WHDHC!J1108/3.6/(2*Input!$B$5*PI())*60","v":105.54952036644139},null,null,{"$f":"ROUND(IF(Calc_WHDHC!H1108<0,Calc_WHDHC!I1108,2*PI()*Calc_WHDHC!G1108/60*Calc_WHDHC!H1108/1000*IF(Input!$B$4=\"Other\",0.95*0.95,0.98*0.95)),3)","v":90.385999999999996}]
[1103,null,{"$f":"Calc_WHDHC!G1109","v":1123},null,null,{"$f":"ROUND(IF(Calc_WHDHC!H1109<0,Calc_WHDHC!I1109*IF(Input!$B$4=\"Other\",0.95*0.95,0.98*0.95),2*PI()*Calc_WHDHC!G1109/60*Calc_WHDHC!H1109/1000),3)","v":111.955},null,null,1103,null,"-",null,null,{"$f":"Calc_WHDHC!J1109/3.6/(2*Input!$B$5*PI())*60","v":107.18315669950017},null,null,{"$f":"ROUND(IF(Calc_WHDHC!H1109<0,Calc_WHDHC!I1109,2*PI()*Calc_WHDHC!G1109/60*Calc_WHDHC!H1109/1000*IF(Input!$B$4=\"Other\",0.95*0.95,0.98*0.95)),3)","v":104.23099999999999}]
[1104,null,{"$f":"Calc_WHDHC!G1110","v":1140},null,null,{"$f":"ROUND(IF(Calc_WHDHC!H1110<0,Calc_WHDHC!I1110*IF(Input!$B$4=\"Other\",0.95*0.95,0.98*0.95),2*PI()*Calc_WHDHC!G1110/60*Calc_WHDHC!H1110/1000),3)","v":108.039},null,null,1104,null,"-",null,null,{"$f":"Calc_WHDHC!J1110/3.6/(2*Input!$B$5*PI())*60","v":108.70603802692783},null,null,{"$f":"ROUND(IF(Calc_WHDHC!H1110<0,Calc_WHDHC!I1110,2*PI()*Calc_WHDHC!G1110/60*Calc_WHDHC!H1110/1000*IF(Input!$B$4=\"Other\",0.95*0.95,0.98*0.95)),3)","v":100.58499999999999}]
[1105,null,{"$f":"Calc_WHDHC!G1111","v":1179},null,null,{"$f":"ROUND(IF(Calc_WHDHC!H1111<0,Calc_WHDHC!I1111*IF(Input!$B$4=\"Other\",0.95*0.95,0.98*0.95),2*PI()*Calc_WHDHC!G1111/60*Calc_WHDHC!H1111/1000),3)","v":106.797},null,null,1105,null,"-",null,null,{"$f":"Calc_WHDHC!J1111/3.6/(2*Input!$B$5*PI())*60","v":112.5270857212009},null,null,{"$f":"ROUND(IF(Calc_WHDHC!H1111<0,Calc_WHDHC!I1111,2*PI()*Calc_WHDHC!G1111/60*Calc_WHDHC!H1111/1000*IF(Input!$B$4=\"Other\",0.95*0.95,0.98*0.95)),3)","v":99.427999999999997}]
[1106,null,{"$f":"Calc_WHDHC!G1112","v":1252},null,null,{"$f":"ROUND(IF(Calc_WHDHC!H1112<0,Calc_WHDHC!I1112*IF(Input!$B$4=\"Other\",0.95*0.95,0.98*0.95),2*PI()*Calc_WHDHC!G1112/60*Calc_WHDHC!H1112/1000),3)","v":110.65600000000001},null,null,1106,null,"-",null,null,{"$f":"Calc_WHDHC!J1112/3.6/(2*Input!$B$5*PI())*60","v":119.31082981610598},null,null,{"$f":"ROUND(IF(Calc_WHDHC!H1112<0,Calc_WHDHC!I1112,2*PI()*Calc_WHDHC!G1112/60*Calc_WHDHC!H1112/1000*IF(Input!$B$4=\"Other\",0.95*0.95,0.98*0.95)),3)","v":103.021}]
[1107,null,{"$f":"Calc_WHDHC!G1113","v":1304},null,null,{"$f":"ROUND(IF(Calc_WHDHC!H1113<0,Calc_WHDHC!I1113*IF(Input!$B$4=\"Other\",0.95*0.95,0.98*0.95),2*PI()*Calc_WHDHC!G1113/60*Calc_WHDHC!H1113/1000),3)","v":113.06699999999999},null,null,1107,null,"-",null,null,{"$f":"Calc_WHDHC!J1113/3.6/(2*Input!$B$5*PI())*60","v":124.12867256105895},null,null,{"$f":"ROUND(IF(Calc_WHDHC!H1113<0,Calc_WHDHC!I1113,2*PI()*Calc_WHDHC!G1113/60*Calc_WHDHC!H1113/1000*IF(Input!$B$4=\"Other\",0.95*0.95,0.98*0.95)),3)","v":105.26600000000001}]
[1108,null,{"$f":"Calc_WHDHC!G1114","v":1318},null,null,{"$f":"ROUND(IF(Calc_WHDHC!H1114<0,Calc_WHDHC!I1114*IF(Input!$B$4=\"Other\",0.95*0.95,0.98*0.95),2*PI()*Calc_WHDHC!G1114/60*Calc_WHDHC!H1114/1000),3)","v":74.254999999999995},null,null,1108,null,"-",null,null,{"$f":"Calc_WHDHC!J1114/3.6/(2*Input!$B$5*PI())*60","v":125.51311013144773},null,null,{"$f":"ROUND(IF(Calc_WHDHC!H1114<0,Calc_WHDHC!I1114,2*PI()*Calc_WHDHC!G1114/60*Calc_WHDHC!H1114/1000*IF(Input!$B$4=\"Other\",0.95*0.95,0.98*0.95)),3)","v":69.132000000000005}]
[1109,null,{"$f":"Calc_WHDHC!G1115","v":1315},null,null,{"$f":"ROUND(IF(Calc_WHDHC!H1115<0,Calc_WHDHC!I1115*IF(Input!$B$4=\"Other\",0.95*0.95,0.98*0.95),2*PI()*Calc_WHDHC!G1115/60*Calc_WHDHC!H1115/1000),3)","v":73.673000000000002},null,null,1109,null,"-",null,null,{"$f":"Calc_WHDHC!J1115/3.6/(2*Input!$B$5*PI())*60","v":125.26391136877776},null,null,{"$f":"ROUND(IF(Calc_WHDHC!H1115<0,Calc_WHDHC!I1115,2*PI()*Calc_WHDHC!G1115/60*Calc_WHDHC!H1115/1000*IF(Input!$B$4=\"Other\",0.95*0.95,0.98*0.95)),3)","v":68.59}]
[1110,null,{"$f":"Calc_WHDHC!G1116","v":1313},null,null,{"$f":"ROUND(IF(Calc_WHDHC!H1116<0,Calc_WHDHC!I1116*IF(Input!$B$4=\"Other\",0.95*0.95,0.98*0.95),2*PI()*Calc_WHDHC!G1116/60*Calc_WHDHC!H1116/1000),3)","v":73.561000000000007},null,null,1110,null,"-",null,null,{"$f":"Calc_WHDHC!J1116/3.6/(2*Input!$B$5*PI())*60","v":124.9870238547},null,null,{"$f":"ROUND(IF(Calc_WHDHC!H1116<0,Calc_WHDHC!I1116,2*PI()*Calc_WHDHC!G1116/60*Calc_WHDHC!H1116/1000*IF(Input!$B$4=\"Other\",0.95*0.95,0.98*0.95)),3)","v":68.484999999999999}]
[1111,null,{"$f":"Calc_WHDHC!G1117","v":1310},null,null,{"$f":"ROUND(IF(Calc_WHDHC!H1117<0,Calc_WHDHC!I1117*IF(Input!$B$4=\"Other\",0.95*0.95,0.98*0.95),2*PI()*Calc_WHDHC!G1117/60*Calc_WHDHC!H1117/1000),3)","v":73.117999999999995},null,null,1111,null,"-",null,null,{"$f":"Calc_WHDHC!J1117/3.6/(2*Input!$B$5*PI())*60","v":124.76551384343782},null,null,{"$f":"ROUND(IF(Calc_WHDHC!H1117<0,Calc_WHDHC!I1117,2*PI()*Calc_WHDHC!G1117/60*Calc_WHDHC!H1117/1000*IF(Input!$B$4=\"Other\",0.95*0.95,0.98*0.95)),3)","v":68.072999999999993}]
[1112,null,{"$f":"Calc_WHDHC!G1118","v":1304},null,null,{"$f":"ROUND(IF(Calc_WHDHC!H1118<0,Calc_WHDHC!I1118*IF(Input!$B$4=\"Other\",0.95*0.95,0.98*0.95),2*PI()*Calc_WHDHC!G1118/60*Calc_WHDHC!H1118/1000),3)","v":72.784000000000006},null,null,1112,null,"-",null,null,{"$f":"Calc_WHDHC!J1118/3.6/(2*Input!$B$5*PI())*60","v":124.10098380965115},null,null,{"$f":"ROUND(IF(Calc_WHDHC!H1118<0,Calc_WHDHC!I1118,2*PI()*Calc_WHDHC!G1118/60*Calc_WHDHC!H1118/1000*IF(Input!$B$4=\"Other\",0.95*0.95,0.98*0.95)),3)","v":67.762}]
[1113,null,{"$f":"Calc_WHDHC!G1119","v":1294},null,null,{"$f":"ROUND(IF(Calc_WHDHC!H1119<0,Calc_WHDHC!I1119*IF(Input!$B$4=\"Other\",0.95*0.95,0.98*0.95),2*PI()*Calc_WHDHC!G1119/60*Calc_WHDHC!H1119/1000),3)","v":71.953999999999994},null,null,1113,null,"-",null,null,{"$f":"Calc_WHDHC!J1119/3.6/(2*Input!$B$5*PI())*60","v":123.29801001882566},null,null,{"$f":"ROUND(IF(Calc_WHDHC!H1119<0,Calc_WHDHC!I1119,2*PI()*Calc_WHDHC!G1119/60*Calc_WHDHC!H1119/1000*IF(Input!$B$4=\"Other\",0.95*0.95,0.98*0.95)),3)","v":66.989999999999995}]
[1114,null,{"$f":"Calc_WHDHC!G1120","v":1302},null,null,{"$f":"ROUND(IF(Calc_WHDHC!H1120<0,Calc_WHDHC!I1120*IF(Input!$B$4=\"Other\",0.95*0.95,0.98*0.95),2*PI()*Calc_WHDHC!G1120/60*Calc_WHDHC!H1120/1000),3)","v":72.399000000000001},null,null,1114,null,"-",null,null,{"$f":"Calc_WHDHC!J1120/3.6/(2*Input!$B$5*PI())*60","v":123.96254005261231},null,null,{"$f":"ROUND(IF(Calc_WHDHC!H1120<0,Calc_WHDHC!I1120,2*PI()*Calc_WHDHC!G1120/60*Calc_WHDHC!H1120/1000*IF(Input!$B$4=\"Other\",0.95*0.95,0.98*0.95)),3)","v":67.403999999999996}]
[1115,null,{"$f":"Calc_WHDHC!G1121","v":1326},null,null,{"$f":"ROUND(IF(Calc_WHDHC!H1121<0,Calc_WHDHC!I1121*IF(Input!$B$4=\"Other\",0.95*0.95,0.98*0.95),2*PI()*Calc_WHDHC!G1121/60*Calc_WHDHC!H1121/1000),3)","v":36.241999999999997},null,null,1115,null,"-",null,null,{"$f":"Calc_WHDHC!J1121/3.6/(2*Input!$B$5*PI())*60","v":126.26070641945768},null,null,{"$f":"ROUND(IF(Calc_WHDHC!H1121<0,Calc_WHDHC!I1121,2*PI()*Calc_WHDHC!G1121/60*Calc_WHDHC!H1121/1000*IF(Input!$B$4=\"Other\",0.95*0.95,0.98*0.95)),3)","v":33.741}]
[1116,null,{"$f":"Calc_WHDHC!G1122","v":1133},null,null,{"$f":"ROUND(IF(Calc_WHDHC!H1122<0,Calc_WHDHC!I1122*IF(Input!$B$4=\"Other\",0.95*0.95,0.98*0.95),2*PI()*Calc_WHDHC!G1122/60*Calc_WHDHC!H1122/1000),3)","v":0},null,null,1116,null,"-",null,null,{"$f":"Calc_WHDHC!J1122/3.6/(2*Input!$B$5*PI())*60","v":128.14354151518646},null,null,{"$f":"ROUND(IF(Calc_WHDHC!H1122<0,Calc_WHDHC!I1122,2*PI()*Calc_WHDHC!G1122/60*Calc_WHDHC!H1122/1000*IF(Input!$B$4=\"Other\",0.95*0.95,0.98*0.95)),3)","v":0}]
[1117,null,{"$f":"Calc_WHDHC!G1123","v":940},null,null,{"$f":"ROUND(IF(Calc_WHDHC!H1123<0,Calc_WHDHC!I1123*IF(Input!$B$4=\"Other\",0.95*0.95,0.98*0.95),2*PI()*Calc_WHDHC!G1123/60*Calc_WHDHC!H1123/1000),3)","v":48.628},null,null,1117,null,"-",null,null,{"$f":"Calc_WHDHC!J1123/3.6/(2*Input!$B$5*PI())*60","v":130.63552914188625},null,null,{"$f":"ROUND(IF(Calc_WHDHC!H1123<0,Calc_WHDHC!I1123,2*PI()*Calc_WHDHC!G1123/60*Calc_WHDHC!H1123/1000*IF(Input!$B$4=\"Other\",0.95*0.95,0.98*0.95)),3)","v":45.271999999999998}]
[1118,null,{"$f":"Calc_WHDHC!G1124","v":968},null,null,{"$f":"ROUND(IF(Calc_WHDHC!H1124<0,Calc_WHDHC!I1124*IF(Input!$B$4=\"Other\",0.95*0.95,0.98*0.95),2*PI()*Calc_WHDHC!G1124/60*Calc_WHDHC!H1124/1000),3)","v":99.037000000000006},null,null,1118,null,"-",null,null,{"$f":"Calc_WHDHC!J1124/3.6/(2*Input!$B$5*PI())*60","v":134.2627555763049},null,null,{"$f":"ROUND(IF(Calc_WHDHC!H1124<0,Calc_WHDHC!I1124,2*PI()*Calc_WHDHC!G1124/60*Calc_WHDHC!H1124/1000*IF(Input!$B$4=\"Other\",0.95*0.95,0.98*0.95)),3)","v":92.203999999999994}]
[1119,null,{"$f":"Calc_WHDHC!G1125","v":987},null,null,{"$f":"ROUND(IF(Calc_WHDHC!H1125<0,Calc_WHDHC!I1125*IF(Input!$B$4=\"Other\",0.95*0.95,0.98*0.95),2*PI()*Calc_WHDHC!G1125/60*Calc_WHDHC!H1125/1000),3)","v":82.997},null,null,1119,null,"-",null,null,{"$f":"Calc_WHDHC!J1125/3.6/(2*Input!$B$5*PI())*60","v":136.83780945722808},null,null,{"$f":"ROUND(IF(Calc_WHDHC!H1125<0,Calc_WHDHC!I1125,2*PI()*Calc_WHDHC!G1125/60*Calc_WHDHC!H1125/1000*IF(Input!$B$4=\"Other\",0.95*0.95,0.98*0.95)),3)","v":77.27}]
[1120,null,{"$f":"Calc_WHDHC!G1126","v":989},null,null,{"$f":"ROUND(IF(Calc_WHDHC!H1126<0,Calc_WHDHC!I1126*IF(Input!$B$4=\"Other\",0.95*0.95,0.98*0.95),2*PI()*Calc_WHDHC!G1126/60*Calc_WHDHC!H1126/1000),3)","v":25.478000000000002},null,null,1120,null,"-",null,null,{"$f":"Calc_WHDHC!J1126/3.6/(2*Input!$B$5*PI())*60","v":137.22545197693691},null,null,{"$f":"ROUND(IF(Calc_WHDHC!H1126<0,Calc_WHDHC!I1126,2*PI()*Calc_WHDHC!G1126/60*Calc_WHDHC!H1126/1000*IF(Input!$B$4=\"Other\",0.95*0.95,0.98*0.95)),3)","v":23.72}]
[1121,null,{"$f":"Calc_WHDHC!G1127","v":988},null,null,{"$f":"ROUND(IF(Calc_WHDHC!H1127<0,Calc_WHDHC!I1127*IF(Input!$B$4=\"Other\",0.95*0.95,0.98*0.95),2*PI()*Calc_WHDHC!G1127/60*Calc_WHDHC!H1127/1000),3)","v":25.038},null,null,1121,null,"-",null,null,{"$f":"Calc_WHDHC!J1127/3.6/(2*Input!$B$5*PI())*60","v":136.9762532142669},null,null,{"$f":"ROUND(IF(Calc_WHDHC!H1127<0,Calc_WHDHC!I1127,2*PI()*Calc_WHDHC!G1127/60*Calc_WHDHC!H1127/1000*IF(Input!$B$4=\"Other\",0.95*0.95,0.98*0.95)),3)","v":23.31}]
[1122,null,{"$f":"Calc_WHDHC!G1128","v":984},null,null,{"$f":"ROUND(IF(Calc_WHDHC!H1128<0,Calc_WHDHC!I1128*IF(Input!$B$4=\"Other\",0.95*0.95,0.98*0.95),2*PI()*Calc_WHDHC!G1128/60*Calc_WHDHC!H1128/1000),3)","v":13.087},null,null,1122,null,"-",null,null,{"$f":"Calc_WHDHC!J1128/3.6/(2*Input!$B$5*PI())*60","v":136.45016693751919},null,null,{"$f":"ROUND(IF(Calc_WHDHC!H1128<0,Calc_WHDHC!I1128,2*PI()*Calc_WHDHC!G1128/60*Calc_WHDHC!H1128/1000*IF(Input!$B$4=\"Other\",0.95*0.95,0.98*0.95)),3)","v":12.183999999999999}]
[1123,null,{"$f":"Calc_WHDHC!G1129","v":969},null,null,{"$f":"ROUND(IF(Calc_WHDHC!H1129<0,Calc_WHDHC!I1129*IF(Input!$B$4=\"Other\",0.95*0.95,0.98*0.95),2*PI()*Calc_WHDHC!G1129/60*Calc_WHDHC!H1129/1000),3)","v":24.658000000000001},null,null,1123,null,"-",null,null,{"$f":"Calc_WHDHC!J1129/3.6/(2*Input!$B$5*PI())*60","v":134.51195433897487},null,null,{"$f":"ROUND(IF(Calc_WHDHC!H1129<0,Calc_WHDHC!I1129,2*PI()*Calc_WHDHC!G1129/60*Calc_WHDHC!H1129/1000*IF(Input!$B$4=\"Other\",0.95*0.95,0.98*0.95)),3)","v":22.957000000000001}]
[1124,null,{"$f":"Calc_WHDHC!G1130","v":958},null,null,{"$f":"ROUND(IF(Calc_WHDHC!H1130<0,Calc_WHDHC!I1130*IF(Input!$B$4=\"Other\",0.95*0.95,0.98*0.95),2*PI()*Calc_WHDHC!G1130/60*Calc_WHDHC!H1130/1000),3)","v":36.015000000000001},null,null,1124,null,"-",null,null,{"$f":"Calc_WHDHC!J1130/3.6/(2*Input!$B$5*PI())*60","v":132.98907301154722},null,null,{"$f":"ROUND(IF(Calc_WHDHC!H1130<0,Calc_WHDHC!I1130,2*PI()*Calc_WHDHC!G1130/60*Calc_WHDHC!H1130/1000*IF(Input!$B$4=\"Other\",0.95*0.95,0.98*0.95)),3)","v":33.53}]
[1125,null,{"$f":"Calc_WHDHC!G1131","v":961},null,null,{"$f":"ROUND(IF(Calc_WHDHC!H1131<0,Calc_WHDHC!I1131*IF(Input!$B$4=\"Other\",0.95*0.95,0.98*0.95),2*PI()*Calc_WHDHC!G1131/60*Calc_WHDHC!H1131/1000),3)","v":69.741},null,null,1125,null,"-",null,null,{"$f":"Calc_WHDHC!J1131/3.6/(2*Input!$B$5*PI())*60","v":133.45978178547941},null,null,{"$f":"ROUND(IF(Calc_WHDHC!H1131<0,Calc_WHDHC!I1131,2*PI()*Calc_WHDHC!G1131/60*Calc_WHDHC!H1131/1000*IF(Input!$B$4=\"Other\",0.95*0.95,0.98*0.95)),3)","v":64.927999999999997}]
[1126,null,{"$f":"Calc_WHDHC!G1132","v":972},null,null,{"$f":"ROUND(IF(Calc_WHDHC!H1132<0,Calc_WHDHC!I1132*IF(Input!$B$4=\"Other\",0.95*0.95,0.98*0.95),2*PI()*Calc_WHDHC!G1132/60*Calc_WHDHC!H1132/1000),3)","v":60.155999999999999},null,null,1126,null,"-",null,null,{"$f":"Calc_WHDHC!J1132/3.6/(2*Input!$B$5*PI())*60","v":134.89959685868374},null,null,{"$f":"ROUND(IF(Calc_WHDHC!H1132<0,Calc_WHDHC!I1132,2*PI()*Calc_WHDHC!G1132/60*Calc_WHDHC!H1132/1000*IF(Input!$B$4=\"Other\",0.95*0.95,0.98*0.95)),3)","v":56.006}]
[1127,null,{"$f":"Calc_WHDHC!G1133","v":976},null,null,{"$f":"ROUND(IF(Calc_WHDHC!H1133<0,Calc_WHDHC!I1133*IF(Input!$B$4=\"Other\",0.95*0.95,0.98*0.95),2*PI()*Calc_WHDHC!G1133/60*Calc_WHDHC!H1133/1000),3)","v":61.936999999999998},null,null,1127,null,"-",null,null,{"$f":"Calc_WHDHC!J1133/3.6/(2*Input!$B$5*PI())*60","v":135.42568313543148},null,null,{"$f":"ROUND(IF(Calc_WHDHC!H1133<0,Calc_WHDHC!I1133,2*PI()*Calc_WHDHC!G1133/60*Calc_WHDHC!H1133/1000*IF(Input!$B$4=\"Other\",0.95*0.95,0.98*0.95)),3)","v":57.662999999999997}]
[1128,null,{"$f":"Calc_WHDHC!G1134","v":976},null,null,{"$f":"ROUND(IF(Calc_WHDHC!H1134<0,Calc_WHDHC!I1134*IF(Input!$B$4=\"Other\",0.95*0.95,0.98*0.95),2*PI()*Calc_WHDHC!G1134/60*Calc_WHDHC!H1134/1000),3)","v":54.168999999999997},null,null,1128,null,"-",null,null,{"$f":"Calc_WHDHC!J1134/3.6/(2*Input!$B$5*PI())*60","v":135.48106063824704},null,null,{"$f":"ROUND(IF(Calc_WHDHC!H1134<0,Calc_WHDHC!I1134,2*PI()*Calc_WHDHC!G1134/60*Calc_WHDHC!H1134/1000*IF(Input!$B$4=\"Other\",0.95*0.95,0.98*0.95)),3)","v":50.432000000000002}]
[1129,null,{"$f":"Calc_WHDHC!G1135","v":979},null,null,{"$f":"ROUND(IF(Calc_WHDHC!H1135<0,Calc_WHDHC!I1135*IF(Input!$B$4=\"Other\",0.95*0.95,0.98*0.95),2*PI()*Calc_WHDHC!G1135/60*Calc_WHDHC!H1135/1000),3)","v":68.585999999999999},null,null,1129,null,"-",null,null,{"$f":"Calc_WHDHC!J1135/3.6/(2*Input!$B$5*PI())*60","v":135.81332565514032},null,null,{"$f":"ROUND(IF(Calc_WHDHC!H1135<0,Calc_WHDHC!I1135,2*PI()*Calc_WHDHC!G1135/60*Calc_WHDHC!H1135/1000*IF(Input!$B$4=\"Other\",0.95*0.95,0.98*0.95)),3)","v":63.853999999999999}]
[1130,null,{"$f":"Calc_WHDHC!G1136","v":983},null,null,{"$f":"ROUND(IF(Calc_WHDHC!H1136<0,Calc_WHDHC!I1136*IF(Input!$B$4=\"Other\",0.95*0.95,0.98*0.95),2*PI()*Calc_WHDHC!G1136/60*Calc_WHDHC!H1136/1000),3)","v":60.837000000000003},null,null,1130,null,"-",null,null,{"$f":"Calc_WHDHC!J1136/3.6/(2*Input!$B$5*PI())*60","v":136.3117231804803},null,null,{"$f":"ROUND(IF(Calc_WHDHC!H1136<0,Calc_WHDHC!I1136,2*PI()*Calc_WHDHC!G1136/60*Calc_WHDHC!H1136/1000*IF(Input!$B$4=\"Other\",0.95*0.95,0.98*0.95)),3)","v":56.639000000000003}]
[1131,null,{"$f":"Calc_WHDHC!G1137","v":984},null,null,{"$f":"ROUND(IF(Calc_WHDHC!H1137<0,Calc_WHDHC!I1137*IF(Input!$B$4=\"Other\",0.95*0.95,0.98*0.95),2*PI()*Calc_WHDHC!G1137/60*Calc_WHDHC!H1137/1000),3)","v":-0.57499999999999996},null,null,1131,null,"-",null,null,{"$f":"Calc_WHDHC!J1137/3.6/(2*Input!$B$5*PI())*60","v":136.45016693751919},null,null,{"$f":"ROUND(IF(Calc_WHDHC!H1137<0,Calc_WHDHC!I1137,2*PI()*Calc_WHDHC!G1137/60*Calc_WHDHC!H1137/1000*IF(Input!$B$4=\"Other\",0.95*0.95,0.98*0.95)),3)","v":-0.61799999999999999}]
[1132,null,{"$f":"Calc_WHDHC!G1138","v":975},null,null,{"$f":"ROUND(IF(Calc_WHDHC!H1138<0,Calc_WHDHC!I1138*IF(Input!$B$4=\"Other\",0.95*0.95,0.98*0.95),2*PI()*Calc_WHDHC!G1138/60*Calc_WHDHC!H1138/1000),3)","v":-5.2320000000000002},null,null,1132,null,"-",null,null,{"$f":"Calc_WHDHC!J1138/3.6/(2*Input!$B$5*PI())*60","v":135.23186187557707},null,null,{"$f":"ROUND(IF(Calc_WHDHC!H1138<0,Calc_WHDHC!I1138,2*PI()*Calc_WHDHC!G1138/60*Calc_WHDHC!H1138/1000*IF(Input!$B$4=\"Other\",0.95*0.95,0.98*0.95)),3)","v":-5.62}]
[1133,null,{"$f":"Calc_WHDHC!G1139","v":960},null,null,{"$f":"ROUND(IF(Calc_WHDHC!H1139<0,Calc_WHDHC!I1139*IF(Input!$B$4=\"Other\",0.95*0.95,0.98*0.95),2*PI()*Calc_WHDHC!G1139/60*Calc_WHDHC!H1139/1000),3)","v":0},null,null,1133,null,"-",null,null,{"$f":"Calc_WHDHC!J1139/3.6/(2*Input!$B$5*PI())*60","v":133.23827177421717},null,null,{"$f":"ROUND(IF(Calc_WHDHC!H1139<0,Calc_WHDHC!I1139,2*PI()*Calc_WHDHC!G1139/60*Calc_WHDHC!H1139/1000*IF(Input!$B$4=\"Other\",0.95*0.95,0.98*0.95)),3)","v":0}]
[1134,null,{"$f":"Calc_WHDHC!G1140","v":954},null,null,{"$f":"ROUND(IF(Calc_WHDHC!H1140<0,Calc_WHDHC!I1140*IF(Input!$B$4=\"Other\",0.95*0.95,0.98*0.95),2*PI()*Calc_WHDHC!G1140/60*Calc_WHDHC!H1140/1000),3)","v":-0.23400000000000001},null,null,1134,null,"-",null,null,{"$f":"Calc_WHDHC!J1140/3.6/(2*Input!$B$5*PI())*60","v":132.35223172916835},null,null,{"$f":"ROUND(IF(Calc_WHDHC!H1140<0,Calc_WHDHC!I1140,2*PI()*Calc_WHDHC!G1140/60*Calc_WHDHC!H1140/1000*IF(Input!$B$4=\"Other\",0.95*0.95,0.98*0.95)),3)","v":-0.251}]
[1135,null,{"$f":"Calc_WHDHC!G1141","v":1145},null,null,{"$f":"ROUND(IF(Calc_WHDHC!H1141<0,Calc_WHDHC!I1141*IF(Input!$B$4=\"Other\",0.95*0.95,0.98*0.95),2*PI()*Calc_WHDHC!G1141/60*Calc_WHDHC!H1141/1000),3)","v":0},null,null,1135,null,"-",null,null,{"$f":"Calc_WHDHC!J1141/3.6/(2*Input!$B$5*PI())*60","v":131.30005917567291},null,null,{"$f":"ROUND(IF(Calc_WHDHC!H1141<0,Calc_WHDHC!I1141,2*PI()*Calc_WHDHC!G1141/60*Calc_WHDHC!H1141/1000*IF(Input!$B$4=\"Other\",0.95*0.95,0.98*0.95)),3)","v":0}]
[1136,null,{"$f":"Calc_WHDHC!G1142","v":1338},null,null,{"$f":"ROUND(IF(Calc_WHDHC!H1142<0,Calc_WHDHC!I1142*IF(Input!$B$4=\"Other\",0.95*0.95,0.98*0.95),2*PI()*Calc_WHDHC!G1142/60*Calc_WHDHC!H1142/1000),3)","v":-54.234000000000002},null,null,1136,null,"-",null,null,{"$f":"Calc_WHDHC!J1142/3.6/(2*Input!$B$5*PI())*60","v":127.31287897295316},null,null,{"$f":"ROUND(IF(Calc_WHDHC!H1142<0,Calc_WHDHC!I1142,2*PI()*Calc_WHDHC!G1142/60*Calc_WHDHC!H1142/1000*IF(Input!$B$4=\"Other\",0.95*0.95,0.98*0.95)),3)","v":-58.253}]
[1137,null,{"$f":"Calc_WHDHC!G1143","v":1248},null,null,{"$f":"ROUND(IF(Calc_WHDHC!H1143<0,Calc_WHDHC!I1143*IF(Input!$B$4=\"Other\",0.95*0.95,0.98*0.95),2*PI()*Calc_WHDHC!G1143/60*Calc_WHDHC!H1143/1000),3)","v":-61.378},null,null,1137,null,"-",null,null,{"$f":"Calc_WHDHC!J1143/3.6/(2*Input!$B$5*PI())*60","v":118.95087604780488},null,null,{"$f":"ROUND(IF(Calc_WHDHC!H1143<0,Calc_WHDHC!I1143,2*PI()*Calc_WHDHC!G1143/60*Calc_WHDHC!H1143/1000*IF(Input!$B$4=\"Other\",0.95*0.95,0.98*0.95)),3)","v":-65.927000000000007}]
[1138,null,{"$f":"Calc_WHDHC!G1144","v":1142},null,null,{"$f":"ROUND(IF(Calc_WHDHC!H1144<0,Calc_WHDHC!I1144*IF(Input!$B$4=\"Other\",0.95*0.95,0.98*0.95),2*PI()*Calc_WHDHC!G1144/60*Calc_WHDHC!H1144/1000),3)","v":-55.567},null,null,1138,null,"-",null,null,{"$f":"Calc_WHDHC!J1144/3.6/(2*Input!$B$5*PI())*60","v":109.03830304382114},null,null,{"$f":"ROUND(IF(Calc_WHDHC!H1144<0,Calc_WHDHC!I1144,2*PI()*Calc_WHDHC!G1144/60*Calc_WHDHC!H1144/1000*IF(Input!$B$4=\"Other\",0.95*0.95,0.98*0.95)),3)","v":-59.685000000000002}]
[1139,null,{"$f":"Calc_WHDHC!G1145","v":1243},null,null,{"$f":"ROUND(IF(Calc_WHDHC!H1145<0,Calc_WHDHC!I1145*IF(Input!$B$4=\"Other\",0.95*0.95,0.98*0.95),2*PI()*Calc_WHDHC!G1145/60*Calc_WHDHC!H1145/1000),3)","v":0},null,null,1139,null,"-",null,null,{"$f":"Calc_WHDHC!J1145/3.6/(2*Input!$B$5*PI())*60","v":99.181107542652938},null,null,{"$f":"ROUND(IF(Calc_WHDHC!H1145<0,Calc_WHDHC!I1145,2*PI()*Calc_WHDHC!G1145/60*Calc_WHDHC!H1145/1000*IF(Input!$B$4=\"Other\",0.95*0.95,0.98*0.95)),3)","v":0}]
[1140,null,{"$f":"Calc_WHDHC!G1146","v":1342},null,null,{"$f":"ROUND(IF(Calc_WHDHC!H1146<0,Calc_WHDHC!I1146*IF(Input!$B$4=\"Other\",0.95*0.95,0.98*0.95),2*PI()*Calc_WHDHC!G1146/60*Calc_WHDHC!H1146/1000),3)","v":-63.174999999999997},null,null,1140,null,"-",null,null,{"$f":"Calc_WHDHC!J1146/3.6/(2*Input!$B$5*PI())*60","v":88.188673233765968},null,null,{"$f":"ROUND(IF(Calc_WHDHC!H1146<0,Calc_WHDHC!I1146,2*PI()*Calc_WHDHC!G1146/60*Calc_WHDHC!H1146/1000*IF(Input!$B$4=\"Other\",0.95*0.95,0.98*0.95)),3)","v":-67.856999999999999}]
[1141,null,{"$f":"Calc_WHDHC!G1147","v":1183},null,null,{"$f":"ROUND(IF(Calc_WHDHC!H1147<0,Calc_WHDHC!I1147*IF(Input!$B$4=\"Other\",0.95*0.95,0.98*0.95),2*PI()*Calc_WHDHC!G1147/60*Calc_WHDHC!H1147/1000),3)","v":-57.203000000000003},null,null,1141,null,"-",null,null,{"$f":"Calc_WHDHC!J1147/3.6/(2*Input!$B$5*PI())*60","v":74.399675032693608},null,null,{"$f":"ROUND(IF(Calc_WHDHC!H1147<0,Calc_WHDHC!I1147,2*PI()*Calc_WHDHC!G1147/60*Calc_WHDHC!H1147/1000*IF(Input!$B$4=\"Other\",0.95*0.95,0.98*0.95)),3)","v":-61.442999999999998}]
[1142,null,{"$f":"Calc_WHDHC!G1148","v":1024},null,null,{"$f":"ROUND(IF(Calc_WHDHC!H1148<0,Calc_WHDHC!I1148*IF(Input!$B$4=\"Other\",0.95*0.95,0.98*0.95),2*PI()*Calc_WHDHC!G1148/60*Calc_WHDHC!H1148/1000),3)","v":0},null,null,1142,null,"-",null,null,{"$f":"Calc_WHDHC!J1148/3.6/(2*Input!$B$5*PI())*60","v":59.281616764048003},null,null,{"$f":"ROUND(IF(Calc_WHDHC!H1148<0,Calc_WHDHC!I1148,2*PI()*Calc_WHDHC!G1148/60*Calc_WHDHC!H1148/1000*IF(Input!$B$4=\"Other\",0.95*0.95,0.98*0.95)),3)","v":0}]
[1143,null,{"$f":"Calc_WHDHC!G1149","v":865},null,null,{"$f":"ROUND(IF(Calc_WHDHC!H1149<0,Calc_WHDHC!I1149*IF(Input!$B$4=\"Other\",0.95*0.95,0.98*0.95),2*PI()*Calc_WHDHC!G1149/60*Calc_WHDHC!H1149/1000),3)","v":-22.1},null,null,1143,null,"-",null,null,{"$f":"Calc_WHDHC!J1149/3.6/(2*Input!$B$5*PI())*60","v":45.437241060160105},null,null,{"$f":"ROUND(IF(Calc_WHDHC!H1149<0,Calc_WHDHC!I1149,2*PI()*Calc_WHDHC!G1149/60*Calc_WHDHC!H1149/1000*IF(Input!$B$4=\"Other\",0.95*0.95,0.98*0.95)),3)","v":-23.738}]
[1144,null,{"$f":"Calc_WHDHC!G1150","v":733},null,null,{"$f":"ROUND(IF(Calc_WHDHC!H1150<0,Calc_WHDHC!I1150*IF(Input!$B$4=\"Other\",0.95*0.95,0.98*0.95),2*PI()*Calc_WHDHC!G1150/60*Calc_WHDHC!H1150/1000),3)","v":-7.742},null,null,1144,null,"-",null,null,{"$f":"Calc_WHDHC!J1150/3.6/(2*Input!$B$5*PI())*60","v":34.777071768166415},null,null,{"$f":"ROUND(IF(Calc_WHDHC!H1150<0,Calc_WHDHC!I1150,2*PI()*Calc_WHDHC!G1150/60*Calc_WHDHC!H1150/1000*IF(Input!$B$4=\"Other\",0.95*0.95,0.98*0.95)),3)","v":-8.3160000000000007}]
[1145,null,{"$f":"Calc_WHDHC!G1151","v":626},null,null,{"$f":"ROUND(IF(Calc_WHDHC!H1151<0,Calc_WHDHC!I1151*IF(Input!$B$4=\"Other\",0.95*0.95,0.98*0.95),2*PI()*Calc_WHDHC!G1151/60*Calc_WHDHC!H1151/1000),3)","v":-2.5470000000000002},null,null,1145,null,"-",null,null,{"$f":"Calc_WHDHC!J1151/3.6/(2*Input!$B$5*PI())*60","v":28.823990215494618},null,null,{"$f":"ROUND(IF(Calc_WHDHC!H1151<0,Calc_WHDHC!I1151,2*PI()*Calc_WHDHC!G1151/60*Calc_WHDHC!H1151/1000*IF(Input!$B$4=\"Other\",0.95*0.95,0.98*0.95)),3)","v":-2.7360000000000002}]
[1146,null,{"$f":"Calc_WHDHC!G1152","v":560},null,null,{"$f":"ROUND(IF(Calc_WHDHC!H1152<0,Calc_WHDHC!I1152*IF(Input!$B$4=\"Other\",0.95*0.95,0.98*0.95),2*PI()*Calc_WHDHC!G1152/60*Calc_WHDHC!H1152/1000),3)","v":0},null,null,1146,null,"-",null,null,{"$f":"Calc_WHDHC!J1152/3.6/(2*Input!$B$5*PI())*60","v":25.113697526852661},null,null,{"$f":"ROUND(IF(Calc_WHDHC!H1152<0,Calc_WHDHC!I1152,2*PI()*Calc_WHDHC!G1152/60*Calc_WHDHC!H1152/1000*IF(Input!$B$4=\"Other\",0.95*0.95,0.98*0.95)),3)","v":0}]
[1147,null,{"$f":"Calc_WHDHC!G1153","v":560},null,null,{"$f":"ROUND(IF(Calc_WHDHC!H1153<0,Calc_WHDHC!I1153*IF(Input!$B$4=\"Other\",0.95*0.95,0.98*0.95),2*PI()*Calc_WHDHC!G1153/60*Calc_WHDHC!H1153/1000),3)","v":0},null,null,1147,null,"-",null,null,{"$f":"Calc_WHDHC!J1153/3.6/(2*Input!$B$5*PI())*60","v":21.292649832579595},null,null,{"$f":"ROUND(IF(Calc_WHDHC!H1153<0,Calc_WHDHC!I1153,2*PI()*Calc_WHDHC!G1153/60*Calc_WHDHC!H1153/1000*IF(Input!$B$4=\"Other\",0.95*0.95,0.98*0.95)),3)","v":0}]
[1148,null,{"$f":"Calc_WHDHC!G1154","v":560},null,null,{"$f":"ROUND(IF(Calc_WHDHC!H1154<0,Calc_WHDHC!I1154*IF(Input!$B$4=\"Other\",0.95*0.95,0.98*0.95),2*PI()*Calc_WHDHC!G1154/60*Calc_WHDHC!H1154/1000),3)","v":0},null,null,1148,null,"-",null,null,{"$f":"Calc_WHDHC!J1154/3.6/(2*Input!$B$5*PI())*60","v":17.388535884083208},null,null,{"$f":"ROUND(IF(Calc_WHDHC!H1154<0,Calc_WHDHC!I1154,2*PI()*Calc_WHDHC!G1154/60*Calc_WHDHC!H1154/1000*IF(Input!$B$4=\"Other\",0.95*0.95,0.98*0.95)),3)","v":0}]
[1149,null,{"$f":"Calc_WHDHC!G1155","v":560},null,null,{"$f":"ROUND(IF(Calc_WHDHC!H1155<0,Calc_WHDHC!I1155*IF(Input!$B$4=\"Other\",0.95*0.95,0.98*0.95),2*PI()*Calc_WHDHC!G1155/60*Calc_WHDHC!H1155/1000),3)","v":0},null,null,1149,null,"-",null,null,{"$f":"Calc_WHDHC!J1155/3.6/(2*Input!$B$5*PI())*60","v":14.065885715150113},null,null,{"$f":"ROUND(IF(Calc_WHDHC!H1155<0,Calc_WHDHC!I1155,2*PI()*Calc_WHDHC!G1155/60*Calc_WHDHC!H1155/1000*IF(Input!$B$4=\"Other\",0.95*0.95,0.98*0.95)),3)","v":0}]
[1150,null,{"$f":"Calc_WHDHC!G1156","v":560},null,null,{"$f":"ROUND(IF(Calc_WHDHC!H1156<0,Calc_WHDHC!I1156*IF(Input!$B$4=\"Other\",0.95*0.95,0.98*0.95),2*PI()*Calc_WHDHC!G1156/60*Calc_WHDHC!H1156/1000),3)","v":0},null,null,1150,null,"-",null,null,{"$f":"Calc_WHDHC!J1156/3.6/(2*Input!$B$5*PI())*60","v":11.961540608159149},null,null,{"$f":"ROUND(IF(Calc_WHDHC!H1156<0,Calc_WHDHC!I1156,2*PI()*Calc_WHDHC!G1156/60*Calc_WHDHC!H1156/1000*IF(Input!$B$4=\"Other\",0.95*0.95,0.98*0.95)),3)","v":0}]
[1151,null,{"$f":"Calc_WHDHC!G1157","v":560},null,null,{"$f":"ROUND(IF(Calc_WHDHC!H1157<0,Calc_WHDHC!I1157*IF(Input!$B$4=\"Other\",0.95*0.95,0.98*0.95),2*PI()*Calc_WHDHC!G1157/60*Calc_WHDHC!H1157/1000),3)","v":0},null,null,1151,null,"-",null,null,{"$f":"Calc_WHDHC!J1157/3.6/(2*Input!$B$5*PI())*60","v":9.192665467381568},null,null,{"$f":"ROUND(IF(Calc_WHDHC!H1157<0,Calc_WHDHC!I1157,2*PI()*Calc_WHDHC!G1157/60*Calc_WHDHC!H1157/1000*IF(Input!$B$4=\"Other\",0.95*0.95,0.98*0.95)),3)","v":0}]
[1152,null,{"$f":"Calc_WHDHC!G1158","v":560},null,null,{"$f":"ROUND(IF(Calc_WHDHC!H1158<0,Calc_WHDHC!I1158*IF(Input!$B$4=\"Other\",0.95*0.95,0.98*0.95),2*PI()*Calc_WHDHC!G1158/60*Calc_WHDHC!H1158/1000),3)","v":0},null,null,1152,null,"-",null,null,{"$f":"Calc_WHDHC!J1158/3.6/(2*Input!$B$5*PI())*60","v":5.3162402702929556},null,null,{"$f":"ROUND(IF(Calc_WHDHC!H1158<0,Calc_WHDHC!I1158,2*PI()*Calc_WHDHC!G1158/60*Calc_WHDHC!H1158/1000*IF(Input!$B$4=\"Other\",0.95*0.95,0.98*0.95)),3)","v":0}]
[1153,null,{"$f":"Calc_WHDHC!G1159","v":560},null,null,{"$f":"ROUND(IF(Calc_WHDHC!H1159<0,Calc_WHDHC!I1159*IF(Input!$B$4=\"Other\",0.95*0.95,0.98*0.95),2*PI()*Calc_WHDHC!G1159/60*Calc_WHDHC!H1159/1000),3)","v":0},null,null,1153,null,"-",null,null,{"$f":"Calc_WHDHC!J1159/3.6/(2*Input!$B$5*PI())*60","v":2.9626964006320113},null,null,{"$f":"ROUND(IF(Calc_WHDHC!H1159<0,Calc_WHDHC!I1159,2*PI()*Calc_WHDHC!G1159/60*Calc_WHDHC!H1159/1000*IF(Input!$B$4=\"Other\",0.95*0.95,0.98*0.95)),3)","v":0}]
[1154,null,{"$f":"Calc_WHDHC!G1160","v":560},null,null,{"$f":"ROUND(IF(Calc_WHDHC!H1160<0,Calc_WHDHC!I1160*IF(Input!$B$4=\"Other\",0.95*0.95,0.98*0.95),2*PI()*Calc_WHDHC!G1160/60*Calc_WHDHC!H1160/1000),3)","v":0},null,null,1154,null,"-",null,null,{"$f":"Calc_WHDHC!J1160/3.6/(2*Input!$B$5*PI())*60","v":1.8274575929132035},null,null,{"$f":"ROUND(IF(Calc_WHDHC!H1160<0,Calc_WHDHC!I1160,2*PI()*Calc_WHDHC!G1160/60*Calc_WHDHC!H1160/1000*IF(Input!$B$4=\"Other\",0.95*0.95,0.98*0.95)),3)","v":0}]
[1155,null,{"$f":"Calc_WHDHC!G1161","v":560},null,null,{"$f":"ROUND(IF(Calc_WHDHC!H1161<0,Calc_WHDHC!I1161*IF(Input!$B$4=\"Other\",0.95*0.95,0.98*0.95),2*PI()*Calc_WHDHC!G1161/60*Calc_WHDHC!H1161/1000),3)","v":0},null,null,1155,null,"-",null,null,{"$f":"Calc_WHDHC!J1161/3.6/(2*Input!$B$5*PI())*60","v":0},null,null,{"$f":"ROUND(IF(Calc_WHDHC!H1161<0,Calc_WHDHC!I1161,2*PI()*Calc_WHDHC!G1161/60*Calc_WHDHC!H1161/1000*IF(Input!$B$4=\"Other\",0.95*0.95,0.98*0.95)),3)","v":0}]
[1156,null,{"$f":"Calc_WHDHC!G1162","v":560},null,null,{"$f":"ROUND(IF(Calc_WHDHC!H1162<0,Calc_WHDHC!I1162*IF(Input!$B$4=\"Other\",0.95*0.95,0.98*0.95),2*PI()*Calc_WHDHC!G1162/60*Calc_WHDHC!H1162/1000),3)","v":0},null,null,1156,null,"-",null,null,{"$f":"Calc_WHDHC!J1162/3.6/(2*Input!$B$5*PI())*60","v":0},null,null,{"$f":"ROUND(IF(Calc_WHDHC!H1162<0,Calc_WHDHC!I1162,2*PI()*Calc_WHDHC!G1162/60*Calc_WHDHC!H1162/1000*IF(Input!$B$4=\"Other\",0.95*0.95,0.98*0.95)),3)","v":0}]
[1157,null,{"$f":"Calc_WHDHC!G1163","v":560},null,null,{"$f":"ROUND(IF(Calc_WHDHC!H1163<0,Calc_WHDHC!I1163*IF(Input!$B$4=\"Other\",0.95*0.95,0.98*0.95),2*PI()*Calc_WHDHC!G1163/60*Calc_WHDHC!H1163/1000),3)","v":0},null,null,1157,null,"-",null,null,{"$f":"Calc_WHDHC!J1163/3.6/(2*Input!$B$5*PI())*60","v":0},null,null,{"$f":"ROUND(IF(Calc_WHDHC!H1163<0,Calc_WHDHC!I1163,2*PI()*Calc_WHDHC!G1163/60*Calc_WHDHC!H1163/1000*IF(Input!$B$4=\"Other\",0.95*0.95,0.98*0.95)),3)","v":0}]
[1158,null,{"$f":"Calc_WHDHC!G1164","v":560},null,null,{"$f":"ROUND(IF(Calc_WHDHC!H1164<0,Calc_WHDHC!I1164*IF(Input!$B$4=\"Other\",0.95*0.95,0.98*0.95),2*PI()*Calc_WHDHC!G1164/60*Calc_WHDHC!H1164/1000),3)","v":0},null,null,1158,null,"-",null,null,{"$f":"Calc_WHDHC!J1164/3.6/(2*Input!$B$5*PI())*60","v":0},null,null,{"$f":"ROUND(IF(Calc_WHDHC!H1164<0,Calc_WHDHC!I1164,2*PI()*Calc_WHDHC!G1164/60*Calc_WHDHC!H1164/1000*IF(Input!$B$4=\"Other\",0.95*0.95,0.98*0.95)),3)","v":0}]
[1159,null,{"$f":"Calc_WHDHC!G1165","v":560},null,null,{"$f":"ROUND(IF(Calc_WHDHC!H1165<0,Calc_WHDHC!I1165*IF(Input!$B$4=\"Other\",0.95*0.95,0.98*0.95),2*PI()*Calc_WHDHC!G1165/60*Calc_WHDHC!H1165/1000),3)","v":0},null,null,1159,null,"-",null,null,{"$f":"Calc_WHDHC!J1165/3.6/(2*Input!$B$5*PI())*60","v":0},null,null,{"$f":"ROUND(IF(Calc_WHDHC!H1165<0,Calc_WHDHC!I1165,2*PI()*Calc_WHDHC!G1165/60*Calc_WHDHC!H1165/1000*IF(Input!$B$4=\"Other\",0.95*0.95,0.98*0.95)),3)","v":0}]
[1160,null,{"$f":"Calc_WHDHC!G1166","v":560},null,null,{"$f":"ROUND(IF(Calc_WHDHC!H1166<0,Calc_WHDHC!I1166*IF(Input!$B$4=\"Other\",0.95*0.95,0.98*0.95),2*PI()*Calc_WHDHC!G1166/60*Calc_WHDHC!H1166/1000),3)","v":0},null,null,1160,null,"-",null,null,{"$f":"Calc_WHDHC!J1166/3.6/(2*Input!$B$5*PI())*60","v":0},null,null,{"$f":"ROUND(IF(Calc_WHDHC!H1166<0,Calc_WHDHC!I1166,2*PI()*Calc_WHDHC!G1166/60*Calc_WHDHC!H1166/1000*IF(Input!$B$4=\"Other\",0.95*0.95,0.98*0.95)),3)","v":0}]
[1161,null,{"$f":"Calc_WHDHC!G1167","v":560},null,null,{"$f":"ROUND(IF(Calc_WHDHC!H1167<0,Calc_WHDHC!I1167*IF(Input!$B$4=\"Other\",0.95*0.95,0.98*0.95),2*PI()*Calc_WHDHC!G1167/60*Calc_WHDHC!H1167/1000),3)","v":0},null,null,1161,null,"-",null,null,{"$f":"Calc_WHDHC!J1167/3.6/(2*Input!$B$5*PI())*60","v":0},null,null,{"$f":"ROUND(IF(Calc_WHDHC!H1167<0,Calc_WHDHC!I1167,2*PI()*Calc_WHDHC!G1167/60*Calc_WHDHC!H1167/1000*IF(Input!$B$4=\"Other\",0.95*0.95,0.98*0.95)),3)","v":0}]
[1162,null,{"$f":"Calc_WHDHC!G1168","v":560},null,null,{"$f":"ROUND(IF(Calc_WHDHC!H1168<0,Calc_WHDHC!I1168*IF(Input!$B$4=\"Other\",0.95*0.95,0.98*0.95),2*PI()*Calc_WHDHC!G1168/60*Calc_WHDHC!H1168/1000),3)","v":0},null,null,1162,null,"-",null,null,{"$f":"Calc_WHDHC!J1168/3.6/(2*Input!$B$5*PI())*60","v":0},null,null,{"$f":"ROUND(IF(Calc_WHDHC!H1168<0,Calc_WHDHC!I1168,2*PI()*Calc_WHDHC!G1168/60*Calc_WHDHC!H1168/1000*IF(Input!$B$4=\"Other\",0.95*0.95,0.98*0.95)),3)","v":0}]
[1163,null,{"$f":"Calc_WHDHC!G1169","v":560},null,null,{"$f":"ROUND(IF(Calc_WHDHC!H1169<0,Calc_WHDHC!I1169*IF(Input!$B$4=\"Other\",0.95*0.95,0.98*0.95),2*PI()*Calc_WHDHC!G1169/60*Calc_WHDHC!H1169/1000),3)","v":0},null,null,1163,null,"-",null,null,{"$f":"Calc_WHDHC!J1169/3.6/(2*Input!$B$5*PI())*60","v":0},null,null,{"$f":"ROUND(IF(Calc_WHDHC!H1169<0,Calc_WHDHC!I1169,2*PI()*Calc_WHDHC!G1169/60*Calc_WHDHC!H1169/1000*IF(Input!$B$4=\"Other\",0.95*0.95,0.98*0.95)),3)","v":0}]
[1164,null,{"$f":"Calc_WHDHC!G1170","v":560},null,null,{"$f":"ROUND(IF(Calc_WHDHC!H1170<0,Calc_WHDHC!I1170*IF(Input!$B$4=\"Other\",0.95*0.95,0.98*0.95),2*PI()*Calc_WHDHC!G1170/60*Calc_WHDHC!H1170/1000),3)","v":0},null,null,1164,null,"-",null,null,{"$f":"Calc_WHDHC!J1170/3.6/(2*Input!$B$5*PI())*60","v":0},null,null,{"$f":"ROUND(IF(Calc_WHDHC!H1170<0,Calc_WHDHC!I1170,2*PI()*Calc_WHDHC!G1170/60*Calc_WHDHC!H1170/1000*IF(Input!$B$4=\"Other\",0.95*0.95,0.98*0.95)),3)","v":0}]
[1165,null,{"$f":"Calc_WHDHC!G1171","v":560},null,null,{"$f":"ROUND(IF(Calc_WHDHC!H1171<0,Calc_WHDHC!I1171*IF(Input!$B$4=\"Other\",0.95*0.95,0.98*0.95),2*PI()*Calc_WHDHC!G1171/60*Calc_WHDHC!H1171/1000),3)","v":0},null,null,1165,null,"-",null,null,{"$f":"Calc_WHDHC!J1171/3.6/(2*Input!$B$5*PI())*60","v":0},null,null,{"$f":"ROUND(IF(Calc_WHDHC!H1171<0,Calc_WHDHC!I1171,2*PI()*Calc_WHDHC!G1171/60*Calc_WHDHC!H1171/1000*IF(Input!$B$4=\"Other\",0.95*0.95,0.98*0.95)),3)","v":0}]
[1166,null,{"$f":"Calc_WHDHC!G1172","v":560},null,null,{"$f":"ROUND(IF(Calc_WHDHC!H1172<0,Calc_WHDHC!I1172*IF(Input!$B$4=\"Other\",0.95*0.95,0.98*0.95),2*PI()*Calc_WHDHC!G1172/60*Calc_WHDHC!H1172/1000),3)","v":0},null,null,1166,null,"-",null,null,{"$f":"Calc_WHDHC!J1172/3.6/(2*Input!$B$5*PI())*60","v":0},null,null,{"$f":"ROUND(IF(Calc_WHDHC!H1172<0,Calc_WHDHC!I1172,2*PI()*Calc_WHDHC!G1172/60*Calc_WHDHC!H1172/1000*IF(Input!$B$4=\"Other\",0.95*0.95,0.98*0.95)),3)","v":0}]
[1167,null,{"$f":"Calc_WHDHC!G1173","v":560},null,null,{"$f":"ROUND(IF(Calc_WHDHC!H1173<0,Calc_WHDHC!I1173*IF(Input!$B$4=\"Other\",0.95*0.95,0.98*0.95),2*PI()*Calc_WHDHC!G1173/60*Calc_WHDHC!H1173/1000),3)","v":0},null,null,1167,null,"-",null,null,{"$f":"Calc_WHDHC!J1173/3.6/(2*Input!$B$5*PI())*60","v":0},null,null,{"$f":"ROUND(IF(Calc_WHDHC!H1173<0,Calc_WHDHC!I1173,2*PI()*Calc_WHDHC!G1173/60*Calc_WHDHC!H1173/1000*IF(Input!$B$4=\"Other\",0.95*0.95,0.98*0.95)),3)","v":0}]
[1168,null,{"$f":"Calc_WHDHC!G1174","v":560},null,null,{"$f":"ROUND(IF(Calc_WHDHC!H1174<0,Calc_WHDHC!I1174*IF(Input!$B$4=\"Other\",0.95*0.95,0.98*0.95),2*PI()*Calc_WHDHC!G1174/60*Calc_WHDHC!H1174/1000),3)","v":0},null,null,1168,null,"-",null,null,{"$f":"Calc_WHDHC!J1174/3.6/(2*Input!$B$5*PI())*60","v":0},null,null,{"$f":"ROUND(IF(Calc_WHDHC!H1174<0,Calc_WHDHC!I1174,2*PI()*Calc_WHDHC!G1174/60*Calc_WHDHC!H1174/1000*IF(Input!$B$4=\"Other\",0.95*0.95,0.98*0.95)),3)","v":0}]
[1169,null,{"$f":"Calc_WHDHC!G1175","v":560},null,null,{"$f":"ROUND(IF(Calc_WHDHC!H1175<0,Calc_WHDHC!I1175*IF(Input!$B$4=\"Other\",0.95*0.95,0.98*0.95),2*PI()*Calc_WHDHC!G1175/60*Calc_WHDHC!H1175/1000),3)","v":0},null,null,1169,null,"-",null,null,{"$f":"Calc_WHDHC!J1175/3.6/(2*Input!$B$5*PI())*60","v":0},null,null,{"$f":"ROUND(IF(Calc_WHDHC!H1175<0,Calc_WHDHC!I1175,2*PI()*Calc_WHDHC!G1175/60*Calc_WHDHC!H1175/1000*IF(Input!$B$4=\"Other\",0.95*0.95,0.98*0.95)),3)","v":0}]
[1170,null,{"$f":"Calc_WHDHC!G1176","v":560},null,null,{"$f":"ROUND(IF(Calc_WHDHC!H1176<0,Calc_WHDHC!I1176*IF(Input!$B$4=\"Other\",0.95*0.95,0.98*0.95),2*PI()*Calc_WHDHC!G1176/60*Calc_WHDHC!H1176/1000),3)","v":0},null,null,1170,null,"-",null,null,{"$f":"Calc_WHDHC!J1176/3.6/(2*Input!$B$5*PI())*60","v":0},null,null,{"$f":"ROUND(IF(Calc_WHDHC!H1176<0,Calc_WHDHC!I1176,2*PI()*Calc_WHDHC!G1176/60*Calc_WHDHC!H1176/1000*IF(Input!$B$4=\"Other\",0.95*0.95,0.98*0.95)),3)","v":0}]
[1171,null,{"$f":"Calc_WHDHC!G1177","v":560},null,null,{"$f":"ROUND(IF(Calc_WHDHC!H1177<0,Calc_WHDHC!I1177*IF(Input!$B$4=\"Other\",0.95*0.95,0.98*0.95),2*PI()*Calc_WHDHC!G1177/60*Calc_WHDHC!H1177/1000),3)","v":0},null,null,1171,null,"-",null,null,{"$f":"Calc_WHDHC!J1177/3.6/(2*Input!$B$5*PI())*60","v":0},null,null,{"$f":"ROUND(IF(Calc_WHDHC!H1177<0,Calc_WHDHC!I1177,2*PI()*Calc_WHDHC!G1177/60*Calc_WHDHC!H1177/1000*IF(Input!$B$4=\"Other\",0.95*0.95,0.98*0.95)),3)","v":0}]
[1172,null,{"$f":"Calc_WHDHC!G1178","v":560},null,null,{"$f":"ROUND(IF(Calc_WHDHC!H1178<0,Calc_WHDHC!I1178*IF(Input!$B$4=\"Other\",0.95*0.95,0.98*0.95),2*PI()*Calc_WHDHC!G1178/60*Calc_WHDHC!H1178/1000),3)","v":0},null,null,1172,null,"-",null,null,{"$f":"Calc_WHDHC!J1178/3.6/(2*Input!$B$5*PI())*60","v":0},null,null,{"$f":"ROUND(IF(Calc_WHDHC!H1178<0,Calc_WHDHC!I1178,2*PI()*Calc_WHDHC!G1178/60*Calc_WHDHC!H1178/1000*IF(Input!$B$4=\"Other\",0.95*0.95,0.98*0.95)),3)","v":0}]
[1173,null,{"$f":"Calc_WHDHC!G1179","v":560},null,null,{"$f":"ROUND(IF(Calc_WHDHC!H1179<0,Calc_WHDHC!I1179*IF(Input!$B$4=\"Other\",0.95*0.95,0.98*0.95),2*PI()*Calc_WHDHC!G1179/60*Calc_WHDHC!H1179/1000),3)","v":0},null,null,1173,null,"-",null,null,{"$f":"Calc_WHDHC!J1179/3.6/(2*Input!$B$5*PI())*60","v":0},null,null,{"$f":"ROUND(IF(Calc_WHDHC!H1179<0,Calc_WHDHC!I1179,2*PI()*Calc_WHDHC!G1179/60*Calc_WHDHC!H1179/1000*IF(Input!$B$4=\"Other\",0.95*0.95,0.98*0.95)),3)","v":0}]
[1174,null,{"$f":"Calc_WHDHC!G1180","v":560},null,null,{"$f":"ROUND(IF(Calc_WHDHC!H1180<0,Calc_WHDHC!I1180*IF(Input!$B$4=\"Other\",0.95*0.95,0.98*0.95),2*PI()*Calc_WHDHC!G1180/60*Calc_WHDHC!H1180/1000),3)","v":0},null,null,1174,null,"-",null,null,{"$f":"Calc_WHDHC!J1180/3.6/(2*Input!$B$5*PI())*60","v":0},null,null,{"$f":"ROUND(IF(Calc_WHDHC!H1180<0,Calc_WHDHC!I1180,2*PI()*Calc_WHDHC!G1180/60*Calc_WHDHC!H1180/1000*IF(Input!$B$4=\"Other\",0.95*0.95,0.98*0.95)),3)","v":0}]
[1175,null,{"$f":"Calc_WHDHC!G1181","v":560},null,null,{"$f":"ROUND(IF(Calc_WHDHC!H1181<0,Calc_WHDHC!I1181*IF(Input!$B$4=\"Other\",0.95*0.95,0.98*0.95),2*PI()*Calc_WHDHC!G1181/60*Calc_WHDHC!H1181/1000),3)","v":0},null,null,1175,null,"-",null,null,{"$f":"Calc_WHDHC!J1181/3.6/(2*Input!$B$5*PI())*60","v":0},null,null,{"$f":"ROUND(IF(Calc_WHDHC!H1181<0,Calc_WHDHC!I1181,2*PI()*Calc_WHDHC!G1181/60*Calc_WHDHC!H1181/1000*IF(Input!$B$4=\"Other\",0.95*0.95,0.98*0.95)),3)","v":0}]
[1176,null,{"$f":"Calc_WHDHC!G1182","v":560},null,null,{"$f":"ROUND(IF(Calc_WHDHC!H1182<0,Calc_WHDHC!I1182*IF(Input!$B$4=\"Other\",0.95*0.95,0.98*0.95),2*PI()*Calc_WHDHC!G1182/60*Calc_WHDHC!H1182/1000),3)","v":0},null,null,1176,null,"-",null,null,{"$f":"Calc_WHDHC!J1182/3.6/(2*Input!$B$5*PI())*60","v":0},null,null,{"$f":"ROUND(IF(Calc_WHDHC!H1182<0,Calc_WHDHC!I1182,2*PI()*Calc_WHDHC!G1182/60*Calc_WHDHC!H1182/1000*IF(Input!$B$4=\"Other\",0.95*0.95,0.98*0.95)),3)","v":0}]
[1177,null,{"$f":"Calc_WHDHC!G1183","v":560},null,null,{"$f":"ROUND(IF(Calc_WHDHC!H1183<0,Calc_WHDHC!I1183*IF(Input!$B$4=\"Other\",0.95*0.95,0.98*0.95),2*PI()*Calc_WHDHC!G1183/60*Calc_WHDHC!H1183/1000),3)","v":0},null,null,1177,null,"-",null,null,{"$f":"Calc_WHDHC!J1183/3.6/(2*Input!$B$5*PI())*60","v":0},null,null,{"$f":"ROUND(IF(Calc_WHDHC!H1183<0,Calc_WHDHC!I1183,2*PI()*Calc_WHDHC!G1183/60*Calc_WHDHC!H1183/1000*IF(Input!$B$4=\"Other\",0.95*0.95,0.98*0.95)),3)","v":0}]
[1178,null,{"$f":"Calc_WHDHC!G1184","v":560},null,null,{"$f":"ROUND(IF(Calc_WHDHC!H1184<0,Calc_WHDHC!I1184*IF(Input!$B$4=\"Other\",0.95*0.95,0.98*0.95),2*PI()*Calc_WHDHC!G1184/60*Calc_WHDHC!H1184/1000),3)","v":0},null,null,1178,null,"-",null,null,{"$f":"Calc_WHDHC!J1184/3.6/(2*Input!$B$5*PI())*60","v":0},null,null,{"$f":"ROUND(IF(Calc_WHDHC!H1184<0,Calc_WHDHC!I1184,2*PI()*Calc_WHDHC!G1184/60*Calc_WHDHC!H1184/1000*IF(Input!$B$4=\"Other\",0.95*0.95,0.98*0.95)),3)","v":0}]
[1179,null,{"$f":"Calc_WHDHC!G1185","v":560},null,null,{"$f":"ROUND(IF(Calc_WHDHC!H1185<0,Calc_WHDHC!I1185*IF(Input!$B$4=\"Other\",0.95*0.95,0.98*0.95),2*PI()*Calc_WHDHC!G1185/60*Calc_WHDHC!H1185/1000),3)","v":0},null,null,1179,null,"-",null,null,{"$f":"Calc_WHDHC!J1185/3.6/(2*Input!$B$5*PI())*60","v":0},null,null,{"$f":"ROUND(IF(Calc_WHDHC!H1185<0,Calc_WHDHC!I1185,2*PI()*Calc_WHDHC!G1185/60*Calc_WHDHC!H1185/1000*IF(Input!$B$4=\"Other\",0.95*0.95,0.98*0.95)),3)","v":0}]
[1180,null,{"$f":"Calc_WHDHC!G1186","v":560},null,null,{"$f":"ROUND(IF(Calc_WHDHC!H1186<0,Calc_WHDHC!I1186*IF(Input!$B$4=\"Other\",0.95*0.95,0.98*0.95),2*PI()*Calc_WHDHC!G1186/60*Calc_WHDHC!H1186/1000),3)","v":0},null,null,1180,null,"-",null,null,{"$f":"Calc_WHDHC!J1186/3.6/(2*Input!$B$5*PI())*60","v":0},null,null,{"$f":"ROUND(IF(Calc_WHDHC!H1186<0,Calc_WHDHC!I1186,2*PI()*Calc_WHDHC!G1186/60*Calc_WHDHC!H1186/1000*IF(Input!$B$4=\"Other\",0.95*0.95,0.98*0.95)),3)","v":0}]
[1181,null,{"$f":"Calc_WHDHC!G1187","v":560},null,null,{"$f":"ROUND(IF(Calc_WHDHC!H1187<0,Calc_WHDHC!I1187*IF(Input!$B$4=\"Other\",0.95*0.95,0.98*0.95),2*PI()*Calc_WHDHC!G1187/60*Calc_WHDHC!H1187/1000),3)","v":0},null,null,1181,null,"-",null,null,{"$f":"Calc_WHDHC!J1187/3.6/(2*Input!$B$5*PI())*60","v":0},null,null,{"$f":"ROUND(IF(Calc_WHDHC!H1187<0,Calc_WHDHC!I1187,2*PI()*Calc_WHDHC!G1187/60*Calc_WHDHC!H1187/1000*IF(Input!$B$4=\"Other\",0.95*0.95,0.98*0.95)),3)","v":0}]
[1182,null,{"$f":"Calc_WHDHC!G1188","v":560},null,null,{"$f":"ROUND(IF(Calc_WHDHC!H1188<0,Calc_WHDHC!I1188*IF(Input!$B$4=\"Other\",0.95*0.95,0.98*0.95),2*PI()*Calc_WHDHC!G1188/60*Calc_WHDHC!H1188/1000),3)","v":0},null,null,1182,null,"-",null,null,{"$f":"Calc_WHDHC!J1188/3.6/(2*Input!$B$5*PI())*60","v":0},null,null,{"$f":"ROUND(IF(Calc_WHDHC!H1188<0,Calc_WHDHC!I1188,2*PI()*Calc_WHDHC!G1188/60*Calc_WHDHC!H1188/1000*IF(Input!$B$4=\"Other\",0.95*0.95,0.98*0.95)),3)","v":0}]
[1183,null,{"$f":"Calc_WHDHC!G1189","v":560},null,null,{"$f":"ROUND(IF(Calc_WHDHC!H1189<0,Calc_WHDHC!I1189*IF(Input!$B$4=\"Other\",0.95*0.95,0.98*0.95),2*PI()*Calc_WHDHC!G1189/60*Calc_WHDHC!H1189/1000),3)","v":0},null,null,1183,null,"-",null,null,{"$f":"Calc_WHDHC!J1189/3.6/(2*Input!$B$5*PI())*60","v":0},null,null,{"$f":"ROUND(IF(Calc_WHDHC!H1189<0,Calc_WHDHC!I1189,2*PI()*Calc_WHDHC!G1189/60*Calc_WHDHC!H1189/1000*IF(Input!$B$4=\"Other\",0.95*0.95,0.98*0.95)),3)","v":0}]
[1184,null,{"$f":"Calc_WHDHC!G1190","v":560},null,null,{"$f":"ROUND(IF(Calc_WHDHC!H1190<0,Calc_WHDHC!I1190*IF(Input!$B$4=\"Other\",0.95*0.95,0.98*0.95),2*PI()*Calc_WHDHC!G1190/60*Calc_WHDHC!H1190/1000),3)","v":0},null,null,1184,null,"-",null,null,{"$f":"Calc_WHDHC!J1190/3.6/(2*Input!$B$5*PI())*60","v":0},null,null,{"$f":"ROUND(IF(Calc_WHDHC!H1190<0,Calc_WHDHC!I1190,2*PI()*Calc_WHDHC!G1190/60*Calc_WHDHC!H1190/1000*IF(Input!$B$4=\"Other\",0.95*0.95,0.98*0.95)),3)","v":0}]
[1185,null,{"$f":"Calc_WHDHC!G1191","v":560},null,null,{"$f":"ROUND(IF(Calc_WHDHC!H1191<0,Calc_WHDHC!I1191*IF(Input!$B$4=\"Other\",0.95*0.95,0.98*0.95),2*PI()*Calc_WHDHC!G1191/60*Calc_WHDHC!H1191/1000),3)","v":0},null,null,1185,null,"-",null,null,{"$f":"Calc_WHDHC!J1191/3.6/(2*Input!$B$5*PI())*60","v":0},null,null,{"$f":"ROUND(IF(Calc_WHDHC!H1191<0,Calc_WHDHC!I1191,2*PI()*Calc_WHDHC!G1191/60*Calc_WHDHC!H1191/1000*IF(Input!$B$4=\"Other\",0.95*0.95,0.98*0.95)),3)","v":0}]
[1186,null,{"$f":"Calc_WHDHC!G1192","v":560},null,null,{"$f":"ROUND(IF(Calc_WHDHC!H1192<0,Calc_WHDHC!I1192*IF(Input!$B$4=\"Other\",0.95*0.95,0.98*0.95),2*PI()*Calc_WHDHC!G1192/60*Calc_WHDHC!H1192/1000),3)","v":0},null,null,1186,null,"-",null,null,{"$f":"Calc_WHDHC!J1192/3.6/(2*Input!$B$5*PI())*60","v":0},null,null,{"$f":"ROUND(IF(Calc_WHDHC!H1192<0,Calc_WHDHC!I1192,2*PI()*Calc_WHDHC!G1192/60*Calc_WHDHC!H1192/1000*IF(Input!$B$4=\"Other\",0.95*0.95,0.98*0.95)),3)","v":0}]
[1187,null,{"$f":"Calc_WHDHC!G1193","v":560},null,null,{"$f":"ROUND(IF(Calc_WHDHC!H1193<0,Calc_WHDHC!I1193*IF(Input!$B$4=\"Other\",0.95*0.95,0.98*0.95),2*PI()*Calc_WHDHC!G1193/60*Calc_WHDHC!H1193/1000),3)","v":0},null,null,1187,null,"-",null,null,{"$f":"Calc_WHDHC!J1193/3.6/(2*Input!$B$5*PI())*60","v":0},null,null,{"$f":"ROUND(IF(Calc_WHDHC!H1193<0,Calc_WHDHC!I1193,2*PI()*Calc_WHDHC!G1193/60*Calc_WHDHC!H1193/1000*IF(Input!$B$4=\"Other\",0.95*0.95,0.98*0.95)),3)","v":0}]
[1188,null,{"$f":"Calc_WHDHC!G1194","v":560},null,null,{"$f":"ROUND(IF(Calc_WHDHC!H1194<0,Calc_WHDHC!I1194*IF(Input!$B$4=\"Other\",0.95*0.95,0.98*0.95),2*PI()*Calc_WHDHC!G1194/60*Calc_WHDHC!H1194/1000),3)","v":0},null,null,1188,null,"-",null,null,{"$f":"Calc_WHDHC!J1194/3.6/(2*Input!$B$5*PI())*60","v":0},null,null,{"$f":"ROUND(IF(Calc_WHDHC!H1194<0,Calc_WHDHC!I1194,2*PI()*Calc_WHDHC!G1194/60*Calc_WHDHC!H1194/1000*IF(Input!$B$4=\"Other\",0.95*0.95,0.98*0.95)),3)","v":0}]
[1189,null,{"$f":"Calc_WHDHC!G1195","v":560},null,null,{"$f":"ROUND(IF(Calc_WHDHC!H1195<0,Calc_WHDHC!I1195*IF(Input!$B$4=\"Other\",0.95*0.95,0.98*0.95),2*PI()*Calc_WHDHC!G1195/60*Calc_WHDHC!H1195/1000),3)","v":0},null,null,1189,null,"-",null,null,{"$f":"Calc_WHDHC!J1195/3.6/(2*Input!$B$5*PI())*60","v":0},null,null,{"$f":"ROUND(IF(Calc_WHDHC!H1195<0,Calc_WHDHC!I1195,2*PI()*Calc_WHDHC!G1195/60*Calc_WHDHC!H1195/1000*IF(Input!$B$4=\"Other\",0.95*0.95,0.98*0.95)),3)","v":0}]
[1190,null,{"$f":"Calc_WHDHC!G1196","v":560},null,null,{"$f":"ROUND(IF(Calc_WHDHC!H1196<0,Calc_WHDHC!I1196*IF(Input!$B$4=\"Other\",0.95*0.95,0.98*0.95),2*PI()*Calc_WHDHC!G1196/60*Calc_WHDHC!H1196/1000),3)","v":0},null,null,1190,null,"-",null,null,{"$f":"Calc_WHDHC!J1196/3.6/(2*Input!$B$5*PI())*60","v":0},null,null,{"$f":"ROUND(IF(Calc_WHDHC!H1196<0,Calc_WHDHC!I1196,2*PI()*Calc_WHDHC!G1196/60*Calc_WHDHC!H1196/1000*IF(Input!$B$4=\"Other\",0.95*0.95,0.98*0.95)),3)","v":0}]
[1191,null,{"$f":"Calc_WHDHC!G1197","v":560},null,null,{"$f":"ROUND(IF(Calc_WHDHC!H1197<0,Calc_WHDHC!I1197*IF(Input!$B$4=\"Other\",0.95*0.95,0.98*0.95),2*PI()*Calc_WHDHC!G1197/60*Calc_WHDHC!H1197/1000),3)","v":0},null,null,1191,null,"-",null,null,{"$f":"Calc_WHDHC!J1197/3.6/(2*Input!$B$5*PI())*60","v":0},null,null,{"$f":"ROUND(IF(Calc_WHDHC!H1197<0,Calc_WHDHC!I1197,2*PI()*Calc_WHDHC!G1197/60*Calc_WHDHC!H1197/1000*IF(Input!$B$4=\"Other\",0.95*0.95,0.98*0.95)),3)","v":0}]
[1192,null,{"$f":"Calc_WHDHC!G1198","v":560},null,null,{"$f":"ROUND(IF(Calc_WHDHC!H1198<0,Calc_WHDHC!I1198*IF(Input!$B$4=\"Other\",0.95*0.95,0.98*0.95),2*PI()*Calc_WHDHC!G1198/60*Calc_WHDHC!H1198/1000),3)","v":0},null,null,1192,null,"-",null,null,{"$f":"Calc_WHDHC!J1198/3.6/(2*Input!$B$5*PI())*60","v":0},null,null,{"$f":"ROUND(IF(Calc_WHDHC!H1198<0,Calc_WHDHC!I1198,2*PI()*Calc_WHDHC!G1198/60*Calc_WHDHC!H1198/1000*IF(Input!$B$4=\"Other\",0.95*0.95,0.98*0.95)),3)","v":0}]
[1193,null,{"$f":"Calc_WHDHC!G1199","v":560},null,null,{"$f":"ROUND(IF(Calc_WHDHC!H1199<0,Calc_WHDHC!I1199*IF(Input!$B$4=\"Other\",0.95*0.95,0.98*0.95),2*PI()*Calc_WHDHC!G1199/60*Calc_WHDHC!H1199/1000),3)","v":0},null,null,1193,null,"-",null,null,{"$f":"Calc_WHDHC!J1199/3.6/(2*Input!$B$5*PI())*60","v":0},null,null,{"$f":"ROUND(IF(Calc_WHDHC!H1199<0,Calc_WHDHC!I1199,2*PI()*Calc_WHDHC!G1199/60*Calc_WHDHC!H1199/1000*IF(Input!$B$4=\"Other\",0.95*0.95,0.98*0.95)),3)","v":0}]
[1194,null,{"$f":"Calc_WHDHC!G1200","v":560},null,null,{"$f":"ROUND(IF(Calc_WHDHC!H1200<0,Calc_WHDHC!I1200*IF(Input!$B$4=\"Other\",0.95*0.95,0.98*0.95),2*PI()*Calc_WHDHC!G1200/60*Calc_WHDHC!H1200/1000),3)","v":0},null,null,1194,null,"-",null,null,{"$f":"Calc_WHDHC!J1200/3.6/(2*Input!$B$5*PI())*60","v":0},null,null,{"$f":"ROUND(IF(Calc_WHDHC!H1200<0,Calc_WHDHC!I1200,2*PI()*Calc_WHDHC!G1200/60*Calc_WHDHC!H1200/1000*IF(Input!$B$4=\"Other\",0.95*0.95,0.98*0.95)),3)","v":0}]
[1195,null,{"$f":"Calc_WHDHC!G1201","v":560},null,null,{"$f":"ROUND(IF(Calc_WHDHC!H1201<0,Calc_WHDHC!I1201*IF(Input!$B$4=\"Other\",0.95*0.95,0.98*0.95),2*PI()*Calc_WHDHC!G1201/60*Calc_WHDHC!H1201/1000),3)","v":0},null,null,1195,null,"-",null,null,{"$f":"Calc_WHDHC!J1201/3.6/(2*Input!$B$5*PI())*60","v":0},null,null,{"$f":"ROUND(IF(Calc_WHDHC!H1201<0,Calc_WHDHC!I1201,2*PI()*Calc_WHDHC!G1201/60*Calc_WHDHC!H1201/1000*IF(Input!$B$4=\"Other\",0.95*0.95,0.98*0.95)),3)","v":0}]
[1196,null,{"$f":"Calc_WHDHC!G1202","v":560},null,null,{"$f":"ROUND(IF(Calc_WHDHC!H1202<0,Calc_WHDHC!I1202*IF(Input!$B$4=\"Other\",0.95*0.95,0.98*0.95),2*PI()*Calc_WHDHC!G1202/60*Calc_WHDHC!H1202/1000),3)","v":11.728999999999999},null,null,1196,null,"-",null,null,{"$f":"Calc_WHDHC!J1202/3.6/(2*Input!$B$5*PI())*60","v":4.2640677167974745},null,null,{"$f":"ROUND(IF(Calc_WHDHC!H1202<0,Calc_WHDHC!I1202,2*PI()*Calc_WHDHC!G1202/60*Calc_WHDHC!H1202/1000*IF(Input!$B$4=\"Other\",0.95*0.95,0.98*0.95)),3)","v":10.919}]
[1197,null,{"$f":"Calc_WHDHC!G1203","v":726},null,null,{"$f":"ROUND(IF(Calc_WHDHC!H1203<0,Calc_WHDHC!I1203*IF(Input!$B$4=\"Other\",0.95*0.95,0.98*0.95),2*PI()*Calc_WHDHC!G1203/60*Calc_WHDHC!H1203/1000),3)","v":43.790999999999997},null,null,1197,null,"-",null,null,{"$f":"Calc_WHDHC!J1203/3.6/(2*Input!$B$5*PI())*60","v":13.429044432771267},null,null,{"$f":"ROUND(IF(Calc_WHDHC!H1203<0,Calc_WHDHC!I1203,2*PI()*Calc_WHDHC!G1203/60*Calc_WHDHC!H1203/1000*IF(Input!$B$4=\"Other\",0.95*0.95,0.98*0.95)),3)","v":40.770000000000003}]
[1198,null,{"$f":"Calc_WHDHC!G1204","v":921},null,null,{"$f":"ROUND(IF(Calc_WHDHC!H1204<0,Calc_WHDHC!I1204*IF(Input!$B$4=\"Other\",0.95*0.95,0.98*0.95),2*PI()*Calc_WHDHC!G1204/60*Calc_WHDHC!H1204/1000),3)","v":35.975000000000001},null,null,1198,null,"-",null,null,{"$f":"Calc_WHDHC!J1204/3.6/(2*Input!$B$5*PI())*60","v":25.086008775444881},null,null,{"$f":"ROUND(IF(Calc_WHDHC!H1204<0,Calc_WHDHC!I1204,2*PI()*Calc_WHDHC!G1204/60*Calc_WHDHC!H1204/1000*IF(Input!$B$4=\"Other\",0.95*0.95,0.98*0.95)),3)","v":33.491999999999997}]
[1199,null,{"$f":"Calc_WHDHC!G1205","v":1094},null,null,{"$f":"ROUND(IF(Calc_WHDHC!H1205<0,Calc_WHDHC!I1205*IF(Input!$B$4=\"Other\",0.95*0.95,0.98*0.95),2*PI()*Calc_WHDHC!G1205/60*Calc_WHDHC!H1205/1000),3)","v":17.986000000000001},null,null,1199,null,"-",null,null,{"$f":"Calc_WHDHC!J1205/3.6/(2*Input!$B$5*PI())*60","v":32.67272666117546},null,null,{"$f":"ROUND(IF(Calc_WHDHC!H1205<0,Calc_WHDHC!I1205,2*PI()*Calc_WHDHC!G1205/60*Calc_WHDHC!H1205/1000*IF(Input!$B$4=\"Other\",0.95*0.95,0.98*0.95)),3)","v":16.745000000000001}]
[1200,null,{"$f":"Calc_WHDHC!G1206","v":1169},null,null,{"$f":"ROUND(IF(Calc_WHDHC!H1206<0,Calc_WHDHC!I1206*IF(Input!$B$4=\"Other\",0.95*0.95,0.98*0.95),2*PI()*Calc_WHDHC!G1206/60*Calc_WHDHC!H1206/1000),3)","v":0},null,null,1200,null,"-",null,null,{"$f":"Calc_WHDHC!J1206/3.6/(2*Input!$B$5*PI())*60","v":34.389429248457553},null,null,{"$f":"ROUND(IF(Calc_WHDHC!H1206<0,Calc_WHDHC!I1206,2*PI()*Calc_WHDHC!G1206/60*Calc_WHDHC!H1206/1000*IF(Input!$B$4=\"Other\",0.95*0.95,0.98*0.95)),3)","v":0}]
[1201,null,{"$f":"Calc_WHDHC!G1207","v":1149},null,null,{"$f":"ROUND(IF(Calc_WHDHC!H1207<0,Calc_WHDHC!I1207*IF(Input!$B$4=\"Other\",0.95*0.95,0.98*0.95),2*PI()*Calc_WHDHC!G1207/60*Calc_WHDHC!H1207/1000),3)","v":-7.0000000000000001E-3},null,null,1201,null,"-",null,null,{"$f":"Calc_WHDHC!J1207/3.6/(2*Input!$B$5*PI())*60","v":33.420322949185405},null,null,{"$f":"ROUND(IF(Calc_WHDHC!H1207<0,Calc_WHDHC!I1207,2*PI()*Calc_WHDHC!G1207/60*Calc_WHDHC!H1207/1000*IF(Input!$B$4=\"Other\",0.95*0.95,0.98*0.95)),3)","v":-8.0000000000000002E-3}]
[1202,null,{"$f":"Calc_WHDHC!G1208","v":1124},null,null,{"$f":"ROUND(IF(Calc_WHDHC!H1208<0,Calc_WHDHC!I1208*IF(Input!$B$4=\"Other\",0.95*0.95,0.98*0.95),2*PI()*Calc_WHDHC!G1208/60*Calc_WHDHC!H1208/1000),3)","v":36.018000000000001},null,null,1202,null,"-",null,null,{"$f":"Calc_WHDHC!J1208/3.6/(2*Input!$B$5*PI())*60","v":32.229706638651038},null,null,{"$f":"ROUND(IF(Calc_WHDHC!H1208<0,Calc_WHDHC!I1208,2*PI()*Calc_WHDHC!G1208/60*Calc_WHDHC!H1208/1000*IF(Input!$B$4=\"Other\",0.95*0.95,0.98*0.95)),3)","v":33.533000000000001}]
[1203,null,{"$f":"Calc_WHDHC!G1209","v":1127},null,null,{"$f":"ROUND(IF(Calc_WHDHC!H1209<0,Calc_WHDHC!I1209*IF(Input!$B$4=\"Other\",0.95*0.95,0.98*0.95),2*PI()*Calc_WHDHC!G1209/60*Calc_WHDHC!H1209/1000),3)","v":17.939},null,null,1203,null,"-",null,null,{"$f":"Calc_WHDHC!J1209/3.6/(2*Input!$B$5*PI())*60","v":32.368150395689916},null,null,{"$f":"ROUND(IF(Calc_WHDHC!H1209<0,Calc_WHDHC!I1209,2*PI()*Calc_WHDHC!G1209/60*Calc_WHDHC!H1209/1000*IF(Input!$B$4=\"Other\",0.95*0.95,0.98*0.95)),3)","v":16.701000000000001}]
[1204,null,{"$f":"Calc_WHDHC!G1210","v":1037},null,null,{"$f":"ROUND(IF(Calc_WHDHC!H1210<0,Calc_WHDHC!I1210*IF(Input!$B$4=\"Other\",0.95*0.95,0.98*0.95),2*PI()*Calc_WHDHC!G1210/60*Calc_WHDHC!H1210/1000),3)","v":0},null,null,1204,null,"-",null,null,{"$f":"Calc_WHDHC!J1210/3.6/(2*Input!$B$5*PI())*60","v":35.746178067438578},null,null,{"$f":"ROUND(IF(Calc_WHDHC!H1210<0,Calc_WHDHC!I1210,2*PI()*Calc_WHDHC!G1210/60*Calc_WHDHC!H1210/1000*IF(Input!$B$4=\"Other\",0.95*0.95,0.98*0.95)),3)","v":0}]
[1205,null,{"$f":"Calc_WHDHC!G1211","v":947},null,null,{"$f":"ROUND(IF(Calc_WHDHC!H1211<0,Calc_WHDHC!I1211*IF(Input!$B$4=\"Other\",0.95*0.95,0.98*0.95),2*PI()*Calc_WHDHC!G1211/60*Calc_WHDHC!H1211/1000),3)","v":28.363},null,null,1205,null,"-",null,null,{"$f":"Calc_WHDHC!J1211/3.6/(2*Input!$B$5*PI())*60","v":43.139074693314711},null,null,{"$f":"ROUND(IF(Calc_WHDHC!H1211<0,Calc_WHDHC!I1211,2*PI()*Calc_WHDHC!G1211/60*Calc_WHDHC!H1211/1000*IF(Input!$B$4=\"Other\",0.95*0.95,0.98*0.95)),3)","v":26.405000000000001}]
[1206,null,{"$f":"Calc_WHDHC!G1212","v":1138},null,null,{"$f":"ROUND(IF(Calc_WHDHC!H1212<0,Calc_WHDHC!I1212*IF(Input!$B$4=\"Other\",0.95*0.95,0.98*0.95),2*PI()*Calc_WHDHC!G1212/60*Calc_WHDHC!H1212/1000),3)","v":56.249000000000002},null,null,1206,null,"-",null,null,{"$f":"Calc_WHDHC!J1212/3.6/(2*Input!$B$5*PI())*60","v":51.750276381132998},null,null,{"$f":"ROUND(IF(Calc_WHDHC!H1212<0,Calc_WHDHC!I1212,2*PI()*Calc_WHDHC!G1212/60*Calc_WHDHC!H1212/1000*IF(Input!$B$4=\"Other\",0.95*0.95,0.98*0.95)),3)","v":52.368000000000002}]
[1207,null,{"$f":"Calc_WHDHC!G1213","v":1285},null,null,{"$f":"ROUND(IF(Calc_WHDHC!H1213<0,Calc_WHDHC!I1213*IF(Input!$B$4=\"Other\",0.95*0.95,0.98*0.95),2*PI()*Calc_WHDHC!G1213/60*Calc_WHDHC!H1213/1000),3)","v":28.123999999999999},null,null,1207,null,"-",null,null,{"$f":"Calc_WHDHC!J1213/3.6/(2*Input!$B$5*PI())*60","v":58.257132961960302},null,null,{"$f":"ROUND(IF(Calc_WHDHC!H1213<0,Calc_WHDHC!I1213,2*PI()*Calc_WHDHC!G1213/60*Calc_WHDHC!H1213/1000*IF(Input!$B$4=\"Other\",0.95*0.95,0.98*0.95)),3)","v":26.184000000000001}]
[1208,null,{"$f":"Calc_WHDHC!G1214","v":1153},null,null,{"$f":"ROUND(IF(Calc_WHDHC!H1214<0,Calc_WHDHC!I1214*IF(Input!$B$4=\"Other\",0.95*0.95,0.98*0.95),2*PI()*Calc_WHDHC!G1214/60*Calc_WHDHC!H1214/1000),3)","v":0},null,null,1208,null,"-",null,null,{"$f":"Calc_WHDHC!J1214/3.6/(2*Input!$B$5*PI())*60","v":62.631955684388878},null,null,{"$f":"ROUND(IF(Calc_WHDHC!H1214<0,Calc_WHDHC!I1214,2*PI()*Calc_WHDHC!G1214/60*Calc_WHDHC!H1214/1000*IF(Input!$B$4=\"Other\",0.95*0.95,0.98*0.95)),3)","v":0}]
[1209,null,{"$f":"Calc_WHDHC!G1215","v":1021},null,null,{"$f":"ROUND(IF(Calc_WHDHC!H1215<0,Calc_WHDHC!I1215*IF(Input!$B$4=\"Other\",0.95*0.95,0.98*0.95),2*PI()*Calc_WHDHC!G1215/60*Calc_WHDHC!H1215/1000),3)","v":102.749},null,null,1209,null,"-",null,null,{"$f":"Calc_WHDHC!J1215/3.6/(2*Input!$B$5*PI())*60","v":67.394420926526323},null,null,{"$f":"ROUND(IF(Calc_WHDHC!H1215<0,Calc_WHDHC!I1215,2*PI()*Calc_WHDHC!G1215/60*Calc_WHDHC!H1215/1000*IF(Input!$B$4=\"Other\",0.95*0.95,0.98*0.95)),3)","v":95.659000000000006}]
[1210,null,{"$f":"Calc_WHDHC!G1216","v":1124},null,null,{"$f":"ROUND(IF(Calc_WHDHC!H1216<0,Calc_WHDHC!I1216*IF(Input!$B$4=\"Other\",0.95*0.95,0.98*0.95),2*PI()*Calc_WHDHC!G1216/60*Calc_WHDHC!H1216/1000),3)","v":202.80600000000001},null,null,1210,null,"-",null,null,{"$f":"Calc_WHDHC!J1216/3.6/(2*Input!$B$5*PI())*60","v":74.039721264392512},null,null,{"$f":"ROUND(IF(Calc_WHDHC!H1216<0,Calc_WHDHC!I1216,2*PI()*Calc_WHDHC!G1216/60*Calc_WHDHC!H1216/1000*IF(Input!$B$4=\"Other\",0.95*0.95,0.98*0.95)),3)","v":188.81200000000001}]
[1211,null,{"$f":"Calc_WHDHC!G1217","v":1247},null,null,{"$f":"ROUND(IF(Calc_WHDHC!H1217<0,Calc_WHDHC!I1217*IF(Input!$B$4=\"Other\",0.95*0.95,0.98*0.95),2*PI()*Calc_WHDHC!G1217/60*Calc_WHDHC!H1217/1000),3)","v":223.17099999999999},null,null,1211,null,"-",null,null,{"$f":"Calc_WHDHC!J1217/3.6/(2*Input!$B$5*PI())*60","v":82.014081669831953},null,null,{"$f":"ROUND(IF(Calc_WHDHC!H1217<0,Calc_WHDHC!I1217,2*PI()*Calc_WHDHC!G1217/60*Calc_WHDHC!H1217/1000*IF(Input!$B$4=\"Other\",0.95*0.95,0.98*0.95)),3)","v":207.77199999999999}]
[1212,null,{"$f":"Calc_WHDHC!G1218","v":1376},null,null,{"$f":"ROUND(IF(Calc_WHDHC!H1218<0,Calc_WHDHC!I1218*IF(Input!$B$4=\"Other\",0.95*0.95,0.98*0.95),2*PI()*Calc_WHDHC!G1218/60*Calc_WHDHC!H1218/1000),3)","v":250.43600000000001},null,null,1212,null,"-",null,null,{"$f":"Calc_WHDHC!J1218/3.6/(2*Input!$B$5*PI())*60","v":90.403773346388022},null,null,{"$f":"ROUND(IF(Calc_WHDHC!H1218<0,Calc_WHDHC!I1218,2*PI()*Calc_WHDHC!G1218/60*Calc_WHDHC!H1218/1000*IF(Input!$B$4=\"Other\",0.95*0.95,0.98*0.95)),3)","v":233.15600000000001}]
[1213,null,{"$f":"Calc_WHDHC!G1219","v":1502},null,null,{"$f":"ROUND(IF(Calc_WHDHC!H1219<0,Calc_WHDHC!I1219*IF(Input!$B$4=\"Other\",0.95*0.95,0.98*0.95),2*PI()*Calc_WHDHC!G1219/60*Calc_WHDHC!H1219/1000),3)","v":124.73},null,null,1213,null,"-",null,null,{"$f":"Calc_WHDHC!J1219/3.6/(2*Input!$B$5*PI())*60","v":98.48888875745854},null,null,{"$f":"ROUND(IF(Calc_WHDHC!H1219<0,Calc_WHDHC!I1219,2*PI()*Calc_WHDHC!G1219/60*Calc_WHDHC!H1219/1000*IF(Input!$B$4=\"Other\",0.95*0.95,0.98*0.95)),3)","v":116.124}]
[1214,null,{"$f":"Calc_WHDHC!G1220","v":1327},null,null,{"$f":"ROUND(IF(Calc_WHDHC!H1220<0,Calc_WHDHC!I1220*IF(Input!$B$4=\"Other\",0.95*0.95,0.98*0.95),2*PI()*Calc_WHDHC!G1220/60*Calc_WHDHC!H1220/1000),3)","v":0},null,null,1214,null,"-",null,null,{"$f":"Calc_WHDHC!J1220/3.6/(2*Input!$B$5*PI())*60","v":105.4110766094025},null,null,{"$f":"ROUND(IF(Calc_WHDHC!H1220<0,Calc_WHDHC!I1220,2*PI()*Calc_WHDHC!G1220/60*Calc_WHDHC!H1220/1000*IF(Input!$B$4=\"Other\",0.95*0.95,0.98*0.95)),3)","v":0}]
[1215,null,{"$f":"Calc_WHDHC!G1221","v":1153},null,null,{"$f":"ROUND(IF(Calc_WHDHC!H1221<0,Calc_WHDHC!I1221*IF(Input!$B$4=\"Other\",0.95*0.95,0.98*0.95),2*PI()*Calc_WHDHC!G1221/60*Calc_WHDHC!H1221/1000),3)","v":107.46},null,null,1215,null,"-",null,null,{"$f":"Calc_WHDHC!J1221/3.6/(2*Input!$B$5*PI())*60","v":109.95203184027774},null,null,{"$f":"ROUND(IF(Calc_WHDHC!H1221<0,Calc_WHDHC!I1221,2*PI()*Calc_WHDHC!G1221/60*Calc_WHDHC!H1221/1000*IF(Input!$B$4=\"Other\",0.95*0.95,0.98*0.95)),3)","v":100.04600000000001}]
[1216,null,{"$f":"Calc_WHDHC!G1222","v":1171},null,null,{"$f":"ROUND(IF(Calc_WHDHC!H1222<0,Calc_WHDHC!I1222*IF(Input!$B$4=\"Other\",0.95*0.95,0.98*0.95),2*PI()*Calc_WHDHC!G1222/60*Calc_WHDHC!H1222/1000),3)","v":214.47399999999999},null,null,1216,null,"-",null,null,{"$f":"Calc_WHDHC!J1222/3.6/(2*Input!$B$5*PI())*60","v":111.75180068178317},null,null,{"$f":"ROUND(IF(Calc_WHDHC!H1222<0,Calc_WHDHC!I1222,2*PI()*Calc_WHDHC!G1222/60*Calc_WHDHC!H1222/1000*IF(Input!$B$4=\"Other\",0.95*0.95,0.98*0.95)),3)","v":199.67599999999999}]
[1217,null,{"$f":"Calc_WHDHC!G1223","v":1178},null,null,{"$f":"ROUND(IF(Calc_WHDHC!H1223<0,Calc_WHDHC!I1223*IF(Input!$B$4=\"Other\",0.95*0.95,0.98*0.95),2*PI()*Calc_WHDHC!G1223/60*Calc_WHDHC!H1223/1000),3)","v":191.94800000000001},null,null,1217,null,"-",null,null,{"$f":"Calc_WHDHC!J1223/3.6/(2*Input!$B$5*PI())*60","v":112.41633071556979},null,null,{"$f":"ROUND(IF(Calc_WHDHC!H1223<0,Calc_WHDHC!I1223,2*PI()*Calc_WHDHC!G1223/60*Calc_WHDHC!H1223/1000*IF(Input!$B$4=\"Other\",0.95*0.95,0.98*0.95)),3)","v":178.70400000000001}]
[1218,null,{"$f":"Calc_WHDHC!G1224","v":1195},null,null,{"$f":"ROUND(IF(Calc_WHDHC!H1224<0,Calc_WHDHC!I1224*IF(Input!$B$4=\"Other\",0.95*0.95,0.98*0.95),2*PI()*Calc_WHDHC!G1224/60*Calc_WHDHC!H1224/1000),3)","v":199.09800000000001},null,null,1218,null,"-",null,null,{"$f":"Calc_WHDHC!J1224/3.6/(2*Input!$B$5*PI())*60","v":113.93921204299745},null,null,{"$f":"ROUND(IF(Calc_WHDHC!H1224<0,Calc_WHDHC!I1224,2*PI()*Calc_WHDHC!G1224/60*Calc_WHDHC!H1224/1000*IF(Input!$B$4=\"Other\",0.95*0.95,0.98*0.95)),3)","v":185.36}]
[1219,null,{"$f":"Calc_WHDHC!G1225","v":1227},null,null,{"$f":"ROUND(IF(Calc_WHDHC!H1225<0,Calc_WHDHC!I1225*IF(Input!$B$4=\"Other\",0.95*0.95,0.98*0.95),2*PI()*Calc_WHDHC!G1225/60*Calc_WHDHC!H1225/1000),3)","v":204.94300000000001},null,null,1219,null,"-",null,null,{"$f":"Calc_WHDHC!J1225/3.6/(2*Input!$B$5*PI())*60","v":116.92959719503723},null,null,{"$f":"ROUND(IF(Calc_WHDHC!H1225<0,Calc_WHDHC!I1225,2*PI()*Calc_WHDHC!G1225/60*Calc_WHDHC!H1225/1000*IF(Input!$B$4=\"Other\",0.95*0.95,0.98*0.95)),3)","v":190.80199999999999}]
[1220,null,{"$f":"Calc_WHDHC!G1226","v":1268},null,null,{"$f":"ROUND(IF(Calc_WHDHC!H1226<0,Calc_WHDHC!I1226*IF(Input!$B$4=\"Other\",0.95*0.95,0.98*0.95),2*PI()*Calc_WHDHC!G1226/60*Calc_WHDHC!H1226/1000),3)","v":214.447},null,null,1220,null,"-",null,null,{"$f":"Calc_WHDHC!J1226/3.6/(2*Input!$B$5*PI())*60","v":120.75064488931031},null,null,{"$f":"ROUND(IF(Calc_WHDHC!H1226<0,Calc_WHDHC!I1226,2*PI()*Calc_WHDHC!G1226/60*Calc_WHDHC!H1226/1000*IF(Input!$B$4=\"Other\",0.95*0.95,0.98*0.95)),3)","v":199.65}]
[1221,null,{"$f":"Calc_WHDHC!G1227","v":1311},null,null,{"$f":"ROUND(IF(Calc_WHDHC!H1227<0,Calc_WHDHC!I1227*IF(Input!$B$4=\"Other\",0.95*0.95,0.98*0.95),2*PI()*Calc_WHDHC!G1227/60*Calc_WHDHC!H1227/1000),3)","v":223.09200000000001},null,null,1221,null,"-",null,null,{"$f":"Calc_WHDHC!J1227/3.6/(2*Input!$B$5*PI())*60","v":124.82089134625335},null,null,{"$f":"ROUND(IF(Calc_WHDHC!H1227<0,Calc_WHDHC!I1227,2*PI()*Calc_WHDHC!G1227/60*Calc_WHDHC!H1227/1000*IF(Input!$B$4=\"Other\",0.95*0.95,0.98*0.95)),3)","v":207.69900000000001}]
[1222,null,{"$f":"Calc_WHDHC!G1228","v":1355},null,null,{"$f":"ROUND(IF(Calc_WHDHC!H1228<0,Calc_WHDHC!I1228*IF(Input!$B$4=\"Other\",0.95*0.95,0.98*0.95),2*PI()*Calc_WHDHC!G1228/60*Calc_WHDHC!H1228/1000),3)","v":235.262},null,null,1222,null,"-",null,null,{"$f":"Calc_WHDHC!J1228/3.6/(2*Input!$B$5*PI())*60","v":128.97420405741971},null,null,{"$f":"ROUND(IF(Calc_WHDHC!H1228<0,Calc_WHDHC!I1228,2*PI()*Calc_WHDHC!G1228/60*Calc_WHDHC!H1228/1000*IF(Input!$B$4=\"Other\",0.95*0.95,0.98*0.95)),3)","v":219.029}]
[1223,null,{"$f":"Calc_WHDHC!G1229","v":1401},null,null,{"$f":"ROUND(IF(Calc_WHDHC!H1229<0,Calc_WHDHC!I1229*IF(Input!$B$4=\"Other\",0.95*0.95,0.98*0.95),2*PI()*Calc_WHDHC!G1229/60*Calc_WHDHC!H1229/1000),3)","v":239.28800000000001},null,null,1223,null,"-",null,null,{"$f":"Calc_WHDHC!J1229/3.6/(2*Input!$B$5*PI())*60","v":133.26596052562496},null,null,{"$f":"ROUND(IF(Calc_WHDHC!H1229<0,Calc_WHDHC!I1229,2*PI()*Calc_WHDHC!G1229/60*Calc_WHDHC!H1229/1000*IF(Input!$B$4=\"Other\",0.95*0.95,0.98*0.95)),3)","v":222.77699999999999}]
[1224,null,{"$f":"Calc_WHDHC!G1230","v":1447},null,null,{"$f":"ROUND(IF(Calc_WHDHC!H1230<0,Calc_WHDHC!I1230*IF(Input!$B$4=\"Other\",0.95*0.95,0.98*0.95),2*PI()*Calc_WHDHC!G1230/60*Calc_WHDHC!H1230/1000),3)","v":249.41800000000001},null,null,1224,null,"-",null,null,{"$f":"Calc_WHDHC!J1230/3.6/(2*Input!$B$5*PI())*60","v":137.61309449664577},null,null,{"$f":"ROUND(IF(Calc_WHDHC!H1230<0,Calc_WHDHC!I1230,2*PI()*Calc_WHDHC!G1230/60*Calc_WHDHC!H1230/1000*IF(Input!$B$4=\"Other\",0.95*0.95,0.98*0.95)),3)","v":232.208}]
[1225,null,{"$f":"Calc_WHDHC!G1231","v":1494},null,null,{"$f":"ROUND(IF(Calc_WHDHC!H1231<0,Calc_WHDHC!I1231*IF(Input!$B$4=\"Other\",0.95*0.95,0.98*0.95),2*PI()*Calc_WHDHC!G1231/60*Calc_WHDHC!H1231/1000),3)","v":257.36200000000002},null,null,1225,null,"-",null,null,{"$f":"Calc_WHDHC!J1231/3.6/(2*Input!$B$5*PI())*60","v":141.96022846766658},null,null,{"$f":"ROUND(IF(Calc_WHDHC!H1231<0,Calc_WHDHC!I1231,2*PI()*Calc_WHDHC!G1231/60*Calc_WHDHC!H1231/1000*IF(Input!$B$4=\"Other\",0.95*0.95,0.98*0.95)),3)","v":239.60400000000001}]
[1226,null,{"$f":"Calc_WHDHC!G1232","v":1539},null,null,{"$f":"ROUND(IF(Calc_WHDHC!H1232<0,Calc_WHDHC!I1232*IF(Input!$B$4=\"Other\",0.95*0.95,0.98*0.95),2*PI()*Calc_WHDHC!G1232/60*Calc_WHDHC!H1232/1000),3)","v":260.44099999999997},null,null,1226,null,"-",null,null,{"$f":"Calc_WHDHC!J1232/3.6/(2*Input!$B$5*PI())*60","v":146.19660743305627},null,null,{"$f":"ROUND(IF(Calc_WHDHC!H1232<0,Calc_WHDHC!I1232,2*PI()*Calc_WHDHC!G1232/60*Calc_WHDHC!H1232/1000*IF(Input!$B$4=\"Other\",0.95*0.95,0.98*0.95)),3)","v":242.47}]
[1227,null,{"$f":"Calc_WHDHC!G1233","v":1584},null,null,{"$f":"ROUND(IF(Calc_WHDHC!H1233<0,Calc_WHDHC!I1233*IF(Input!$B$4=\"Other\",0.95*0.95,0.98*0.95),2*PI()*Calc_WHDHC!G1233/60*Calc_WHDHC!H1233/1000),3)","v":270.37799999999999},null,null,1227,null,"-",null,null,{"$f":"Calc_WHDHC!J1233/3.6/(2*Input!$B$5*PI())*60","v":150.34992014422264},null,null,{"$f":"ROUND(IF(Calc_WHDHC!H1233<0,Calc_WHDHC!I1233,2*PI()*Calc_WHDHC!G1233/60*Calc_WHDHC!H1233/1000*IF(Input!$B$4=\"Other\",0.95*0.95,0.98*0.95)),3)","v":251.72200000000001}]
[1228,null,{"$f":"Calc_WHDHC!G1234","v":1627},null,null,{"$f":"ROUND(IF(Calc_WHDHC!H1234<0,Calc_WHDHC!I1234*IF(Input!$B$4=\"Other\",0.95*0.95,0.98*0.95),2*PI()*Calc_WHDHC!G1234/60*Calc_WHDHC!H1234/1000),3)","v":278.05900000000003},null,null,1228,null,"-",null,null,{"$f":"Calc_WHDHC!J1234/3.6/(2*Input!$B$5*PI())*60","v":154.503232855389},null,null,{"$f":"ROUND(IF(Calc_WHDHC!H1234<0,Calc_WHDHC!I1234,2*PI()*Calc_WHDHC!G1234/60*Calc_WHDHC!H1234/1000*IF(Input!$B$4=\"Other\",0.95*0.95,0.98*0.95)),3)","v":258.87299999999999}]
[1229,null,{"$f":"Calc_WHDHC!G1235","v":1671},null,null,{"$f":"ROUND(IF(Calc_WHDHC!H1235<0,Calc_WHDHC!I1235*IF(Input!$B$4=\"Other\",0.95*0.95,0.98*0.95),2*PI()*Calc_WHDHC!G1235/60*Calc_WHDHC!H1235/1000),3)","v":265.98},null,null,1229,null,"-",null,null,{"$f":"Calc_WHDHC!J1235/3.6/(2*Input!$B$5*PI())*60","v":158.62885681514763},null,null,{"$f":"ROUND(IF(Calc_WHDHC!H1235<0,Calc_WHDHC!I1235,2*PI()*Calc_WHDHC!G1235/60*Calc_WHDHC!H1235/1000*IF(Input!$B$4=\"Other\",0.95*0.95,0.98*0.95)),3)","v":247.62700000000001}]
[1230,null,{"$f":"Calc_WHDHC!G1236","v":1714},null,null,{"$f":"ROUND(IF(Calc_WHDHC!H1236<0,Calc_WHDHC!I1236*IF(Input!$B$4=\"Other\",0.95*0.95,0.98*0.95),2*PI()*Calc_WHDHC!G1236/60*Calc_WHDHC!H1236/1000),3)","v":288.44},null,null,1230,null,"-",null,null,{"$f":"Calc_WHDHC!J1236/3.6/(2*Input!$B$5*PI())*60","v":162.61603701786731},null,null,{"$f":"ROUND(IF(Calc_WHDHC!H1236<0,Calc_WHDHC!I1236,2*PI()*Calc_WHDHC!G1236/60*Calc_WHDHC!H1236/1000*IF(Input!$B$4=\"Other\",0.95*0.95,0.98*0.95)),3)","v":268.53800000000001}]
[1231,null,{"$f":"Calc_WHDHC!G1237","v":1755},null,null,{"$f":"ROUND(IF(Calc_WHDHC!H1237<0,Calc_WHDHC!I1237*IF(Input!$B$4=\"Other\",0.95*0.95,0.98*0.95),2*PI()*Calc_WHDHC!G1237/60*Calc_WHDHC!H1237/1000),3)","v":300.85300000000001},null,null,1231,null,"-",null,null,{"$f":"Calc_WHDHC!J1237/3.6/(2*Input!$B$5*PI())*60","v":166.46477346354817},null,null,{"$f":"ROUND(IF(Calc_WHDHC!H1237<0,Calc_WHDHC!I1237,2*PI()*Calc_WHDHC!G1237/60*Calc_WHDHC!H1237/1000*IF(Input!$B$4=\"Other\",0.95*0.95,0.98*0.95)),3)","v":280.09399999999999}]
[1232,null,{"$f":"Calc_WHDHC!G1238","v":1795},null,null,{"$f":"ROUND(IF(Calc_WHDHC!H1238<0,Calc_WHDHC!I1238*IF(Input!$B$4=\"Other\",0.95*0.95,0.98*0.95),2*PI()*Calc_WHDHC!G1238/60*Calc_WHDHC!H1238/1000),3)","v":308.46199999999999},null,null,1232,null,"-",null,null,{"$f":"Calc_WHDHC!J1238/3.6/(2*Input!$B$5*PI())*60","v":170.2858211578212},null,null,{"$f":"ROUND(IF(Calc_WHDHC!H1238<0,Calc_WHDHC!I1238,2*PI()*Calc_WHDHC!G1238/60*Calc_WHDHC!H1238/1000*IF(Input!$B$4=\"Other\",0.95*0.95,0.98*0.95)),3)","v":287.178}]
[1233,null,{"$f":"Calc_WHDHC!G1239","v":1838},null,null,{"$f":"ROUND(IF(Calc_WHDHC!H1239<0,Calc_WHDHC!I1239*IF(Input!$B$4=\"Other\",0.95*0.95,0.98*0.95),2*PI()*Calc_WHDHC!G1239/60*Calc_WHDHC!H1239/1000),3)","v":317.00599999999997},null,null,1233,null,"-",null,null,{"$f":"Calc_WHDHC!J1239/3.6/(2*Input!$B$5*PI())*60","v":174.27300136054095},null,null,{"$f":"ROUND(IF(Calc_WHDHC!H1239<0,Calc_WHDHC!I1239,2*PI()*Calc_WHDHC!G1239/60*Calc_WHDHC!H1239/1000*IF(Input!$B$4=\"Other\",0.95*0.95,0.98*0.95)),3)","v":295.13299999999998}]
[1234,null,{"$f":"Calc_WHDHC!G1240","v":1881},null,null,{"$f":"ROUND(IF(Calc_WHDHC!H1240<0,Calc_WHDHC!I1240*IF(Input!$B$4=\"Other\",0.95*0.95,0.98*0.95),2*PI()*Calc_WHDHC!G1240/60*Calc_WHDHC!H1240/1000),3)","v":0},null,null,1234,null,"-",null,null,{"$f":"Calc_WHDHC!J1240/3.6/(2*Input!$B$5*PI())*60","v":178.2878703146684},null,null,{"$f":"ROUND(IF(Calc_WHDHC!H1240<0,Calc_WHDHC!I1240,2*PI()*Calc_WHDHC!G1240/60*Calc_WHDHC!H1240/1000*IF(Input!$B$4=\"Other\",0.95*0.95,0.98*0.95)),3)","v":0}]
[1235,null,{"$f":"Calc_WHDHC!G1241","v":1828},null,null,{"$f":"ROUND(IF(Calc_WHDHC!H1241<0,Calc_WHDHC!I1241*IF(Input!$B$4=\"Other\",0.95*0.95,0.98*0.95),2*PI()*Calc_WHDHC!G1241/60*Calc_WHDHC!H1241/1000),3)","v":0},null,null,1235,null,"-",null,null,{"$f":"Calc_WHDHC!J1241/3.6/(2*Input!$B$5*PI())*60","v":181.41669922374709},null,null,{"$f":"ROUND(IF(Calc_WHDHC!H1241<0,Calc_WHDHC!I1241,2*PI()*Calc_WHDHC!G1241/60*Calc_WHDHC!H1241/1000*IF(Input!$B$4=\"Other\",0.95*0.95,0.98*0.95)),3)","v":0}]
[1236,null,{"$f":"Calc_WHDHC!G1242","v":1642},null,null,{"$f":"ROUND(IF(Calc_WHDHC!H1242<0,Calc_WHDHC!I1242*IF(Input!$B$4=\"Other\",0.95*0.95,0.98*0.95),2*PI()*Calc_WHDHC!G1242/60*Calc_WHDHC!H1242/1000),3)","v":0},null,null,1236,null,"-",null,null,{"$f":"Calc_WHDHC!J1242/3.6/(2*Input!$B$5*PI())*60","v":182.93958055117474},null,null,{"$f":"ROUND(IF(Calc_WHDHC!H1242<0,Calc_WHDHC!I1242,2*PI()*Calc_WHDHC!G1242/60*Calc_WHDHC!H1242/1000*IF(Input!$B$4=\"Other\",0.95*0.95,0.98*0.95)),3)","v":0}]
[1237,null,{"$f":"Calc_WHDHC!G1243","v":1459},null,null,{"$f":"ROUND(IF(Calc_WHDHC!H1243<0,Calc_WHDHC!I1243*IF(Input!$B$4=\"Other\",0.95*0.95,0.98*0.95),2*PI()*Calc_WHDHC!G1243/60*Calc_WHDHC!H1243/1000),3)","v":0},null,null,1237,null,"-",null,null,{"$f":"Calc_WHDHC!J1243/3.6/(2*Input!$B$5*PI())*60","v":183.27184556806807},null,null,{"$f":"ROUND(IF(Calc_WHDHC!H1243<0,Calc_WHDHC!I1243,2*PI()*Calc_WHDHC!G1243/60*Calc_WHDHC!H1243/1000*IF(Input!$B$4=\"Other\",0.95*0.95,0.98*0.95)),3)","v":0}]
[1238,null,{"$f":"Calc_WHDHC!G1244","v":1327},null,null,{"$f":"ROUND(IF(Calc_WHDHC!H1244<0,Calc_WHDHC!I1244*IF(Input!$B$4=\"Other\",0.95*0.95,0.98*0.95),2*PI()*Calc_WHDHC!G1244/60*Calc_WHDHC!H1244/1000),3)","v":248.04900000000001},null,null,1238,null,"-",null,null,{"$f":"Calc_WHDHC!J1244/3.6/(2*Input!$B$5*PI())*60","v":183.27184556806807},null,null,{"$f":"ROUND(IF(Calc_WHDHC!H1244<0,Calc_WHDHC!I1244,2*PI()*Calc_WHDHC!G1244/60*Calc_WHDHC!H1244/1000*IF(Input!$B$4=\"Other\",0.95*0.95,0.98*0.95)),3)","v":230.934}]
[1239,null,{"$f":"Calc_WHDHC!G1245","v":1333},null,null,{"$f":"ROUND(IF(Calc_WHDHC!H1245<0,Calc_WHDHC!I1245*IF(Input!$B$4=\"Other\",0.95*0.95,0.98*0.95),2*PI()*Calc_WHDHC!G1245/60*Calc_WHDHC!H1245/1000),3)","v":251.26499999999999},null,null,1239,null,"-",null,null,{"$f":"Calc_WHDHC!J1245/3.6/(2*Input!$B$5*PI())*60","v":183.93637560185473},null,null,{"$f":"ROUND(IF(Calc_WHDHC!H1245<0,Calc_WHDHC!I1245,2*PI()*Calc_WHDHC!G1245/60*Calc_WHDHC!H1245/1000*IF(Input!$B$4=\"Other\",0.95*0.95,0.98*0.95)),3)","v":233.92699999999999}]
[1240,null,{"$f":"Calc_WHDHC!G1246","v":1346},null,null,{"$f":"ROUND(IF(Calc_WHDHC!H1246<0,Calc_WHDHC!I1246*IF(Input!$B$4=\"Other\",0.95*0.95,0.98*0.95),2*PI()*Calc_WHDHC!G1246/60*Calc_WHDHC!H1246/1000),3)","v":254.279},null,null,1240,null,"-",null,null,{"$f":"Calc_WHDHC!J1246/3.6/(2*Input!$B$5*PI())*60","v":185.70845569195231},null,null,{"$f":"ROUND(IF(Calc_WHDHC!H1246<0,Calc_WHDHC!I1246,2*PI()*Calc_WHDHC!G1246/60*Calc_WHDHC!H1246/1000*IF(Input!$B$4=\"Other\",0.95*0.95,0.98*0.95)),3)","v":236.73400000000001}]
[1241,null,{"$f":"Calc_WHDHC!G1247","v":1366},null,null,{"$f":"ROUND(IF(Calc_WHDHC!H1247<0,Calc_WHDHC!I1247*IF(Input!$B$4=\"Other\",0.95*0.95,0.98*0.95),2*PI()*Calc_WHDHC!G1247/60*Calc_WHDHC!H1247/1000),3)","v":260.77499999999998},null,null,1241,null,"-",null,null,{"$f":"Calc_WHDHC!J1247/3.6/(2*Input!$B$5*PI())*60","v":188.39426457850661},null,null,{"$f":"ROUND(IF(Calc_WHDHC!H1247<0,Calc_WHDHC!I1247,2*PI()*Calc_WHDHC!G1247/60*Calc_WHDHC!H1247/1000*IF(Input!$B$4=\"Other\",0.95*0.95,0.98*0.95)),3)","v":242.78200000000001}]
[1242,null,{"$f":"Calc_WHDHC!G1248","v":1387},null,null,{"$f":"ROUND(IF(Calc_WHDHC!H1248<0,Calc_WHDHC!I1248*IF(Input!$B$4=\"Other\",0.95*0.95,0.98*0.95),2*PI()*Calc_WHDHC!G1248/60*Calc_WHDHC!H1248/1000),3)","v":264.34800000000001},null,null,1242,null,"-",null,null,{"$f":"Calc_WHDHC!J1248/3.6/(2*Input!$B$5*PI())*60","v":191.38464973054639},null,null,{"$f":"ROUND(IF(Calc_WHDHC!H1248<0,Calc_WHDHC!I1248,2*PI()*Calc_WHDHC!G1248/60*Calc_WHDHC!H1248/1000*IF(Input!$B$4=\"Other\",0.95*0.95,0.98*0.95)),3)","v":246.108}]
[1243,null,{"$f":"Calc_WHDHC!G1249","v":1407},null,null,{"$f":"ROUND(IF(Calc_WHDHC!H1249<0,Calc_WHDHC!I1249*IF(Input!$B$4=\"Other\",0.95*0.95,0.98*0.95),2*PI()*Calc_WHDHC!G1249/60*Calc_WHDHC!H1249/1000),3)","v":269.63299999999998},null,null,1243,null,"-",null,null,{"$f":"Calc_WHDHC!J1249/3.6/(2*Input!$B$5*PI())*60","v":194.04276986569286},null,null,{"$f":"ROUND(IF(Calc_WHDHC!H1249<0,Calc_WHDHC!I1249,2*PI()*Calc_WHDHC!G1249/60*Calc_WHDHC!H1249/1000*IF(Input!$B$4=\"Other\",0.95*0.95,0.98*0.95)),3)","v":251.029}]
[1244,null,{"$f":"Calc_WHDHC!G1250","v":1424},null,null,{"$f":"ROUND(IF(Calc_WHDHC!H1250<0,Calc_WHDHC!I1250*IF(Input!$B$4=\"Other\",0.95*0.95,0.98*0.95),2*PI()*Calc_WHDHC!G1250/60*Calc_WHDHC!H1250/1000),3)","v":271.69799999999998},null,null,1244,null,"-",null,null,{"$f":"Calc_WHDHC!J1250/3.6/(2*Input!$B$5*PI())*60","v":196.34093623253824},null,null,{"$f":"ROUND(IF(Calc_WHDHC!H1250<0,Calc_WHDHC!I1250,2*PI()*Calc_WHDHC!G1250/60*Calc_WHDHC!H1250/1000*IF(Input!$B$4=\"Other\",0.95*0.95,0.98*0.95)),3)","v":252.95099999999999}]
[1245,null,{"$f":"Calc_WHDHC!G1251","v":1441},null,null,{"$f":"ROUND(IF(Calc_WHDHC!H1251<0,Calc_WHDHC!I1251*IF(Input!$B$4=\"Other\",0.95*0.95,0.98*0.95),2*PI()*Calc_WHDHC!G1251/60*Calc_WHDHC!H1251/1000),3)","v":274.48899999999998},null,null,1245,null,"-",null,null,{"$f":"Calc_WHDHC!J1251/3.6/(2*Input!$B$5*PI())*60","v":198.61141384797588},null,null,{"$f":"ROUND(IF(Calc_WHDHC!H1251<0,Calc_WHDHC!I1251,2*PI()*Calc_WHDHC!G1251/60*Calc_WHDHC!H1251/1000*IF(Input!$B$4=\"Other\",0.95*0.95,0.98*0.95)),3)","v":255.54900000000001}]
[1246,null,{"$f":"Calc_WHDHC!G1252","v":1459},null,null,{"$f":"ROUND(IF(Calc_WHDHC!H1252<0,Calc_WHDHC!I1252*IF(Input!$B$4=\"Other\",0.95*0.95,0.98*0.95),2*PI()*Calc_WHDHC!G1252/60*Calc_WHDHC!H1252/1000),3)","v":136.89599999999999},null,null,1246,null,"-",null,null,{"$f":"Calc_WHDHC!J1252/3.6/(2*Input!$B$5*PI())*60","v":201.18646772889903},null,null,{"$f":"ROUND(IF(Calc_WHDHC!H1252<0,Calc_WHDHC!I1252,2*PI()*Calc_WHDHC!G1252/60*Calc_WHDHC!H1252/1000*IF(Input!$B$4=\"Other\",0.95*0.95,0.98*0.95)),3)","v":127.45099999999999}]
[1247,null,{"$f":"Calc_WHDHC!G1253","v":1289},null,null,{"$f":"ROUND(IF(Calc_WHDHC!H1253<0,Calc_WHDHC!I1253*IF(Input!$B$4=\"Other\",0.95*0.95,0.98*0.95),2*PI()*Calc_WHDHC!G1253/60*Calc_WHDHC!H1253/1000),3)","v":0},null,null,1247,null,"-",null,null,{"$f":"Calc_WHDHC!J1253/3.6/(2*Input!$B$5*PI())*60","v":203.98303162108439},null,null,{"$f":"ROUND(IF(Calc_WHDHC!H1253<0,Calc_WHDHC!I1253,2*PI()*Calc_WHDHC!G1253/60*Calc_WHDHC!H1253/1000*IF(Input!$B$4=\"Other\",0.95*0.95,0.98*0.95)),3)","v":0}]
[1248,null,{"$f":"Calc_WHDHC!G1254","v":1119},null,null,{"$f":"ROUND(IF(Calc_WHDHC!H1254<0,Calc_WHDHC!I1254*IF(Input!$B$4=\"Other\",0.95*0.95,0.98*0.95),2*PI()*Calc_WHDHC!G1254/60*Calc_WHDHC!H1254/1000),3)","v":90.697999999999993},null,null,1248,null,"-",null,null,{"$f":"Calc_WHDHC!J1254/3.6/(2*Input!$B$5*PI())*60","v":206.41964174496866},null,null,{"$f":"ROUND(IF(Calc_WHDHC!H1254<0,Calc_WHDHC!I1254,2*PI()*Calc_WHDHC!G1254/60*Calc_WHDHC!H1254/1000*IF(Input!$B$4=\"Other\",0.95*0.95,0.98*0.95)),3)","v":84.44}]
[1249,null,{"$f":"Calc_WHDHC!G1255","v":1128},null,null,{"$f":"ROUND(IF(Calc_WHDHC!H1255<0,Calc_WHDHC!I1255*IF(Input!$B$4=\"Other\",0.95*0.95,0.98*0.95),2*PI()*Calc_WHDHC!G1255/60*Calc_WHDHC!H1255/1000),3)","v":181.32},null,null,1249,null,"-",null,null,{"$f":"Calc_WHDHC!J1255/3.6/(2*Input!$B$5*PI())*60","v":208.16403308365858},null,null,{"$f":"ROUND(IF(Calc_WHDHC!H1255<0,Calc_WHDHC!I1255,2*PI()*Calc_WHDHC!G1255/60*Calc_WHDHC!H1255/1000*IF(Input!$B$4=\"Other\",0.95*0.95,0.98*0.95)),3)","v":168.809}]
[1250,null,{"$f":"Calc_WHDHC!G1256","v":1134},null,null,{"$f":"ROUND(IF(Calc_WHDHC!H1256<0,Calc_WHDHC!I1256*IF(Input!$B$4=\"Other\",0.95*0.95,0.98*0.95),2*PI()*Calc_WHDHC!G1256/60*Calc_WHDHC!H1256/1000),3)","v":161.38399999999999},null,null,1250,null,"-",null,null,{"$f":"Calc_WHDHC!J1256/3.6/(2*Input!$B$5*PI())*60","v":209.29927189137734},null,null,{"$f":"ROUND(IF(Calc_WHDHC!H1256<0,Calc_WHDHC!I1256,2*PI()*Calc_WHDHC!G1256/60*Calc_WHDHC!H1256/1000*IF(Input!$B$4=\"Other\",0.95*0.95,0.98*0.95)),3)","v":150.249}]
[1251,null,{"$f":"Calc_WHDHC!G1257","v":1138},null,null,{"$f":"ROUND(IF(Calc_WHDHC!H1257<0,Calc_WHDHC!I1257*IF(Input!$B$4=\"Other\",0.95*0.95,0.98*0.95),2*PI()*Calc_WHDHC!G1257/60*Calc_WHDHC!H1257/1000),3)","v":132.161},null,null,1251,null,"-",null,null,{"$f":"Calc_WHDHC!J1257/3.6/(2*Input!$B$5*PI())*60","v":209.93611317375618},null,null,{"$f":"ROUND(IF(Calc_WHDHC!H1257<0,Calc_WHDHC!I1257,2*PI()*Calc_WHDHC!G1257/60*Calc_WHDHC!H1257/1000*IF(Input!$B$4=\"Other\",0.95*0.95,0.98*0.95)),3)","v":123.042}]
[1252,null,{"$f":"Calc_WHDHC!G1258","v":1140},null,null,{"$f":"ROUND(IF(Calc_WHDHC!H1258<0,Calc_WHDHC!I1258*IF(Input!$B$4=\"Other\",0.95*0.95,0.98*0.95),2*PI()*Calc_WHDHC!G1258/60*Calc_WHDHC!H1258/1000),3)","v":136.21299999999999},null,null,1252,null,"-",null,null,{"$f":"Calc_WHDHC!J1258/3.6/(2*Input!$B$5*PI())*60","v":210.15762318501842},null,null,{"$f":"ROUND(IF(Calc_WHDHC!H1258<0,Calc_WHDHC!I1258,2*PI()*Calc_WHDHC!G1258/60*Calc_WHDHC!H1258/1000*IF(Input!$B$4=\"Other\",0.95*0.95,0.98*0.95)),3)","v":126.81399999999999}]
[1253,null,{"$f":"Calc_WHDHC!G1259","v":1140},null,null,{"$f":"ROUND(IF(Calc_WHDHC!H1259<0,Calc_WHDHC!I1259*IF(Input!$B$4=\"Other\",0.95*0.95,0.98*0.95),2*PI()*Calc_WHDHC!G1259/60*Calc_WHDHC!H1259/1000),3)","v":102.78700000000001},null,null,1253,null,"-",null,null,{"$f":"Calc_WHDHC!J1259/3.6/(2*Input!$B$5*PI())*60","v":210.21300068783393},null,null,{"$f":"ROUND(IF(Calc_WHDHC!H1259<0,Calc_WHDHC!I1259,2*PI()*Calc_WHDHC!G1259/60*Calc_WHDHC!H1259/1000*IF(Input!$B$4=\"Other\",0.95*0.95,0.98*0.95)),3)","v":95.694000000000003}]
[1254,null,{"$f":"Calc_WHDHC!G1260","v":1138},null,null,{"$f":"ROUND(IF(Calc_WHDHC!H1260<0,Calc_WHDHC!I1260*IF(Input!$B$4=\"Other\",0.95*0.95,0.98*0.95),2*PI()*Calc_WHDHC!G1260/60*Calc_WHDHC!H1260/1000),3)","v":86.637},null,null,1254,null,"-",null,null,{"$f":"Calc_WHDHC!J1260/3.6/(2*Input!$B$5*PI())*60","v":210.07455693079507},null,null,{"$f":"ROUND(IF(Calc_WHDHC!H1260<0,Calc_WHDHC!I1260,2*PI()*Calc_WHDHC!G1260/60*Calc_WHDHC!H1260/1000*IF(Input!$B$4=\"Other\",0.95*0.95,0.98*0.95)),3)","v":80.659000000000006}]
[1255,null,{"$f":"Calc_WHDHC!G1261","v":1136},null,null,{"$f":"ROUND(IF(Calc_WHDHC!H1261<0,Calc_WHDHC!I1261*IF(Input!$B$4=\"Other\",0.95*0.95,0.98*0.95),2*PI()*Calc_WHDHC!G1261/60*Calc_WHDHC!H1261/1000),3)","v":75.302999999999997},null,null,1255,null,"-",null,null,{"$f":"Calc_WHDHC!J1261/3.6/(2*Input!$B$5*PI())*60","v":209.54847065404732},null,null,{"$f":"ROUND(IF(Calc_WHDHC!H1261<0,Calc_WHDHC!I1261,2*PI()*Calc_WHDHC!G1261/60*Calc_WHDHC!H1261/1000*IF(Input!$B$4=\"Other\",0.95*0.95,0.98*0.95)),3)","v":70.106999999999999}]
[1256,null,{"$f":"Calc_WHDHC!G1262","v":1132},null,null,{"$f":"ROUND(IF(Calc_WHDHC!H1262<0,Calc_WHDHC!I1262*IF(Input!$B$4=\"Other\",0.95*0.95,0.98*0.95),2*PI()*Calc_WHDHC!G1262/60*Calc_WHDHC!H1262/1000),3)","v":54.173999999999999},null,null,1256,null,"-",null,null,{"$f":"Calc_WHDHC!J1262/3.6/(2*Input!$B$5*PI())*60","v":208.6901193604063},null,null,{"$f":"ROUND(IF(Calc_WHDHC!H1262<0,Calc_WHDHC!I1262,2*PI()*Calc_WHDHC!G1262/60*Calc_WHDHC!H1262/1000*IF(Input!$B$4=\"Other\",0.95*0.95,0.98*0.95)),3)","v":50.436}]
[1257,null,{"$f":"Calc_WHDHC!G1263","v":1125},null,null,{"$f":"ROUND(IF(Calc_WHDHC!H1263<0,Calc_WHDHC!I1263*IF(Input!$B$4=\"Other\",0.95*0.95,0.98*0.95),2*PI()*Calc_WHDHC!G1263/60*Calc_WHDHC!H1263/1000),3)","v":48.890999999999998},null,null,1257,null,"-",null,null,{"$f":"Calc_WHDHC!J1263/3.6/(2*Input!$B$5*PI())*60","v":207.69332430972634},null,null,{"$f":"ROUND(IF(Calc_WHDHC!H1263<0,Calc_WHDHC!I1263,2*PI()*Calc_WHDHC!G1263/60*Calc_WHDHC!H1263/1000*IF(Input!$B$4=\"Other\",0.95*0.95,0.98*0.95)),3)","v":45.518000000000001}]
[1258,null,{"$f":"Calc_WHDHC!G1264","v":1119},null,null,{"$f":"ROUND(IF(Calc_WHDHC!H1264<0,Calc_WHDHC!I1264*IF(Input!$B$4=\"Other\",0.95*0.95,0.98*0.95),2*PI()*Calc_WHDHC!G1264/60*Calc_WHDHC!H1264/1000),3)","v":-6.78},null,null,1258,null,"-",null,null,{"$f":"Calc_WHDHC!J1264/3.6/(2*Input!$B$5*PI())*60","v":206.41964174496866},null,null,{"$f":"ROUND(IF(Calc_WHDHC!H1264<0,Calc_WHDHC!I1264,2*PI()*Calc_WHDHC!G1264/60*Calc_WHDHC!H1264/1000*IF(Input!$B$4=\"Other\",0.95*0.95,0.98*0.95)),3)","v":-7.282}]
[1259,null,{"$f":"Calc_WHDHC!G1265","v":1107},null,null,{"$f":"ROUND(IF(Calc_WHDHC!H1265<0,Calc_WHDHC!I1265*IF(Input!$B$4=\"Other\",0.95*0.95,0.98*0.95),2*PI()*Calc_WHDHC!G1265/60*Calc_WHDHC!H1265/1000),3)","v":-18.132999999999999},null,null,1259,null,"-",null,null,{"$f":"Calc_WHDHC!J1265/3.6/(2*Input!$B$5*PI())*60","v":204.34298538938546},null,null,{"$f":"ROUND(IF(Calc_WHDHC!H1265<0,Calc_WHDHC!I1265,2*PI()*Calc_WHDHC!G1265/60*Calc_WHDHC!H1265/1000*IF(Input!$B$4=\"Other\",0.95*0.95,0.98*0.95)),3)","v":-19.477}]
[1260,null,{"$f":"Calc_WHDHC!G1266","v":1091},null,null,{"$f":"ROUND(IF(Calc_WHDHC!H1266<0,Calc_WHDHC!I1266*IF(Input!$B$4=\"Other\",0.95*0.95,0.98*0.95),2*PI()*Calc_WHDHC!G1266/60*Calc_WHDHC!H1266/1000),3)","v":-26.102},null,null,1260,null,"-",null,null,{"$f":"Calc_WHDHC!J1266/3.6/(2*Input!$B$5*PI())*60","v":201.32491148593789},null,null,{"$f":"ROUND(IF(Calc_WHDHC!H1266<0,Calc_WHDHC!I1266,2*PI()*Calc_WHDHC!G1266/60*Calc_WHDHC!H1266/1000*IF(Input!$B$4=\"Other\",0.95*0.95,0.98*0.95)),3)","v":-28.036999999999999}]
[1261,null,{"$f":"Calc_WHDHC!G1267","v":1071},null,null,{"$f":"ROUND(IF(Calc_WHDHC!H1267<0,Calc_WHDHC!I1267*IF(Input!$B$4=\"Other\",0.95*0.95,0.98*0.95),2*PI()*Calc_WHDHC!G1267/60*Calc_WHDHC!H1267/1000),3)","v":-27.574999999999999},null,null,1261,null,"-",null,null,{"$f":"Calc_WHDHC!J1267/3.6/(2*Input!$B$5*PI())*60","v":197.66999630011151},null,null,{"$f":"ROUND(IF(Calc_WHDHC!H1267<0,Calc_WHDHC!I1267,2*PI()*Calc_WHDHC!G1267/60*Calc_WHDHC!H1267/1000*IF(Input!$B$4=\"Other\",0.95*0.95,0.98*0.95)),3)","v":-29.619}]
[1262,null,{"$f":"Calc_WHDHC!G1268","v":1050},null,null,{"$f":"ROUND(IF(Calc_WHDHC!H1268<0,Calc_WHDHC!I1268*IF(Input!$B$4=\"Other\",0.95*0.95,0.98*0.95),2*PI()*Calc_WHDHC!G1268/60*Calc_WHDHC!H1268/1000),3)","v":-25.233000000000001},null,null,1262,null,"-",null,null,{"$f":"Calc_WHDHC!J1268/3.6/(2*Input!$B$5*PI())*60","v":193.87663735724624},null,null,{"$f":"ROUND(IF(Calc_WHDHC!H1268<0,Calc_WHDHC!I1268,2*PI()*Calc_WHDHC!G1268/60*Calc_WHDHC!H1268/1000*IF(Input!$B$4=\"Other\",0.95*0.95,0.98*0.95)),3)","v":-27.103000000000002}]
[1263,null,{"$f":"Calc_WHDHC!G1269","v":1030},null,null,{"$f":"ROUND(IF(Calc_WHDHC!H1269<0,Calc_WHDHC!I1269*IF(Input!$B$4=\"Other\",0.95*0.95,0.98*0.95),2*PI()*Calc_WHDHC!G1269/60*Calc_WHDHC!H1269/1000),3)","v":-20.997},null,null,1263,null,"-",null,null,{"$f":"Calc_WHDHC!J1269/3.6/(2*Input!$B$5*PI())*60","v":190.24941092282756},null,null,{"$f":"ROUND(IF(Calc_WHDHC!H1269<0,Calc_WHDHC!I1269,2*PI()*Calc_WHDHC!G1269/60*Calc_WHDHC!H1269/1000*IF(Input!$B$4=\"Other\",0.95*0.95,0.98*0.95)),3)","v":-22.553000000000001}]
[1264,null,{"$f":"Calc_WHDHC!G1270","v":1012},null,null,{"$f":"ROUND(IF(Calc_WHDHC!H1270<0,Calc_WHDHC!I1270*IF(Input!$B$4=\"Other\",0.95*0.95,0.98*0.95),2*PI()*Calc_WHDHC!G1270/60*Calc_WHDHC!H1270/1000),3)","v":-17.257999999999999},null,null,1264,null,"-",null,null,{"$f":"Calc_WHDHC!J1270/3.6/(2*Input!$B$5*PI())*60","v":186.95444950530225},null,null,{"$f":"ROUND(IF(Calc_WHDHC!H1270<0,Calc_WHDHC!I1270,2*PI()*Calc_WHDHC!G1270/60*Calc_WHDHC!H1270/1000*IF(Input!$B$4=\"Other\",0.95*0.95,0.98*0.95)),3)","v":-18.536999999999999}]
[1265,null,{"$f":"Calc_WHDHC!G1271","v":994},null,null,{"$f":"ROUND(IF(Calc_WHDHC!H1271<0,Calc_WHDHC!I1271*IF(Input!$B$4=\"Other\",0.95*0.95,0.98*0.95),2*PI()*Calc_WHDHC!G1271/60*Calc_WHDHC!H1271/1000),3)","v":-14.234},null,null,1265,null,"-",null,null,{"$f":"Calc_WHDHC!J1271/3.6/(2*Input!$B$5*PI())*60","v":183.96406435326247},null,null,{"$f":"ROUND(IF(Calc_WHDHC!H1271<0,Calc_WHDHC!I1271,2*PI()*Calc_WHDHC!G1271/60*Calc_WHDHC!H1271/1000*IF(Input!$B$4=\"Other\",0.95*0.95,0.98*0.95)),3)","v":-15.289}]
[1266,null,{"$f":"Calc_WHDHC!G1272","v":980},null,null,{"$f":"ROUND(IF(Calc_WHDHC!H1272<0,Calc_WHDHC!I1272*IF(Input!$B$4=\"Other\",0.95*0.95,0.98*0.95),2*PI()*Calc_WHDHC!G1272/60*Calc_WHDHC!H1272/1000),3)","v":-13.214},null,null,1266,null,"-",null,null,{"$f":"Calc_WHDHC!J1272/3.6/(2*Input!$B$5*PI())*60","v":181.2228779638927},null,null,{"$f":"ROUND(IF(Calc_WHDHC!H1272<0,Calc_WHDHC!I1272,2*PI()*Calc_WHDHC!G1272/60*Calc_WHDHC!H1272/1000*IF(Input!$B$4=\"Other\",0.95*0.95,0.98*0.95)),3)","v":-14.193}]
[1267,null,{"$f":"Calc_WHDHC!G1273","v":965},null,null,{"$f":"ROUND(IF(Calc_WHDHC!H1273<0,Calc_WHDHC!I1273*IF(Input!$B$4=\"Other\",0.95*0.95,0.98*0.95),2*PI()*Calc_WHDHC!G1273/60*Calc_WHDHC!H1273/1000),3)","v":-12.843},null,null,1267,null,"-",null,null,{"$f":"Calc_WHDHC!J1273/3.6/(2*Input!$B$5*PI())*60","v":178.56475782874617},null,null,{"$f":"ROUND(IF(Calc_WHDHC!H1273<0,Calc_WHDHC!I1273,2*PI()*Calc_WHDHC!G1273/60*Calc_WHDHC!H1273/1000*IF(Input!$B$4=\"Other\",0.95*0.95,0.98*0.95)),3)","v":-13.795}]
[1268,null,{"$f":"Calc_WHDHC!G1274","v":951},null,null,{"$f":"ROUND(IF(Calc_WHDHC!H1274<0,Calc_WHDHC!I1274*IF(Input!$B$4=\"Other\",0.95*0.95,0.98*0.95),2*PI()*Calc_WHDHC!G1274/60*Calc_WHDHC!H1274/1000),3)","v":-12.445},null,null,1268,null,"-",null,null,{"$f":"Calc_WHDHC!J1274/3.6/(2*Input!$B$5*PI())*60","v":175.93432644500749},null,null,{"$f":"ROUND(IF(Calc_WHDHC!H1274<0,Calc_WHDHC!I1274,2*PI()*Calc_WHDHC!G1274/60*Calc_WHDHC!H1274/1000*IF(Input!$B$4=\"Other\",0.95*0.95,0.98*0.95)),3)","v":-13.367000000000001}]
[1269,null,{"$f":"Calc_WHDHC!G1275","v":1094},null,null,{"$f":"ROUND(IF(Calc_WHDHC!H1275<0,Calc_WHDHC!I1275*IF(Input!$B$4=\"Other\",0.95*0.95,0.98*0.95),2*PI()*Calc_WHDHC!G1275/60*Calc_WHDHC!H1275/1000),3)","v":0},null,null,1269,null,"-",null,null,{"$f":"Calc_WHDHC!J1275/3.6/(2*Input!$B$5*PI())*60","v":173.33158381267657},null,null,{"$f":"ROUND(IF(Calc_WHDHC!H1275<0,Calc_WHDHC!I1275,2*PI()*Calc_WHDHC!G1275/60*Calc_WHDHC!H1275/1000*IF(Input!$B$4=\"Other\",0.95*0.95,0.98*0.95)),3)","v":0}]
[1270,null,{"$f":"Calc_WHDHC!G1276","v":1236},null,null,{"$f":"ROUND(IF(Calc_WHDHC!H1276<0,Calc_WHDHC!I1276*IF(Input!$B$4=\"Other\",0.95*0.95,0.98*0.95),2*PI()*Calc_WHDHC!G1276/60*Calc_WHDHC!H1276/1000),3)","v":-13.484},null,null,1270,null,"-",null,null,{"$f":"Calc_WHDHC!J1276/3.6/(2*Input!$B$5*PI())*60","v":170.75652993175342},null,null,{"$f":"ROUND(IF(Calc_WHDHC!H1276<0,Calc_WHDHC!I1276,2*PI()*Calc_WHDHC!G1276/60*Calc_WHDHC!H1276/1000*IF(Input!$B$4=\"Other\",0.95*0.95,0.98*0.95)),3)","v":-14.483000000000001}]
[1271,null,{"$f":"Calc_WHDHC!G1277","v":1215},null,null,{"$f":"ROUND(IF(Calc_WHDHC!H1277<0,Calc_WHDHC!I1277*IF(Input!$B$4=\"Other\",0.95*0.95,0.98*0.95),2*PI()*Calc_WHDHC!G1277/60*Calc_WHDHC!H1277/1000),3)","v":-15.417999999999999},null,null,1271,null,"-",null,null,{"$f":"Calc_WHDHC!J1277/3.6/(2*Input!$B$5*PI())*60","v":168.04303229379136},null,null,{"$f":"ROUND(IF(Calc_WHDHC!H1277<0,Calc_WHDHC!I1277,2*PI()*Calc_WHDHC!G1277/60*Calc_WHDHC!H1277/1000*IF(Input!$B$4=\"Other\",0.95*0.95,0.98*0.95)),3)","v":-16.561}]
[1272,null,{"$f":"Calc_WHDHC!G1278","v":1194},null,null,{"$f":"ROUND(IF(Calc_WHDHC!H1278<0,Calc_WHDHC!I1278*IF(Input!$B$4=\"Other\",0.95*0.95,0.98*0.95),2*PI()*Calc_WHDHC!G1278/60*Calc_WHDHC!H1278/1000),3)","v":-14.957000000000001},null,null,1272,null,"-",null,null,{"$f":"Calc_WHDHC!J1278/3.6/(2*Input!$B$5*PI())*60","v":165.13571339597493},null,null,{"$f":"ROUND(IF(Calc_WHDHC!H1278<0,Calc_WHDHC!I1278,2*PI()*Calc_WHDHC!G1278/60*Calc_WHDHC!H1278/1000*IF(Input!$B$4=\"Other\",0.95*0.95,0.98*0.95)),3)","v":-16.065000000000001}]
[1273,null,{"$f":"Calc_WHDHC!G1279","v":1173},null,null,{"$f":"ROUND(IF(Calc_WHDHC!H1279<0,Calc_WHDHC!I1279*IF(Input!$B$4=\"Other\",0.95*0.95,0.98*0.95),2*PI()*Calc_WHDHC!G1279/60*Calc_WHDHC!H1279/1000),3)","v":-12.531000000000001},null,null,1273,null,"-",null,null,{"$f":"Calc_WHDHC!J1279/3.6/(2*Input!$B$5*PI())*60","v":162.25608324956627},null,null,{"$f":"ROUND(IF(Calc_WHDHC!H1279<0,Calc_WHDHC!I1279,2*PI()*Calc_WHDHC!G1279/60*Calc_WHDHC!H1279/1000*IF(Input!$B$4=\"Other\",0.95*0.95,0.98*0.95)),3)","v":-13.46}]
[1274,null,{"$f":"Calc_WHDHC!G1280","v":1154},null,null,{"$f":"ROUND(IF(Calc_WHDHC!H1280<0,Calc_WHDHC!I1280*IF(Input!$B$4=\"Other\",0.95*0.95,0.98*0.95),2*PI()*Calc_WHDHC!G1280/60*Calc_WHDHC!H1280/1000),3)","v":-9.3840000000000003},null,null,1274,null,"-",null,null,{"$f":"Calc_WHDHC!J1280/3.6/(2*Input!$B$5*PI())*60","v":159.59796311441974},null,null,{"$f":"ROUND(IF(Calc_WHDHC!H1280<0,Calc_WHDHC!I1280,2*PI()*Calc_WHDHC!G1280/60*Calc_WHDHC!H1280/1000*IF(Input!$B$4=\"Other\",0.95*0.95,0.98*0.95)),3)","v":-10.08}]
[1275,null,{"$f":"Calc_WHDHC!G1281","v":1136},null,null,{"$f":"ROUND(IF(Calc_WHDHC!H1281<0,Calc_WHDHC!I1281*IF(Input!$B$4=\"Other\",0.95*0.95,0.98*0.95),2*PI()*Calc_WHDHC!G1281/60*Calc_WHDHC!H1281/1000),3)","v":-9.0549999999999997},null,null,1275,null,"-",null,null,{"$f":"Calc_WHDHC!J1281/3.6/(2*Input!$B$5*PI())*60","v":157.2444192447588},null,null,{"$f":"ROUND(IF(Calc_WHDHC!H1281<0,Calc_WHDHC!I1281,2*PI()*Calc_WHDHC!G1281/60*Calc_WHDHC!H1281/1000*IF(Input!$B$4=\"Other\",0.95*0.95,0.98*0.95)),3)","v":-9.7260000000000009}]
[1276,null,{"$f":"Calc_WHDHC!G1282","v":1119},null,null,{"$f":"ROUND(IF(Calc_WHDHC!H1282<0,Calc_WHDHC!I1282*IF(Input!$B$4=\"Other\",0.95*0.95,0.98*0.95),2*PI()*Calc_WHDHC!G1282/60*Calc_WHDHC!H1282/1000),3)","v":-9.4969999999999999},null,null,1276,null,"-",null,null,{"$f":"Calc_WHDHC!J1282/3.6/(2*Input!$B$5*PI())*60","v":154.91856412650569},null,null,{"$f":"ROUND(IF(Calc_WHDHC!H1282<0,Calc_WHDHC!I1282,2*PI()*Calc_WHDHC!G1282/60*Calc_WHDHC!H1282/1000*IF(Input!$B$4=\"Other\",0.95*0.95,0.98*0.95)),3)","v":-10.201000000000001}]
[1277,null,{"$f":"Calc_WHDHC!G1283","v":1101},null,null,{"$f":"ROUND(IF(Calc_WHDHC!H1283<0,Calc_WHDHC!I1283*IF(Input!$B$4=\"Other\",0.95*0.95,0.98*0.95),2*PI()*Calc_WHDHC!G1283/60*Calc_WHDHC!H1283/1000),3)","v":-10.209},null,null,1277,null,"-",null,null,{"$f":"Calc_WHDHC!J1283/3.6/(2*Input!$B$5*PI())*60","v":152.53733150543692},null,null,{"$f":"ROUND(IF(Calc_WHDHC!H1283<0,Calc_WHDHC!I1283,2*PI()*Calc_WHDHC!G1283/60*Calc_WHDHC!H1283/1000*IF(Input!$B$4=\"Other\",0.95*0.95,0.98*0.95)),3)","v":-10.965999999999999}]
[1278,null,{"$f":"Calc_WHDHC!G1284","v":1083},null,null,{"$f":"ROUND(IF(Calc_WHDHC!H1284<0,Calc_WHDHC!I1284*IF(Input!$B$4=\"Other\",0.95*0.95,0.98*0.95),2*PI()*Calc_WHDHC!G1284/60*Calc_WHDHC!H1284/1000),3)","v":-9.5920000000000005},null,null,1278,null,"-",null,null,{"$f":"Calc_WHDHC!J1284/3.6/(2*Input!$B$5*PI())*60","v":150.07303263014487},null,null,{"$f":"ROUND(IF(Calc_WHDHC!H1284<0,Calc_WHDHC!I1284,2*PI()*Calc_WHDHC!G1284/60*Calc_WHDHC!H1284/1000*IF(Input!$B$4=\"Other\",0.95*0.95,0.98*0.95)),3)","v":-10.303000000000001}]
[1279,null,{"$f":"Calc_WHDHC!G1285","v":1066},null,null,{"$f":"ROUND(IF(Calc_WHDHC!H1285<0,Calc_WHDHC!I1285*IF(Input!$B$4=\"Other\",0.95*0.95,0.98*0.95),2*PI()*Calc_WHDHC!G1285/60*Calc_WHDHC!H1285/1000),3)","v":-7.9740000000000002},null,null,1279,null,"-",null,null,{"$f":"Calc_WHDHC!J1285/3.6/(2*Input!$B$5*PI())*60","v":147.66411125766837},null,null,{"$f":"ROUND(IF(Calc_WHDHC!H1285<0,Calc_WHDHC!I1285,2*PI()*Calc_WHDHC!G1285/60*Calc_WHDHC!H1285/1000*IF(Input!$B$4=\"Other\",0.95*0.95,0.98*0.95)),3)","v":-8.5649999999999995}]
[1280,null,{"$f":"Calc_WHDHC!G1286","v":1050},null,null,{"$f":"ROUND(IF(Calc_WHDHC!H1286<0,Calc_WHDHC!I1286*IF(Input!$B$4=\"Other\",0.95*0.95,0.98*0.95),2*PI()*Calc_WHDHC!G1286/60*Calc_WHDHC!H1286/1000),3)","v":-6.9050000000000002},null,null,1280,null,"-",null,null,{"$f":"Calc_WHDHC!J1286/3.6/(2*Input!$B$5*PI())*60","v":145.42132239363855},null,null,{"$f":"ROUND(IF(Calc_WHDHC!H1286<0,Calc_WHDHC!I1286,2*PI()*Calc_WHDHC!G1286/60*Calc_WHDHC!H1286/1000*IF(Input!$B$4=\"Other\",0.95*0.95,0.98*0.95)),3)","v":-7.4169999999999998}]
[1281,null,{"$f":"Calc_WHDHC!G1287","v":1034},null,null,{"$f":"ROUND(IF(Calc_WHDHC!H1287<0,Calc_WHDHC!I1287*IF(Input!$B$4=\"Other\",0.95*0.95,0.98*0.95),2*PI()*Calc_WHDHC!G1287/60*Calc_WHDHC!H1287/1000),3)","v":-8.3079999999999998},null,null,1281,null,"-",null,null,{"$f":"Calc_WHDHC!J1287/3.6/(2*Input!$B$5*PI())*60","v":143.28928853523982},null,null,{"$f":"ROUND(IF(Calc_WHDHC!H1287<0,Calc_WHDHC!I1287,2*PI()*Calc_WHDHC!G1287/60*Calc_WHDHC!H1287/1000*IF(Input!$B$4=\"Other\",0.95*0.95,0.98*0.95)),3)","v":-8.9239999999999995}]
[1282,null,{"$f":"Calc_WHDHC!G1288","v":1017},null,null,{"$f":"ROUND(IF(Calc_WHDHC!H1288<0,Calc_WHDHC!I1288*IF(Input!$B$4=\"Other\",0.95*0.95,0.98*0.95),2*PI()*Calc_WHDHC!G1288/60*Calc_WHDHC!H1288/1000),3)","v":-12.773999999999999},null,null,1282,null,"-",null,null,{"$f":"Calc_WHDHC!J1288/3.6/(2*Input!$B$5*PI())*60","v":140.99112216839441},null,null,{"$f":"ROUND(IF(Calc_WHDHC!H1288<0,Calc_WHDHC!I1288,2*PI()*Calc_WHDHC!G1288/60*Calc_WHDHC!H1288/1000*IF(Input!$B$4=\"Other\",0.95*0.95,0.98*0.95)),3)","v":-13.721}]
[1283,null,{"$f":"Calc_WHDHC!G1289","v":996},null,null,{"$f":"ROUND(IF(Calc_WHDHC!H1289<0,Calc_WHDHC!I1289*IF(Input!$B$4=\"Other\",0.95*0.95,0.98*0.95),2*PI()*Calc_WHDHC!G1289/60*Calc_WHDHC!H1289/1000),3)","v":-17.321000000000002},null,null,1283,null,"-",null,null,{"$f":"Calc_WHDHC!J1289/3.6/(2*Input!$B$5*PI())*60","v":138.16686952480129},null,null,{"$f":"ROUND(IF(Calc_WHDHC!H1289<0,Calc_WHDHC!I1289,2*PI()*Calc_WHDHC!G1289/60*Calc_WHDHC!H1289/1000*IF(Input!$B$4=\"Other\",0.95*0.95,0.98*0.95)),3)","v":-18.605}]
[1284,null,{"$f":"Calc_WHDHC!G1290","v":971},null,null,{"$f":"ROUND(IF(Calc_WHDHC!H1290<0,Calc_WHDHC!I1290*IF(Input!$B$4=\"Other\",0.95*0.95,0.98*0.95),2*PI()*Calc_WHDHC!G1290/60*Calc_WHDHC!H1290/1000),3)","v":-18.074000000000002},null,null,1284,null,"-",null,null,{"$f":"Calc_WHDHC!J1290/3.6/(2*Input!$B$5*PI())*60","v":134.78884185305265},null,null,{"$f":"ROUND(IF(Calc_WHDHC!H1290<0,Calc_WHDHC!I1290,2*PI()*Calc_WHDHC!G1290/60*Calc_WHDHC!H1290/1000*IF(Input!$B$4=\"Other\",0.95*0.95,0.98*0.95)),3)","v":-19.414000000000001}]
[1285,null,{"$f":"Calc_WHDHC!G1291","v":946},null,null,{"$f":"ROUND(IF(Calc_WHDHC!H1291<0,Calc_WHDHC!I1291*IF(Input!$B$4=\"Other\",0.95*0.95,0.98*0.95),2*PI()*Calc_WHDHC!G1291/60*Calc_WHDHC!H1291/1000),3)","v":-9.5370000000000008},null,null,1285,null,"-",null,null,{"$f":"Calc_WHDHC!J1291/3.6/(2*Input!$B$5*PI())*60","v":131.27237042426509},null,null,{"$f":"ROUND(IF(Calc_WHDHC!H1291<0,Calc_WHDHC!I1291,2*PI()*Calc_WHDHC!G1291/60*Calc_WHDHC!H1291/1000*IF(Input!$B$4=\"Other\",0.95*0.95,0.98*0.95)),3)","v":-10.244}]
[1286,null,{"$f":"Calc_WHDHC!G1292","v":1132},null,null,{"$f":"ROUND(IF(Calc_WHDHC!H1292<0,Calc_WHDHC!I1292*IF(Input!$B$4=\"Other\",0.95*0.95,0.98*0.95),2*PI()*Calc_WHDHC!G1292/60*Calc_WHDHC!H1292/1000),3)","v":0},null,null,1286,null,"-",null,null,{"$f":"Calc_WHDHC!J1292/3.6/(2*Input!$B$5*PI())*60","v":128.7526940461575},null,null,{"$f":"ROUND(IF(Calc_WHDHC!H1292<0,Calc_WHDHC!I1292,2*PI()*Calc_WHDHC!G1292/60*Calc_WHDHC!H1292/1000*IF(Input!$B$4=\"Other\",0.95*0.95,0.98*0.95)),3)","v":0}]
[1287,null,{"$f":"Calc_WHDHC!G1293","v":1318},null,null,{"$f":"ROUND(IF(Calc_WHDHC!H1293<0,Calc_WHDHC!I1293*IF(Input!$B$4=\"Other\",0.95*0.95,0.98*0.95),2*PI()*Calc_WHDHC!G1293/60*Calc_WHDHC!H1293/1000),3)","v":95.372},null,null,1287,null,"-",null,null,{"$f":"Calc_WHDHC!J1293/3.6/(2*Input!$B$5*PI())*60","v":127.97740900673979},null,null,{"$f":"ROUND(IF(Calc_WHDHC!H1293<0,Calc_WHDHC!I1293,2*PI()*Calc_WHDHC!G1293/60*Calc_WHDHC!H1293/1000*IF(Input!$B$4=\"Other\",0.95*0.95,0.98*0.95)),3)","v":88.792000000000002}]
[1288,null,{"$f":"Calc_WHDHC!G1294","v":1351},null,null,{"$f":"ROUND(IF(Calc_WHDHC!H1294<0,Calc_WHDHC!I1294*IF(Input!$B$4=\"Other\",0.95*0.95,0.98*0.95),2*PI()*Calc_WHDHC!G1294/60*Calc_WHDHC!H1294/1000),3)","v":194.95400000000001},null,null,1288,null,"-",null,null,{"$f":"Calc_WHDHC!J1294/3.6/(2*Input!$B$5*PI())*60","v":128.58656153771085},null,null,{"$f":"ROUND(IF(Calc_WHDHC!H1294<0,Calc_WHDHC!I1294,2*PI()*Calc_WHDHC!G1294/60*Calc_WHDHC!H1294/1000*IF(Input!$B$4=\"Other\",0.95*0.95,0.98*0.95)),3)","v":181.50299999999999}]
[1289,null,{"$f":"Calc_WHDHC!G1295","v":1377},null,null,{"$f":"ROUND(IF(Calc_WHDHC!H1295<0,Calc_WHDHC!I1295*IF(Input!$B$4=\"Other\",0.95*0.95,0.98*0.95),2*PI()*Calc_WHDHC!G1295/60*Calc_WHDHC!H1295/1000),3)","v":230.57400000000001},null,null,1289,null,"-",null,null,{"$f":"Calc_WHDHC!J1295/3.6/(2*Input!$B$5*PI())*60","v":131.10623791581847},null,null,{"$f":"ROUND(IF(Calc_WHDHC!H1295<0,Calc_WHDHC!I1295,2*PI()*Calc_WHDHC!G1295/60*Calc_WHDHC!H1295/1000*IF(Input!$B$4=\"Other\",0.95*0.95,0.98*0.95)),3)","v":214.66499999999999}]
[1290,null,{"$f":"Calc_WHDHC!G1296","v":1426},null,null,{"$f":"ROUND(IF(Calc_WHDHC!H1296<0,Calc_WHDHC!I1296*IF(Input!$B$4=\"Other\",0.95*0.95,0.98*0.95),2*PI()*Calc_WHDHC!G1296/60*Calc_WHDHC!H1296/1000),3)","v":229.07300000000001},null,null,1290,null,"-",null,null,{"$f":"Calc_WHDHC!J1296/3.6/(2*Input!$B$5*PI())*60","v":135.70257064950923},null,null,{"$f":"ROUND(IF(Calc_WHDHC!H1296<0,Calc_WHDHC!I1296,2*PI()*Calc_WHDHC!G1296/60*Calc_WHDHC!H1296/1000*IF(Input!$B$4=\"Other\",0.95*0.95,0.98*0.95)),3)","v":213.267}]
[1291,null,{"$f":"Calc_WHDHC!G1297","v":1483},null,null,{"$f":"ROUND(IF(Calc_WHDHC!H1297<0,Calc_WHDHC!I1297*IF(Input!$B$4=\"Other\",0.95*0.95,0.98*0.95),2*PI()*Calc_WHDHC!G1297/60*Calc_WHDHC!H1297/1000),3)","v":251.43},null,null,1291,null,"-",null,null,{"$f":"Calc_WHDHC!J1297/3.6/(2*Input!$B$5*PI())*60","v":141.01881091980221},null,null,{"$f":"ROUND(IF(Calc_WHDHC!H1297<0,Calc_WHDHC!I1297,2*PI()*Calc_WHDHC!G1297/60*Calc_WHDHC!H1297/1000*IF(Input!$B$4=\"Other\",0.95*0.95,0.98*0.95)),3)","v":234.08099999999999}]
[1292,null,{"$f":"Calc_WHDHC!G1298","v":1539},null,null,{"$f":"ROUND(IF(Calc_WHDHC!H1298<0,Calc_WHDHC!I1298*IF(Input!$B$4=\"Other\",0.95*0.95,0.98*0.95),2*PI()*Calc_WHDHC!G1298/60*Calc_WHDHC!H1298/1000),3)","v":261.08499999999998},null,null,1292,null,"-",null,null,{"$f":"Calc_WHDHC!J1298/3.6/(2*Input!$B$5*PI())*60","v":146.16891868164848},null,null,{"$f":"ROUND(IF(Calc_WHDHC!H1298<0,Calc_WHDHC!I1298,2*PI()*Calc_WHDHC!G1298/60*Calc_WHDHC!H1298/1000*IF(Input!$B$4=\"Other\",0.95*0.95,0.98*0.95)),3)","v":243.07}]
[1293,null,{"$f":"Calc_WHDHC!G1299","v":1594},null,null,{"$f":"ROUND(IF(Calc_WHDHC!H1299<0,Calc_WHDHC!I1299*IF(Input!$B$4=\"Other\",0.95*0.95,0.98*0.95),2*PI()*Calc_WHDHC!G1299/60*Calc_WHDHC!H1299/1000),3)","v":269.41399999999999},null,null,1293,null,"-",null,null,{"$f":"Calc_WHDHC!J1299/3.6/(2*Input!$B$5*PI())*60","v":151.34671519490254},null,null,{"$f":"ROUND(IF(Calc_WHDHC!H1299<0,Calc_WHDHC!I1299,2*PI()*Calc_WHDHC!G1299/60*Calc_WHDHC!H1299/1000*IF(Input!$B$4=\"Other\",0.95*0.95,0.98*0.95)),3)","v":250.82499999999999}]
[1294,null,{"$f":"Calc_WHDHC!G1300","v":1651},null,null,{"$f":"ROUND(IF(Calc_WHDHC!H1300<0,Calc_WHDHC!I1300*IF(Input!$B$4=\"Other\",0.95*0.95,0.98*0.95),2*PI()*Calc_WHDHC!G1300/60*Calc_WHDHC!H1300/1000),3)","v":279.91300000000001},null,null,1294,null,"-",null,null,{"$f":"Calc_WHDHC!J1300/3.6/(2*Input!$B$5*PI())*60","v":156.71833296801108},null,null,{"$f":"ROUND(IF(Calc_WHDHC!H1300<0,Calc_WHDHC!I1300,2*PI()*Calc_WHDHC!G1300/60*Calc_WHDHC!H1300/1000*IF(Input!$B$4=\"Other\",0.95*0.95,0.98*0.95)),3)","v":260.59899999999999}]
[1295,null,{"$f":"Calc_WHDHC!G1301","v":1709},null,null,{"$f":"ROUND(IF(Calc_WHDHC!H1301<0,Calc_WHDHC!I1301*IF(Input!$B$4=\"Other\",0.95*0.95,0.98*0.95),2*PI()*Calc_WHDHC!G1301/60*Calc_WHDHC!H1301/1000),3)","v":292.25200000000001},null,null,1295,null,"-",null,null,{"$f":"Calc_WHDHC!J1301/3.6/(2*Input!$B$5*PI())*60","v":162.11763949252736},null,null,{"$f":"ROUND(IF(Calc_WHDHC!H1301<0,Calc_WHDHC!I1301,2*PI()*Calc_WHDHC!G1301/60*Calc_WHDHC!H1301/1000*IF(Input!$B$4=\"Other\",0.95*0.95,0.98*0.95)),3)","v":272.08600000000001}]
[1296,null,{"$f":"Calc_WHDHC!G1302","v":1764},null,null,{"$f":"ROUND(IF(Calc_WHDHC!H1302<0,Calc_WHDHC!I1302*IF(Input!$B$4=\"Other\",0.95*0.95,0.98*0.95),2*PI()*Calc_WHDHC!G1302/60*Calc_WHDHC!H1302/1000),3)","v":297.22399999999999},null,null,1296,null,"-",null,null,{"$f":"Calc_WHDHC!J1302/3.6/(2*Input!$B$5*PI())*60","v":167.43387976282031},null,null,{"$f":"ROUND(IF(Calc_WHDHC!H1302<0,Calc_WHDHC!I1302,2*PI()*Calc_WHDHC!G1302/60*Calc_WHDHC!H1302/1000*IF(Input!$B$4=\"Other\",0.95*0.95,0.98*0.95)),3)","v":276.71499999999997}]
[1297,null,{"$f":"Calc_WHDHC!G1303","v":1819},null,null,{"$f":"ROUND(IF(Calc_WHDHC!H1303<0,Calc_WHDHC!I1303*IF(Input!$B$4=\"Other\",0.95*0.95,0.98*0.95),2*PI()*Calc_WHDHC!G1303/60*Calc_WHDHC!H1303/1000),3)","v":150.483},null,null,1297,null,"-",null,null,{"$f":"Calc_WHDHC!J1303/3.6/(2*Input!$B$5*PI())*60","v":172.44554376762773},null,null,{"$f":"ROUND(IF(Calc_WHDHC!H1303<0,Calc_WHDHC!I1303,2*PI()*Calc_WHDHC!G1303/60*Calc_WHDHC!H1303/1000*IF(Input!$B$4=\"Other\",0.95*0.95,0.98*0.95)),3)","v":140.1}]
[1298,null,{"$f":"Calc_WHDHC!G1304","v":1630},null,null,{"$f":"ROUND(IF(Calc_WHDHC!H1304<0,Calc_WHDHC!I1304*IF(Input!$B$4=\"Other\",0.95*0.95,0.98*0.95),2*PI()*Calc_WHDHC!G1304/60*Calc_WHDHC!H1304/1000),3)","v":0},null,null,1298,null,"-",null,null,{"$f":"Calc_WHDHC!J1304/3.6/(2*Input!$B$5*PI())*60","v":176.93112149568742},null,null,{"$f":"ROUND(IF(Calc_WHDHC!H1304<0,Calc_WHDHC!I1304,2*PI()*Calc_WHDHC!G1304/60*Calc_WHDHC!H1304/1000*IF(Input!$B$4=\"Other\",0.95*0.95,0.98*0.95)),3)","v":0}]
[1299,null,{"$f":"Calc_WHDHC!G1305","v":1440},null,null,{"$f":"ROUND(IF(Calc_WHDHC!H1305<0,Calc_WHDHC!I1305*IF(Input!$B$4=\"Other\",0.95*0.95,0.98*0.95),2*PI()*Calc_WHDHC!G1305/60*Calc_WHDHC!H1305/1000),3)","v":119.431},null,null,1299,null,"-",null,null,{"$f":"Calc_WHDHC!J1305/3.6/(2*Input!$B$5*PI())*60","v":180.53065917869827},null,null,{"$f":"ROUND(IF(Calc_WHDHC!H1305<0,Calc_WHDHC!I1305,2*PI()*Calc_WHDHC!G1305/60*Calc_WHDHC!H1305/1000*IF(Input!$B$4=\"Other\",0.95*0.95,0.98*0.95)),3)","v":111.19}]
[1300,null,{"$f":"Calc_WHDHC!G1306","v":1457},null,null,{"$f":"ROUND(IF(Calc_WHDHC!H1306<0,Calc_WHDHC!I1306*IF(Input!$B$4=\"Other\",0.95*0.95,0.98*0.95),2*PI()*Calc_WHDHC!G1306/60*Calc_WHDHC!H1306/1000),3)","v":237.25700000000001},null,null,1300,null,"-",null,null,{"$f":"Calc_WHDHC!J1306/3.6/(2*Input!$B$5*PI())*60","v":182.80113679413591},null,null,{"$f":"ROUND(IF(Calc_WHDHC!H1306<0,Calc_WHDHC!I1306,2*PI()*Calc_WHDHC!G1306/60*Calc_WHDHC!H1306/1000*IF(Input!$B$4=\"Other\",0.95*0.95,0.98*0.95)),3)","v":220.886}]
[1301,null,{"$f":"Calc_WHDHC!G1307","v":1463},null,null,{"$f":"ROUND(IF(Calc_WHDHC!H1307<0,Calc_WHDHC!I1307*IF(Input!$B$4=\"Other\",0.95*0.95,0.98*0.95),2*PI()*Calc_WHDHC!G1307/60*Calc_WHDHC!H1307/1000),3)","v":253.554},null,null,1301,null,"-",null,null,{"$f":"Calc_WHDHC!J1307/3.6/(2*Input!$B$5*PI())*60","v":183.82562059622359},null,null,{"$f":"ROUND(IF(Calc_WHDHC!H1307<0,Calc_WHDHC!I1307,2*PI()*Calc_WHDHC!G1307/60*Calc_WHDHC!H1307/1000*IF(Input!$B$4=\"Other\",0.95*0.95,0.98*0.95)),3)","v":236.059}]
[1302,null,{"$f":"Calc_WHDHC!G1308","v":1471},null,null,{"$f":"ROUND(IF(Calc_WHDHC!H1308<0,Calc_WHDHC!I1308*IF(Input!$B$4=\"Other\",0.95*0.95,0.98*0.95),2*PI()*Calc_WHDHC!G1308/60*Calc_WHDHC!H1308/1000),3)","v":270.03699999999998},null,null,1302,null,"-",null,null,{"$f":"Calc_WHDHC!J1308/3.6/(2*Input!$B$5*PI())*60","v":184.79472689549573},null,null,{"$f":"ROUND(IF(Calc_WHDHC!H1308<0,Calc_WHDHC!I1308,2*PI()*Calc_WHDHC!G1308/60*Calc_WHDHC!H1308/1000*IF(Input!$B$4=\"Other\",0.95*0.95,0.98*0.95)),3)","v":251.404}]
[1303,null,{"$f":"Calc_WHDHC!G1309","v":1484},null,null,{"$f":"ROUND(IF(Calc_WHDHC!H1309<0,Calc_WHDHC!I1309*IF(Input!$B$4=\"Other\",0.95*0.95,0.98*0.95),2*PI()*Calc_WHDHC!G1309/60*Calc_WHDHC!H1309/1000),3)","v":270.24799999999999},null,null,1303,null,"-",null,null,{"$f":"Calc_WHDHC!J1309/3.6/(2*Input!$B$5*PI())*60","v":186.7052507426323},null,null,{"$f":"ROUND(IF(Calc_WHDHC!H1309<0,Calc_WHDHC!I1309,2*PI()*Calc_WHDHC!G1309/60*Calc_WHDHC!H1309/1000*IF(Input!$B$4=\"Other\",0.95*0.95,0.98*0.95)),3)","v":251.601}]
[1304,null,{"$f":"Calc_WHDHC!G1310","v":1506},null,null,{"$f":"ROUND(IF(Calc_WHDHC!H1310<0,Calc_WHDHC!I1310*IF(Input!$B$4=\"Other\",0.95*0.95,0.98*0.95),2*PI()*Calc_WHDHC!G1310/60*Calc_WHDHC!H1310/1000),3)","v":274.096},null,null,1304,null,"-",null,null,{"$f":"Calc_WHDHC!J1310/3.6/(2*Input!$B$5*PI())*60","v":189.50181463481763},null,null,{"$f":"ROUND(IF(Calc_WHDHC!H1310<0,Calc_WHDHC!I1310,2*PI()*Calc_WHDHC!G1310/60*Calc_WHDHC!H1310/1000*IF(Input!$B$4=\"Other\",0.95*0.95,0.98*0.95)),3)","v":255.184}]
[1305,null,{"$f":"Calc_WHDHC!G1311","v":1528},null,null,{"$f":"ROUND(IF(Calc_WHDHC!H1311<0,Calc_WHDHC!I1311*IF(Input!$B$4=\"Other\",0.95*0.95,0.98*0.95),2*PI()*Calc_WHDHC!G1311/60*Calc_WHDHC!H1311/1000),3)","v":276.33999999999997},null,null,1305,null,"-",null,null,{"$f":"Calc_WHDHC!J1311/3.6/(2*Input!$B$5*PI())*60","v":192.49219978685741},null,null,{"$f":"ROUND(IF(Calc_WHDHC!H1311<0,Calc_WHDHC!I1311,2*PI()*Calc_WHDHC!G1311/60*Calc_WHDHC!H1311/1000*IF(Input!$B$4=\"Other\",0.95*0.95,0.98*0.95)),3)","v":257.27300000000002}]
[1306,null,{"$f":"Calc_WHDHC!G1312","v":1548},null,null,{"$f":"ROUND(IF(Calc_WHDHC!H1312<0,Calc_WHDHC!I1312*IF(Input!$B$4=\"Other\",0.95*0.95,0.98*0.95),2*PI()*Calc_WHDHC!G1312/60*Calc_WHDHC!H1312/1000),3)","v":278.33600000000001},null,null,1306,null,"-",null,null,{"$f":"Calc_WHDHC!J1312/3.6/(2*Input!$B$5*PI())*60","v":195.28876367904277},null,null,{"$f":"ROUND(IF(Calc_WHDHC!H1312<0,Calc_WHDHC!I1312,2*PI()*Calc_WHDHC!G1312/60*Calc_WHDHC!H1312/1000*IF(Input!$B$4=\"Other\",0.95*0.95,0.98*0.95)),3)","v":259.13099999999997}]
[1307,null,{"$f":"Calc_WHDHC!G1313","v":1568},null,null,{"$f":"ROUND(IF(Calc_WHDHC!H1313<0,Calc_WHDHC!I1313*IF(Input!$B$4=\"Other\",0.95*0.95,0.98*0.95),2*PI()*Calc_WHDHC!G1313/60*Calc_WHDHC!H1313/1000),3)","v":138.42099999999999},null,null,1307,null,"-",null,null,{"$f":"Calc_WHDHC!J1313/3.6/(2*Input!$B$5*PI())*60","v":197.89150631137369},null,null,{"$f":"ROUND(IF(Calc_WHDHC!H1313<0,Calc_WHDHC!I1313,2*PI()*Calc_WHDHC!G1313/60*Calc_WHDHC!H1313/1000*IF(Input!$B$4=\"Other\",0.95*0.95,0.98*0.95)),3)","v":128.87}]
[1308,null,{"$f":"Calc_WHDHC!G1314","v":1396},null,null,{"$f":"ROUND(IF(Calc_WHDHC!H1314<0,Calc_WHDHC!I1314*IF(Input!$B$4=\"Other\",0.95*0.95,0.98*0.95),2*PI()*Calc_WHDHC!G1314/60*Calc_WHDHC!H1314/1000),3)","v":0},null,null,1308,null,"-",null,null,{"$f":"Calc_WHDHC!J1314/3.6/(2*Input!$B$5*PI())*60","v":200.24505018103463},null,null,{"$f":"ROUND(IF(Calc_WHDHC!H1314<0,Calc_WHDHC!I1314,2*PI()*Calc_WHDHC!G1314/60*Calc_WHDHC!H1314/1000*IF(Input!$B$4=\"Other\",0.95*0.95,0.98*0.95)),3)","v":0}]
[1309,null,{"$f":"Calc_WHDHC!G1315","v":1226},null,null,{"$f":"ROUND(IF(Calc_WHDHC!H1315<0,Calc_WHDHC!I1315*IF(Input!$B$4=\"Other\",0.95*0.95,0.98*0.95),2*PI()*Calc_WHDHC!G1315/60*Calc_WHDHC!H1315/1000),3)","v":57.26},null,null,1309,null,"-",null,null,{"$f":"Calc_WHDHC!J1315/3.6/(2*Input!$B$5*PI())*60","v":201.8233090112779},null,null,{"$f":"ROUND(IF(Calc_WHDHC!H1315<0,Calc_WHDHC!I1315,2*PI()*Calc_WHDHC!G1315/60*Calc_WHDHC!H1315/1000*IF(Input!$B$4=\"Other\",0.95*0.95,0.98*0.95)),3)","v":53.308999999999997}]
[1310,null,{"$f":"Calc_WHDHC!G1316","v":1228},null,null,{"$f":"ROUND(IF(Calc_WHDHC!H1316<0,Calc_WHDHC!I1316*IF(Input!$B$4=\"Other\",0.95*0.95,0.98*0.95),2*PI()*Calc_WHDHC!G1316/60*Calc_WHDHC!H1316/1000),3)","v":114.45},null,null,1310,null,"-",null,null,{"$f":"Calc_WHDHC!J1316/3.6/(2*Input!$B$5*PI())*60","v":202.32170653661782},null,null,{"$f":"ROUND(IF(Calc_WHDHC!H1316<0,Calc_WHDHC!I1316,2*PI()*Calc_WHDHC!G1316/60*Calc_WHDHC!H1316/1000*IF(Input!$B$4=\"Other\",0.95*0.95,0.98*0.95)),3)","v":106.553}]
[1311,null,{"$f":"Calc_WHDHC!G1317","v":1228},null,null,{"$f":"ROUND(IF(Calc_WHDHC!H1317<0,Calc_WHDHC!I1317*IF(Input!$B$4=\"Other\",0.95*0.95,0.98*0.95),2*PI()*Calc_WHDHC!G1317/60*Calc_WHDHC!H1317/1000),3)","v":145.31299999999999},null,null,1311,null,"-",null,null,{"$f":"Calc_WHDHC!J1317/3.6/(2*Input!$B$5*PI())*60","v":202.21095153098673},null,null,{"$f":"ROUND(IF(Calc_WHDHC!H1317<0,Calc_WHDHC!I1317,2*PI()*Calc_WHDHC!G1317/60*Calc_WHDHC!H1317/1000*IF(Input!$B$4=\"Other\",0.95*0.95,0.98*0.95)),3)","v":135.28700000000001}]
[1312,null,{"$f":"Calc_WHDHC!G1318","v":1226},null,null,{"$f":"ROUND(IF(Calc_WHDHC!H1318<0,Calc_WHDHC!I1318*IF(Input!$B$4=\"Other\",0.95*0.95,0.98*0.95),2*PI()*Calc_WHDHC!G1318/60*Calc_WHDHC!H1318/1000),3)","v":243.292},null,null,1312,null,"-",null,null,{"$f":"Calc_WHDHC!J1318/3.6/(2*Input!$B$5*PI())*60","v":201.96175276831673},null,null,{"$f":"ROUND(IF(Calc_WHDHC!H1318<0,Calc_WHDHC!I1318,2*PI()*Calc_WHDHC!G1318/60*Calc_WHDHC!H1318/1000*IF(Input!$B$4=\"Other\",0.95*0.95,0.98*0.95)),3)","v":226.505}]
[1313,null,{"$f":"Calc_WHDHC!G1319","v":1227},null,null,{"$f":"ROUND(IF(Calc_WHDHC!H1319<0,Calc_WHDHC!I1319*IF(Input!$B$4=\"Other\",0.95*0.95,0.98*0.95),2*PI()*Calc_WHDHC!G1319/60*Calc_WHDHC!H1319/1000),3)","v":262.50700000000001},null,null,1313,null,"-",null,null,{"$f":"Calc_WHDHC!J1319/3.6/(2*Input!$B$5*PI())*60","v":202.1555740281712},null,null,{"$f":"ROUND(IF(Calc_WHDHC!H1319<0,Calc_WHDHC!I1319,2*PI()*Calc_WHDHC!G1319/60*Calc_WHDHC!H1319/1000*IF(Input!$B$4=\"Other\",0.95*0.95,0.98*0.95)),3)","v":244.39400000000001}]
[1314,null,{"$f":"Calc_WHDHC!G1320","v":1234},null,null,{"$f":"ROUND(IF(Calc_WHDHC!H1320<0,Calc_WHDHC!I1320*IF(Input!$B$4=\"Other\",0.95*0.95,0.98*0.95),2*PI()*Calc_WHDHC!G1320/60*Calc_WHDHC!H1320/1000),3)","v":271.88799999999998},null,null,1314,null,"-",null,null,{"$f":"Calc_WHDHC!J1320/3.6/(2*Input!$B$5*PI())*60","v":203.34619033870555},null,null,{"$f":"ROUND(IF(Calc_WHDHC!H1320<0,Calc_WHDHC!I1320,2*PI()*Calc_WHDHC!G1320/60*Calc_WHDHC!H1320/1000*IF(Input!$B$4=\"Other\",0.95*0.95,0.98*0.95)),3)","v":253.12700000000001}]
[1315,null,{"$f":"Calc_WHDHC!G1321","v":1245},null,null,{"$f":"ROUND(IF(Calc_WHDHC!H1321<0,Calc_WHDHC!I1321*IF(Input!$B$4=\"Other\",0.95*0.95,0.98*0.95),2*PI()*Calc_WHDHC!G1321/60*Calc_WHDHC!H1321/1000),3)","v":274.44200000000001},null,null,1315,null,"-",null,null,{"$f":"Calc_WHDHC!J1321/3.6/(2*Input!$B$5*PI())*60","v":205.42284669428872},null,null,{"$f":"ROUND(IF(Calc_WHDHC!H1321<0,Calc_WHDHC!I1321,2*PI()*Calc_WHDHC!G1321/60*Calc_WHDHC!H1321/1000*IF(Input!$B$4=\"Other\",0.95*0.95,0.98*0.95)),3)","v":255.505}]
[1316,null,{"$f":"Calc_WHDHC!G1322","v":1255},null,null,{"$f":"ROUND(IF(Calc_WHDHC!H1322<0,Calc_WHDHC!I1322*IF(Input!$B$4=\"Other\",0.95*0.95,0.98*0.95),2*PI()*Calc_WHDHC!G1322/60*Calc_WHDHC!H1322/1000),3)","v":276.77699999999999},null,null,1316,null,"-",null,null,{"$f":"Calc_WHDHC!J1322/3.6/(2*Input!$B$5*PI())*60","v":207.13954928157082},null,null,{"$f":"ROUND(IF(Calc_WHDHC!H1322<0,Calc_WHDHC!I1322,2*PI()*Calc_WHDHC!G1322/60*Calc_WHDHC!H1322/1000*IF(Input!$B$4=\"Other\",0.95*0.95,0.98*0.95)),3)","v":257.68}]
[1317,null,{"$f":"Calc_WHDHC!G1323","v":1257},null,null,{"$f":"ROUND(IF(Calc_WHDHC!H1323<0,Calc_WHDHC!I1323*IF(Input!$B$4=\"Other\",0.95*0.95,0.98*0.95),2*PI()*Calc_WHDHC!G1323/60*Calc_WHDHC!H1323/1000),3)","v":89.774000000000001},null,null,1317,null,"-",null,null,{"$f":"Calc_WHDHC!J1323/3.6/(2*Input!$B$5*PI())*60","v":207.69332430972634},null,null,{"$f":"ROUND(IF(Calc_WHDHC!H1323<0,Calc_WHDHC!I1323,2*PI()*Calc_WHDHC!G1323/60*Calc_WHDHC!H1323/1000*IF(Input!$B$4=\"Other\",0.95*0.95,0.98*0.95)),3)","v":83.578999999999994}]
[1318,null,{"$f":"Calc_WHDHC!G1324","v":1190},null,null,{"$f":"ROUND(IF(Calc_WHDHC!H1324<0,Calc_WHDHC!I1324*IF(Input!$B$4=\"Other\",0.95*0.95,0.98*0.95),2*PI()*Calc_WHDHC!G1324/60*Calc_WHDHC!H1324/1000),3)","v":0},null,null,1318,null,"-",null,null,{"$f":"Calc_WHDHC!J1324/3.6/(2*Input!$B$5*PI())*60","v":207.63794680691078},null,null,{"$f":"ROUND(IF(Calc_WHDHC!H1324<0,Calc_WHDHC!I1324,2*PI()*Calc_WHDHC!G1324/60*Calc_WHDHC!H1324/1000*IF(Input!$B$4=\"Other\",0.95*0.95,0.98*0.95)),3)","v":0}]
[1319,null,{"$f":"Calc_WHDHC!G1325","v":1123},null,null,{"$f":"ROUND(IF(Calc_WHDHC!H1325<0,Calc_WHDHC!I1325*IF(Input!$B$4=\"Other\",0.95*0.95,0.98*0.95),2*PI()*Calc_WHDHC!G1325/60*Calc_WHDHC!H1325/1000),3)","v":67.150000000000006},null,null,1319,null,"-",null,null,{"$f":"Calc_WHDHC!J1325/3.6/(2*Input!$B$5*PI())*60","v":207.08417177875529},null,null,{"$f":"ROUND(IF(Calc_WHDHC!H1325<0,Calc_WHDHC!I1325,2*PI()*Calc_WHDHC!G1325/60*Calc_WHDHC!H1325/1000*IF(Input!$B$4=\"Other\",0.95*0.95,0.98*0.95)),3)","v":62.515999999999998}]
[1320,null,{"$f":"Calc_WHDHC!G1326","v":1116},null,null,{"$f":"ROUND(IF(Calc_WHDHC!H1326<0,Calc_WHDHC!I1326*IF(Input!$B$4=\"Other\",0.95*0.95,0.98*0.95),2*PI()*Calc_WHDHC!G1326/60*Calc_WHDHC!H1326/1000),3)","v":130.07300000000001},null,null,1320,null,"-",null,null,{"$f":"Calc_WHDHC!J1326/3.6/(2*Input!$B$5*PI())*60","v":206.0319992252598},null,null,{"$f":"ROUND(IF(Calc_WHDHC!H1326<0,Calc_WHDHC!I1326,2*PI()*Calc_WHDHC!G1326/60*Calc_WHDHC!H1326/1000*IF(Input!$B$4=\"Other\",0.95*0.95,0.98*0.95)),3)","v":121.098}]
[1321,null,{"$f":"Calc_WHDHC!G1327","v":1112},null,null,{"$f":"ROUND(IF(Calc_WHDHC!H1327<0,Calc_WHDHC!I1327*IF(Input!$B$4=\"Other\",0.95*0.95,0.98*0.95),2*PI()*Calc_WHDHC!G1327/60*Calc_WHDHC!H1327/1000),3)","v":107.715},null,null,1321,null,"-",null,null,{"$f":"Calc_WHDHC!J1327/3.6/(2*Input!$B$5*PI())*60","v":205.09058167739542},null,null,{"$f":"ROUND(IF(Calc_WHDHC!H1327<0,Calc_WHDHC!I1327,2*PI()*Calc_WHDHC!G1327/60*Calc_WHDHC!H1327/1000*IF(Input!$B$4=\"Other\",0.95*0.95,0.98*0.95)),3)","v":100.282}]
[1322,null,{"$f":"Calc_WHDHC!G1328","v":1107},null,null,{"$f":"ROUND(IF(Calc_WHDHC!H1328<0,Calc_WHDHC!I1328*IF(Input!$B$4=\"Other\",0.95*0.95,0.98*0.95),2*PI()*Calc_WHDHC!G1328/60*Calc_WHDHC!H1328/1000),3)","v":99},null,null,1322,null,"-",null,null,{"$f":"Calc_WHDHC!J1328/3.6/(2*Input!$B$5*PI())*60","v":204.25991913516214},null,null,{"$f":"ROUND(IF(Calc_WHDHC!H1328<0,Calc_WHDHC!I1328,2*PI()*Calc_WHDHC!G1328/60*Calc_WHDHC!H1328/1000*IF(Input!$B$4=\"Other\",0.95*0.95,0.98*0.95)),3)","v":92.168999999999997}]
[1323,null,{"$f":"Calc_WHDHC!G1329","v":1101},null,null,{"$f":"ROUND(IF(Calc_WHDHC!H1329<0,Calc_WHDHC!I1329*IF(Input!$B$4=\"Other\",0.95*0.95,0.98*0.95),2*PI()*Calc_WHDHC!G1329/60*Calc_WHDHC!H1329/1000),3)","v":50.268999999999998},null,null,1323,null,"-",null,null,{"$f":"Calc_WHDHC!J1329/3.6/(2*Input!$B$5*PI())*60","v":203.18005783025887},null,null,{"$f":"ROUND(IF(Calc_WHDHC!H1329<0,Calc_WHDHC!I1329,2*PI()*Calc_WHDHC!G1329/60*Calc_WHDHC!H1329/1000*IF(Input!$B$4=\"Other\",0.95*0.95,0.98*0.95)),3)","v":46.801000000000002}]
[1324,null,{"$f":"Calc_WHDHC!G1330","v":1092},null,null,{"$f":"ROUND(IF(Calc_WHDHC!H1330<0,Calc_WHDHC!I1330*IF(Input!$B$4=\"Other\",0.95*0.95,0.98*0.95),2*PI()*Calc_WHDHC!G1330/60*Calc_WHDHC!H1330/1000),3)","v":0},null,null,1324,null,"-",null,null,{"$f":"Calc_WHDHC!J1330/3.6/(2*Input!$B$5*PI())*60","v":201.54642149720013},null,null,{"$f":"ROUND(IF(Calc_WHDHC!H1330<0,Calc_WHDHC!I1330,2*PI()*Calc_WHDHC!G1330/60*Calc_WHDHC!H1330/1000*IF(Input!$B$4=\"Other\",0.95*0.95,0.98*0.95)),3)","v":0}]
[1325,null,{"$f":"Calc_WHDHC!G1331","v":1079},null,null,{"$f":"ROUND(IF(Calc_WHDHC!H1331<0,Calc_WHDHC!I1331*IF(Input!$B$4=\"Other\",0.95*0.95,0.98*0.95),2*PI()*Calc_WHDHC!G1331/60*Calc_WHDHC!H1331/1000),3)","v":2.3730000000000002},null,null,1325,null,"-",null,null,{"$f":"Calc_WHDHC!J1331/3.6/(2*Input!$B$5*PI())*60","v":199.22056637894696},null,null,{"$f":"ROUND(IF(Calc_WHDHC!H1331<0,Calc_WHDHC!I1331,2*PI()*Calc_WHDHC!G1331/60*Calc_WHDHC!H1331/1000*IF(Input!$B$4=\"Other\",0.95*0.95,0.98*0.95)),3)","v":2.2090000000000001}]
[1326,null,{"$f":"Calc_WHDHC!G1332","v":1066},null,null,{"$f":"ROUND(IF(Calc_WHDHC!H1332<0,Calc_WHDHC!I1332*IF(Input!$B$4=\"Other\",0.95*0.95,0.98*0.95),2*PI()*Calc_WHDHC!G1332/60*Calc_WHDHC!H1332/1000),3)","v":34.941000000000003},null,null,1326,null,"-",null,null,{"$f":"Calc_WHDHC!J1332/3.6/(2*Input!$B$5*PI())*60","v":196.75626750365493},null,null,{"$f":"ROUND(IF(Calc_WHDHC!H1332<0,Calc_WHDHC!I1332,2*PI()*Calc_WHDHC!G1332/60*Calc_WHDHC!H1332/1000*IF(Input!$B$4=\"Other\",0.95*0.95,0.98*0.95)),3)","v":32.53}]
[1327,null,{"$f":"Calc_WHDHC!G1333","v":1057},null,null,{"$f":"ROUND(IF(Calc_WHDHC!H1333<0,Calc_WHDHC!I1333*IF(Input!$B$4=\"Other\",0.95*0.95,0.98*0.95),2*PI()*Calc_WHDHC!G1333/60*Calc_WHDHC!H1333/1000),3)","v":131.27699999999999},null,null,1327,null,"-",null,null,{"$f":"Calc_WHDHC!J1333/3.6/(2*Input!$B$5*PI())*60","v":195.06725366778062},null,null,{"$f":"ROUND(IF(Calc_WHDHC!H1333<0,Calc_WHDHC!I1333,2*PI()*Calc_WHDHC!G1333/60*Calc_WHDHC!H1333/1000*IF(Input!$B$4=\"Other\",0.95*0.95,0.98*0.95)),3)","v":122.21899999999999}]
[1328,null,{"$f":"Calc_WHDHC!G1334","v":1053},null,null,{"$f":"ROUND(IF(Calc_WHDHC!H1334<0,Calc_WHDHC!I1334*IF(Input!$B$4=\"Other\",0.95*0.95,0.98*0.95),2*PI()*Calc_WHDHC!G1334/60*Calc_WHDHC!H1334/1000),3)","v":165.51499999999999},null,null,1328,null,"-",null,null,{"$f":"Calc_WHDHC!J1334/3.6/(2*Input!$B$5*PI())*60","v":194.45810113680952},null,null,{"$f":"ROUND(IF(Calc_WHDHC!H1334<0,Calc_WHDHC!I1334,2*PI()*Calc_WHDHC!G1334/60*Calc_WHDHC!H1334/1000*IF(Input!$B$4=\"Other\",0.95*0.95,0.98*0.95)),3)","v":154.095}]
[1329,null,{"$f":"Calc_WHDHC!G1335","v":1053},null,null,{"$f":"ROUND(IF(Calc_WHDHC!H1335<0,Calc_WHDHC!I1335*IF(Input!$B$4=\"Other\",0.95*0.95,0.98*0.95),2*PI()*Calc_WHDHC!G1335/60*Calc_WHDHC!H1335/1000),3)","v":135.191},null,null,1329,null,"-",null,null,{"$f":"Calc_WHDHC!J1335/3.6/(2*Input!$B$5*PI())*60","v":194.48578988821728},null,null,{"$f":"ROUND(IF(Calc_WHDHC!H1335<0,Calc_WHDHC!I1335,2*PI()*Calc_WHDHC!G1335/60*Calc_WHDHC!H1335/1000*IF(Input!$B$4=\"Other\",0.95*0.95,0.98*0.95)),3)","v":125.863}]
[1330,null,{"$f":"Calc_WHDHC!G1336","v":1054},null,null,{"$f":"ROUND(IF(Calc_WHDHC!H1336<0,Calc_WHDHC!I1336*IF(Input!$B$4=\"Other\",0.95*0.95,0.98*0.95),2*PI()*Calc_WHDHC!G1336/60*Calc_WHDHC!H1336/1000),3)","v":118.211},null,null,1330,null,"-",null,null,{"$f":"Calc_WHDHC!J1336/3.6/(2*Input!$B$5*PI())*60","v":194.70729989947947},null,null,{"$f":"ROUND(IF(Calc_WHDHC!H1336<0,Calc_WHDHC!I1336,2*PI()*Calc_WHDHC!G1336/60*Calc_WHDHC!H1336/1000*IF(Input!$B$4=\"Other\",0.95*0.95,0.98*0.95)),3)","v":110.05500000000001}]
[1331,null,{"$f":"Calc_WHDHC!G1337","v":1054},null,null,{"$f":"ROUND(IF(Calc_WHDHC!H1337<0,Calc_WHDHC!I1337*IF(Input!$B$4=\"Other\",0.95*0.95,0.98*0.95),2*PI()*Calc_WHDHC!G1337/60*Calc_WHDHC!H1337/1000),3)","v":38.299999999999997},null,null,1331,null,"-",null,null,{"$f":"Calc_WHDHC!J1337/3.6/(2*Input!$B$5*PI())*60","v":194.65192239666391},null,null,{"$f":"ROUND(IF(Calc_WHDHC!H1337<0,Calc_WHDHC!I1337,2*PI()*Calc_WHDHC!G1337/60*Calc_WHDHC!H1337/1000*IF(Input!$B$4=\"Other\",0.95*0.95,0.98*0.95)),3)","v":35.656999999999996}]
[1332,null,{"$f":"Calc_WHDHC!G1338","v":1050},null,null,{"$f":"ROUND(IF(Calc_WHDHC!H1338<0,Calc_WHDHC!I1338*IF(Input!$B$4=\"Other\",0.95*0.95,0.98*0.95),2*PI()*Calc_WHDHC!G1338/60*Calc_WHDHC!H1338/1000),3)","v":77.299000000000007},null,null,1332,null,"-",null,null,{"$f":"Calc_WHDHC!J1338/3.6/(2*Input!$B$5*PI())*60","v":193.95970361146954},null,null,{"$f":"ROUND(IF(Calc_WHDHC!H1338<0,Calc_WHDHC!I1338,2*PI()*Calc_WHDHC!G1338/60*Calc_WHDHC!H1338/1000*IF(Input!$B$4=\"Other\",0.95*0.95,0.98*0.95)),3)","v":71.965000000000003}]
[1333,null,{"$f":"Calc_WHDHC!G1339","v":1045},null,null,{"$f":"ROUND(IF(Calc_WHDHC!H1339<0,Calc_WHDHC!I1339*IF(Input!$B$4=\"Other\",0.95*0.95,0.98*0.95),2*PI()*Calc_WHDHC!G1339/60*Calc_WHDHC!H1339/1000),3)","v":116.217},null,null,1333,null,"-",null,null,{"$f":"Calc_WHDHC!J1339/3.6/(2*Input!$B$5*PI())*60","v":192.87984230656627},null,null,{"$f":"ROUND(IF(Calc_WHDHC!H1339<0,Calc_WHDHC!I1339,2*PI()*Calc_WHDHC!G1339/60*Calc_WHDHC!H1339/1000*IF(Input!$B$4=\"Other\",0.95*0.95,0.98*0.95)),3)","v":108.19799999999999}]
[1334,null,{"$f":"Calc_WHDHC!G1340","v":1038},null,null,{"$f":"ROUND(IF(Calc_WHDHC!H1340<0,Calc_WHDHC!I1340*IF(Input!$B$4=\"Other\",0.95*0.95,0.98*0.95),2*PI()*Calc_WHDHC!G1340/60*Calc_WHDHC!H1340/1000),3)","v":56.197000000000003},null,null,1334,null,"-",null,null,{"$f":"Calc_WHDHC!J1340/3.6/(2*Input!$B$5*PI())*60","v":191.77229225025528},null,null,{"$f":"ROUND(IF(Calc_WHDHC!H1340<0,Calc_WHDHC!I1340,2*PI()*Calc_WHDHC!G1340/60*Calc_WHDHC!H1340/1000*IF(Input!$B$4=\"Other\",0.95*0.95,0.98*0.95)),3)","v":52.32}]
[1335,null,{"$f":"Calc_WHDHC!G1341","v":1030},null,null,{"$f":"ROUND(IF(Calc_WHDHC!H1341<0,Calc_WHDHC!I1341*IF(Input!$B$4=\"Other\",0.95*0.95,0.98*0.95),2*PI()*Calc_WHDHC!G1341/60*Calc_WHDHC!H1341/1000),3)","v":-10.052},null,null,1335,null,"-",null,null,{"$f":"Calc_WHDHC!J1341/3.6/(2*Input!$B$5*PI())*60","v":190.30478842564315},null,null,{"$f":"ROUND(IF(Calc_WHDHC!H1341<0,Calc_WHDHC!I1341,2*PI()*Calc_WHDHC!G1341/60*Calc_WHDHC!H1341/1000*IF(Input!$B$4=\"Other\",0.95*0.95,0.98*0.95)),3)","v":-10.797000000000001}]
[1336,null,{"$f":"Calc_WHDHC!G1342","v":1017},null,null,{"$f":"ROUND(IF(Calc_WHDHC!H1342<0,Calc_WHDHC!I1342*IF(Input!$B$4=\"Other\",0.95*0.95,0.98*0.95),2*PI()*Calc_WHDHC!G1342/60*Calc_WHDHC!H1342/1000),3)","v":-21.199000000000002},null,null,1336,null,"-",null,null,{"$f":"Calc_WHDHC!J1342/3.6/(2*Input!$B$5*PI())*60","v":187.95124455598219},null,null,{"$f":"ROUND(IF(Calc_WHDHC!H1342<0,Calc_WHDHC!I1342,2*PI()*Calc_WHDHC!G1342/60*Calc_WHDHC!H1342/1000*IF(Input!$B$4=\"Other\",0.95*0.95,0.98*0.95)),3)","v":-22.77}]
[1337,null,{"$f":"Calc_WHDHC!G1343","v":998},null,null,{"$f":"ROUND(IF(Calc_WHDHC!H1343<0,Calc_WHDHC!I1343*IF(Input!$B$4=\"Other\",0.95*0.95,0.98*0.95),2*PI()*Calc_WHDHC!G1343/60*Calc_WHDHC!H1343/1000),3)","v":-27.018000000000001},null,null,1337,null,"-",null,null,{"$f":"Calc_WHDHC!J1343/3.6/(2*Input!$B$5*PI())*60","v":184.62859438704911},null,null,{"$f":"ROUND(IF(Calc_WHDHC!H1343<0,Calc_WHDHC!I1343,2*PI()*Calc_WHDHC!G1343/60*Calc_WHDHC!H1343/1000*IF(Input!$B$4=\"Other\",0.95*0.95,0.98*0.95)),3)","v":-29.02}]
[1338,null,{"$f":"Calc_WHDHC!G1344","v":977},null,null,{"$f":"ROUND(IF(Calc_WHDHC!H1344<0,Calc_WHDHC!I1344*IF(Input!$B$4=\"Other\",0.95*0.95,0.98*0.95),2*PI()*Calc_WHDHC!G1344/60*Calc_WHDHC!H1344/1000),3)","v":-25.081},null,null,1338,null,"-",null,null,{"$f":"Calc_WHDHC!J1344/3.6/(2*Input!$B$5*PI())*60","v":180.77985794136828},null,null,{"$f":"ROUND(IF(Calc_WHDHC!H1344<0,Calc_WHDHC!I1344,2*PI()*Calc_WHDHC!G1344/60*Calc_WHDHC!H1344/1000*IF(Input!$B$4=\"Other\",0.95*0.95,0.98*0.95)),3)","v":-26.94}]
[1339,null,{"$f":"Calc_WHDHC!G1345","v":958},null,null,{"$f":"ROUND(IF(Calc_WHDHC!H1345<0,Calc_WHDHC!I1345*IF(Input!$B$4=\"Other\",0.95*0.95,0.98*0.95),2*PI()*Calc_WHDHC!G1345/60*Calc_WHDHC!H1345/1000),3)","v":-17.702000000000002},null,null,1339,null,"-",null,null,{"$f":"Calc_WHDHC!J1345/3.6/(2*Input!$B$5*PI())*60","v":177.06956525272631},null,null,{"$f":"ROUND(IF(Calc_WHDHC!H1345<0,Calc_WHDHC!I1345,2*PI()*Calc_WHDHC!G1345/60*Calc_WHDHC!H1345/1000*IF(Input!$B$4=\"Other\",0.95*0.95,0.98*0.95)),3)","v":-19.013999999999999}]
[1340,null,{"$f":"Calc_WHDHC!G1346","v":940},null,null,{"$f":"ROUND(IF(Calc_WHDHC!H1346<0,Calc_WHDHC!I1346*IF(Input!$B$4=\"Other\",0.95*0.95,0.98*0.95),2*PI()*Calc_WHDHC!G1346/60*Calc_WHDHC!H1346/1000),3)","v":-3.6720000000000002},null,null,1340,null,"-",null,null,{"$f":"Calc_WHDHC!J1346/3.6/(2*Input!$B$5*PI())*60","v":173.99611384646317},null,null,{"$f":"ROUND(IF(Calc_WHDHC!H1346<0,Calc_WHDHC!I1346,2*PI()*Calc_WHDHC!G1346/60*Calc_WHDHC!H1346/1000*IF(Input!$B$4=\"Other\",0.95*0.95,0.98*0.95)),3)","v":-3.944}]
[1341,null,{"$f":"Calc_WHDHC!G1347","v":930},null,null,{"$f":"ROUND(IF(Calc_WHDHC!H1347<0,Calc_WHDHC!I1347*IF(Input!$B$4=\"Other\",0.95*0.95,0.98*0.95),2*PI()*Calc_WHDHC!G1347/60*Calc_WHDHC!H1347/1000),3)","v":53.369},null,null,1341,null,"-",null,null,{"$f":"Calc_WHDHC!J1347/3.6/(2*Input!$B$5*PI())*60","v":172.25172250777331},null,null,{"$f":"ROUND(IF(Calc_WHDHC!H1347<0,Calc_WHDHC!I1347,2*PI()*Calc_WHDHC!G1347/60*Calc_WHDHC!H1347/1000*IF(Input!$B$4=\"Other\",0.95*0.95,0.98*0.95)),3)","v":49.686999999999998}]
[1342,null,{"$f":"Calc_WHDHC!G1348","v":938},null,null,{"$f":"ROUND(IF(Calc_WHDHC!H1348<0,Calc_WHDHC!I1348*IF(Input!$B$4=\"Other\",0.95*0.95,0.98*0.95),2*PI()*Calc_WHDHC!G1348/60*Calc_WHDHC!H1348/1000),3)","v":184.667},null,null,1342,null,"-",null,null,{"$f":"Calc_WHDHC!J1348/3.6/(2*Input!$B$5*PI())*60","v":171.78101373384115},null,null,{"$f":"ROUND(IF(Calc_WHDHC!H1348<0,Calc_WHDHC!I1348,2*PI()*Calc_WHDHC!G1348/60*Calc_WHDHC!H1348/1000*IF(Input!$B$4=\"Other\",0.95*0.95,0.98*0.95)),3)","v":171.92500000000001}]
[1343,null,{"$f":"Calc_WHDHC!G1349","v":940},null,null,{"$f":"ROUND(IF(Calc_WHDHC!H1349<0,Calc_WHDHC!I1349*IF(Input!$B$4=\"Other\",0.95*0.95,0.98*0.95),2*PI()*Calc_WHDHC!G1349/60*Calc_WHDHC!H1349/1000),3)","v":180.631},null,null,1343,null,"-",null,null,{"$f":"Calc_WHDHC!J1349/3.6/(2*Input!$B$5*PI())*60","v":172.39016626481219},null,null,{"$f":"ROUND(IF(Calc_WHDHC!H1349<0,Calc_WHDHC!I1349,2*PI()*Calc_WHDHC!G1349/60*Calc_WHDHC!H1349/1000*IF(Input!$B$4=\"Other\",0.95*0.95,0.98*0.95)),3)","v":168.16800000000001}]
[1344,null,{"$f":"Calc_WHDHC!G1350","v":940},null,null,{"$f":"ROUND(IF(Calc_WHDHC!H1350<0,Calc_WHDHC!I1350*IF(Input!$B$4=\"Other\",0.95*0.95,0.98*0.95),2*PI()*Calc_WHDHC!G1350/60*Calc_WHDHC!H1350/1000),3)","v":136.23599999999999},null,null,1344,null,"-",null,null,{"$f":"Calc_WHDHC!J1350/3.6/(2*Input!$B$5*PI())*60","v":174.0791801006865},null,null,{"$f":"ROUND(IF(Calc_WHDHC!H1350<0,Calc_WHDHC!I1350,2*PI()*Calc_WHDHC!G1350/60*Calc_WHDHC!H1350/1000*IF(Input!$B$4=\"Other\",0.95*0.95,0.98*0.95)),3)","v":126.836}]
[1345,null,{"$f":"Calc_WHDHC!G1351","v":951},null,null,{"$f":"ROUND(IF(Calc_WHDHC!H1351<0,Calc_WHDHC!I1351*IF(Input!$B$4=\"Other\",0.95*0.95,0.98*0.95),2*PI()*Calc_WHDHC!G1351/60*Calc_WHDHC!H1351/1000),3)","v":108.751},null,null,1345,null,"-",null,null,{"$f":"Calc_WHDHC!J1351/3.6/(2*Input!$B$5*PI())*60","v":175.96201519641525},null,null,{"$f":"ROUND(IF(Calc_WHDHC!H1351<0,Calc_WHDHC!I1351,2*PI()*Calc_WHDHC!G1351/60*Calc_WHDHC!H1351/1000*IF(Input!$B$4=\"Other\",0.95*0.95,0.98*0.95)),3)","v":101.247}]
[1346,null,{"$f":"Calc_WHDHC!G1352","v":960},null,null,{"$f":"ROUND(IF(Calc_WHDHC!H1352<0,Calc_WHDHC!I1352*IF(Input!$B$4=\"Other\",0.95*0.95,0.98*0.95),2*PI()*Calc_WHDHC!G1352/60*Calc_WHDHC!H1352/1000),3)","v":179.34700000000001},null,null,1346,null,"-",null,null,{"$f":"Calc_WHDHC!J1352/3.6/(2*Input!$B$5*PI())*60","v":177.54027402665852},null,null,{"$f":"ROUND(IF(Calc_WHDHC!H1352<0,Calc_WHDHC!I1352,2*PI()*Calc_WHDHC!G1352/60*Calc_WHDHC!H1352/1000*IF(Input!$B$4=\"Other\",0.95*0.95,0.98*0.95)),3)","v":166.97200000000001}]
[1347,null,{"$f":"Calc_WHDHC!G1353","v":969},null,null,{"$f":"ROUND(IF(Calc_WHDHC!H1353<0,Calc_WHDHC!I1353*IF(Input!$B$4=\"Other\",0.95*0.95,0.98*0.95),2*PI()*Calc_WHDHC!G1353/60*Calc_WHDHC!H1353/1000),3)","v":179.91200000000001},null,null,1347,null,"-",null,null,{"$f":"Calc_WHDHC!J1353/3.6/(2*Input!$B$5*PI())*60","v":179.22928786253283},null,null,{"$f":"ROUND(IF(Calc_WHDHC!H1353<0,Calc_WHDHC!I1353,2*PI()*Calc_WHDHC!G1353/60*Calc_WHDHC!H1353/1000*IF(Input!$B$4=\"Other\",0.95*0.95,0.98*0.95)),3)","v":167.49799999999999}]
[1348,null,{"$f":"Calc_WHDHC!G1354","v":980},null,null,{"$f":"ROUND(IF(Calc_WHDHC!H1354<0,Calc_WHDHC!I1354*IF(Input!$B$4=\"Other\",0.95*0.95,0.98*0.95),2*PI()*Calc_WHDHC!G1354/60*Calc_WHDHC!H1354/1000),3)","v":165.535},null,null,1348,null,"-",null,null,{"$f":"Calc_WHDHC!J1354/3.6/(2*Input!$B$5*PI())*60","v":181.2228779638927},null,null,{"$f":"ROUND(IF(Calc_WHDHC!H1354<0,Calc_WHDHC!I1354,2*PI()*Calc_WHDHC!G1354/60*Calc_WHDHC!H1354/1000*IF(Input!$B$4=\"Other\",0.95*0.95,0.98*0.95)),3)","v":154.113}]
[1349,null,{"$f":"Calc_WHDHC!G1355","v":991},null,null,{"$f":"ROUND(IF(Calc_WHDHC!H1355<0,Calc_WHDHC!I1355*IF(Input!$B$4=\"Other\",0.95*0.95,0.98*0.95),2*PI()*Calc_WHDHC!G1355/60*Calc_WHDHC!H1355/1000),3)","v":164.072},null,null,1349,null,"-",null,null,{"$f":"Calc_WHDHC!J1355/3.6/(2*Input!$B$5*PI())*60","v":183.24415681666034},null,null,{"$f":"ROUND(IF(Calc_WHDHC!H1355<0,Calc_WHDHC!I1355,2*PI()*Calc_WHDHC!G1355/60*Calc_WHDHC!H1355/1000*IF(Input!$B$4=\"Other\",0.95*0.95,0.98*0.95)),3)","v":152.751}]
[1350,null,{"$f":"Calc_WHDHC!G1356","v":1002},null,null,{"$f":"ROUND(IF(Calc_WHDHC!H1356<0,Calc_WHDHC!I1356*IF(Input!$B$4=\"Other\",0.95*0.95,0.98*0.95),2*PI()*Calc_WHDHC!G1356/60*Calc_WHDHC!H1356/1000),3)","v":182.577},null,null,1350,null,"-",null,null,{"$f":"Calc_WHDHC!J1356/3.6/(2*Input!$B$5*PI())*60","v":185.4315681778746},null,null,{"$f":"ROUND(IF(Calc_WHDHC!H1356<0,Calc_WHDHC!I1356,2*PI()*Calc_WHDHC!G1356/60*Calc_WHDHC!H1356/1000*IF(Input!$B$4=\"Other\",0.95*0.95,0.98*0.95)),3)","v":169.97900000000001}]
[1351,null,{"$f":"Calc_WHDHC!G1357","v":1017},null,null,{"$f":"ROUND(IF(Calc_WHDHC!H1357<0,Calc_WHDHC!I1357*IF(Input!$B$4=\"Other\",0.95*0.95,0.98*0.95),2*PI()*Calc_WHDHC!G1357/60*Calc_WHDHC!H1357/1000),3)","v":215.34299999999999},null,null,1351,null,"-",null,null,{"$f":"Calc_WHDHC!J1357/3.6/(2*Input!$B$5*PI())*60","v":187.86817830175886},null,null,{"$f":"ROUND(IF(Calc_WHDHC!H1357<0,Calc_WHDHC!I1357,2*PI()*Calc_WHDHC!G1357/60*Calc_WHDHC!H1357/1000*IF(Input!$B$4=\"Other\",0.95*0.95,0.98*0.95)),3)","v":200.48400000000001}]
[1352,null,{"$f":"Calc_WHDHC!G1358","v":1030},null,null,{"$f":"ROUND(IF(Calc_WHDHC!H1358<0,Calc_WHDHC!I1358*IF(Input!$B$4=\"Other\",0.95*0.95,0.98*0.95),2*PI()*Calc_WHDHC!G1358/60*Calc_WHDHC!H1358/1000),3)","v":173.11699999999999},null,null,1352,null,"-",null,null,{"$f":"Calc_WHDHC!J1358/3.6/(2*Input!$B$5*PI())*60","v":190.33247717705089},null,null,{"$f":"ROUND(IF(Calc_WHDHC!H1358<0,Calc_WHDHC!I1358,2*PI()*Calc_WHDHC!G1358/60*Calc_WHDHC!H1358/1000*IF(Input!$B$4=\"Other\",0.95*0.95,0.98*0.95)),3)","v":161.172}]
[1353,null,{"$f":"Calc_WHDHC!G1359","v":1041},null,null,{"$f":"ROUND(IF(Calc_WHDHC!H1359<0,Calc_WHDHC!I1359*IF(Input!$B$4=\"Other\",0.95*0.95,0.98*0.95),2*PI()*Calc_WHDHC!G1359/60*Calc_WHDHC!H1359/1000),3)","v":112.502},null,null,1353,null,"-",null,null,{"$f":"Calc_WHDHC!J1359/3.6/(2*Input!$B$5*PI())*60","v":192.29837852700302},null,null,{"$f":"ROUND(IF(Calc_WHDHC!H1359<0,Calc_WHDHC!I1359,2*PI()*Calc_WHDHC!G1359/60*Calc_WHDHC!H1359/1000*IF(Input!$B$4=\"Other\",0.95*0.95,0.98*0.95)),3)","v":104.739}]
[1354,null,{"$f":"Calc_WHDHC!G1360","v":1049},null,null,{"$f":"ROUND(IF(Calc_WHDHC!H1360<0,Calc_WHDHC!I1360*IF(Input!$B$4=\"Other\",0.95*0.95,0.98*0.95),2*PI()*Calc_WHDHC!G1360/60*Calc_WHDHC!H1360/1000),3)","v":128.30600000000001},null,null,1354,null,"-",null,null,{"$f":"Calc_WHDHC!J1360/3.6/(2*Input!$B$5*PI())*60","v":193.59974984316844},null,null,{"$f":"ROUND(IF(Calc_WHDHC!H1360<0,Calc_WHDHC!I1360,2*PI()*Calc_WHDHC!G1360/60*Calc_WHDHC!H1360/1000*IF(Input!$B$4=\"Other\",0.95*0.95,0.98*0.95)),3)","v":119.453}]
[1355,null,{"$f":"Calc_WHDHC!G1361","v":1053},null,null,{"$f":"ROUND(IF(Calc_WHDHC!H1361<0,Calc_WHDHC!I1361*IF(Input!$B$4=\"Other\",0.95*0.95,0.98*0.95),2*PI()*Calc_WHDHC!G1361/60*Calc_WHDHC!H1361/1000),3)","v":156.25200000000001},null,null,1355,null,"-",null,null,{"$f":"Calc_WHDHC!J1361/3.6/(2*Input!$B$5*PI())*60","v":194.48578988821728},null,null,{"$f":"ROUND(IF(Calc_WHDHC!H1361<0,Calc_WHDHC!I1361,2*PI()*Calc_WHDHC!G1361/60*Calc_WHDHC!H1361/1000*IF(Input!$B$4=\"Other\",0.95*0.95,0.98*0.95)),3)","v":145.471}]
[1356,null,{"$f":"Calc_WHDHC!G1362","v":1057},null,null,{"$f":"ROUND(IF(Calc_WHDHC!H1362<0,Calc_WHDHC!I1362*IF(Input!$B$4=\"Other\",0.95*0.95,0.98*0.95),2*PI()*Calc_WHDHC!G1362/60*Calc_WHDHC!H1362/1000),3)","v":112.46},null,null,1356,null,"-",null,null,{"$f":"Calc_WHDHC!J1362/3.6/(2*Input!$B$5*PI())*60","v":195.17800867341163},null,null,{"$f":"ROUND(IF(Calc_WHDHC!H1362<0,Calc_WHDHC!I1362,2*PI()*Calc_WHDHC!G1362/60*Calc_WHDHC!H1362/1000*IF(Input!$B$4=\"Other\",0.95*0.95,0.98*0.95)),3)","v":104.7}]
[1357,null,{"$f":"Calc_WHDHC!G1363","v":1059},null,null,{"$f":"ROUND(IF(Calc_WHDHC!H1363<0,Calc_WHDHC!I1363*IF(Input!$B$4=\"Other\",0.95*0.95,0.98*0.95),2*PI()*Calc_WHDHC!G1363/60*Calc_WHDHC!H1363/1000),3)","v":101.139},null,null,1357,null,"-",null,null,{"$f":"Calc_WHDHC!J1363/3.6/(2*Input!$B$5*PI())*60","v":195.56565119312054},null,null,{"$f":"ROUND(IF(Calc_WHDHC!H1363<0,Calc_WHDHC!I1363,2*PI()*Calc_WHDHC!G1363/60*Calc_WHDHC!H1363/1000*IF(Input!$B$4=\"Other\",0.95*0.95,0.98*0.95)),3)","v":94.161000000000001}]
[1358,null,{"$f":"Calc_WHDHC!G1364","v":1059},null,null,{"$f":"ROUND(IF(Calc_WHDHC!H1364<0,Calc_WHDHC!I1364*IF(Input!$B$4=\"Other\",0.95*0.95,0.98*0.95),2*PI()*Calc_WHDHC!G1364/60*Calc_WHDHC!H1364/1000),3)","v":98.81},null,null,1358,null,"-",null,null,{"$f":"Calc_WHDHC!J1364/3.6/(2*Input!$B$5*PI())*60","v":195.70409495015946},null,null,{"$f":"ROUND(IF(Calc_WHDHC!H1364<0,Calc_WHDHC!I1364,2*PI()*Calc_WHDHC!G1364/60*Calc_WHDHC!H1364/1000*IF(Input!$B$4=\"Other\",0.95*0.95,0.98*0.95)),3)","v":91.992000000000004}]
[1359,null,{"$f":"Calc_WHDHC!G1365","v":1059},null,null,{"$f":"ROUND(IF(Calc_WHDHC!H1365<0,Calc_WHDHC!I1365*IF(Input!$B$4=\"Other\",0.95*0.95,0.98*0.95),2*PI()*Calc_WHDHC!G1365/60*Calc_WHDHC!H1365/1000),3)","v":79.292000000000002},null,null,1359,null,"-",null,null,{"$f":"Calc_WHDHC!J1365/3.6/(2*Input!$B$5*PI())*60","v":195.6210286959361},null,null,{"$f":"ROUND(IF(Calc_WHDHC!H1365<0,Calc_WHDHC!I1365,2*PI()*Calc_WHDHC!G1365/60*Calc_WHDHC!H1365/1000*IF(Input!$B$4=\"Other\",0.95*0.95,0.98*0.95)),3)","v":73.820999999999998}]
[1360,null,{"$f":"Calc_WHDHC!G1366","v":1057},null,null,{"$f":"ROUND(IF(Calc_WHDHC!H1366<0,Calc_WHDHC!I1366*IF(Input!$B$4=\"Other\",0.95*0.95,0.98*0.95),2*PI()*Calc_WHDHC!G1366/60*Calc_WHDHC!H1366/1000),3)","v":54.57},null,null,1360,null,"-",null,null,{"$f":"Calc_WHDHC!J1366/3.6/(2*Input!$B$5*PI())*60","v":195.17800867341163},null,null,{"$f":"ROUND(IF(Calc_WHDHC!H1366<0,Calc_WHDHC!I1366,2*PI()*Calc_WHDHC!G1366/60*Calc_WHDHC!H1366/1000*IF(Input!$B$4=\"Other\",0.95*0.95,0.98*0.95)),3)","v":50.804000000000002}]
[1361,null,{"$f":"Calc_WHDHC!G1367","v":1051},null,null,{"$f":"ROUND(IF(Calc_WHDHC!H1367<0,Calc_WHDHC!I1367*IF(Input!$B$4=\"Other\",0.95*0.95,0.98*0.95),2*PI()*Calc_WHDHC!G1367/60*Calc_WHDHC!H1367/1000),3)","v":-6.5780000000000003},null,null,1361,null,"-",null,null,{"$f":"Calc_WHDHC!J1367/3.6/(2*Input!$B$5*PI())*60","v":194.07045861710066},null,null,{"$f":"ROUND(IF(Calc_WHDHC!H1367<0,Calc_WHDHC!I1367,2*PI()*Calc_WHDHC!G1367/60*Calc_WHDHC!H1367/1000*IF(Input!$B$4=\"Other\",0.95*0.95,0.98*0.95)),3)","v":-7.0659999999999998}]
[1362,null,{"$f":"Calc_WHDHC!G1368","v":1039},null,null,{"$f":"ROUND(IF(Calc_WHDHC!H1368<0,Calc_WHDHC!I1368*IF(Input!$B$4=\"Other\",0.95*0.95,0.98*0.95),2*PI()*Calc_WHDHC!G1368/60*Calc_WHDHC!H1368/1000),3)","v":-17.419},null,null,1362,null,"-",null,null,{"$f":"Calc_WHDHC!J1368/3.6/(2*Input!$B$5*PI())*60","v":192.02149101292522},null,null,{"$f":"ROUND(IF(Calc_WHDHC!H1368<0,Calc_WHDHC!I1368,2*PI()*Calc_WHDHC!G1368/60*Calc_WHDHC!H1368/1000*IF(Input!$B$4=\"Other\",0.95*0.95,0.98*0.95)),3)","v":-18.71}]
[1363,null,{"$f":"Calc_WHDHC!G1369","v":1024},null,null,{"$f":"ROUND(IF(Calc_WHDHC!H1369<0,Calc_WHDHC!I1369*IF(Input!$B$4=\"Other\",0.95*0.95,0.98*0.95),2*PI()*Calc_WHDHC!G1369/60*Calc_WHDHC!H1369/1000),3)","v":-20.594999999999999},null,null,1363,null,"-",null,null,{"$f":"Calc_WHDHC!J1369/3.6/(2*Input!$B$5*PI())*60","v":189.03110586088545},null,null,{"$f":"ROUND(IF(Calc_WHDHC!H1369<0,Calc_WHDHC!I1369,2*PI()*Calc_WHDHC!G1369/60*Calc_WHDHC!H1369/1000*IF(Input!$B$4=\"Other\",0.95*0.95,0.98*0.95)),3)","v":-22.120999999999999}]
[1364,null,{"$f":"Calc_WHDHC!G1370","v":1005},null,null,{"$f":"ROUND(IF(Calc_WHDHC!H1370<0,Calc_WHDHC!I1370*IF(Input!$B$4=\"Other\",0.95*0.95,0.98*0.95),2*PI()*Calc_WHDHC!G1370/60*Calc_WHDHC!H1370/1000),3)","v":-18.812999999999999},null,null,1364,null,"-",null,null,{"$f":"Calc_WHDHC!J1370/3.6/(2*Input!$B$5*PI())*60","v":185.76383319476793},null,null,{"$f":"ROUND(IF(Calc_WHDHC!H1370<0,Calc_WHDHC!I1370,2*PI()*Calc_WHDHC!G1370/60*Calc_WHDHC!H1370/1000*IF(Input!$B$4=\"Other\",0.95*0.95,0.98*0.95)),3)","v":-20.207000000000001}]
[1365,null,{"$f":"Calc_WHDHC!G1371","v":988},null,null,{"$f":"ROUND(IF(Calc_WHDHC!H1371<0,Calc_WHDHC!I1371*IF(Input!$B$4=\"Other\",0.95*0.95,0.98*0.95),2*PI()*Calc_WHDHC!G1371/60*Calc_WHDHC!H1371/1000),3)","v":-17.366},null,null,1365,null,"-",null,null,{"$f":"Calc_WHDHC!J1371/3.6/(2*Input!$B$5*PI())*60","v":182.63500428568921},null,null,{"$f":"ROUND(IF(Calc_WHDHC!H1371<0,Calc_WHDHC!I1371,2*PI()*Calc_WHDHC!G1371/60*Calc_WHDHC!H1371/1000*IF(Input!$B$4=\"Other\",0.95*0.95,0.98*0.95)),3)","v":-18.652999999999999}]
[1366,null,{"$f":"Calc_WHDHC!G1372","v":971},null,null,{"$f":"ROUND(IF(Calc_WHDHC!H1372<0,Calc_WHDHC!I1372*IF(Input!$B$4=\"Other\",0.95*0.95,0.98*0.95),2*PI()*Calc_WHDHC!G1372/60*Calc_WHDHC!H1372/1000),3)","v":-16.911999999999999},null,null,1366,null,"-",null,null,{"$f":"Calc_WHDHC!J1372/3.6/(2*Input!$B$5*PI())*60","v":179.61693038224169},null,null,{"$f":"ROUND(IF(Calc_WHDHC!H1372<0,Calc_WHDHC!I1372,2*PI()*Calc_WHDHC!G1372/60*Calc_WHDHC!H1372/1000*IF(Input!$B$4=\"Other\",0.95*0.95,0.98*0.95)),3)","v":-18.164999999999999}]
[1367,null,{"$f":"Calc_WHDHC!G1373","v":955},null,null,{"$f":"ROUND(IF(Calc_WHDHC!H1373<0,Calc_WHDHC!I1373*IF(Input!$B$4=\"Other\",0.95*0.95,0.98*0.95),2*PI()*Calc_WHDHC!G1373/60*Calc_WHDHC!H1373/1000),3)","v":-13.398},null,null,1367,null,"-",null,null,{"$f":"Calc_WHDHC!J1373/3.6/(2*Input!$B$5*PI())*60","v":176.62654523020191},null,null,{"$f":"ROUND(IF(Calc_WHDHC!H1373<0,Calc_WHDHC!I1373,2*PI()*Calc_WHDHC!G1373/60*Calc_WHDHC!H1373/1000*IF(Input!$B$4=\"Other\",0.95*0.95,0.98*0.95)),3)","v":-14.391}]
[1368,null,{"$f":"Calc_WHDHC!G1374","v":939},null,null,{"$f":"ROUND(IF(Calc_WHDHC!H1374<0,Calc_WHDHC!I1374*IF(Input!$B$4=\"Other\",0.95*0.95,0.98*0.95),2*PI()*Calc_WHDHC!G1374/60*Calc_WHDHC!H1374/1000),3)","v":0},null,null,1368,null,"-",null,null,{"$f":"Calc_WHDHC!J1374/3.6/(2*Input!$B$5*PI())*60","v":173.94073634364764},null,null,{"$f":"ROUND(IF(Calc_WHDHC!H1374<0,Calc_WHDHC!I1374,2*PI()*Calc_WHDHC!G1374/60*Calc_WHDHC!H1374/1000*IF(Input!$B$4=\"Other\",0.95*0.95,0.98*0.95)),3)","v":0}]
[1369,null,{"$f":"Calc_WHDHC!G1375","v":943},null,null,{"$f":"ROUND(IF(Calc_WHDHC!H1375<0,Calc_WHDHC!I1375*IF(Input!$B$4=\"Other\",0.95*0.95,0.98*0.95),2*PI()*Calc_WHDHC!G1375/60*Calc_WHDHC!H1375/1000),3)","v":109.613},null,null,1369,null,"-",null,null,{"$f":"Calc_WHDHC!J1375/3.6/(2*Input!$B$5*PI())*60","v":174.52220012321092},null,null,{"$f":"ROUND(IF(Calc_WHDHC!H1375<0,Calc_WHDHC!I1375,2*PI()*Calc_WHDHC!G1375/60*Calc_WHDHC!H1375/1000*IF(Input!$B$4=\"Other\",0.95*0.95,0.98*0.95)),3)","v":102.05}]
[1370,null,{"$f":"Calc_WHDHC!G1376","v":952},null,null,{"$f":"ROUND(IF(Calc_WHDHC!H1376<0,Calc_WHDHC!I1376*IF(Input!$B$4=\"Other\",0.95*0.95,0.98*0.95),2*PI()*Calc_WHDHC!G1376/60*Calc_WHDHC!H1376/1000),3)","v":169.578},null,null,1370,null,"-",null,null,{"$f":"Calc_WHDHC!J1376/3.6/(2*Input!$B$5*PI())*60","v":176.15583645626967},null,null,{"$f":"ROUND(IF(Calc_WHDHC!H1376<0,Calc_WHDHC!I1376,2*PI()*Calc_WHDHC!G1376/60*Calc_WHDHC!H1376/1000*IF(Input!$B$4=\"Other\",0.95*0.95,0.98*0.95)),3)","v":157.87700000000001}]
[1371,null,{"$f":"Calc_WHDHC!G1377","v":969},null,null,{"$f":"ROUND(IF(Calc_WHDHC!H1377<0,Calc_WHDHC!I1377*IF(Input!$B$4=\"Other\",0.95*0.95,0.98*0.95),2*PI()*Calc_WHDHC!G1377/60*Calc_WHDHC!H1377/1000),3)","v":171.59200000000001},null,null,1371,null,"-",null,null,{"$f":"Calc_WHDHC!J1377/3.6/(2*Input!$B$5*PI())*60","v":179.42310912238725},null,null,{"$f":"ROUND(IF(Calc_WHDHC!H1377<0,Calc_WHDHC!I1377,2*PI()*Calc_WHDHC!G1377/60*Calc_WHDHC!H1377/1000*IF(Input!$B$4=\"Other\",0.95*0.95,0.98*0.95)),3)","v":159.75200000000001}]
[1372,null,{"$f":"Calc_WHDHC!G1378","v":980},null,null,{"$f":"ROUND(IF(Calc_WHDHC!H1378<0,Calc_WHDHC!I1378*IF(Input!$B$4=\"Other\",0.95*0.95,0.98*0.95),2*PI()*Calc_WHDHC!G1378/60*Calc_WHDHC!H1378/1000),3)","v":87.95},null,null,1372,null,"-",null,null,{"$f":"Calc_WHDHC!J1378/3.6/(2*Input!$B$5*PI())*60","v":181.36132172093153},null,null,{"$f":"ROUND(IF(Calc_WHDHC!H1378<0,Calc_WHDHC!I1378,2*PI()*Calc_WHDHC!G1378/60*Calc_WHDHC!H1378/1000*IF(Input!$B$4=\"Other\",0.95*0.95,0.98*0.95)),3)","v":81.881}]
[1373,null,{"$f":"Calc_WHDHC!G1379","v":979},null,null,{"$f":"ROUND(IF(Calc_WHDHC!H1379<0,Calc_WHDHC!I1379*IF(Input!$B$4=\"Other\",0.95*0.95,0.98*0.95),2*PI()*Calc_WHDHC!G1379/60*Calc_WHDHC!H1379/1000),3)","v":-30.038},null,null,1373,null,"-",null,null,{"$f":"Calc_WHDHC!J1379/3.6/(2*Input!$B$5*PI())*60","v":180.89061294699937},null,null,{"$f":"ROUND(IF(Calc_WHDHC!H1379<0,Calc_WHDHC!I1379,2*PI()*Calc_WHDHC!G1379/60*Calc_WHDHC!H1379/1000*IF(Input!$B$4=\"Other\",0.95*0.95,0.98*0.95)),3)","v":-32.264000000000003}]
[1374,null,{"$f":"Calc_WHDHC!G1380","v":955},null,null,{"$f":"ROUND(IF(Calc_WHDHC!H1380<0,Calc_WHDHC!I1380*IF(Input!$B$4=\"Other\",0.95*0.95,0.98*0.95),2*PI()*Calc_WHDHC!G1380/60*Calc_WHDHC!H1380/1000),3)","v":-26.201000000000001},null,null,1374,null,"-",null,null,{"$f":"Calc_WHDHC!J1380/3.6/(2*Input!$B$5*PI())*60","v":176.73730023583298},null,null,{"$f":"ROUND(IF(Calc_WHDHC!H1380<0,Calc_WHDHC!I1380,2*PI()*Calc_WHDHC!G1380/60*Calc_WHDHC!H1380/1000*IF(Input!$B$4=\"Other\",0.95*0.95,0.98*0.95)),3)","v":-28.143000000000001}]
[1375,null,{"$f":"Calc_WHDHC!G1381","v":1091},null,null,{"$f":"ROUND(IF(Calc_WHDHC!H1381<0,Calc_WHDHC!I1381*IF(Input!$B$4=\"Other\",0.95*0.95,0.98*0.95),2*PI()*Calc_WHDHC!G1381/60*Calc_WHDHC!H1381/1000),3)","v":0},null,null,1375,null,"-",null,null,{"$f":"Calc_WHDHC!J1381/3.6/(2*Input!$B$5*PI())*60","v":172.88856379015218},null,null,{"$f":"ROUND(IF(Calc_WHDHC!H1381<0,Calc_WHDHC!I1381,2*PI()*Calc_WHDHC!G1381/60*Calc_WHDHC!H1381/1000*IF(Input!$B$4=\"Other\",0.95*0.95,0.98*0.95)),3)","v":0}]
[1376,null,{"$f":"Calc_WHDHC!G1382","v":1226},null,null,{"$f":"ROUND(IF(Calc_WHDHC!H1382<0,Calc_WHDHC!I1382*IF(Input!$B$4=\"Other\",0.95*0.95,0.98*0.95),2*PI()*Calc_WHDHC!G1382/60*Calc_WHDHC!H1382/1000),3)","v":-32.109000000000002},null,null,1376,null,"-",null,null,{"$f":"Calc_WHDHC!J1382/3.6/(2*Input!$B$5*PI())*60","v":169.45515861558795},null,null,{"$f":"ROUND(IF(Calc_WHDHC!H1382<0,Calc_WHDHC!I1382,2*PI()*Calc_WHDHC!G1382/60*Calc_WHDHC!H1382/1000*IF(Input!$B$4=\"Other\",0.95*0.95,0.98*0.95)),3)","v":-34.488999999999997}]
[1377,null,{"$f":"Calc_WHDHC!G1383","v":1193},null,null,{"$f":"ROUND(IF(Calc_WHDHC!H1383<0,Calc_WHDHC!I1383*IF(Input!$B$4=\"Other\",0.95*0.95,0.98*0.95),2*PI()*Calc_WHDHC!G1383/60*Calc_WHDHC!H1383/1000),3)","v":-39.267000000000003},null,null,1377,null,"-",null,null,{"$f":"Calc_WHDHC!J1383/3.6/(2*Input!$B$5*PI())*60","v":164.96958088752828},null,null,{"$f":"ROUND(IF(Calc_WHDHC!H1383<0,Calc_WHDHC!I1383,2*PI()*Calc_WHDHC!G1383/60*Calc_WHDHC!H1383/1000*IF(Input!$B$4=\"Other\",0.95*0.95,0.98*0.95)),3)","v":-42.177}]
[1378,null,{"$f":"Calc_WHDHC!G1384","v":1154},null,null,{"$f":"ROUND(IF(Calc_WHDHC!H1384<0,Calc_WHDHC!I1384*IF(Input!$B$4=\"Other\",0.95*0.95,0.98*0.95),2*PI()*Calc_WHDHC!G1384/60*Calc_WHDHC!H1384/1000),3)","v":-21.233000000000001},null,null,1378,null,"-",null,null,{"$f":"Calc_WHDHC!J1384/3.6/(2*Input!$B$5*PI())*60","v":159.70871812005086},null,null,{"$f":"ROUND(IF(Calc_WHDHC!H1384<0,Calc_WHDHC!I1384,2*PI()*Calc_WHDHC!G1384/60*Calc_WHDHC!H1384/1000*IF(Input!$B$4=\"Other\",0.95*0.95,0.98*0.95)),3)","v":-22.806999999999999}]
[1379,null,{"$f":"Calc_WHDHC!G1385","v":1128},null,null,{"$f":"ROUND(IF(Calc_WHDHC!H1385<0,Calc_WHDHC!I1385*IF(Input!$B$4=\"Other\",0.95*0.95,0.98*0.95),2*PI()*Calc_WHDHC!G1385/60*Calc_WHDHC!H1385/1000),3)","v":-28.853000000000002},null,null,1379,null,"-",null,null,{"$f":"Calc_WHDHC!J1385/3.6/(2*Input!$B$5*PI())*60","v":156.16455793985557},null,null,{"$f":"ROUND(IF(Calc_WHDHC!H1385<0,Calc_WHDHC!I1385,2*PI()*Calc_WHDHC!G1385/60*Calc_WHDHC!H1385/1000*IF(Input!$B$4=\"Other\",0.95*0.95,0.98*0.95)),3)","v":-30.991}]
[1380,null,{"$f":"Calc_WHDHC!G1386","v":1096},null,null,{"$f":"ROUND(IF(Calc_WHDHC!H1386<0,Calc_WHDHC!I1386*IF(Input!$B$4=\"Other\",0.95*0.95,0.98*0.95),2*PI()*Calc_WHDHC!G1386/60*Calc_WHDHC!H1386/1000),3)","v":-40.26},null,null,1380,null,"-",null,null,{"$f":"Calc_WHDHC!J1386/3.6/(2*Input!$B$5*PI())*60","v":151.78973521742699},null,null,{"$f":"ROUND(IF(Calc_WHDHC!H1386<0,Calc_WHDHC!I1386,2*PI()*Calc_WHDHC!G1386/60*Calc_WHDHC!H1386/1000*IF(Input!$B$4=\"Other\",0.95*0.95,0.98*0.95)),3)","v":-43.244}]
[1381,null,{"$f":"Calc_WHDHC!G1387","v":1293},null,null,{"$f":"ROUND(IF(Calc_WHDHC!H1387<0,Calc_WHDHC!I1387*IF(Input!$B$4=\"Other\",0.95*0.95,0.98*0.95),2*PI()*Calc_WHDHC!G1387/60*Calc_WHDHC!H1387/1000),3)","v":0},null,null,1381,null,"-",null,null,{"$f":"Calc_WHDHC!J1387/3.6/(2*Input!$B$5*PI())*60","v":146.11354117883295},null,null,{"$f":"ROUND(IF(Calc_WHDHC!H1387<0,Calc_WHDHC!I1387,2*PI()*Calc_WHDHC!G1387/60*Calc_WHDHC!H1387/1000*IF(Input!$B$4=\"Other\",0.95*0.95,0.98*0.95)),3)","v":0}]
[1382,null,{"$f":"Calc_WHDHC!G1388","v":1490},null,null,{"$f":"ROUND(IF(Calc_WHDHC!H1388<0,Calc_WHDHC!I1388*IF(Input!$B$4=\"Other\",0.95*0.95,0.98*0.95),2*PI()*Calc_WHDHC!G1388/60*Calc_WHDHC!H1388/1000),3)","v":132.47200000000001},null,null,1382,null,"-",null,null,{"$f":"Calc_WHDHC!J1388/3.6/(2*Input!$B$5*PI())*60","v":144.59065985140526},null,null,{"$f":"ROUND(IF(Calc_WHDHC!H1388<0,Calc_WHDHC!I1388,2*PI()*Calc_WHDHC!G1388/60*Calc_WHDHC!H1388/1000*IF(Input!$B$4=\"Other\",0.95*0.95,0.98*0.95)),3)","v":123.331}]
[1383,null,{"$f":"Calc_WHDHC!G1389","v":1529},null,null,{"$f":"ROUND(IF(Calc_WHDHC!H1389<0,Calc_WHDHC!I1389*IF(Input!$B$4=\"Other\",0.95*0.95,0.98*0.95),2*PI()*Calc_WHDHC!G1389/60*Calc_WHDHC!H1389/1000),3)","v":266.75400000000002},null,null,1383,null,"-",null,null,{"$f":"Calc_WHDHC!J1389/3.6/(2*Input!$B$5*PI())*60","v":145.31056738800743},null,null,{"$f":"ROUND(IF(Calc_WHDHC!H1389<0,Calc_WHDHC!I1389,2*PI()*Calc_WHDHC!G1389/60*Calc_WHDHC!H1389/1000*IF(Input!$B$4=\"Other\",0.95*0.95,0.98*0.95)),3)","v":248.34800000000001}]
[1384,null,{"$f":"Calc_WHDHC!G1390","v":1537},null,null,{"$f":"ROUND(IF(Calc_WHDHC!H1390<0,Calc_WHDHC!I1390*IF(Input!$B$4=\"Other\",0.95*0.95,0.98*0.95),2*PI()*Calc_WHDHC!G1390/60*Calc_WHDHC!H1390/1000),3)","v":268.79399999999998},null,null,1384,null,"-",null,null,{"$f":"Calc_WHDHC!J1390/3.6/(2*Input!$B$5*PI())*60","v":146.03047492460965},null,null,{"$f":"ROUND(IF(Calc_WHDHC!H1390<0,Calc_WHDHC!I1390,2*PI()*Calc_WHDHC!G1390/60*Calc_WHDHC!H1390/1000*IF(Input!$B$4=\"Other\",0.95*0.95,0.98*0.95)),3)","v":250.24700000000001}]
[1385,null,{"$f":"Calc_WHDHC!G1391","v":1549},null,null,{"$f":"ROUND(IF(Calc_WHDHC!H1391<0,Calc_WHDHC!I1391*IF(Input!$B$4=\"Other\",0.95*0.95,0.98*0.95),2*PI()*Calc_WHDHC!G1391/60*Calc_WHDHC!H1391/1000),3)","v":134.148},null,null,1385,null,"-",null,null,{"$f":"Calc_WHDHC!J1391/3.6/(2*Input!$B$5*PI())*60","v":147.13802498092065},null,null,{"$f":"ROUND(IF(Calc_WHDHC!H1391<0,Calc_WHDHC!I1391,2*PI()*Calc_WHDHC!G1391/60*Calc_WHDHC!H1391/1000*IF(Input!$B$4=\"Other\",0.95*0.95,0.98*0.95)),3)","v":124.892}]
[1386,null,{"$f":"Calc_WHDHC!G1392","v":1352},null,null,{"$f":"ROUND(IF(Calc_WHDHC!H1392<0,Calc_WHDHC!I1392*IF(Input!$B$4=\"Other\",0.95*0.95,0.98*0.95),2*PI()*Calc_WHDHC!G1392/60*Calc_WHDHC!H1392/1000),3)","v":0},null,null,1386,null,"-",null,null,{"$f":"Calc_WHDHC!J1392/3.6/(2*Input!$B$5*PI())*60","v":146.83344871543511},null,null,{"$f":"ROUND(IF(Calc_WHDHC!H1392<0,Calc_WHDHC!I1392,2*PI()*Calc_WHDHC!G1392/60*Calc_WHDHC!H1392/1000*IF(Input!$B$4=\"Other\",0.95*0.95,0.98*0.95)),3)","v":0}]
[1387,null,{"$f":"Calc_WHDHC!G1393","v":1156},null,null,{"$f":"ROUND(IF(Calc_WHDHC!H1393<0,Calc_WHDHC!I1393*IF(Input!$B$4=\"Other\",0.95*0.95,0.98*0.95),2*PI()*Calc_WHDHC!G1393/60*Calc_WHDHC!H1393/1000),3)","v":105.56100000000001},null,null,1387,null,"-",null,null,{"$f":"Calc_WHDHC!J1393/3.6/(2*Input!$B$5*PI())*60","v":145.50438864786187},null,null,{"$f":"ROUND(IF(Calc_WHDHC!H1393<0,Calc_WHDHC!I1393,2*PI()*Calc_WHDHC!G1393/60*Calc_WHDHC!H1393/1000*IF(Input!$B$4=\"Other\",0.95*0.95,0.98*0.95)),3)","v":98.277000000000001}]
[1388,null,{"$f":"Calc_WHDHC!G1394","v":1190},null,null,{"$f":"ROUND(IF(Calc_WHDHC!H1394<0,Calc_WHDHC!I1394*IF(Input!$B$4=\"Other\",0.95*0.95,0.98*0.95),2*PI()*Calc_WHDHC!G1394/60*Calc_WHDHC!H1394/1000),3)","v":220.447},null,null,1388,null,"-",null,null,{"$f":"Calc_WHDHC!J1394/3.6/(2*Input!$B$5*PI())*60","v":144.50759359718197},null,null,{"$f":"ROUND(IF(Calc_WHDHC!H1394<0,Calc_WHDHC!I1394,2*PI()*Calc_WHDHC!G1394/60*Calc_WHDHC!H1394/1000*IF(Input!$B$4=\"Other\",0.95*0.95,0.98*0.95)),3)","v":205.23599999999999}]
[1389,null,{"$f":"Calc_WHDHC!G1395","v":1226},null,null,{"$f":"ROUND(IF(Calc_WHDHC!H1395<0,Calc_WHDHC!I1395*IF(Input!$B$4=\"Other\",0.95*0.95,0.98*0.95),2*PI()*Calc_WHDHC!G1395/60*Calc_WHDHC!H1395/1000),3)","v":135.57599999999999},null,null,1389,null,"-",null,null,{"$f":"Calc_WHDHC!J1395/3.6/(2*Input!$B$5*PI())*60","v":141.46183094232663},null,null,{"$f":"ROUND(IF(Calc_WHDHC!H1395<0,Calc_WHDHC!I1395,2*PI()*Calc_WHDHC!G1395/60*Calc_WHDHC!H1395/1000*IF(Input!$B$4=\"Other\",0.95*0.95,0.98*0.95)),3)","v":126.221}]
[1390,null,{"$f":"Calc_WHDHC!G1396","v":1260},null,null,{"$f":"ROUND(IF(Calc_WHDHC!H1396<0,Calc_WHDHC!I1396*IF(Input!$B$4=\"Other\",0.95*0.95,0.98*0.95),2*PI()*Calc_WHDHC!G1396/60*Calc_WHDHC!H1396/1000),3)","v":72.570999999999998},null,null,1390,null,"-",null,null,{"$f":"Calc_WHDHC!J1396/3.6/(2*Input!$B$5*PI())*60","v":138.11149202198573},null,null,{"$f":"ROUND(IF(Calc_WHDHC!H1396<0,Calc_WHDHC!I1396,2*PI()*Calc_WHDHC!G1396/60*Calc_WHDHC!H1396/1000*IF(Input!$B$4=\"Other\",0.95*0.95,0.98*0.95)),3)","v":67.563000000000002}]
[1391,null,{"$f":"Calc_WHDHC!G1397","v":1346},null,null,{"$f":"ROUND(IF(Calc_WHDHC!H1397<0,Calc_WHDHC!I1397*IF(Input!$B$4=\"Other\",0.95*0.95,0.98*0.95),2*PI()*Calc_WHDHC!G1397/60*Calc_WHDHC!H1397/1000),3)","v":0},null,null,1391,null,"-",null,null,{"$f":"Calc_WHDHC!J1397/3.6/(2*Input!$B$5*PI())*60","v":136.69936570018916},null,null,{"$f":"ROUND(IF(Calc_WHDHC!H1397<0,Calc_WHDHC!I1397,2*PI()*Calc_WHDHC!G1397/60*Calc_WHDHC!H1397/1000*IF(Input!$B$4=\"Other\",0.95*0.95,0.98*0.95)),3)","v":0}]
[1392,null,{"$f":"Calc_WHDHC!G1398","v":1434},null,null,{"$f":"ROUND(IF(Calc_WHDHC!H1398<0,Calc_WHDHC!I1398*IF(Input!$B$4=\"Other\",0.95*0.95,0.98*0.95),2*PI()*Calc_WHDHC!G1398/60*Calc_WHDHC!H1398/1000),3)","v":119.684},null,null,1392,null,"-",null,null,{"$f":"Calc_WHDHC!J1398/3.6/(2*Input!$B$5*PI())*60","v":136.39478943470363},null,null,{"$f":"ROUND(IF(Calc_WHDHC!H1398<0,Calc_WHDHC!I1398,2*PI()*Calc_WHDHC!G1398/60*Calc_WHDHC!H1398/1000*IF(Input!$B$4=\"Other\",0.95*0.95,0.98*0.95)),3)","v":111.426}]
[1393,null,{"$f":"Calc_WHDHC!G1399","v":1437},null,null,{"$f":"ROUND(IF(Calc_WHDHC!H1399<0,Calc_WHDHC!I1399*IF(Input!$B$4=\"Other\",0.95*0.95,0.98*0.95),2*PI()*Calc_WHDHC!G1399/60*Calc_WHDHC!H1399/1000),3)","v":239.417},null,null,1393,null,"-",null,null,{"$f":"Calc_WHDHC!J1399/3.6/(2*Input!$B$5*PI())*60","v":136.69936570018916},null,null,{"$f":"ROUND(IF(Calc_WHDHC!H1399<0,Calc_WHDHC!I1399,2*PI()*Calc_WHDHC!G1399/60*Calc_WHDHC!H1399/1000*IF(Input!$B$4=\"Other\",0.95*0.95,0.98*0.95)),3)","v":222.898}]
[1394,null,{"$f":"Calc_WHDHC!G1400","v":1453},null,null,{"$f":"ROUND(IF(Calc_WHDHC!H1400<0,Calc_WHDHC!I1400*IF(Input!$B$4=\"Other\",0.95*0.95,0.98*0.95),2*PI()*Calc_WHDHC!G1400/60*Calc_WHDHC!H1400/1000),3)","v":313.90199999999999},null,null,1394,null,"-",null,null,{"$f":"Calc_WHDHC!J1400/3.6/(2*Input!$B$5*PI())*60","v":138.11149202198573},null,null,{"$f":"ROUND(IF(Calc_WHDHC!H1400<0,Calc_WHDHC!I1400,2*PI()*Calc_WHDHC!G1400/60*Calc_WHDHC!H1400/1000*IF(Input!$B$4=\"Other\",0.95*0.95,0.98*0.95)),3)","v":292.24200000000002}]
[1395,null,{"$f":"Calc_WHDHC!G1401","v":1463},null,null,{"$f":"ROUND(IF(Calc_WHDHC!H1401<0,Calc_WHDHC!I1401*IF(Input!$B$4=\"Other\",0.95*0.95,0.98*0.95),2*PI()*Calc_WHDHC!G1401/60*Calc_WHDHC!H1401/1000),3)","v":241.298},null,null,1395,null,"-",null,null,{"$f":"Calc_WHDHC!J1401/3.6/(2*Input!$B$5*PI())*60","v":139.13597582407343},null,null,{"$f":"ROUND(IF(Calc_WHDHC!H1401<0,Calc_WHDHC!I1401,2*PI()*Calc_WHDHC!G1401/60*Calc_WHDHC!H1401/1000*IF(Input!$B$4=\"Other\",0.95*0.95,0.98*0.95)),3)","v":224.648}]
[1396,null,{"$f":"Calc_WHDHC!G1402","v":1461},null,null,{"$f":"ROUND(IF(Calc_WHDHC!H1402<0,Calc_WHDHC!I1402*IF(Input!$B$4=\"Other\",0.95*0.95,0.98*0.95),2*PI()*Calc_WHDHC!G1402/60*Calc_WHDHC!H1402/1000),3)","v":148.559},null,null,1396,null,"-",null,null,{"$f":"Calc_WHDHC!J1402/3.6/(2*Input!$B$5*PI())*60","v":138.91446581281124},null,null,{"$f":"ROUND(IF(Calc_WHDHC!H1402<0,Calc_WHDHC!I1402,2*PI()*Calc_WHDHC!G1402/60*Calc_WHDHC!H1402/1000*IF(Input!$B$4=\"Other\",0.95*0.95,0.98*0.95)),3)","v":138.30799999999999}]
[1397,null,{"$f":"Calc_WHDHC!G1403","v":1471},null,null,{"$f":"ROUND(IF(Calc_WHDHC!H1403<0,Calc_WHDHC!I1403*IF(Input!$B$4=\"Other\",0.95*0.95,0.98*0.95),2*PI()*Calc_WHDHC!G1403/60*Calc_WHDHC!H1403/1000),3)","v":257.09699999999998},null,null,1397,null,"-",null,null,{"$f":"Calc_WHDHC!J1403/3.6/(2*Input!$B$5*PI())*60","v":139.82819460926783},null,null,{"$f":"ROUND(IF(Calc_WHDHC!H1403<0,Calc_WHDHC!I1403,2*PI()*Calc_WHDHC!G1403/60*Calc_WHDHC!H1403/1000*IF(Input!$B$4=\"Other\",0.95*0.95,0.98*0.95)),3)","v":239.358}]
[1398,null,{"$f":"Calc_WHDHC!G1404","v":1480},null,null,{"$f":"ROUND(IF(Calc_WHDHC!H1404<0,Calc_WHDHC!I1404*IF(Input!$B$4=\"Other\",0.95*0.95,0.98*0.95),2*PI()*Calc_WHDHC!G1404/60*Calc_WHDHC!H1404/1000),3)","v":128.63800000000001},null,null,1398,null,"-",null,null,{"$f":"Calc_WHDHC!J1404/3.6/(2*Input!$B$5*PI())*60","v":140.74192340572444},null,null,{"$f":"ROUND(IF(Calc_WHDHC!H1404<0,Calc_WHDHC!I1404,2*PI()*Calc_WHDHC!G1404/60*Calc_WHDHC!H1404/1000*IF(Input!$B$4=\"Other\",0.95*0.95,0.98*0.95)),3)","v":119.762}]
[1399,null,{"$f":"Calc_WHDHC!G1405","v":1282},null,null,{"$f":"ROUND(IF(Calc_WHDHC!H1405<0,Calc_WHDHC!I1405*IF(Input!$B$4=\"Other\",0.95*0.95,0.98*0.95),2*PI()*Calc_WHDHC!G1405/60*Calc_WHDHC!H1405/1000),3)","v":0},null,null,1399,null,"-",null,null,{"$f":"Calc_WHDHC!J1405/3.6/(2*Input!$B$5*PI())*60","v":141.84947346203546},null,null,{"$f":"ROUND(IF(Calc_WHDHC!H1405<0,Calc_WHDHC!I1405,2*PI()*Calc_WHDHC!G1405/60*Calc_WHDHC!H1405/1000*IF(Input!$B$4=\"Other\",0.95*0.95,0.98*0.95)),3)","v":0}]
[1400,null,{"$f":"Calc_WHDHC!G1406","v":1086},null,null,{"$f":"ROUND(IF(Calc_WHDHC!H1406<0,Calc_WHDHC!I1406*IF(Input!$B$4=\"Other\",0.95*0.95,0.98*0.95),2*PI()*Calc_WHDHC!G1406/60*Calc_WHDHC!H1406/1000),3)","v":46.741},null,null,1400,null,"-",null,null,{"$f":"Calc_WHDHC!J1406/3.6/(2*Input!$B$5*PI())*60","v":143.06777852397761},null,null,{"$f":"ROUND(IF(Calc_WHDHC!H1406<0,Calc_WHDHC!I1406,2*PI()*Calc_WHDHC!G1406/60*Calc_WHDHC!H1406/1000*IF(Input!$B$4=\"Other\",0.95*0.95,0.98*0.95)),3)","v":43.515999999999998}]
[1401,null,{"$f":"Calc_WHDHC!G1407","v":1039},null,null,{"$f":"ROUND(IF(Calc_WHDHC!H1407<0,Calc_WHDHC!I1407*IF(Input!$B$4=\"Other\",0.95*0.95,0.98*0.95),2*PI()*Calc_WHDHC!G1407/60*Calc_WHDHC!H1407/1000),3)","v":88.893000000000001},null,null,1401,null,"-",null,null,{"$f":"Calc_WHDHC!J1407/3.6/(2*Input!$B$5*PI())*60","v":142.68013600426875},null,null,{"$f":"ROUND(IF(Calc_WHDHC!H1407<0,Calc_WHDHC!I1407,2*PI()*Calc_WHDHC!G1407/60*Calc_WHDHC!H1407/1000*IF(Input!$B$4=\"Other\",0.95*0.95,0.98*0.95)),3)","v":82.759}]
[1402,null,{"$f":"Calc_WHDHC!G1408","v":1045},null,null,{"$f":"ROUND(IF(Calc_WHDHC!H1408<0,Calc_WHDHC!I1408*IF(Input!$B$4=\"Other\",0.95*0.95,0.98*0.95),2*PI()*Calc_WHDHC!G1408/60*Calc_WHDHC!H1408/1000),3)","v":133.06899999999999},null,null,1402,null,"-",null,null,{"$f":"Calc_WHDHC!J1408/3.6/(2*Input!$B$5*PI())*60","v":138.91446581281124},null,null,{"$f":"ROUND(IF(Calc_WHDHC!H1408<0,Calc_WHDHC!I1408,2*PI()*Calc_WHDHC!G1408/60*Calc_WHDHC!H1408/1000*IF(Input!$B$4=\"Other\",0.95*0.95,0.98*0.95)),3)","v":123.88800000000001}]
[1403,null,{"$f":"Calc_WHDHC!G1409","v":1043},null,null,{"$f":"ROUND(IF(Calc_WHDHC!H1409<0,Calc_WHDHC!I1409*IF(Input!$B$4=\"Other\",0.95*0.95,0.98*0.95),2*PI()*Calc_WHDHC!G1409/60*Calc_WHDHC!H1409/1000),3)","v":173.11799999999999},null,null,1403,null,"-",null,null,{"$f":"Calc_WHDHC!J1409/3.6/(2*Input!$B$5*PI())*60","v":138.41606828747126},null,null,{"$f":"ROUND(IF(Calc_WHDHC!H1409<0,Calc_WHDHC!I1409,2*PI()*Calc_WHDHC!G1409/60*Calc_WHDHC!H1409/1000*IF(Input!$B$4=\"Other\",0.95*0.95,0.98*0.95)),3)","v":161.173}]
[1404,null,{"$f":"Calc_WHDHC!G1410","v":1046},null,null,{"$f":"ROUND(IF(Calc_WHDHC!H1410<0,Calc_WHDHC!I1410*IF(Input!$B$4=\"Other\",0.95*0.95,0.98*0.95),2*PI()*Calc_WHDHC!G1410/60*Calc_WHDHC!H1410/1000),3)","v":211.40600000000001},null,null,1404,null,"-",null,null,{"$f":"Calc_WHDHC!J1410/3.6/(2*Input!$B$5*PI())*60","v":139.32979708392787},null,null,{"$f":"ROUND(IF(Calc_WHDHC!H1410<0,Calc_WHDHC!I1410,2*PI()*Calc_WHDHC!G1410/60*Calc_WHDHC!H1410/1000*IF(Input!$B$4=\"Other\",0.95*0.95,0.98*0.95)),3)","v":196.81899999999999}]
[1405,null,{"$f":"Calc_WHDHC!G1411","v":1046},null,null,{"$f":"ROUND(IF(Calc_WHDHC!H1411<0,Calc_WHDHC!I1411*IF(Input!$B$4=\"Other\",0.95*0.95,0.98*0.95),2*PI()*Calc_WHDHC!G1411/60*Calc_WHDHC!H1411/1000),3)","v":224.22200000000001},null,null,1405,null,"-",null,null,{"$f":"Calc_WHDHC!J1411/3.6/(2*Input!$B$5*PI())*60","v":141.35107593669548},null,null,{"$f":"ROUND(IF(Calc_WHDHC!H1411<0,Calc_WHDHC!I1411,2*PI()*Calc_WHDHC!G1411/60*Calc_WHDHC!H1411/1000*IF(Input!$B$4=\"Other\",0.95*0.95,0.98*0.95)),3)","v":208.751}]
[1406,null,{"$f":"Calc_WHDHC!G1412","v":1041},null,null,{"$f":"ROUND(IF(Calc_WHDHC!H1412<0,Calc_WHDHC!I1412*IF(Input!$B$4=\"Other\",0.95*0.95,0.98*0.95),2*PI()*Calc_WHDHC!G1412/60*Calc_WHDHC!H1412/1000),3)","v":222.82300000000001},null,null,1406,null,"-",null,null,{"$f":"Calc_WHDHC!J1412/3.6/(2*Input!$B$5*PI())*60","v":142.45862599300654},null,null,{"$f":"ROUND(IF(Calc_WHDHC!H1412<0,Calc_WHDHC!I1412,2*PI()*Calc_WHDHC!G1412/60*Calc_WHDHC!H1412/1000*IF(Input!$B$4=\"Other\",0.95*0.95,0.98*0.95)),3)","v":207.44800000000001}]
[1407,null,{"$f":"Calc_WHDHC!G1413","v":1039},null,null,{"$f":"ROUND(IF(Calc_WHDHC!H1413<0,Calc_WHDHC!I1413*IF(Input!$B$4=\"Other\",0.95*0.95,0.98*0.95),2*PI()*Calc_WHDHC!G1413/60*Calc_WHDHC!H1413/1000),3)","v":177.24100000000001},null,null,1407,null,"-",null,null,{"$f":"Calc_WHDHC!J1413/3.6/(2*Input!$B$5*PI())*60","v":143.98150732043422},null,null,{"$f":"ROUND(IF(Calc_WHDHC!H1413<0,Calc_WHDHC!I1413,2*PI()*Calc_WHDHC!G1413/60*Calc_WHDHC!H1413/1000*IF(Input!$B$4=\"Other\",0.95*0.95,0.98*0.95)),3)","v":165.012}]
[1408,null,{"$f":"Calc_WHDHC!G1414","v":1045},null,null,{"$f":"ROUND(IF(Calc_WHDHC!H1414<0,Calc_WHDHC!I1414*IF(Input!$B$4=\"Other\",0.95*0.95,0.98*0.95),2*PI()*Calc_WHDHC!G1414/60*Calc_WHDHC!H1414/1000),3)","v":110.855},null,null,1408,null,"-",null,null,{"$f":"Calc_WHDHC!J1414/3.6/(2*Input!$B$5*PI())*60","v":144.81216986266747},null,null,{"$f":"ROUND(IF(Calc_WHDHC!H1414<0,Calc_WHDHC!I1414,2*PI()*Calc_WHDHC!G1414/60*Calc_WHDHC!H1414/1000*IF(Input!$B$4=\"Other\",0.95*0.95,0.98*0.95)),3)","v":103.206}]
[1409,null,{"$f":"Calc_WHDHC!G1415","v":1043},null,null,{"$f":"ROUND(IF(Calc_WHDHC!H1415<0,Calc_WHDHC!I1415*IF(Input!$B$4=\"Other\",0.95*0.95,0.98*0.95),2*PI()*Calc_WHDHC!G1415/60*Calc_WHDHC!H1415/1000),3)","v":87.814999999999998},null,null,1409,null,"-",null,null,{"$f":"Calc_WHDHC!J1415/3.6/(2*Input!$B$5*PI())*60","v":144.59065985140526},null,null,{"$f":"ROUND(IF(Calc_WHDHC!H1415<0,Calc_WHDHC!I1415,2*PI()*Calc_WHDHC!G1415/60*Calc_WHDHC!H1415/1000*IF(Input!$B$4=\"Other\",0.95*0.95,0.98*0.95)),3)","v":81.756}]
[1410,null,{"$f":"Calc_WHDHC!G1416","v":1053},null,null,{"$f":"ROUND(IF(Calc_WHDHC!H1416<0,Calc_WHDHC!I1416*IF(Input!$B$4=\"Other\",0.95*0.95,0.98*0.95),2*PI()*Calc_WHDHC!G1416/60*Calc_WHDHC!H1416/1000),3)","v":142.02799999999999},null,null,1410,null,"-",null,null,{"$f":"Calc_WHDHC!J1416/3.6/(2*Input!$B$5*PI())*60","v":145.80896491334738},null,null,{"$f":"ROUND(IF(Calc_WHDHC!H1416<0,Calc_WHDHC!I1416,2*PI()*Calc_WHDHC!G1416/60*Calc_WHDHC!H1416/1000*IF(Input!$B$4=\"Other\",0.95*0.95,0.98*0.95)),3)","v":132.22800000000001}]
[1411,null,{"$f":"Calc_WHDHC!G1417","v":1063},null,null,{"$f":"ROUND(IF(Calc_WHDHC!H1417<0,Calc_WHDHC!I1417*IF(Input!$B$4=\"Other\",0.95*0.95,0.98*0.95),2*PI()*Calc_WHDHC!G1417/60*Calc_WHDHC!H1417/1000),3)","v":167.97800000000001},null,null,1411,null,"-",null,null,{"$f":"Calc_WHDHC!J1417/3.6/(2*Input!$B$5*PI())*60","v":147.24877998655177},null,null,{"$f":"ROUND(IF(Calc_WHDHC!H1417<0,Calc_WHDHC!I1417,2*PI()*Calc_WHDHC!G1417/60*Calc_WHDHC!H1417/1000*IF(Input!$B$4=\"Other\",0.95*0.95,0.98*0.95)),3)","v":156.387}]
[1412,null,{"$f":"Calc_WHDHC!G1418","v":1075},null,null,{"$f":"ROUND(IF(Calc_WHDHC!H1418<0,Calc_WHDHC!I1418*IF(Input!$B$4=\"Other\",0.95*0.95,0.98*0.95),2*PI()*Calc_WHDHC!G1418/60*Calc_WHDHC!H1418/1000),3)","v":169.19800000000001},null,null,1412,null,"-",null,null,{"$f":"Calc_WHDHC!J1418/3.6/(2*Input!$B$5*PI())*60","v":148.96548257383384},null,null,{"$f":"ROUND(IF(Calc_WHDHC!H1418<0,Calc_WHDHC!I1418,2*PI()*Calc_WHDHC!G1418/60*Calc_WHDHC!H1418/1000*IF(Input!$B$4=\"Other\",0.95*0.95,0.98*0.95)),3)","v":157.524}]
[1413,null,{"$f":"Calc_WHDHC!G1419","v":1091},null,null,{"$f":"ROUND(IF(Calc_WHDHC!H1419<0,Calc_WHDHC!I1419*IF(Input!$B$4=\"Other\",0.95*0.95,0.98*0.95),2*PI()*Calc_WHDHC!G1419/60*Calc_WHDHC!H1419/1000),3)","v":170.23099999999999},null,null,1413,null,"-",null,null,{"$f":"Calc_WHDHC!J1419/3.6/(2*Input!$B$5*PI())*60","v":150.98676142660148},null,null,{"$f":"ROUND(IF(Calc_WHDHC!H1419<0,Calc_WHDHC!I1419,2*PI()*Calc_WHDHC!G1419/60*Calc_WHDHC!H1419/1000*IF(Input!$B$4=\"Other\",0.95*0.95,0.98*0.95)),3)","v":158.48500000000001}]
[1414,null,{"$f":"Calc_WHDHC!G1420","v":1108},null,null,{"$f":"ROUND(IF(Calc_WHDHC!H1420<0,Calc_WHDHC!I1420*IF(Input!$B$4=\"Other\",0.95*0.95,0.98*0.95),2*PI()*Calc_WHDHC!G1420/60*Calc_WHDHC!H1420/1000),3)","v":171.608},null,null,1414,null,"-",null,null,{"$f":"Calc_WHDHC!J1420/3.6/(2*Input!$B$5*PI())*60","v":153.31261654485465},null,null,{"$f":"ROUND(IF(Calc_WHDHC!H1420<0,Calc_WHDHC!I1420,2*PI()*Calc_WHDHC!G1420/60*Calc_WHDHC!H1420/1000*IF(Input!$B$4=\"Other\",0.95*0.95,0.98*0.95)),3)","v":159.767}]
[1415,null,{"$f":"Calc_WHDHC!G1421","v":1127},null,null,{"$f":"ROUND(IF(Calc_WHDHC!H1421<0,Calc_WHDHC!I1421*IF(Input!$B$4=\"Other\",0.95*0.95,0.98*0.95),2*PI()*Calc_WHDHC!G1421/60*Calc_WHDHC!H1421/1000),3)","v":190.24700000000001},null,null,1415,null,"-",null,null,{"$f":"Calc_WHDHC!J1421/3.6/(2*Input!$B$5*PI())*60","v":155.85998167437003},null,null,{"$f":"ROUND(IF(Calc_WHDHC!H1421<0,Calc_WHDHC!I1421,2*PI()*Calc_WHDHC!G1421/60*Calc_WHDHC!H1421/1000*IF(Input!$B$4=\"Other\",0.95*0.95,0.98*0.95)),3)","v":177.12}]
[1416,null,{"$f":"Calc_WHDHC!G1422","v":1146},null,null,{"$f":"ROUND(IF(Calc_WHDHC!H1422<0,Calc_WHDHC!I1422*IF(Input!$B$4=\"Other\",0.95*0.95,0.98*0.95),2*PI()*Calc_WHDHC!G1422/60*Calc_WHDHC!H1422/1000),3)","v":192.374},null,null,1416,null,"-",null,null,{"$f":"Calc_WHDHC!J1422/3.6/(2*Input!$B$5*PI())*60","v":158.68423431796316},null,null,{"$f":"ROUND(IF(Calc_WHDHC!H1422<0,Calc_WHDHC!I1422,2*PI()*Calc_WHDHC!G1422/60*Calc_WHDHC!H1422/1000*IF(Input!$B$4=\"Other\",0.95*0.95,0.98*0.95)),3)","v":179.1}]
[1417,null,{"$f":"Calc_WHDHC!G1423","v":1160},null,null,{"$f":"ROUND(IF(Calc_WHDHC!H1423<0,Calc_WHDHC!I1423*IF(Input!$B$4=\"Other\",0.95*0.95,0.98*0.95),2*PI()*Calc_WHDHC!G1423/60*Calc_WHDHC!H1423/1000),3)","v":109.813},null,null,1417,null,"-",null,null,{"$f":"Calc_WHDHC!J1423/3.6/(2*Input!$B$5*PI())*60","v":160.42862565665305},null,null,{"$f":"ROUND(IF(Calc_WHDHC!H1423<0,Calc_WHDHC!I1423,2*PI()*Calc_WHDHC!G1423/60*Calc_WHDHC!H1423/1000*IF(Input!$B$4=\"Other\",0.95*0.95,0.98*0.95)),3)","v":102.236}]
[1418,null,{"$f":"Calc_WHDHC!G1424","v":1158},null,null,{"$f":"ROUND(IF(Calc_WHDHC!H1424<0,Calc_WHDHC!I1424*IF(Input!$B$4=\"Other\",0.95*0.95,0.98*0.95),2*PI()*Calc_WHDHC!G1424/60*Calc_WHDHC!H1424/1000),3)","v":137.03},null,null,1418,null,"-",null,null,{"$f":"Calc_WHDHC!J1424/3.6/(2*Input!$B$5*PI())*60","v":160.20711564539084},null,null,{"$f":"ROUND(IF(Calc_WHDHC!H1424<0,Calc_WHDHC!I1424,2*PI()*Calc_WHDHC!G1424/60*Calc_WHDHC!H1424/1000*IF(Input!$B$4=\"Other\",0.95*0.95,0.98*0.95)),3)","v":127.575}]
[1419,null,{"$f":"Calc_WHDHC!G1425","v":1156},null,null,{"$f":"ROUND(IF(Calc_WHDHC!H1425<0,Calc_WHDHC!I1425*IF(Input!$B$4=\"Other\",0.95*0.95,0.98*0.95),2*PI()*Calc_WHDHC!G1425/60*Calc_WHDHC!H1425/1000),3)","v":164.39400000000001},null,null,1419,null,"-",null,null,{"$f":"Calc_WHDHC!J1425/3.6/(2*Input!$B$5*PI())*60","v":159.90253937990531},null,null,{"$f":"ROUND(IF(Calc_WHDHC!H1425<0,Calc_WHDHC!I1425,2*PI()*Calc_WHDHC!G1425/60*Calc_WHDHC!H1425/1000*IF(Input!$B$4=\"Other\",0.95*0.95,0.98*0.95)),3)","v":153.05099999999999}]
[1420,null,{"$f":"Calc_WHDHC!G1426","v":1174},null,null,{"$f":"ROUND(IF(Calc_WHDHC!H1426<0,Calc_WHDHC!I1426*IF(Input!$B$4=\"Other\",0.95*0.95,0.98*0.95),2*PI()*Calc_WHDHC!G1426/60*Calc_WHDHC!H1426/1000),3)","v":191.542},null,null,1420,null,"-",null,null,{"$f":"Calc_WHDHC!J1426/3.6/(2*Input!$B$5*PI())*60","v":162.44990450942066},null,null,{"$f":"ROUND(IF(Calc_WHDHC!H1426<0,Calc_WHDHC!I1426,2*PI()*Calc_WHDHC!G1426/60*Calc_WHDHC!H1426/1000*IF(Input!$B$4=\"Other\",0.95*0.95,0.98*0.95)),3)","v":178.32599999999999}]
[1421,null,{"$f":"Calc_WHDHC!G1427","v":1190},null,null,{"$f":"ROUND(IF(Calc_WHDHC!H1427<0,Calc_WHDHC!I1427*IF(Input!$B$4=\"Other\",0.95*0.95,0.98*0.95),2*PI()*Calc_WHDHC!G1427/60*Calc_WHDHC!H1427/1000),3)","v":196.89400000000001},null,null,1421,null,"-",null,null,{"$f":"Calc_WHDHC!J1427/3.6/(2*Input!$B$5*PI())*60","v":164.4711833621883},null,null,{"$f":"ROUND(IF(Calc_WHDHC!H1427<0,Calc_WHDHC!I1427,2*PI()*Calc_WHDHC!G1427/60*Calc_WHDHC!H1427/1000*IF(Input!$B$4=\"Other\",0.95*0.95,0.98*0.95)),3)","v":183.30799999999999}]
[1422,null,{"$f":"Calc_WHDHC!G1428","v":1195},null,null,{"$f":"ROUND(IF(Calc_WHDHC!H1428<0,Calc_WHDHC!I1428*IF(Input!$B$4=\"Other\",0.95*0.95,0.98*0.95),2*PI()*Calc_WHDHC!G1428/60*Calc_WHDHC!H1428/1000),3)","v":198.59700000000001},null,null,1422,null,"-",null,null,{"$f":"Calc_WHDHC!J1428/3.6/(2*Input!$B$5*PI())*60","v":165.27415715301382},null,null,{"$f":"ROUND(IF(Calc_WHDHC!H1428<0,Calc_WHDHC!I1428,2*PI()*Calc_WHDHC!G1428/60*Calc_WHDHC!H1428/1000*IF(Input!$B$4=\"Other\",0.95*0.95,0.98*0.95)),3)","v":184.89400000000001}]
[1423,null,{"$f":"Calc_WHDHC!G1429","v":1202},null,null,{"$f":"ROUND(IF(Calc_WHDHC!H1429<0,Calc_WHDHC!I1429*IF(Input!$B$4=\"Other\",0.95*0.95,0.98*0.95),2*PI()*Calc_WHDHC!G1429/60*Calc_WHDHC!H1429/1000),3)","v":200.51599999999999},null,null,1423,null,"-",null,null,{"$f":"Calc_WHDHC!J1429/3.6/(2*Input!$B$5*PI())*60","v":166.18788594947043},null,null,{"$f":"ROUND(IF(Calc_WHDHC!H1429<0,Calc_WHDHC!I1429,2*PI()*Calc_WHDHC!G1429/60*Calc_WHDHC!H1429/1000*IF(Input!$B$4=\"Other\",0.95*0.95,0.98*0.95)),3)","v":186.68}]
[1424,null,{"$f":"Calc_WHDHC!G1430","v":1206},null,null,{"$f":"ROUND(IF(Calc_WHDHC!H1430<0,Calc_WHDHC!I1430*IF(Input!$B$4=\"Other\",0.95*0.95,0.98*0.95),2*PI()*Calc_WHDHC!G1430/60*Calc_WHDHC!H1430/1000),3)","v":202.572},null,null,1424,null,"-",null,null,{"$f":"Calc_WHDHC!J1430/3.6/(2*Input!$B$5*PI())*60","v":166.71397222621817},null,null,{"$f":"ROUND(IF(Calc_WHDHC!H1430<0,Calc_WHDHC!I1430,2*PI()*Calc_WHDHC!G1430/60*Calc_WHDHC!H1430/1000*IF(Input!$B$4=\"Other\",0.95*0.95,0.98*0.95)),3)","v":188.595}]
[1425,null,{"$f":"Calc_WHDHC!G1431","v":1219},null,null,{"$f":"ROUND(IF(Calc_WHDHC!H1431<0,Calc_WHDHC!I1431*IF(Input!$B$4=\"Other\",0.95*0.95,0.98*0.95),2*PI()*Calc_WHDHC!G1431/60*Calc_WHDHC!H1431/1000),3)","v":202.714},null,null,1425,null,"-",null,null,{"$f":"Calc_WHDHC!J1431/3.6/(2*Input!$B$5*PI())*60","v":168.43067481350027},null,null,{"$f":"ROUND(IF(Calc_WHDHC!H1431<0,Calc_WHDHC!I1431,2*PI()*Calc_WHDHC!G1431/60*Calc_WHDHC!H1431/1000*IF(Input!$B$4=\"Other\",0.95*0.95,0.98*0.95)),3)","v":188.726}]
[1426,null,{"$f":"Calc_WHDHC!G1432","v":1226},null,null,{"$f":"ROUND(IF(Calc_WHDHC!H1432<0,Calc_WHDHC!I1432*IF(Input!$B$4=\"Other\",0.95*0.95,0.98*0.95),2*PI()*Calc_WHDHC!G1432/60*Calc_WHDHC!H1432/1000),3)","v":203.107},null,null,1426,null,"-",null,null,{"$f":"Calc_WHDHC!J1432/3.6/(2*Input!$B$5*PI())*60","v":169.34440360995686},null,null,{"$f":"ROUND(IF(Calc_WHDHC!H1432<0,Calc_WHDHC!I1432,2*PI()*Calc_WHDHC!G1432/60*Calc_WHDHC!H1432/1000*IF(Input!$B$4=\"Other\",0.95*0.95,0.98*0.95)),3)","v":189.09299999999999}]
[1427,null,{"$f":"Calc_WHDHC!G1433","v":1235},null,null,{"$f":"ROUND(IF(Calc_WHDHC!H1433<0,Calc_WHDHC!I1433*IF(Input!$B$4=\"Other\",0.95*0.95,0.98*0.95),2*PI()*Calc_WHDHC!G1433/60*Calc_WHDHC!H1433/1000),3)","v":203.04599999999999},null,null,1427,null,"-",null,null,{"$f":"Calc_WHDHC!J1433/3.6/(2*Input!$B$5*PI())*60","v":170.562708671899},null,null,{"$f":"ROUND(IF(Calc_WHDHC!H1433<0,Calc_WHDHC!I1433,2*PI()*Calc_WHDHC!G1433/60*Calc_WHDHC!H1433/1000*IF(Input!$B$4=\"Other\",0.95*0.95,0.98*0.95)),3)","v":189.036}]
[1428,null,{"$f":"Calc_WHDHC!G1434","v":1245},null,null,{"$f":"ROUND(IF(Calc_WHDHC!H1434<0,Calc_WHDHC!I1434*IF(Input!$B$4=\"Other\",0.95*0.95,0.98*0.95),2*PI()*Calc_WHDHC!G1434/60*Calc_WHDHC!H1434/1000),3)","v":205.864},null,null,1428,null,"-",null,null,{"$f":"Calc_WHDHC!J1434/3.6/(2*Input!$B$5*PI())*60","v":172.08558999932669},null,null,{"$f":"ROUND(IF(Calc_WHDHC!H1434<0,Calc_WHDHC!I1434,2*PI()*Calc_WHDHC!G1434/60*Calc_WHDHC!H1434/1000*IF(Input!$B$4=\"Other\",0.95*0.95,0.98*0.95)),3)","v":191.65899999999999}]
[1429,null,{"$f":"Calc_WHDHC!G1435","v":1256},null,null,{"$f":"ROUND(IF(Calc_WHDHC!H1435<0,Calc_WHDHC!I1435*IF(Input!$B$4=\"Other\",0.95*0.95,0.98*0.95),2*PI()*Calc_WHDHC!G1435/60*Calc_WHDHC!H1435/1000),3)","v":102.986},null,null,1429,null,"-",null,null,{"$f":"Calc_WHDHC!J1435/3.6/(2*Input!$B$5*PI())*60","v":173.60847132675434},null,null,{"$f":"ROUND(IF(Calc_WHDHC!H1435<0,Calc_WHDHC!I1435,2*PI()*Calc_WHDHC!G1435/60*Calc_WHDHC!H1435/1000*IF(Input!$B$4=\"Other\",0.95*0.95,0.98*0.95)),3)","v":95.88}]
[1430,null,{"$f":"Calc_WHDHC!G1436","v":1109},null,null,{"$f":"ROUND(IF(Calc_WHDHC!H1436<0,Calc_WHDHC!I1436*IF(Input!$B$4=\"Other\",0.95*0.95,0.98*0.95),2*PI()*Calc_WHDHC!G1436/60*Calc_WHDHC!H1436/1000),3)","v":0},null,null,1430,null,"-",null,null,{"$f":"Calc_WHDHC!J1436/3.6/(2*Input!$B$5*PI())*60","v":176.23890271049299},null,null,{"$f":"ROUND(IF(Calc_WHDHC!H1436<0,Calc_WHDHC!I1436,2*PI()*Calc_WHDHC!G1436/60*Calc_WHDHC!H1436/1000*IF(Input!$B$4=\"Other\",0.95*0.95,0.98*0.95)),3)","v":0}]
[1431,null,{"$f":"Calc_WHDHC!G1437","v":961},null,null,{"$f":"ROUND(IF(Calc_WHDHC!H1437<0,Calc_WHDHC!I1437*IF(Input!$B$4=\"Other\",0.95*0.95,0.98*0.95),2*PI()*Calc_WHDHC!G1437/60*Calc_WHDHC!H1437/1000),3)","v":71.653000000000006},null,null,1431,null,"-",null,null,{"$f":"Calc_WHDHC!J1437/3.6/(2*Input!$B$5*PI())*60","v":177.95560529777512},null,null,{"$f":"ROUND(IF(Calc_WHDHC!H1437<0,Calc_WHDHC!I1437,2*PI()*Calc_WHDHC!G1437/60*Calc_WHDHC!H1437/1000*IF(Input!$B$4=\"Other\",0.95*0.95,0.98*0.95)),3)","v":66.709000000000003}]
[1432,null,{"$f":"Calc_WHDHC!G1438","v":963},null,null,{"$f":"ROUND(IF(Calc_WHDHC!H1438<0,Calc_WHDHC!I1438*IF(Input!$B$4=\"Other\",0.95*0.95,0.98*0.95),2*PI()*Calc_WHDHC!G1438/60*Calc_WHDHC!H1438/1000),3)","v":143.90600000000001},null,null,1432,null,"-",null,null,{"$f":"Calc_WHDHC!J1438/3.6/(2*Input!$B$5*PI())*60","v":178.06636030340624},null,null,{"$f":"ROUND(IF(Calc_WHDHC!H1438<0,Calc_WHDHC!I1438,2*PI()*Calc_WHDHC!G1438/60*Calc_WHDHC!H1438/1000*IF(Input!$B$4=\"Other\",0.95*0.95,0.98*0.95)),3)","v":133.976}]
[1433,null,{"$f":"Calc_WHDHC!G1439","v":960},null,null,{"$f":"ROUND(IF(Calc_WHDHC!H1439<0,Calc_WHDHC!I1439*IF(Input!$B$4=\"Other\",0.95*0.95,0.98*0.95),2*PI()*Calc_WHDHC!G1439/60*Calc_WHDHC!H1439/1000),3)","v":159.54300000000001},null,null,1433,null,"-",null,null,{"$f":"Calc_WHDHC!J1439/3.6/(2*Input!$B$5*PI())*60","v":177.56796277806626},null,null,{"$f":"ROUND(IF(Calc_WHDHC!H1439<0,Calc_WHDHC!I1439,2*PI()*Calc_WHDHC!G1439/60*Calc_WHDHC!H1439/1000*IF(Input!$B$4=\"Other\",0.95*0.95,0.98*0.95)),3)","v":148.53399999999999}]
[1434,null,{"$f":"Calc_WHDHC!G1440","v":961},null,null,{"$f":"ROUND(IF(Calc_WHDHC!H1440<0,Calc_WHDHC!I1440*IF(Input!$B$4=\"Other\",0.95*0.95,0.98*0.95),2*PI()*Calc_WHDHC!G1440/60*Calc_WHDHC!H1440/1000),3)","v":174.905},null,null,1434,null,"-",null,null,{"$f":"Calc_WHDHC!J1440/3.6/(2*Input!$B$5*PI())*60","v":177.95560529777512},null,null,{"$f":"ROUND(IF(Calc_WHDHC!H1440<0,Calc_WHDHC!I1440,2*PI()*Calc_WHDHC!G1440/60*Calc_WHDHC!H1440/1000*IF(Input!$B$4=\"Other\",0.95*0.95,0.98*0.95)),3)","v":162.83600000000001}]
[1435,null,{"$f":"Calc_WHDHC!G1441","v":976},null,null,{"$f":"ROUND(IF(Calc_WHDHC!H1441<0,Calc_WHDHC!I1441*IF(Input!$B$4=\"Other\",0.95*0.95,0.98*0.95),2*PI()*Calc_WHDHC!G1441/60*Calc_WHDHC!H1441/1000),3)","v":181.928},null,null,1435,null,"-",null,null,{"$f":"Calc_WHDHC!J1441/3.6/(2*Input!$B$5*PI())*60","v":180.58603668151383},null,null,{"$f":"ROUND(IF(Calc_WHDHC!H1441<0,Calc_WHDHC!I1441,2*PI()*Calc_WHDHC!G1441/60*Calc_WHDHC!H1441/1000*IF(Input!$B$4=\"Other\",0.95*0.95,0.98*0.95)),3)","v":169.375}]
[1436,null,{"$f":"Calc_WHDHC!G1442","v":992},null,null,{"$f":"ROUND(IF(Calc_WHDHC!H1442<0,Calc_WHDHC!I1442*IF(Input!$B$4=\"Other\",0.95*0.95,0.98*0.95),2*PI()*Calc_WHDHC!G1442/60*Calc_WHDHC!H1442/1000),3)","v":182.93600000000001},null,null,1436,null,"-",null,null,{"$f":"Calc_WHDHC!J1442/3.6/(2*Input!$B$5*PI())*60","v":183.43797807651475},null,null,{"$f":"ROUND(IF(Calc_WHDHC!H1442<0,Calc_WHDHC!I1442,2*PI()*Calc_WHDHC!G1442/60*Calc_WHDHC!H1442/1000*IF(Input!$B$4=\"Other\",0.95*0.95,0.98*0.95)),3)","v":170.31399999999999}]
[1437,null,{"$f":"Calc_WHDHC!G1443","v":1005},null,null,{"$f":"ROUND(IF(Calc_WHDHC!H1443<0,Calc_WHDHC!I1443*IF(Input!$B$4=\"Other\",0.95*0.95,0.98*0.95),2*PI()*Calc_WHDHC!G1443/60*Calc_WHDHC!H1443/1000),3)","v":205.22499999999999},null,null,1437,null,"-",null,null,{"$f":"Calc_WHDHC!J1443/3.6/(2*Input!$B$5*PI())*60","v":185.76383319476793},null,null,{"$f":"ROUND(IF(Calc_WHDHC!H1443<0,Calc_WHDHC!I1443,2*PI()*Calc_WHDHC!G1443/60*Calc_WHDHC!H1443/1000*IF(Input!$B$4=\"Other\",0.95*0.95,0.98*0.95)),3)","v":191.06399999999999}]
[1438,null,{"$f":"Calc_WHDHC!G1444","v":1025},null,null,{"$f":"ROUND(IF(Calc_WHDHC!H1444<0,Calc_WHDHC!I1444*IF(Input!$B$4=\"Other\",0.95*0.95,0.98*0.95),2*PI()*Calc_WHDHC!G1444/60*Calc_WHDHC!H1444/1000),3)","v":217.46600000000001},null,null,1438,null,"-",null,null,{"$f":"Calc_WHDHC!J1444/3.6/(2*Input!$B$5*PI())*60","v":189.30799337496322},null,null,{"$f":"ROUND(IF(Calc_WHDHC!H1444<0,Calc_WHDHC!I1444,2*PI()*Calc_WHDHC!G1444/60*Calc_WHDHC!H1444/1000*IF(Input!$B$4=\"Other\",0.95*0.95,0.98*0.95)),3)","v":202.46100000000001}]
[1439,null,{"$f":"Calc_WHDHC!G1445","v":1039},null,null,{"$f":"ROUND(IF(Calc_WHDHC!H1445<0,Calc_WHDHC!I1445*IF(Input!$B$4=\"Other\",0.95*0.95,0.98*0.95),2*PI()*Calc_WHDHC!G1445/60*Calc_WHDHC!H1445/1000),3)","v":219.67500000000001},null,null,1439,null,"-",null,null,{"$f":"Calc_WHDHC!J1445/3.6/(2*Input!$B$5*PI())*60","v":192.04917976433302},null,null,{"$f":"ROUND(IF(Calc_WHDHC!H1445<0,Calc_WHDHC!I1445,2*PI()*Calc_WHDHC!G1445/60*Calc_WHDHC!H1445/1000*IF(Input!$B$4=\"Other\",0.95*0.95,0.98*0.95)),3)","v":204.517}]
[1440,null,{"$f":"Calc_WHDHC!G1446","v":1058},null,null,{"$f":"ROUND(IF(Calc_WHDHC!H1446<0,Calc_WHDHC!I1446*IF(Input!$B$4=\"Other\",0.95*0.95,0.98*0.95),2*PI()*Calc_WHDHC!G1446/60*Calc_WHDHC!H1446/1000),3)","v":227.459},null,null,1440,null,"-",null,null,{"$f":"Calc_WHDHC!J1446/3.6/(2*Input!$B$5*PI())*60","v":195.39951868467386},null,null,{"$f":"ROUND(IF(Calc_WHDHC!H1446<0,Calc_WHDHC!I1446,2*PI()*Calc_WHDHC!G1446/60*Calc_WHDHC!H1446/1000*IF(Input!$B$4=\"Other\",0.95*0.95,0.98*0.95)),3)","v":211.76400000000001}]
[1441,null,{"$f":"Calc_WHDHC!G1447","v":1078},null,null,{"$f":"ROUND(IF(Calc_WHDHC!H1447<0,Calc_WHDHC!I1447*IF(Input!$B$4=\"Other\",0.95*0.95,0.98*0.95),2*PI()*Calc_WHDHC!G1447/60*Calc_WHDHC!H1447/1000),3)","v":232.88800000000001},null,null,1441,null,"-",null,null,{"$f":"Calc_WHDHC!J1447/3.6/(2*Input!$B$5*PI())*60","v":199.0544338705003},null,null,{"$f":"ROUND(IF(Calc_WHDHC!H1447<0,Calc_WHDHC!I1447,2*PI()*Calc_WHDHC!G1447/60*Calc_WHDHC!H1447/1000*IF(Input!$B$4=\"Other\",0.95*0.95,0.98*0.95)),3)","v":216.81800000000001}]
[1442,null,{"$f":"Calc_WHDHC!G1448","v":1100},null,null,{"$f":"ROUND(IF(Calc_WHDHC!H1448<0,Calc_WHDHC!I1448*IF(Input!$B$4=\"Other\",0.95*0.95,0.98*0.95),2*PI()*Calc_WHDHC!G1448/60*Calc_WHDHC!H1448/1000),3)","v":238.90799999999999},null,null,1442,null,"-",null,null,{"$f":"Calc_WHDHC!J1448/3.6/(2*Input!$B$5*PI())*60","v":203.09699157603552},null,null,{"$f":"ROUND(IF(Calc_WHDHC!H1448<0,Calc_WHDHC!I1448,2*PI()*Calc_WHDHC!G1448/60*Calc_WHDHC!H1448/1000*IF(Input!$B$4=\"Other\",0.95*0.95,0.98*0.95)),3)","v":222.423}]
[1443,null,{"$f":"Calc_WHDHC!G1449","v":1120},null,null,{"$f":"ROUND(IF(Calc_WHDHC!H1449<0,Calc_WHDHC!I1449*IF(Input!$B$4=\"Other\",0.95*0.95,0.98*0.95),2*PI()*Calc_WHDHC!G1449/60*Calc_WHDHC!H1449/1000),3)","v":243.017},null,null,1443,null,"-",null,null,{"$f":"Calc_WHDHC!J1449/3.6/(2*Input!$B$5*PI())*60","v":206.66884050763866},null,null,{"$f":"ROUND(IF(Calc_WHDHC!H1449<0,Calc_WHDHC!I1449,2*PI()*Calc_WHDHC!G1449/60*Calc_WHDHC!H1449/1000*IF(Input!$B$4=\"Other\",0.95*0.95,0.98*0.95)),3)","v":226.249}]
[1444,null,{"$f":"Calc_WHDHC!G1450","v":1138},null,null,{"$f":"ROUND(IF(Calc_WHDHC!H1450<0,Calc_WHDHC!I1450*IF(Input!$B$4=\"Other\",0.95*0.95,0.98*0.95),2*PI()*Calc_WHDHC!G1450/60*Calc_WHDHC!H1450/1000),3)","v":245.73099999999999},null,null,1444,null,"-",null,null,{"$f":"Calc_WHDHC!J1450/3.6/(2*Input!$B$5*PI())*60","v":209.90842442234842},null,null,{"$f":"ROUND(IF(Calc_WHDHC!H1450<0,Calc_WHDHC!I1450,2*PI()*Calc_WHDHC!G1450/60*Calc_WHDHC!H1450/1000*IF(Input!$B$4=\"Other\",0.95*0.95,0.98*0.95)),3)","v":228.77500000000001}]
[1445,null,{"$f":"Calc_WHDHC!G1451","v":1160},null,null,{"$f":"ROUND(IF(Calc_WHDHC!H1451<0,Calc_WHDHC!I1451*IF(Input!$B$4=\"Other\",0.95*0.95,0.98*0.95),2*PI()*Calc_WHDHC!G1451/60*Calc_WHDHC!H1451/1000),3)","v":247.93},null,null,1445,null,"-",null,null,{"$f":"Calc_WHDHC!J1451/3.6/(2*Input!$B$5*PI())*60","v":213.86791587366031},null,null,{"$f":"ROUND(IF(Calc_WHDHC!H1451<0,Calc_WHDHC!I1451,2*PI()*Calc_WHDHC!G1451/60*Calc_WHDHC!H1451/1000*IF(Input!$B$4=\"Other\",0.95*0.95,0.98*0.95)),3)","v":230.82300000000001}]
[1446,null,{"$f":"Calc_WHDHC!G1452","v":1181},null,null,{"$f":"ROUND(IF(Calc_WHDHC!H1452<0,Calc_WHDHC!I1452*IF(Input!$B$4=\"Other\",0.95*0.95,0.98*0.95),2*PI()*Calc_WHDHC!G1452/60*Calc_WHDHC!H1452/1000),3)","v":250.935},null,null,1446,null,"-",null,null,{"$f":"Calc_WHDHC!J1452/3.6/(2*Input!$B$5*PI())*60","v":217.71665231934119},null,null,{"$f":"ROUND(IF(Calc_WHDHC!H1452<0,Calc_WHDHC!I1452,2*PI()*Calc_WHDHC!G1452/60*Calc_WHDHC!H1452/1000*IF(Input!$B$4=\"Other\",0.95*0.95,0.98*0.95)),3)","v":233.62}]
[1447,null,{"$f":"Calc_WHDHC!G1453","v":1191},null,null,{"$f":"ROUND(IF(Calc_WHDHC!H1453<0,Calc_WHDHC!I1453*IF(Input!$B$4=\"Other\",0.95*0.95,0.98*0.95),2*PI()*Calc_WHDHC!G1453/60*Calc_WHDHC!H1453/1000),3)","v":252.06200000000001},null,null,1447,null,"-",null,null,{"$f":"Calc_WHDHC!J1453/3.6/(2*Input!$B$5*PI())*60","v":219.62717616647771},null,null,{"$f":"ROUND(IF(Calc_WHDHC!H1453<0,Calc_WHDHC!I1453,2*PI()*Calc_WHDHC!G1453/60*Calc_WHDHC!H1453/1000*IF(Input!$B$4=\"Other\",0.95*0.95,0.98*0.95)),3)","v":234.66900000000001}]
[1448,null,{"$f":"Calc_WHDHC!G1454","v":1204},null,null,{"$f":"ROUND(IF(Calc_WHDHC!H1454<0,Calc_WHDHC!I1454*IF(Input!$B$4=\"Other\",0.95*0.95,0.98*0.95),2*PI()*Calc_WHDHC!G1454/60*Calc_WHDHC!H1454/1000),3)","v":255.31700000000001},null,null,1448,null,"-",null,null,{"$f":"Calc_WHDHC!J1454/3.6/(2*Input!$B$5*PI())*60","v":222.063786290362},null,null,{"$f":"ROUND(IF(Calc_WHDHC!H1454<0,Calc_WHDHC!I1454,2*PI()*Calc_WHDHC!G1454/60*Calc_WHDHC!H1454/1000*IF(Input!$B$4=\"Other\",0.95*0.95,0.98*0.95)),3)","v":237.7}]
[1449,null,{"$f":"Calc_WHDHC!G1455","v":1227},null,null,{"$f":"ROUND(IF(Calc_WHDHC!H1455<0,Calc_WHDHC!I1455*IF(Input!$B$4=\"Other\",0.95*0.95,0.98*0.95),2*PI()*Calc_WHDHC!G1455/60*Calc_WHDHC!H1455/1000),3)","v":257.11099999999999},null,null,1449,null,"-",null,null,{"$f":"Calc_WHDHC!J1455/3.6/(2*Input!$B$5*PI())*60","v":226.13403274730501},null,null,{"$f":"ROUND(IF(Calc_WHDHC!H1455<0,Calc_WHDHC!I1455,2*PI()*Calc_WHDHC!G1455/60*Calc_WHDHC!H1455/1000*IF(Input!$B$4=\"Other\",0.95*0.95,0.98*0.95)),3)","v":239.37}]
[1450,null,{"$f":"Calc_WHDHC!G1456","v":1234},null,null,{"$f":"ROUND(IF(Calc_WHDHC!H1456<0,Calc_WHDHC!I1456*IF(Input!$B$4=\"Other\",0.95*0.95,0.98*0.95),2*PI()*Calc_WHDHC!G1456/60*Calc_WHDHC!H1456/1000),3)","v":260.774},null,null,1450,null,"-",null,null,{"$f":"Calc_WHDHC!J1456/3.6/(2*Input!$B$5*PI())*60","v":227.35233780924716},null,null,{"$f":"ROUND(IF(Calc_WHDHC!H1456<0,Calc_WHDHC!I1456,2*PI()*Calc_WHDHC!G1456/60*Calc_WHDHC!H1456/1000*IF(Input!$B$4=\"Other\",0.95*0.95,0.98*0.95)),3)","v":242.78100000000001}]
[1451,null,{"$f":"Calc_WHDHC!G1457","v":1247},null,null,{"$f":"ROUND(IF(Calc_WHDHC!H1457<0,Calc_WHDHC!I1457*IF(Input!$B$4=\"Other\",0.95*0.95,0.98*0.95),2*PI()*Calc_WHDHC!G1457/60*Calc_WHDHC!H1457/1000),3)","v":259.21199999999999},null,null,1451,null,"-",null,null,{"$f":"Calc_WHDHC!J1457/3.6/(2*Input!$B$5*PI())*60","v":229.56743792186924},null,null,{"$f":"ROUND(IF(Calc_WHDHC!H1457<0,Calc_WHDHC!I1457,2*PI()*Calc_WHDHC!G1457/60*Calc_WHDHC!H1457/1000*IF(Input!$B$4=\"Other\",0.95*0.95,0.98*0.95)),3)","v":241.327}]
[1452,null,{"$f":"Calc_WHDHC!G1458","v":1255},null,null,{"$f":"ROUND(IF(Calc_WHDHC!H1458<0,Calc_WHDHC!I1458*IF(Input!$B$4=\"Other\",0.95*0.95,0.98*0.95),2*PI()*Calc_WHDHC!G1458/60*Calc_WHDHC!H1458/1000),3)","v":261.79500000000002},null,null,1452,null,"-",null,null,{"$f":"Calc_WHDHC!J1458/3.6/(2*Input!$B$5*PI())*60","v":231.00725299507357},null,null,{"$f":"ROUND(IF(Calc_WHDHC!H1458<0,Calc_WHDHC!I1458,2*PI()*Calc_WHDHC!G1458/60*Calc_WHDHC!H1458/1000*IF(Input!$B$4=\"Other\",0.95*0.95,0.98*0.95)),3)","v":243.73099999999999}]
[1453,null,{"$f":"Calc_WHDHC!G1459","v":1260},null,null,{"$f":"ROUND(IF(Calc_WHDHC!H1459<0,Calc_WHDHC!I1459*IF(Input!$B$4=\"Other\",0.95*0.95,0.98*0.95),2*PI()*Calc_WHDHC!G1459/60*Calc_WHDHC!H1459/1000),3)","v":181.95500000000001},null,null,1453,null,"-",null,null,{"$f":"Calc_WHDHC!J1459/3.6/(2*Input!$B$5*PI())*60","v":232.00404804575354},null,null,{"$f":"ROUND(IF(Calc_WHDHC!H1459<0,Calc_WHDHC!I1459,2*PI()*Calc_WHDHC!G1459/60*Calc_WHDHC!H1459/1000*IF(Input!$B$4=\"Other\",0.95*0.95,0.98*0.95)),3)","v":169.4}]
[1454,null,{"$f":"Calc_WHDHC!G1460","v":1263},null,null,{"$f":"ROUND(IF(Calc_WHDHC!H1460<0,Calc_WHDHC!I1460*IF(Input!$B$4=\"Other\",0.95*0.95,0.98*0.95),2*PI()*Calc_WHDHC!G1460/60*Calc_WHDHC!H1460/1000),3)","v":0},null,null,1454,null,"-",null,null,{"$f":"Calc_WHDHC!J1460/3.6/(2*Input!$B$5*PI())*60","v":231.20107425492799},null,null,{"$f":"ROUND(IF(Calc_WHDHC!H1460<0,Calc_WHDHC!I1460,2*PI()*Calc_WHDHC!G1460/60*Calc_WHDHC!H1460/1000*IF(Input!$B$4=\"Other\",0.95*0.95,0.98*0.95)),3)","v":0}]
[1455,null,{"$f":"Calc_WHDHC!G1461","v":1263},null,null,{"$f":"ROUND(IF(Calc_WHDHC!H1461<0,Calc_WHDHC!I1461*IF(Input!$B$4=\"Other\",0.95*0.95,0.98*0.95),2*PI()*Calc_WHDHC!G1461/60*Calc_WHDHC!H1461/1000),3)","v":-1.587},null,null,1455,null,"-",null,null,{"$f":"Calc_WHDHC!J1461/3.6/(2*Input!$B$5*PI())*60","v":232.61320057672458},null,null,{"$f":"ROUND(IF(Calc_WHDHC!H1461<0,Calc_WHDHC!I1461,2*PI()*Calc_WHDHC!G1461/60*Calc_WHDHC!H1461/1000*IF(Input!$B$4=\"Other\",0.95*0.95,0.98*0.95)),3)","v":-1.7050000000000001}]
[1456,null,{"$f":"Calc_WHDHC!G1462","v":1255},null,null,{"$f":"ROUND(IF(Calc_WHDHC!H1462<0,Calc_WHDHC!I1462*IF(Input!$B$4=\"Other\",0.95*0.95,0.98*0.95),2*PI()*Calc_WHDHC!G1462/60*Calc_WHDHC!H1462/1000),3)","v":-0.19600000000000001},null,null,1456,null,"-",null,null,{"$f":"Calc_WHDHC!J1462/3.6/(2*Input!$B$5*PI())*60","v":231.00725299507357},null,null,{"$f":"ROUND(IF(Calc_WHDHC!H1462<0,Calc_WHDHC!I1462,2*PI()*Calc_WHDHC!G1462/60*Calc_WHDHC!H1462/1000*IF(Input!$B$4=\"Other\",0.95*0.95,0.98*0.95)),3)","v":-0.21}]
[1457,null,{"$f":"Calc_WHDHC!G1463","v":1248},null,null,{"$f":"ROUND(IF(Calc_WHDHC!H1463<0,Calc_WHDHC!I1463*IF(Input!$B$4=\"Other\",0.95*0.95,0.98*0.95),2*PI()*Calc_WHDHC!G1463/60*Calc_WHDHC!H1463/1000),3)","v":0},null,null,1457,null,"-",null,null,{"$f":"Calc_WHDHC!J1463/3.6/(2*Input!$B$5*PI())*60","v":229.78894793313142},null,null,{"$f":"ROUND(IF(Calc_WHDHC!H1463<0,Calc_WHDHC!I1463,2*PI()*Calc_WHDHC!G1463/60*Calc_WHDHC!H1463/1000*IF(Input!$B$4=\"Other\",0.95*0.95,0.98*0.95)),3)","v":0}]
[1458,null,{"$f":"Calc_WHDHC!G1464","v":1244},null,null,{"$f":"ROUND(IF(Calc_WHDHC!H1464<0,Calc_WHDHC!I1464*IF(Input!$B$4=\"Other\",0.95*0.95,0.98*0.95),2*PI()*Calc_WHDHC!G1464/60*Calc_WHDHC!H1464/1000),3)","v":-0.214},null,null,1458,null,"-",null,null,{"$f":"Calc_WHDHC!J1464/3.6/(2*Input!$B$5*PI())*60","v":229.17979540216032},null,null,{"$f":"ROUND(IF(Calc_WHDHC!H1464<0,Calc_WHDHC!I1464,2*PI()*Calc_WHDHC!G1464/60*Calc_WHDHC!H1464/1000*IF(Input!$B$4=\"Other\",0.95*0.95,0.98*0.95)),3)","v":-0.23}]
[1459,null,{"$f":"Calc_WHDHC!G1465","v":1237},null,null,{"$f":"ROUND(IF(Calc_WHDHC!H1465<0,Calc_WHDHC!I1465*IF(Input!$B$4=\"Other\",0.95*0.95,0.98*0.95),2*PI()*Calc_WHDHC!G1465/60*Calc_WHDHC!H1465/1000),3)","v":-1.206},null,null,1459,null,"-",null,null,{"$f":"Calc_WHDHC!J1465/3.6/(2*Input!$B$5*PI())*60","v":227.96149034021823},null,null,{"$f":"ROUND(IF(Calc_WHDHC!H1465<0,Calc_WHDHC!I1465,2*PI()*Calc_WHDHC!G1465/60*Calc_WHDHC!H1465/1000*IF(Input!$B$4=\"Other\",0.95*0.95,0.98*0.95)),3)","v":-1.2949999999999999}]
[1460,null,{"$f":"Calc_WHDHC!G1466","v":1230},null,null,{"$f":"ROUND(IF(Calc_WHDHC!H1466<0,Calc_WHDHC!I1466*IF(Input!$B$4=\"Other\",0.95*0.95,0.98*0.95),2*PI()*Calc_WHDHC!G1466/60*Calc_WHDHC!H1466/1000),3)","v":0},null,null,1460,null,"-",null,null,{"$f":"Calc_WHDHC!J1466/3.6/(2*Input!$B$5*PI())*60","v":226.43860901279055},null,null,{"$f":"ROUND(IF(Calc_WHDHC!H1466<0,Calc_WHDHC!I1466,2*PI()*Calc_WHDHC!G1466/60*Calc_WHDHC!H1466/1000*IF(Input!$B$4=\"Other\",0.95*0.95,0.98*0.95)),3)","v":0}]
[1461,null,{"$f":"Calc_WHDHC!G1467","v":1230},null,null,{"$f":"ROUND(IF(Calc_WHDHC!H1467<0,Calc_WHDHC!I1467*IF(Input!$B$4=\"Other\",0.95*0.95,0.98*0.95),2*PI()*Calc_WHDHC!G1467/60*Calc_WHDHC!H1467/1000),3)","v":-6.6289999999999996},null,null,1461,null,"-",null,null,{"$f":"Calc_WHDHC!J1467/3.6/(2*Input!$B$5*PI())*60","v":226.5216752670139},null,null,{"$f":"ROUND(IF(Calc_WHDHC!H1467<0,Calc_WHDHC!I1467,2*PI()*Calc_WHDHC!G1467/60*Calc_WHDHC!H1467/1000*IF(Input!$B$4=\"Other\",0.95*0.95,0.98*0.95)),3)","v":-7.12}]
[1462,null,{"$f":"Calc_WHDHC!G1468","v":1218},null,null,{"$f":"ROUND(IF(Calc_WHDHC!H1468<0,Calc_WHDHC!I1468*IF(Input!$B$4=\"Other\",0.95*0.95,0.98*0.95),2*PI()*Calc_WHDHC!G1468/60*Calc_WHDHC!H1468/1000),3)","v":0},null,null,1462,null,"-",null,null,{"$f":"Calc_WHDHC!J1468/3.6/(2*Input!$B$5*PI())*60","v":224.41733016002294},null,null,{"$f":"ROUND(IF(Calc_WHDHC!H1468<0,Calc_WHDHC!I1468,2*PI()*Calc_WHDHC!G1468/60*Calc_WHDHC!H1468/1000*IF(Input!$B$4=\"Other\",0.95*0.95,0.98*0.95)),3)","v":0}]
[1463,null,{"$f":"Calc_WHDHC!G1469","v":1212},null,null,{"$f":"ROUND(IF(Calc_WHDHC!H1469<0,Calc_WHDHC!I1469*IF(Input!$B$4=\"Other\",0.95*0.95,0.98*0.95),2*PI()*Calc_WHDHC!G1469/60*Calc_WHDHC!H1469/1000),3)","v":0},null,null,1463,null,"-",null,null,{"$f":"Calc_WHDHC!J1469/3.6/(2*Input!$B$5*PI())*60","v":223.50360136356633},null,null,{"$f":"ROUND(IF(Calc_WHDHC!H1469<0,Calc_WHDHC!I1469,2*PI()*Calc_WHDHC!G1469/60*Calc_WHDHC!H1469/1000*IF(Input!$B$4=\"Other\",0.95*0.95,0.98*0.95)),3)","v":0}]
[1464,null,{"$f":"Calc_WHDHC!G1470","v":1211},null,null,{"$f":"ROUND(IF(Calc_WHDHC!H1470<0,Calc_WHDHC!I1470*IF(Input!$B$4=\"Other\",0.95*0.95,0.98*0.95),2*PI()*Calc_WHDHC!G1470/60*Calc_WHDHC!H1470/1000),3)","v":0},null,null,1464,null,"-",null,null,{"$f":"Calc_WHDHC!J1470/3.6/(2*Input!$B$5*PI())*60","v":223.1990250980808},null,null,{"$f":"ROUND(IF(Calc_WHDHC!H1470<0,Calc_WHDHC!I1470,2*PI()*Calc_WHDHC!G1470/60*Calc_WHDHC!H1470/1000*IF(Input!$B$4=\"Other\",0.95*0.95,0.98*0.95)),3)","v":0}]
[1465,null,{"$f":"Calc_WHDHC!G1471","v":1208},null,null,{"$f":"ROUND(IF(Calc_WHDHC!H1471<0,Calc_WHDHC!I1471*IF(Input!$B$4=\"Other\",0.95*0.95,0.98*0.95),2*PI()*Calc_WHDHC!G1471/60*Calc_WHDHC!H1471/1000),3)","v":0},null,null,1465,null,"-",null,null,{"$f":"Calc_WHDHC!J1471/3.6/(2*Input!$B$5*PI())*60","v":222.78369382696414},null,null,{"$f":"ROUND(IF(Calc_WHDHC!H1471<0,Calc_WHDHC!I1471,2*PI()*Calc_WHDHC!G1471/60*Calc_WHDHC!H1471/1000*IF(Input!$B$4=\"Other\",0.95*0.95,0.98*0.95)),3)","v":0}]
[1466,null,{"$f":"Calc_WHDHC!G1472","v":1208},null,null,{"$f":"ROUND(IF(Calc_WHDHC!H1472<0,Calc_WHDHC!I1472*IF(Input!$B$4=\"Other\",0.95*0.95,0.98*0.95),2*PI()*Calc_WHDHC!G1472/60*Calc_WHDHC!H1472/1000),3)","v":0},null,null,1466,null,"-",null,null,{"$f":"Calc_WHDHC!J1472/3.6/(2*Input!$B$5*PI())*60","v":222.67293882133308},null,null,{"$f":"ROUND(IF(Calc_WHDHC!H1472<0,Calc_WHDHC!I1472,2*PI()*Calc_WHDHC!G1472/60*Calc_WHDHC!H1472/1000*IF(Input!$B$4=\"Other\",0.95*0.95,0.98*0.95)),3)","v":0}]
[1467,null,{"$f":"Calc_WHDHC!G1473","v":1208},null,null,{"$f":"ROUND(IF(Calc_WHDHC!H1473<0,Calc_WHDHC!I1473*IF(Input!$B$4=\"Other\",0.95*0.95,0.98*0.95),2*PI()*Calc_WHDHC!G1473/60*Calc_WHDHC!H1473/1000),3)","v":22.138000000000002},null,null,1467,null,"-",null,null,{"$f":"Calc_WHDHC!J1473/3.6/(2*Input!$B$5*PI())*60","v":222.67293882133308},null,null,{"$f":"ROUND(IF(Calc_WHDHC!H1473<0,Calc_WHDHC!I1473,2*PI()*Calc_WHDHC!G1473/60*Calc_WHDHC!H1473/1000*IF(Input!$B$4=\"Other\",0.95*0.95,0.98*0.95)),3)","v":20.61}]
[1468,null,{"$f":"Calc_WHDHC!G1474","v":1206},null,null,{"$f":"ROUND(IF(Calc_WHDHC!H1474<0,Calc_WHDHC!I1474*IF(Input!$B$4=\"Other\",0.95*0.95,0.98*0.95),2*PI()*Calc_WHDHC!G1474/60*Calc_WHDHC!H1474/1000),3)","v":44.581000000000003},null,null,1468,null,"-",null,null,{"$f":"Calc_WHDHC!J1474/3.6/(2*Input!$B$5*PI())*60","v":222.17454129599309},null,null,{"$f":"ROUND(IF(Calc_WHDHC!H1474<0,Calc_WHDHC!I1474,2*PI()*Calc_WHDHC!G1474/60*Calc_WHDHC!H1474/1000*IF(Input!$B$4=\"Other\",0.95*0.95,0.98*0.95)),3)","v":41.505000000000003}]
[1469,null,{"$f":"Calc_WHDHC!G1475","v":1204},null,null,{"$f":"ROUND(IF(Calc_WHDHC!H1475<0,Calc_WHDHC!I1475*IF(Input!$B$4=\"Other\",0.95*0.95,0.98*0.95),2*PI()*Calc_WHDHC!G1475/60*Calc_WHDHC!H1475/1000),3)","v":56.484999999999999},null,null,1469,null,"-",null,null,{"$f":"Calc_WHDHC!J1475/3.6/(2*Input!$B$5*PI())*60","v":221.86996503050756},null,null,{"$f":"ROUND(IF(Calc_WHDHC!H1475<0,Calc_WHDHC!I1475,2*PI()*Calc_WHDHC!G1475/60*Calc_WHDHC!H1475/1000*IF(Input!$B$4=\"Other\",0.95*0.95,0.98*0.95)),3)","v":52.588000000000001}]
[1470,null,{"$f":"Calc_WHDHC!G1476","v":1208},null,null,{"$f":"ROUND(IF(Calc_WHDHC!H1476<0,Calc_WHDHC!I1476*IF(Input!$B$4=\"Other\",0.95*0.95,0.98*0.95),2*PI()*Calc_WHDHC!G1476/60*Calc_WHDHC!H1476/1000),3)","v":58.823},null,null,1470,null,"-",null,null,{"$f":"Calc_WHDHC!J1476/3.6/(2*Input!$B$5*PI())*60","v":222.58987256710975},null,null,{"$f":"ROUND(IF(Calc_WHDHC!H1476<0,Calc_WHDHC!I1476,2*PI()*Calc_WHDHC!G1476/60*Calc_WHDHC!H1476/1000*IF(Input!$B$4=\"Other\",0.95*0.95,0.98*0.95)),3)","v":54.764000000000003}]
[1471,null,{"$f":"Calc_WHDHC!G1477","v":1212},null,null,{"$f":"ROUND(IF(Calc_WHDHC!H1477<0,Calc_WHDHC!I1477*IF(Input!$B$4=\"Other\",0.95*0.95,0.98*0.95),2*PI()*Calc_WHDHC!G1477/60*Calc_WHDHC!H1477/1000),3)","v":70.186999999999998},null,null,1471,null,"-",null,null,{"$f":"Calc_WHDHC!J1477/3.6/(2*Input!$B$5*PI())*60","v":223.50360136356633},null,null,{"$f":"ROUND(IF(Calc_WHDHC!H1477<0,Calc_WHDHC!I1477,2*PI()*Calc_WHDHC!G1477/60*Calc_WHDHC!H1477/1000*IF(Input!$B$4=\"Other\",0.95*0.95,0.98*0.95)),3)","v":65.343999999999994}]
[1472,null,{"$f":"Calc_WHDHC!G1478","v":1218},null,null,{"$f":"ROUND(IF(Calc_WHDHC!H1478<0,Calc_WHDHC!I1478*IF(Input!$B$4=\"Other\",0.95*0.95,0.98*0.95),2*PI()*Calc_WHDHC!G1478/60*Calc_WHDHC!H1478/1000),3)","v":105.1},null,null,1472,null,"-",null,null,{"$f":"Calc_WHDHC!J1478/3.6/(2*Input!$B$5*PI())*60","v":224.30657515439185},null,null,{"$f":"ROUND(IF(Calc_WHDHC!H1478<0,Calc_WHDHC!I1478,2*PI()*Calc_WHDHC!G1478/60*Calc_WHDHC!H1478/1000*IF(Input!$B$4=\"Other\",0.95*0.95,0.98*0.95)),3)","v":97.847999999999999}]
[1473,null,{"$f":"Calc_WHDHC!G1479","v":1226},null,null,{"$f":"ROUND(IF(Calc_WHDHC!H1479<0,Calc_WHDHC!I1479*IF(Input!$B$4=\"Other\",0.95*0.95,0.98*0.95),2*PI()*Calc_WHDHC!G1479/60*Calc_WHDHC!H1479/1000),3)","v":225.19},null,null,1473,null,"-",null,null,{"$f":"Calc_WHDHC!J1479/3.6/(2*Input!$B$5*PI())*60","v":225.71870147618839},null,null,{"$f":"ROUND(IF(Calc_WHDHC!H1479<0,Calc_WHDHC!I1479,2*PI()*Calc_WHDHC!G1479/60*Calc_WHDHC!H1479/1000*IF(Input!$B$4=\"Other\",0.95*0.95,0.98*0.95)),3)","v":209.65199999999999}]
[1474,null,{"$f":"Calc_WHDHC!G1480","v":1239},null,null,{"$f":"ROUND(IF(Calc_WHDHC!H1480<0,Calc_WHDHC!I1480*IF(Input!$B$4=\"Other\",0.95*0.95,0.98*0.95),2*PI()*Calc_WHDHC!G1480/60*Calc_WHDHC!H1480/1000),3)","v":247.429},null,null,1474,null,"-",null,null,{"$f":"Calc_WHDHC!J1480/3.6/(2*Input!$B$5*PI())*60","v":228.15531160007268},null,null,{"$f":"ROUND(IF(Calc_WHDHC!H1480<0,Calc_WHDHC!I1480,2*PI()*Calc_WHDHC!G1480/60*Calc_WHDHC!H1480/1000*IF(Input!$B$4=\"Other\",0.95*0.95,0.98*0.95)),3)","v":230.35599999999999}]
[1475,null,{"$f":"Calc_WHDHC!G1481","v":1251},null,null,{"$f":"ROUND(IF(Calc_WHDHC!H1481<0,Calc_WHDHC!I1481*IF(Input!$B$4=\"Other\",0.95*0.95,0.98*0.95),2*PI()*Calc_WHDHC!G1481/60*Calc_WHDHC!H1481/1000),3)","v":258.73399999999998},null,null,1475,null,"-",null,null,{"$f":"Calc_WHDHC!J1481/3.6/(2*Input!$B$5*PI())*60","v":230.39810046410247},null,null,{"$f":"ROUND(IF(Calc_WHDHC!H1481<0,Calc_WHDHC!I1481,2*PI()*Calc_WHDHC!G1481/60*Calc_WHDHC!H1481/1000*IF(Input!$B$4=\"Other\",0.95*0.95,0.98*0.95)),3)","v":240.881}]
[1476,null,{"$f":"Calc_WHDHC!G1482","v":1264},null,null,{"$f":"ROUND(IF(Calc_WHDHC!H1482<0,Calc_WHDHC!I1482*IF(Input!$B$4=\"Other\",0.95*0.95,0.98*0.95),2*PI()*Calc_WHDHC!G1482/60*Calc_WHDHC!H1482/1000),3)","v":262.084},null,null,1476,null,"-",null,null,{"$f":"Calc_WHDHC!J1482/3.6/(2*Input!$B$5*PI())*60","v":232.72395558235567},null,null,{"$f":"ROUND(IF(Calc_WHDHC!H1482<0,Calc_WHDHC!I1482,2*PI()*Calc_WHDHC!G1482/60*Calc_WHDHC!H1482/1000*IF(Input!$B$4=\"Other\",0.95*0.95,0.98*0.95)),3)","v":244}]
[1477,null,{"$f":"Calc_WHDHC!G1483","v":1276},null,null,{"$f":"ROUND(IF(Calc_WHDHC!H1483<0,Calc_WHDHC!I1483*IF(Input!$B$4=\"Other\",0.95*0.95,0.98*0.95),2*PI()*Calc_WHDHC!G1483/60*Calc_WHDHC!H1483/1000),3)","v":264.83999999999997},null,null,1477,null,"-",null,null,{"$f":"Calc_WHDHC!J1483/3.6/(2*Input!$B$5*PI())*60","v":234.93905569497775},null,null,{"$f":"ROUND(IF(Calc_WHDHC!H1483<0,Calc_WHDHC!I1483,2*PI()*Calc_WHDHC!G1483/60*Calc_WHDHC!H1483/1000*IF(Input!$B$4=\"Other\",0.95*0.95,0.98*0.95)),3)","v":246.566}]
[1478,null,{"$f":"Calc_WHDHC!G1484","v":1285},null,null,{"$f":"ROUND(IF(Calc_WHDHC!H1484<0,Calc_WHDHC!I1484*IF(Input!$B$4=\"Other\",0.95*0.95,0.98*0.95),2*PI()*Calc_WHDHC!G1484/60*Calc_WHDHC!H1484/1000),3)","v":267.38},null,null,1478,null,"-",null,null,{"$f":"Calc_WHDHC!J1484/3.6/(2*Input!$B$5*PI())*60","v":236.51731452522097},null,null,{"$f":"ROUND(IF(Calc_WHDHC!H1484<0,Calc_WHDHC!I1484,2*PI()*Calc_WHDHC!G1484/60*Calc_WHDHC!H1484/1000*IF(Input!$B$4=\"Other\",0.95*0.95,0.98*0.95)),3)","v":248.93100000000001}]
[1479,null,{"$f":"Calc_WHDHC!G1485","v":1296},null,null,{"$f":"ROUND(IF(Calc_WHDHC!H1485<0,Calc_WHDHC!I1485*IF(Input!$B$4=\"Other\",0.95*0.95,0.98*0.95),2*PI()*Calc_WHDHC!G1485/60*Calc_WHDHC!H1485/1000),3)","v":270.61900000000003},null,null,1479,null,"-",null,null,{"$f":"Calc_WHDHC!J1485/3.6/(2*Input!$B$5*PI())*60","v":238.62165963221196},null,null,{"$f":"ROUND(IF(Calc_WHDHC!H1485<0,Calc_WHDHC!I1485,2*PI()*Calc_WHDHC!G1485/60*Calc_WHDHC!H1485/1000*IF(Input!$B$4=\"Other\",0.95*0.95,0.98*0.95)),3)","v":251.947}]
[1480,null,{"$f":"Calc_WHDHC!G1486","v":1301},null,null,{"$f":"ROUND(IF(Calc_WHDHC!H1486<0,Calc_WHDHC!I1486*IF(Input!$B$4=\"Other\",0.95*0.95,0.98*0.95),2*PI()*Calc_WHDHC!G1486/60*Calc_WHDHC!H1486/1000),3)","v":272.48099999999999},null,null,1480,null,"-",null,null,{"$f":"Calc_WHDHC!J1486/3.6/(2*Input!$B$5*PI())*60","v":239.36925592022189},null,null,{"$f":"ROUND(IF(Calc_WHDHC!H1486<0,Calc_WHDHC!I1486,2*PI()*Calc_WHDHC!G1486/60*Calc_WHDHC!H1486/1000*IF(Input!$B$4=\"Other\",0.95*0.95,0.98*0.95)),3)","v":253.68}]
[1481,null,{"$f":"Calc_WHDHC!G1487","v":1304},null,null,{"$f":"ROUND(IF(Calc_WHDHC!H1487<0,Calc_WHDHC!I1487*IF(Input!$B$4=\"Other\",0.95*0.95,0.98*0.95),2*PI()*Calc_WHDHC!G1487/60*Calc_WHDHC!H1487/1000),3)","v":248.12},null,null,1481,null,"-",null,null,{"$f":"Calc_WHDHC!J1487/3.6/(2*Input!$B$5*PI())*60","v":239.89534219696961},null,null,{"$f":"ROUND(IF(Calc_WHDHC!H1487<0,Calc_WHDHC!I1487,2*PI()*Calc_WHDHC!G1487/60*Calc_WHDHC!H1487/1000*IF(Input!$B$4=\"Other\",0.95*0.95,0.98*0.95)),3)","v":230.999}]
[1482,null,{"$f":"Calc_WHDHC!G1488","v":1302},null,null,{"$f":"ROUND(IF(Calc_WHDHC!H1488<0,Calc_WHDHC!I1488*IF(Input!$B$4=\"Other\",0.95*0.95,0.98*0.95),2*PI()*Calc_WHDHC!G1488/60*Calc_WHDHC!H1488/1000),3)","v":184.202},null,null,1482,null,"-",null,null,{"$f":"Calc_WHDHC!J1488/3.6/(2*Input!$B$5*PI())*60","v":239.70152093711516},null,null,{"$f":"ROUND(IF(Calc_WHDHC!H1488<0,Calc_WHDHC!I1488,2*PI()*Calc_WHDHC!G1488/60*Calc_WHDHC!H1488/1000*IF(Input!$B$4=\"Other\",0.95*0.95,0.98*0.95)),3)","v":171.49199999999999}]
[1483,null,{"$f":"Calc_WHDHC!G1489","v":1300},null,null,{"$f":"ROUND(IF(Calc_WHDHC!H1489<0,Calc_WHDHC!I1489*IF(Input!$B$4=\"Other\",0.95*0.95,0.98*0.95),2*PI()*Calc_WHDHC!G1489/60*Calc_WHDHC!H1489/1000),3)","v":132.32400000000001},null,null,1483,null,"-",null,null,{"$f":"Calc_WHDHC!J1489/3.6/(2*Input!$B$5*PI())*60","v":239.3138784174063},null,null,{"$f":"ROUND(IF(Calc_WHDHC!H1489<0,Calc_WHDHC!I1489,2*PI()*Calc_WHDHC!G1489/60*Calc_WHDHC!H1489/1000*IF(Input!$B$4=\"Other\",0.95*0.95,0.98*0.95)),3)","v":123.194}]
[1484,null,{"$f":"Calc_WHDHC!G1490","v":1302},null,null,{"$f":"ROUND(IF(Calc_WHDHC!H1490<0,Calc_WHDHC!I1490*IF(Input!$B$4=\"Other\",0.95*0.95,0.98*0.95),2*PI()*Calc_WHDHC!G1490/60*Calc_WHDHC!H1490/1000),3)","v":95.986999999999995},null,null,1484,null,"-",null,null,{"$f":"Calc_WHDHC!J1490/3.6/(2*Input!$B$5*PI())*60","v":239.72920968852293},null,null,{"$f":"ROUND(IF(Calc_WHDHC!H1490<0,Calc_WHDHC!I1490,2*PI()*Calc_WHDHC!G1490/60*Calc_WHDHC!H1490/1000*IF(Input!$B$4=\"Other\",0.95*0.95,0.98*0.95)),3)","v":89.364000000000004}]
[1485,null,{"$f":"Calc_WHDHC!G1491","v":1306},null,null,{"$f":"ROUND(IF(Calc_WHDHC!H1491<0,Calc_WHDHC!I1491*IF(Input!$B$4=\"Other\",0.95*0.95,0.98*0.95),2*PI()*Calc_WHDHC!G1491/60*Calc_WHDHC!H1491/1000),3)","v":67.971999999999994},null,null,1485,null,"-",null,null,{"$f":"Calc_WHDHC!J1491/3.6/(2*Input!$B$5*PI())*60","v":240.338362219494},null,null,{"$f":"ROUND(IF(Calc_WHDHC!H1491<0,Calc_WHDHC!I1491,2*PI()*Calc_WHDHC!G1491/60*Calc_WHDHC!H1491/1000*IF(Input!$B$4=\"Other\",0.95*0.95,0.98*0.95)),3)","v":63.281999999999996}]
[1486,null,{"$f":"Calc_WHDHC!G1492","v":1304},null,null,{"$f":"ROUND(IF(Calc_WHDHC!H1492<0,Calc_WHDHC!I1492*IF(Input!$B$4=\"Other\",0.95*0.95,0.98*0.95),2*PI()*Calc_WHDHC!G1492/60*Calc_WHDHC!H1492/1000),3)","v":53.529000000000003},null,null,1486,null,"-",null,null,{"$f":"Calc_WHDHC!J1492/3.6/(2*Input!$B$5*PI())*60","v":239.9230309483774},null,null,{"$f":"ROUND(IF(Calc_WHDHC!H1492<0,Calc_WHDHC!I1492,2*PI()*Calc_WHDHC!G1492/60*Calc_WHDHC!H1492/1000*IF(Input!$B$4=\"Other\",0.95*0.95,0.98*0.95)),3)","v":49.835999999999999}]
[1487,null,{"$f":"Calc_WHDHC!G1493","v":1296},null,null,{"$f":"ROUND(IF(Calc_WHDHC!H1493<0,Calc_WHDHC!I1493*IF(Input!$B$4=\"Other\",0.95*0.95,0.98*0.95),2*PI()*Calc_WHDHC!G1493/60*Calc_WHDHC!H1493/1000),3)","v":46.279000000000003},null,null,1487,null,"-",null,null,{"$f":"Calc_WHDHC!J1493/3.6/(2*Input!$B$5*PI())*60","v":238.51090462658081},null,null,{"$f":"ROUND(IF(Calc_WHDHC!H1493<0,Calc_WHDHC!I1493,2*PI()*Calc_WHDHC!G1493/60*Calc_WHDHC!H1493/1000*IF(Input!$B$4=\"Other\",0.95*0.95,0.98*0.95)),3)","v":43.085999999999999}]
[1488,null,{"$f":"Calc_WHDHC!G1494","v":1300},null,null,{"$f":"ROUND(IF(Calc_WHDHC!H1494<0,Calc_WHDHC!I1494*IF(Input!$B$4=\"Other\",0.95*0.95,0.98*0.95),2*PI()*Calc_WHDHC!G1494/60*Calc_WHDHC!H1494/1000),3)","v":45.604999999999997},null,null,1488,null,"-",null,null,{"$f":"Calc_WHDHC!J1494/3.6/(2*Input!$B$5*PI())*60","v":239.12005715755188},null,null,{"$f":"ROUND(IF(Calc_WHDHC!H1494<0,Calc_WHDHC!I1494,2*PI()*Calc_WHDHC!G1494/60*Calc_WHDHC!H1494/1000*IF(Input!$B$4=\"Other\",0.95*0.95,0.98*0.95)),3)","v":42.459000000000003}]
[1489,null,{"$f":"Calc_WHDHC!G1495","v":1298},null,null,{"$f":"ROUND(IF(Calc_WHDHC!H1495<0,Calc_WHDHC!I1495*IF(Input!$B$4=\"Other\",0.95*0.95,0.98*0.95),2*PI()*Calc_WHDHC!G1495/60*Calc_WHDHC!H1495/1000),3)","v":62.526000000000003},null,null,1489,null,"-",null,null,{"$f":"Calc_WHDHC!J1495/3.6/(2*Input!$B$5*PI())*60","v":239.00930215192074},null,null,{"$f":"ROUND(IF(Calc_WHDHC!H1495<0,Calc_WHDHC!I1495,2*PI()*Calc_WHDHC!G1495/60*Calc_WHDHC!H1495/1000*IF(Input!$B$4=\"Other\",0.95*0.95,0.98*0.95)),3)","v":58.212000000000003}]
[1490,null,{"$f":"Calc_WHDHC!G1496","v":1297},null,null,{"$f":"ROUND(IF(Calc_WHDHC!H1496<0,Calc_WHDHC!I1496*IF(Input!$B$4=\"Other\",0.95*0.95,0.98*0.95),2*PI()*Calc_WHDHC!G1496/60*Calc_WHDHC!H1496/1000),3)","v":59.896999999999998},null,null,1490,null,"-",null,null,{"$f":"Calc_WHDHC!J1496/3.6/(2*Input!$B$5*PI())*60","v":238.81548089206635},null,null,{"$f":"ROUND(IF(Calc_WHDHC!H1496<0,Calc_WHDHC!I1496,2*PI()*Calc_WHDHC!G1496/60*Calc_WHDHC!H1496/1000*IF(Input!$B$4=\"Other\",0.95*0.95,0.98*0.95)),3)","v":55.764000000000003}]
[1491,null,{"$f":"Calc_WHDHC!G1497","v":1292},null,null,{"$f":"ROUND(IF(Calc_WHDHC!H1497<0,Calc_WHDHC!I1497*IF(Input!$B$4=\"Other\",0.95*0.95,0.98*0.95),2*PI()*Calc_WHDHC!G1497/60*Calc_WHDHC!H1497/1000),3)","v":52.496000000000002},null,null,1491,null,"-",null,null,{"$f":"Calc_WHDHC!J1497/3.6/(2*Input!$B$5*PI())*60","v":237.90175209560977},null,null,{"$f":"ROUND(IF(Calc_WHDHC!H1497<0,Calc_WHDHC!I1497,2*PI()*Calc_WHDHC!G1497/60*Calc_WHDHC!H1497/1000*IF(Input!$B$4=\"Other\",0.95*0.95,0.98*0.95)),3)","v":48.872999999999998}]
[1492,null,{"$f":"Calc_WHDHC!G1498","v":1296},null,null,{"$f":"ROUND(IF(Calc_WHDHC!H1498<0,Calc_WHDHC!I1498*IF(Input!$B$4=\"Other\",0.95*0.95,0.98*0.95),2*PI()*Calc_WHDHC!G1498/60*Calc_WHDHC!H1498/1000),3)","v":71.793999999999997},null,null,1492,null,"-",null,null,{"$f":"Calc_WHDHC!J1498/3.6/(2*Input!$B$5*PI())*60","v":238.51090462658081},null,null,{"$f":"ROUND(IF(Calc_WHDHC!H1498<0,Calc_WHDHC!I1498,2*PI()*Calc_WHDHC!G1498/60*Calc_WHDHC!H1498/1000*IF(Input!$B$4=\"Other\",0.95*0.95,0.98*0.95)),3)","v":66.84}]
[1493,null,{"$f":"Calc_WHDHC!G1499","v":1300},null,null,{"$f":"ROUND(IF(Calc_WHDHC!H1499<0,Calc_WHDHC!I1499*IF(Input!$B$4=\"Other\",0.95*0.95,0.98*0.95),2*PI()*Calc_WHDHC!G1499/60*Calc_WHDHC!H1499/1000),3)","v":79.503},null,null,1493,null,"-",null,null,{"$f":"Calc_WHDHC!J1499/3.6/(2*Input!$B$5*PI())*60","v":239.12005715755188},null,null,{"$f":"ROUND(IF(Calc_WHDHC!H1499<0,Calc_WHDHC!I1499,2*PI()*Calc_WHDHC!G1499/60*Calc_WHDHC!H1499/1000*IF(Input!$B$4=\"Other\",0.95*0.95,0.98*0.95)),3)","v":74.018000000000001}]
[1494,null,{"$f":"Calc_WHDHC!G1500","v":1297},null,null,{"$f":"ROUND(IF(Calc_WHDHC!H1500<0,Calc_WHDHC!I1500*IF(Input!$B$4=\"Other\",0.95*0.95,0.98*0.95),2*PI()*Calc_WHDHC!G1500/60*Calc_WHDHC!H1500/1000),3)","v":64.108000000000004},null,null,1494,null,"-",null,null,{"$f":"Calc_WHDHC!J1500/3.6/(2*Input!$B$5*PI())*60","v":238.81548089206635},null,null,{"$f":"ROUND(IF(Calc_WHDHC!H1500<0,Calc_WHDHC!I1500,2*PI()*Calc_WHDHC!G1500/60*Calc_WHDHC!H1500/1000*IF(Input!$B$4=\"Other\",0.95*0.95,0.98*0.95)),3)","v":59.683999999999997}]
[1495,null,{"$f":"Calc_WHDHC!G1501","v":1301},null,null,{"$f":"ROUND(IF(Calc_WHDHC!H1501<0,Calc_WHDHC!I1501*IF(Input!$B$4=\"Other\",0.95*0.95,0.98*0.95),2*PI()*Calc_WHDHC!G1501/60*Calc_WHDHC!H1501/1000),3)","v":57.493000000000002},null,null,1495,null,"-",null,null,{"$f":"Calc_WHDHC!J1501/3.6/(2*Input!$B$5*PI())*60","v":239.50769967726077},null,null,{"$f":"ROUND(IF(Calc_WHDHC!H1501<0,Calc_WHDHC!I1501,2*PI()*Calc_WHDHC!G1501/60*Calc_WHDHC!H1501/1000*IF(Input!$B$4=\"Other\",0.95*0.95,0.98*0.95)),3)","v":53.526000000000003}]
[1496,null,{"$f":"Calc_WHDHC!G1502","v":1296},null,null,{"$f":"ROUND(IF(Calc_WHDHC!H1502<0,Calc_WHDHC!I1502*IF(Input!$B$4=\"Other\",0.95*0.95,0.98*0.95),2*PI()*Calc_WHDHC!G1502/60*Calc_WHDHC!H1502/1000),3)","v":49.808},null,null,1496,null,"-",null,null,{"$f":"Calc_WHDHC!J1502/3.6/(2*Input!$B$5*PI())*60","v":238.51090462658081},null,null,{"$f":"ROUND(IF(Calc_WHDHC!H1502<0,Calc_WHDHC!I1502,2*PI()*Calc_WHDHC!G1502/60*Calc_WHDHC!H1502/1000*IF(Input!$B$4=\"Other\",0.95*0.95,0.98*0.95)),3)","v":46.371000000000002}]
[1497,null,{"$f":"Calc_WHDHC!G1503","v":1298},null,null,{"$f":"ROUND(IF(Calc_WHDHC!H1503<0,Calc_WHDHC!I1503*IF(Input!$B$4=\"Other\",0.95*0.95,0.98*0.95),2*PI()*Calc_WHDHC!G1503/60*Calc_WHDHC!H1503/1000),3)","v":59.942999999999998},null,null,1497,null,"-",null,null,{"$f":"Calc_WHDHC!J1503/3.6/(2*Input!$B$5*PI())*60","v":238.92623589769747},null,null,{"$f":"ROUND(IF(Calc_WHDHC!H1503<0,Calc_WHDHC!I1503,2*PI()*Calc_WHDHC!G1503/60*Calc_WHDHC!H1503/1000*IF(Input!$B$4=\"Other\",0.95*0.95,0.98*0.95)),3)","v":55.807000000000002}]
[1498,null,{"$f":"Calc_WHDHC!G1504","v":1300},null,null,{"$f":"ROUND(IF(Calc_WHDHC!H1504<0,Calc_WHDHC!I1504*IF(Input!$B$4=\"Other\",0.95*0.95,0.98*0.95),2*PI()*Calc_WHDHC!G1504/60*Calc_WHDHC!H1504/1000),3)","v":65.754000000000005},null,null,1498,null,"-",null,null,{"$f":"Calc_WHDHC!J1504/3.6/(2*Input!$B$5*PI())*60","v":239.230812163183},null,null,{"$f":"ROUND(IF(Calc_WHDHC!H1504<0,Calc_WHDHC!I1504,2*PI()*Calc_WHDHC!G1504/60*Calc_WHDHC!H1504/1000*IF(Input!$B$4=\"Other\",0.95*0.95,0.98*0.95)),3)","v":61.216999999999999}]
[1499,null,{"$f":"Calc_WHDHC!G1505","v":1300},null,null,{"$f":"ROUND(IF(Calc_WHDHC!H1505<0,Calc_WHDHC!I1505*IF(Input!$B$4=\"Other\",0.95*0.95,0.98*0.95),2*PI()*Calc_WHDHC!G1505/60*Calc_WHDHC!H1505/1000),3)","v":60.58},null,null,1499,null,"-",null,null,{"$f":"Calc_WHDHC!J1505/3.6/(2*Input!$B$5*PI())*60","v":239.12005715755188},null,null,{"$f":"ROUND(IF(Calc_WHDHC!H1505<0,Calc_WHDHC!I1505,2*PI()*Calc_WHDHC!G1505/60*Calc_WHDHC!H1505/1000*IF(Input!$B$4=\"Other\",0.95*0.95,0.98*0.95)),3)","v":56.4}]
[1500,null,{"$f":"Calc_WHDHC!G1506","v":1288},null,null,{"$f":"ROUND(IF(Calc_WHDHC!H1506<0,Calc_WHDHC!I1506*IF(Input!$B$4=\"Other\",0.95*0.95,0.98*0.95),2*PI()*Calc_WHDHC!G1506/60*Calc_WHDHC!H1506/1000),3)","v":54.625999999999998},null,null,1500,null,"-",null,null,{"$f":"Calc_WHDHC!J1506/3.6/(2*Input!$B$5*PI())*60","v":237.09877830478425},null,null,{"$f":"ROUND(IF(Calc_WHDHC!H1506<0,Calc_WHDHC!I1506,2*PI()*Calc_WHDHC!G1506/60*Calc_WHDHC!H1506/1000*IF(Input!$B$4=\"Other\",0.95*0.95,0.98*0.95)),3)","v":50.856999999999999}]
[1501,null,{"$f":"Calc_WHDHC!G1507","v":1294},null,null,{"$f":"ROUND(IF(Calc_WHDHC!H1507<0,Calc_WHDHC!I1507*IF(Input!$B$4=\"Other\",0.95*0.95,0.98*0.95),2*PI()*Calc_WHDHC!G1507/60*Calc_WHDHC!H1507/1000),3)","v":69.108999999999995},null,null,1501,null,"-",null,null,{"$f":"Calc_WHDHC!J1507/3.6/(2*Input!$B$5*PI())*60","v":238.2063283610953},null,null,{"$f":"ROUND(IF(Calc_WHDHC!H1507<0,Calc_WHDHC!I1507,2*PI()*Calc_WHDHC!G1507/60*Calc_WHDHC!H1507/1000*IF(Input!$B$4=\"Other\",0.95*0.95,0.98*0.95)),3)","v":64.34}]
[1502,null,{"$f":"Calc_WHDHC!G1508","v":1292},null,null,{"$f":"ROUND(IF(Calc_WHDHC!H1508<0,Calc_WHDHC!I1508*IF(Input!$B$4=\"Other\",0.95*0.95,0.98*0.95),2*PI()*Calc_WHDHC!G1508/60*Calc_WHDHC!H1508/1000),3)","v":73.061000000000007},null,null,1502,null,"-",null,null,{"$f":"Calc_WHDHC!J1508/3.6/(2*Input!$B$5*PI())*60","v":237.90175209560977},null,null,{"$f":"ROUND(IF(Calc_WHDHC!H1508<0,Calc_WHDHC!I1508,2*PI()*Calc_WHDHC!G1508/60*Calc_WHDHC!H1508/1000*IF(Input!$B$4=\"Other\",0.95*0.95,0.98*0.95)),3)","v":68.02}]
[1503,null,{"$f":"Calc_WHDHC!G1509","v":1296},null,null,{"$f":"ROUND(IF(Calc_WHDHC!H1509<0,Calc_WHDHC!I1509*IF(Input!$B$4=\"Other\",0.95*0.95,0.98*0.95),2*PI()*Calc_WHDHC!G1509/60*Calc_WHDHC!H1509/1000),3)","v":70.707999999999998},null,null,1503,null,"-",null,null,{"$f":"Calc_WHDHC!J1509/3.6/(2*Input!$B$5*PI())*60","v":238.51090462658081},null,null,{"$f":"ROUND(IF(Calc_WHDHC!H1509<0,Calc_WHDHC!I1509,2*PI()*Calc_WHDHC!G1509/60*Calc_WHDHC!H1509/1000*IF(Input!$B$4=\"Other\",0.95*0.95,0.98*0.95)),3)","v":65.83}]
[1504,null,{"$f":"Calc_WHDHC!G1510","v":1298},null,null,{"$f":"ROUND(IF(Calc_WHDHC!H1510<0,Calc_WHDHC!I1510*IF(Input!$B$4=\"Other\",0.95*0.95,0.98*0.95),2*PI()*Calc_WHDHC!G1510/60*Calc_WHDHC!H1510/1000),3)","v":68.778999999999996},null,null,1504,null,"-",null,null,{"$f":"Calc_WHDHC!J1510/3.6/(2*Input!$B$5*PI())*60","v":239.00930215192074},null,null,{"$f":"ROUND(IF(Calc_WHDHC!H1510<0,Calc_WHDHC!I1510,2*PI()*Calc_WHDHC!G1510/60*Calc_WHDHC!H1510/1000*IF(Input!$B$4=\"Other\",0.95*0.95,0.98*0.95)),3)","v":64.033000000000001}]
[1505,null,{"$f":"Calc_WHDHC!G1511","v":1292},null,null,{"$f":"ROUND(IF(Calc_WHDHC!H1511<0,Calc_WHDHC!I1511*IF(Input!$B$4=\"Other\",0.95*0.95,0.98*0.95),2*PI()*Calc_WHDHC!G1511/60*Calc_WHDHC!H1511/1000),3)","v":66.971999999999994},null,null,1505,null,"-",null,null,{"$f":"Calc_WHDHC!J1511/3.6/(2*Input!$B$5*PI())*60","v":237.90175209560977},null,null,{"$f":"ROUND(IF(Calc_WHDHC!H1511<0,Calc_WHDHC!I1511,2*PI()*Calc_WHDHC!G1511/60*Calc_WHDHC!H1511/1000*IF(Input!$B$4=\"Other\",0.95*0.95,0.98*0.95)),3)","v":62.350999999999999}]
[1506,null,{"$f":"Calc_WHDHC!G1512","v":1296},null,null,{"$f":"ROUND(IF(Calc_WHDHC!H1512<0,Calc_WHDHC!I1512*IF(Input!$B$4=\"Other\",0.95*0.95,0.98*0.95),2*PI()*Calc_WHDHC!G1512/60*Calc_WHDHC!H1512/1000),3)","v":88.352000000000004},null,null,1506,null,"-",null,null,{"$f":"Calc_WHDHC!J1512/3.6/(2*Input!$B$5*PI())*60","v":238.42783837235748},null,null,{"$f":"ROUND(IF(Calc_WHDHC!H1512<0,Calc_WHDHC!I1512,2*PI()*Calc_WHDHC!G1512/60*Calc_WHDHC!H1512/1000*IF(Input!$B$4=\"Other\",0.95*0.95,0.98*0.95)),3)","v":82.254999999999995}]
[1507,null,{"$f":"Calc_WHDHC!G1513","v":1292},null,null,{"$f":"ROUND(IF(Calc_WHDHC!H1513<0,Calc_WHDHC!I1513*IF(Input!$B$4=\"Other\",0.95*0.95,0.98*0.95),2*PI()*Calc_WHDHC!G1513/60*Calc_WHDHC!H1513/1000),3)","v":121.227},null,null,1507,null,"-",null,null,{"$f":"Calc_WHDHC!J1513/3.6/(2*Input!$B$5*PI())*60","v":237.87406334420197},null,null,{"$f":"ROUND(IF(Calc_WHDHC!H1513<0,Calc_WHDHC!I1513,2*PI()*Calc_WHDHC!G1513/60*Calc_WHDHC!H1513/1000*IF(Input!$B$4=\"Other\",0.95*0.95,0.98*0.95)),3)","v":112.86199999999999}]
[1508,null,{"$f":"Calc_WHDHC!G1514","v":1290},null,null,{"$f":"ROUND(IF(Calc_WHDHC!H1514<0,Calc_WHDHC!I1514*IF(Input!$B$4=\"Other\",0.95*0.95,0.98*0.95),2*PI()*Calc_WHDHC!G1514/60*Calc_WHDHC!H1514/1000),3)","v":73.488},null,null,1508,null,"-",null,null,{"$f":"Calc_WHDHC!J1514/3.6/(2*Input!$B$5*PI())*60","v":237.65255333293976},null,null,{"$f":"ROUND(IF(Calc_WHDHC!H1514<0,Calc_WHDHC!I1514,2*PI()*Calc_WHDHC!G1514/60*Calc_WHDHC!H1514/1000*IF(Input!$B$4=\"Other\",0.95*0.95,0.98*0.95)),3)","v":68.417000000000002}]
[1509,null,{"$f":"Calc_WHDHC!G1515","v":1292},null,null,{"$f":"ROUND(IF(Calc_WHDHC!H1515<0,Calc_WHDHC!I1515*IF(Input!$B$4=\"Other\",0.95*0.95,0.98*0.95),2*PI()*Calc_WHDHC!G1515/60*Calc_WHDHC!H1515/1000),3)","v":3.653},null,null,1509,null,"-",null,null,{"$f":"Calc_WHDHC!J1515/3.6/(2*Input!$B$5*PI())*60","v":237.73561958716306},null,null,{"$f":"ROUND(IF(Calc_WHDHC!H1515<0,Calc_WHDHC!I1515,2*PI()*Calc_WHDHC!G1515/60*Calc_WHDHC!H1515/1000*IF(Input!$B$4=\"Other\",0.95*0.95,0.98*0.95)),3)","v":3.4009999999999998}]
[1510,null,{"$f":"Calc_WHDHC!G1516","v":1286},null,null,{"$f":"ROUND(IF(Calc_WHDHC!H1516<0,Calc_WHDHC!I1516*IF(Input!$B$4=\"Other\",0.95*0.95,0.98*0.95),2*PI()*Calc_WHDHC!G1516/60*Calc_WHDHC!H1516/1000),3)","v":-0.95799999999999996},null,null,1510,null,"-",null,null,{"$f":"Calc_WHDHC!J1516/3.6/(2*Input!$B$5*PI())*60","v":236.73882453648318},null,null,{"$f":"ROUND(IF(Calc_WHDHC!H1516<0,Calc_WHDHC!I1516,2*PI()*Calc_WHDHC!G1516/60*Calc_WHDHC!H1516/1000*IF(Input!$B$4=\"Other\",0.95*0.95,0.98*0.95)),3)","v":-1.0289999999999999}]
[1511,null,{"$f":"Calc_WHDHC!G1517","v":1278},null,null,{"$f":"ROUND(IF(Calc_WHDHC!H1517<0,Calc_WHDHC!I1517*IF(Input!$B$4=\"Other\",0.95*0.95,0.98*0.95),2*PI()*Calc_WHDHC!G1517/60*Calc_WHDHC!H1517/1000),3)","v":0},null,null,1511,null,"-",null,null,{"$f":"Calc_WHDHC!J1517/3.6/(2*Input!$B$5*PI())*60","v":235.27132071187106},null,null,{"$f":"ROUND(IF(Calc_WHDHC!H1517<0,Calc_WHDHC!I1517,2*PI()*Calc_WHDHC!G1517/60*Calc_WHDHC!H1517/1000*IF(Input!$B$4=\"Other\",0.95*0.95,0.98*0.95)),3)","v":0}]
[1512,null,{"$f":"Calc_WHDHC!G1518","v":1276},null,null,{"$f":"ROUND(IF(Calc_WHDHC!H1518<0,Calc_WHDHC!I1518*IF(Input!$B$4=\"Other\",0.95*0.95,0.98*0.95),2*PI()*Calc_WHDHC!G1518/60*Calc_WHDHC!H1518/1000),3)","v":-1.9450000000000001},null,null,1512,null,"-",null,null,{"$f":"Calc_WHDHC!J1518/3.6/(2*Input!$B$5*PI())*60","v":234.80061193793884},null,null,{"$f":"ROUND(IF(Calc_WHDHC!H1518<0,Calc_WHDHC!I1518,2*PI()*Calc_WHDHC!G1518/60*Calc_WHDHC!H1518/1000*IF(Input!$B$4=\"Other\",0.95*0.95,0.98*0.95)),3)","v":-2.089}]
[1513,null,{"$f":"Calc_WHDHC!G1519","v":1267},null,null,{"$f":"ROUND(IF(Calc_WHDHC!H1519<0,Calc_WHDHC!I1519*IF(Input!$B$4=\"Other\",0.95*0.95,0.98*0.95),2*PI()*Calc_WHDHC!G1519/60*Calc_WHDHC!H1519/1000),3)","v":-12.845000000000001},null,null,1513,null,"-",null,null,{"$f":"Calc_WHDHC!J1519/3.6/(2*Input!$B$5*PI())*60","v":233.1392868534723},null,null,{"$f":"ROUND(IF(Calc_WHDHC!H1519<0,Calc_WHDHC!I1519,2*PI()*Calc_WHDHC!G1519/60*Calc_WHDHC!H1519/1000*IF(Input!$B$4=\"Other\",0.95*0.95,0.98*0.95)),3)","v":-13.797000000000001}]
[1514,null,{"$f":"Calc_WHDHC!G1520","v":1252},null,null,{"$f":"ROUND(IF(Calc_WHDHC!H1520<0,Calc_WHDHC!I1520*IF(Input!$B$4=\"Other\",0.95*0.95,0.98*0.95),2*PI()*Calc_WHDHC!G1520/60*Calc_WHDHC!H1520/1000),3)","v":-0.64600000000000002},null,null,1514,null,"-",null,null,{"$f":"Calc_WHDHC!J1520/3.6/(2*Input!$B$5*PI())*60","v":230.53654422114141},null,null,{"$f":"ROUND(IF(Calc_WHDHC!H1520<0,Calc_WHDHC!I1520,2*PI()*Calc_WHDHC!G1520/60*Calc_WHDHC!H1520/1000*IF(Input!$B$4=\"Other\",0.95*0.95,0.98*0.95)),3)","v":-0.69399999999999995}]
[1515,null,{"$f":"Calc_WHDHC!G1521","v":1244},null,null,{"$f":"ROUND(IF(Calc_WHDHC!H1521<0,Calc_WHDHC!I1521*IF(Input!$B$4=\"Other\",0.95*0.95,0.98*0.95),2*PI()*Calc_WHDHC!G1521/60*Calc_WHDHC!H1521/1000),3)","v":-14.813000000000001},null,null,1515,null,"-",null,null,{"$f":"Calc_WHDHC!J1521/3.6/(2*Input!$B$5*PI())*60","v":229.17979540216032},null,null,{"$f":"ROUND(IF(Calc_WHDHC!H1521<0,Calc_WHDHC!I1521,2*PI()*Calc_WHDHC!G1521/60*Calc_WHDHC!H1521/1000*IF(Input!$B$4=\"Other\",0.95*0.95,0.98*0.95)),3)","v":-15.911}]
[1516,null,{"$f":"Calc_WHDHC!G1522","v":1230},null,null,{"$f":"ROUND(IF(Calc_WHDHC!H1522<0,Calc_WHDHC!I1522*IF(Input!$B$4=\"Other\",0.95*0.95,0.98*0.95),2*PI()*Calc_WHDHC!G1522/60*Calc_WHDHC!H1522/1000),3)","v":-2.6520000000000001},null,null,1516,null,"-",null,null,{"$f":"Calc_WHDHC!J1522/3.6/(2*Input!$B$5*PI())*60","v":226.43860901279055},null,null,{"$f":"ROUND(IF(Calc_WHDHC!H1522<0,Calc_WHDHC!I1522,2*PI()*Calc_WHDHC!G1522/60*Calc_WHDHC!H1522/1000*IF(Input!$B$4=\"Other\",0.95*0.95,0.98*0.95)),3)","v":-2.8490000000000002}]
[1517,null,{"$f":"Calc_WHDHC!G1523","v":1219},null,null,{"$f":"ROUND(IF(Calc_WHDHC!H1523<0,Calc_WHDHC!I1523*IF(Input!$B$4=\"Other\",0.95*0.95,0.98*0.95),2*PI()*Calc_WHDHC!G1523/60*Calc_WHDHC!H1523/1000),3)","v":-6.0019999999999998},null,null,1517,null,"-",null,null,{"$f":"Calc_WHDHC!J1523/3.6/(2*Input!$B$5*PI())*60","v":224.72190642550848},null,null,{"$f":"ROUND(IF(Calc_WHDHC!H1523<0,Calc_WHDHC!I1523,2*PI()*Calc_WHDHC!G1523/60*Calc_WHDHC!H1523/1000*IF(Input!$B$4=\"Other\",0.95*0.95,0.98*0.95)),3)","v":-6.4470000000000001}]
[1518,null,{"$f":"Calc_WHDHC!G1524","v":1208},null,null,{"$f":"ROUND(IF(Calc_WHDHC!H1524<0,Calc_WHDHC!I1524*IF(Input!$B$4=\"Other\",0.95*0.95,0.98*0.95),2*PI()*Calc_WHDHC!G1524/60*Calc_WHDHC!H1524/1000),3)","v":-22.945},null,null,1518,null,"-",null,null,{"$f":"Calc_WHDHC!J1524/3.6/(2*Input!$B$5*PI())*60","v":222.67293882133308},null,null,{"$f":"ROUND(IF(Calc_WHDHC!H1524<0,Calc_WHDHC!I1524,2*PI()*Calc_WHDHC!G1524/60*Calc_WHDHC!H1524/1000*IF(Input!$B$4=\"Other\",0.95*0.95,0.98*0.95)),3)","v":-24.646000000000001}]
[1519,null,{"$f":"Calc_WHDHC!G1525","v":1190},null,null,{"$f":"ROUND(IF(Calc_WHDHC!H1525<0,Calc_WHDHC!I1525*IF(Input!$B$4=\"Other\",0.95*0.95,0.98*0.95),2*PI()*Calc_WHDHC!G1525/60*Calc_WHDHC!H1525/1000),3)","v":0},null,null,1519,null,"-",null,null,{"$f":"Calc_WHDHC!J1525/3.6/(2*Input!$B$5*PI())*60","v":219.3225999009922},null,null,{"$f":"ROUND(IF(Calc_WHDHC!H1525<0,Calc_WHDHC!I1525,2*PI()*Calc_WHDHC!G1525/60*Calc_WHDHC!H1525/1000*IF(Input!$B$4=\"Other\",0.95*0.95,0.98*0.95)),3)","v":0}]
[1520,null,{"$f":"Calc_WHDHC!G1526","v":1185},null,null,{"$f":"ROUND(IF(Calc_WHDHC!H1526<0,Calc_WHDHC!I1526*IF(Input!$B$4=\"Other\",0.95*0.95,0.98*0.95),2*PI()*Calc_WHDHC!G1526/60*Calc_WHDHC!H1526/1000),3)","v":0},null,null,1520,null,"-",null,null,{"$f":"Calc_WHDHC!J1526/3.6/(2*Input!$B$5*PI())*60","v":218.27042734749671},null,null,{"$f":"ROUND(IF(Calc_WHDHC!H1526<0,Calc_WHDHC!I1526,2*PI()*Calc_WHDHC!G1526/60*Calc_WHDHC!H1526/1000*IF(Input!$B$4=\"Other\",0.95*0.95,0.98*0.95)),3)","v":0}]
[1521,null,{"$f":"Calc_WHDHC!G1527","v":1179},null,null,{"$f":"ROUND(IF(Calc_WHDHC!H1527<0,Calc_WHDHC!I1527*IF(Input!$B$4=\"Other\",0.95*0.95,0.98*0.95),2*PI()*Calc_WHDHC!G1527/60*Calc_WHDHC!H1527/1000),3)","v":0},null,null,1521,null,"-",null,null,{"$f":"Calc_WHDHC!J1527/3.6/(2*Input!$B$5*PI())*60","v":217.41207605385566},null,null,{"$f":"ROUND(IF(Calc_WHDHC!H1527<0,Calc_WHDHC!I1527,2*PI()*Calc_WHDHC!G1527/60*Calc_WHDHC!H1527/1000*IF(Input!$B$4=\"Other\",0.95*0.95,0.98*0.95)),3)","v":0}]
[1522,null,{"$f":"Calc_WHDHC!G1528","v":1179},null,null,{"$f":"ROUND(IF(Calc_WHDHC!H1528<0,Calc_WHDHC!I1528*IF(Input!$B$4=\"Other\",0.95*0.95,0.98*0.95),2*PI()*Calc_WHDHC!G1528/60*Calc_WHDHC!H1528/1000),3)","v":0},null,null,1522,null,"-",null,null,{"$f":"Calc_WHDHC!J1528/3.6/(2*Input!$B$5*PI())*60","v":217.41207605385566},null,null,{"$f":"ROUND(IF(Calc_WHDHC!H1528<0,Calc_WHDHC!I1528,2*PI()*Calc_WHDHC!G1528/60*Calc_WHDHC!H1528/1000*IF(Input!$B$4=\"Other\",0.95*0.95,0.98*0.95)),3)","v":0}]
[1523,null,{"$f":"Calc_WHDHC!G1529","v":1183},null,null,{"$f":"ROUND(IF(Calc_WHDHC!H1529<0,Calc_WHDHC!I1529*IF(Input!$B$4=\"Other\",0.95*0.95,0.98*0.95),2*PI()*Calc_WHDHC!G1529/60*Calc_WHDHC!H1529/1000),3)","v":0},null,null,1523,null,"-",null,null,{"$f":"Calc_WHDHC!J1529/3.6/(2*Input!$B$5*PI())*60","v":218.21504984468115},null,null,{"$f":"ROUND(IF(Calc_WHDHC!H1529<0,Calc_WHDHC!I1529,2*PI()*Calc_WHDHC!G1529/60*Calc_WHDHC!H1529/1000*IF(Input!$B$4=\"Other\",0.95*0.95,0.98*0.95)),3)","v":0}]
[1524,null,{"$f":"Calc_WHDHC!G1530","v":1191},null,null,{"$f":"ROUND(IF(Calc_WHDHC!H1530<0,Calc_WHDHC!I1530*IF(Input!$B$4=\"Other\",0.95*0.95,0.98*0.95),2*PI()*Calc_WHDHC!G1530/60*Calc_WHDHC!H1530/1000),3)","v":0},null,null,1524,null,"-",null,null,{"$f":"Calc_WHDHC!J1530/3.6/(2*Input!$B$5*PI())*60","v":219.46104365803109},null,null,{"$f":"ROUND(IF(Calc_WHDHC!H1530<0,Calc_WHDHC!I1530,2*PI()*Calc_WHDHC!G1530/60*Calc_WHDHC!H1530/1000*IF(Input!$B$4=\"Other\",0.95*0.95,0.98*0.95)),3)","v":0}]
[1525,null,{"$f":"Calc_WHDHC!G1531","v":1197},null,null,{"$f":"ROUND(IF(Calc_WHDHC!H1531<0,Calc_WHDHC!I1531*IF(Input!$B$4=\"Other\",0.95*0.95,0.98*0.95),2*PI()*Calc_WHDHC!G1531/60*Calc_WHDHC!H1531/1000),3)","v":0},null,null,1525,null,"-",null,null,{"$f":"Calc_WHDHC!J1531/3.6/(2*Input!$B$5*PI())*60","v":220.4301499573032},null,null,{"$f":"ROUND(IF(Calc_WHDHC!H1531<0,Calc_WHDHC!I1531,2*PI()*Calc_WHDHC!G1531/60*Calc_WHDHC!H1531/1000*IF(Input!$B$4=\"Other\",0.95*0.95,0.98*0.95)),3)","v":0}]
[1526,null,{"$f":"Calc_WHDHC!G1532","v":1204},null,null,{"$f":"ROUND(IF(Calc_WHDHC!H1532<0,Calc_WHDHC!I1532*IF(Input!$B$4=\"Other\",0.95*0.95,0.98*0.95),2*PI()*Calc_WHDHC!G1532/60*Calc_WHDHC!H1532/1000),3)","v":61.024000000000001},null,null,1526,null,"-",null,null,{"$f":"Calc_WHDHC!J1532/3.6/(2*Input!$B$5*PI())*60","v":221.92534253332312},null,null,{"$f":"ROUND(IF(Calc_WHDHC!H1532<0,Calc_WHDHC!I1532,2*PI()*Calc_WHDHC!G1532/60*Calc_WHDHC!H1532/1000*IF(Input!$B$4=\"Other\",0.95*0.95,0.98*0.95)),3)","v":56.813000000000002}]
[1527,null,{"$f":"Calc_WHDHC!G1533","v":1208},null,null,{"$f":"ROUND(IF(Calc_WHDHC!H1533<0,Calc_WHDHC!I1533*IF(Input!$B$4=\"Other\",0.95*0.95,0.98*0.95),2*PI()*Calc_WHDHC!G1533/60*Calc_WHDHC!H1533/1000),3)","v":180.64400000000001},null,null,1527,null,"-",null,null,{"$f":"Calc_WHDHC!J1533/3.6/(2*Input!$B$5*PI())*60","v":222.58987256710975},null,null,{"$f":"ROUND(IF(Calc_WHDHC!H1533<0,Calc_WHDHC!I1533,2*PI()*Calc_WHDHC!G1533/60*Calc_WHDHC!H1533/1000*IF(Input!$B$4=\"Other\",0.95*0.95,0.98*0.95)),3)","v":168.18}]
[1528,null,{"$f":"Calc_WHDHC!G1534","v":1212},null,null,{"$f":"ROUND(IF(Calc_WHDHC!H1534<0,Calc_WHDHC!I1534*IF(Input!$B$4=\"Other\",0.95*0.95,0.98*0.95),2*PI()*Calc_WHDHC!G1534/60*Calc_WHDHC!H1534/1000),3)","v":196.727},null,null,1528,null,"-",null,null,{"$f":"Calc_WHDHC!J1534/3.6/(2*Input!$B$5*PI())*60","v":223.50360136356633},null,null,{"$f":"ROUND(IF(Calc_WHDHC!H1534<0,Calc_WHDHC!I1534,2*PI()*Calc_WHDHC!G1534/60*Calc_WHDHC!H1534/1000*IF(Input!$B$4=\"Other\",0.95*0.95,0.98*0.95)),3)","v":183.15199999999999}]
[1529,null,{"$f":"Calc_WHDHC!G1535","v":1218},null,null,{"$f":"ROUND(IF(Calc_WHDHC!H1535<0,Calc_WHDHC!I1535*IF(Input!$B$4=\"Other\",0.95*0.95,0.98*0.95),2*PI()*Calc_WHDHC!G1535/60*Calc_WHDHC!H1535/1000),3)","v":201.14400000000001},null,null,1529,null,"-",null,null,{"$f":"Calc_WHDHC!J1535/3.6/(2*Input!$B$5*PI())*60","v":224.30657515439185},null,null,{"$f":"ROUND(IF(Calc_WHDHC!H1535<0,Calc_WHDHC!I1535,2*PI()*Calc_WHDHC!G1535/60*Calc_WHDHC!H1535/1000*IF(Input!$B$4=\"Other\",0.95*0.95,0.98*0.95)),3)","v":187.26499999999999}]
[1530,null,{"$f":"Calc_WHDHC!G1536","v":1226},null,null,{"$f":"ROUND(IF(Calc_WHDHC!H1536<0,Calc_WHDHC!I1536*IF(Input!$B$4=\"Other\",0.95*0.95,0.98*0.95),2*PI()*Calc_WHDHC!G1536/60*Calc_WHDHC!H1536/1000),3)","v":204.77600000000001},null,null,1530,null,"-",null,null,{"$f":"Calc_WHDHC!J1536/3.6/(2*Input!$B$5*PI())*60","v":225.71870147618839},null,null,{"$f":"ROUND(IF(Calc_WHDHC!H1536<0,Calc_WHDHC!I1536,2*PI()*Calc_WHDHC!G1536/60*Calc_WHDHC!H1536/1000*IF(Input!$B$4=\"Other\",0.95*0.95,0.98*0.95)),3)","v":190.64699999999999}]
[1531,null,{"$f":"Calc_WHDHC!G1537","v":1239},null,null,{"$f":"ROUND(IF(Calc_WHDHC!H1537<0,Calc_WHDHC!I1537*IF(Input!$B$4=\"Other\",0.95*0.95,0.98*0.95),2*PI()*Calc_WHDHC!G1537/60*Calc_WHDHC!H1537/1000),3)","v":201.88800000000001},null,null,1531,null,"-",null,null,{"$f":"Calc_WHDHC!J1537/3.6/(2*Input!$B$5*PI())*60","v":228.15531160007268},null,null,{"$f":"ROUND(IF(Calc_WHDHC!H1537<0,Calc_WHDHC!I1537,2*PI()*Calc_WHDHC!G1537/60*Calc_WHDHC!H1537/1000*IF(Input!$B$4=\"Other\",0.95*0.95,0.98*0.95)),3)","v":187.95699999999999}]
[1532,null,{"$f":"Calc_WHDHC!G1538","v":1251},null,null,{"$f":"ROUND(IF(Calc_WHDHC!H1538<0,Calc_WHDHC!I1538*IF(Input!$B$4=\"Other\",0.95*0.95,0.98*0.95),2*PI()*Calc_WHDHC!G1538/60*Calc_WHDHC!H1538/1000),3)","v":199.12700000000001},null,null,1532,null,"-",null,null,{"$f":"Calc_WHDHC!J1538/3.6/(2*Input!$B$5*PI())*60","v":230.39810046410247},null,null,{"$f":"ROUND(IF(Calc_WHDHC!H1538<0,Calc_WHDHC!I1538,2*PI()*Calc_WHDHC!G1538/60*Calc_WHDHC!H1538/1000*IF(Input!$B$4=\"Other\",0.95*0.95,0.98*0.95)),3)","v":185.387}]
[1533,null,{"$f":"Calc_WHDHC!G1539","v":1264},null,null,{"$f":"ROUND(IF(Calc_WHDHC!H1539<0,Calc_WHDHC!I1539*IF(Input!$B$4=\"Other\",0.95*0.95,0.98*0.95),2*PI()*Calc_WHDHC!G1539/60*Calc_WHDHC!H1539/1000),3)","v":198.416},null,null,1533,null,"-",null,null,{"$f":"Calc_WHDHC!J1539/3.6/(2*Input!$B$5*PI())*60","v":232.72395558235567},null,null,{"$f":"ROUND(IF(Calc_WHDHC!H1539<0,Calc_WHDHC!I1539,2*PI()*Calc_WHDHC!G1539/60*Calc_WHDHC!H1539/1000*IF(Input!$B$4=\"Other\",0.95*0.95,0.98*0.95)),3)","v":184.726}]
[1534,null,{"$f":"Calc_WHDHC!G1540","v":1281},null,null,{"$f":"ROUND(IF(Calc_WHDHC!H1540<0,Calc_WHDHC!I1540*IF(Input!$B$4=\"Other\",0.95*0.95,0.98*0.95),2*PI()*Calc_WHDHC!G1540/60*Calc_WHDHC!H1540/1000),3)","v":201.21899999999999},null,null,1534,null,"-",null,null,{"$f":"Calc_WHDHC!J1540/3.6/(2*Input!$B$5*PI())*60","v":235.76971823721104},null,null,{"$f":"ROUND(IF(Calc_WHDHC!H1540<0,Calc_WHDHC!I1540,2*PI()*Calc_WHDHC!G1540/60*Calc_WHDHC!H1540/1000*IF(Input!$B$4=\"Other\",0.95*0.95,0.98*0.95)),3)","v":187.33500000000001}]
[1535,null,{"$f":"Calc_WHDHC!G1541","v":1292},null,null,{"$f":"ROUND(IF(Calc_WHDHC!H1541<0,Calc_WHDHC!I1541*IF(Input!$B$4=\"Other\",0.95*0.95,0.98*0.95),2*PI()*Calc_WHDHC!G1541/60*Calc_WHDHC!H1541/1000),3)","v":195.911},null,null,1535,null,"-",null,null,{"$f":"Calc_WHDHC!J1541/3.6/(2*Input!$B$5*PI())*60","v":237.90175209560977},null,null,{"$f":"ROUND(IF(Calc_WHDHC!H1541<0,Calc_WHDHC!I1541,2*PI()*Calc_WHDHC!G1541/60*Calc_WHDHC!H1541/1000*IF(Input!$B$4=\"Other\",0.95*0.95,0.98*0.95)),3)","v":182.39400000000001}]
[1536,null,{"$f":"Calc_WHDHC!G1542","v":1309},null,null,{"$f":"ROUND(IF(Calc_WHDHC!H1542<0,Calc_WHDHC!I1542*IF(Input!$B$4=\"Other\",0.95*0.95,0.98*0.95),2*PI()*Calc_WHDHC!G1542/60*Calc_WHDHC!H1542/1000),3)","v":193.554},null,null,1536,null,"-",null,null,{"$f":"Calc_WHDHC!J1542/3.6/(2*Input!$B$5*PI())*60","v":240.83675974483401},null,null,{"$f":"ROUND(IF(Calc_WHDHC!H1542<0,Calc_WHDHC!I1542,2*PI()*Calc_WHDHC!G1542/60*Calc_WHDHC!H1542/1000*IF(Input!$B$4=\"Other\",0.95*0.95,0.98*0.95)),3)","v":180.19900000000001}]
[1537,null,{"$f":"Calc_WHDHC!G1543","v":1315},null,null,{"$f":"ROUND(IF(Calc_WHDHC!H1543<0,Calc_WHDHC!I1543*IF(Input!$B$4=\"Other\",0.95*0.95,0.98*0.95),2*PI()*Calc_WHDHC!G1543/60*Calc_WHDHC!H1543/1000),3)","v":187.55600000000001},null,null,1537,null,"-",null,null,{"$f":"Calc_WHDHC!J1543/3.6/(2*Input!$B$5*PI())*60","v":242.13813106099948},null,null,{"$f":"ROUND(IF(Calc_WHDHC!H1543<0,Calc_WHDHC!I1543,2*PI()*Calc_WHDHC!G1543/60*Calc_WHDHC!H1543/1000*IF(Input!$B$4=\"Other\",0.95*0.95,0.98*0.95)),3)","v":174.61500000000001}]
[1538,null,{"$f":"Calc_WHDHC!G1544","v":1317},null,null,{"$f":"ROUND(IF(Calc_WHDHC!H1544<0,Calc_WHDHC!I1544*IF(Input!$B$4=\"Other\",0.95*0.95,0.98*0.95),2*PI()*Calc_WHDHC!G1544/60*Calc_WHDHC!H1544/1000),3)","v":179.98},null,null,1538,null,"-",null,null,{"$f":"Calc_WHDHC!J1544/3.6/(2*Input!$B$5*PI())*60","v":242.38732982366943},null,null,{"$f":"ROUND(IF(Calc_WHDHC!H1544<0,Calc_WHDHC!I1544,2*PI()*Calc_WHDHC!G1544/60*Calc_WHDHC!H1544/1000*IF(Input!$B$4=\"Other\",0.95*0.95,0.98*0.95)),3)","v":167.56200000000001}]
[1539,null,{"$f":"Calc_WHDHC!G1545","v":1313},null,null,{"$f":"ROUND(IF(Calc_WHDHC!H1545<0,Calc_WHDHC!I1545*IF(Input!$B$4=\"Other\",0.95*0.95,0.98*0.95),2*PI()*Calc_WHDHC!G1545/60*Calc_WHDHC!H1545/1000),3)","v":172.42099999999999},null,null,1539,null,"-",null,null,{"$f":"Calc_WHDHC!J1545/3.6/(2*Input!$B$5*PI())*60","v":241.58435603284394},null,null,{"$f":"ROUND(IF(Calc_WHDHC!H1545<0,Calc_WHDHC!I1545,2*PI()*Calc_WHDHC!G1545/60*Calc_WHDHC!H1545/1000*IF(Input!$B$4=\"Other\",0.95*0.95,0.98*0.95)),3)","v":160.524}]
[1540,null,{"$f":"Calc_WHDHC!G1546","v":1309},null,null,{"$f":"ROUND(IF(Calc_WHDHC!H1546<0,Calc_WHDHC!I1546*IF(Input!$B$4=\"Other\",0.95*0.95,0.98*0.95),2*PI()*Calc_WHDHC!G1546/60*Calc_WHDHC!H1546/1000),3)","v":164.768},null,null,1540,null,"-",null,null,{"$f":"Calc_WHDHC!J1546/3.6/(2*Input!$B$5*PI())*60","v":241.00289225328066},null,null,{"$f":"ROUND(IF(Calc_WHDHC!H1546<0,Calc_WHDHC!I1546,2*PI()*Calc_WHDHC!G1546/60*Calc_WHDHC!H1546/1000*IF(Input!$B$4=\"Other\",0.95*0.95,0.98*0.95)),3)","v":153.399}]
[1541,null,{"$f":"Calc_WHDHC!G1547","v":1309},null,null,{"$f":"ROUND(IF(Calc_WHDHC!H1547<0,Calc_WHDHC!I1547*IF(Input!$B$4=\"Other\",0.95*0.95,0.98*0.95),2*PI()*Calc_WHDHC!G1547/60*Calc_WHDHC!H1547/1000),3)","v":201.642},null,null,1541,null,"-",null,null,{"$f":"Calc_WHDHC!J1547/3.6/(2*Input!$B$5*PI())*60","v":240.83675974483401},null,null,{"$f":"ROUND(IF(Calc_WHDHC!H1547<0,Calc_WHDHC!I1547,2*PI()*Calc_WHDHC!G1547/60*Calc_WHDHC!H1547/1000*IF(Input!$B$4=\"Other\",0.95*0.95,0.98*0.95)),3)","v":187.72900000000001}]
[1542,null,{"$f":"Calc_WHDHC!G1548","v":1310},null,null,{"$f":"ROUND(IF(Calc_WHDHC!H1548<0,Calc_WHDHC!I1548*IF(Input!$B$4=\"Other\",0.95*0.95,0.98*0.95),2*PI()*Calc_WHDHC!G1548/60*Calc_WHDHC!H1548/1000),3)","v":169.14599999999999},null,null,1542,null,"-",null,null,{"$f":"Calc_WHDHC!J1548/3.6/(2*Input!$B$5*PI())*60","v":241.0305810046884},null,null,{"$f":"ROUND(IF(Calc_WHDHC!H1548<0,Calc_WHDHC!I1548,2*PI()*Calc_WHDHC!G1548/60*Calc_WHDHC!H1548/1000*IF(Input!$B$4=\"Other\",0.95*0.95,0.98*0.95)),3)","v":157.47499999999999}]
[1543,null,{"$f":"Calc_WHDHC!G1549","v":1310},null,null,{"$f":"ROUND(IF(Calc_WHDHC!H1549<0,Calc_WHDHC!I1549*IF(Input!$B$4=\"Other\",0.95*0.95,0.98*0.95),2*PI()*Calc_WHDHC!G1549/60*Calc_WHDHC!H1549/1000),3)","v":136.49700000000001},null,null,1543,null,"-",null,null,{"$f":"Calc_WHDHC!J1549/3.6/(2*Input!$B$5*PI())*60","v":241.16902476172729},null,null,{"$f":"ROUND(IF(Calc_WHDHC!H1549<0,Calc_WHDHC!I1549,2*PI()*Calc_WHDHC!G1549/60*Calc_WHDHC!H1549/1000*IF(Input!$B$4=\"Other\",0.95*0.95,0.98*0.95)),3)","v":127.07899999999999}]
[1544,null,{"$f":"Calc_WHDHC!G1550","v":1313},null,null,{"$f":"ROUND(IF(Calc_WHDHC!H1550<0,Calc_WHDHC!I1550*IF(Input!$B$4=\"Other\",0.95*0.95,0.98*0.95),2*PI()*Calc_WHDHC!G1550/60*Calc_WHDHC!H1550/1000),3)","v":111.648},null,null,1544,null,"-",null,null,{"$f":"Calc_WHDHC!J1550/3.6/(2*Input!$B$5*PI())*60","v":241.58435603284394},null,null,{"$f":"ROUND(IF(Calc_WHDHC!H1550<0,Calc_WHDHC!I1550,2*PI()*Calc_WHDHC!G1550/60*Calc_WHDHC!H1550/1000*IF(Input!$B$4=\"Other\",0.95*0.95,0.98*0.95)),3)","v":103.944}]
[1545,null,{"$f":"Calc_WHDHC!G1551","v":1313},null,null,{"$f":"ROUND(IF(Calc_WHDHC!H1551<0,Calc_WHDHC!I1551*IF(Input!$B$4=\"Other\",0.95*0.95,0.98*0.95),2*PI()*Calc_WHDHC!G1551/60*Calc_WHDHC!H1551/1000),3)","v":95.01},null,null,1545,null,"-",null,null,{"$f":"Calc_WHDHC!J1551/3.6/(2*Input!$B$5*PI())*60","v":241.58435603284394},null,null,{"$f":"ROUND(IF(Calc_WHDHC!H1551<0,Calc_WHDHC!I1551,2*PI()*Calc_WHDHC!G1551/60*Calc_WHDHC!H1551/1000*IF(Input!$B$4=\"Other\",0.95*0.95,0.98*0.95)),3)","v":88.454999999999998}]
[1546,null,{"$f":"Calc_WHDHC!G1552","v":1310},null,null,{"$f":"ROUND(IF(Calc_WHDHC!H1552<0,Calc_WHDHC!I1552*IF(Input!$B$4=\"Other\",0.95*0.95,0.98*0.95),2*PI()*Calc_WHDHC!G1552/60*Calc_WHDHC!H1552/1000),3)","v":87.385000000000005},null,null,1546,null,"-",null,null,{"$f":"Calc_WHDHC!J1552/3.6/(2*Input!$B$5*PI())*60","v":241.08595850750396},null,null,{"$f":"ROUND(IF(Calc_WHDHC!H1552<0,Calc_WHDHC!I1552,2*PI()*Calc_WHDHC!G1552/60*Calc_WHDHC!H1552/1000*IF(Input!$B$4=\"Other\",0.95*0.95,0.98*0.95)),3)","v":81.355999999999995}]
[1547,null,{"$f":"Calc_WHDHC!G1553","v":1313},null,null,{"$f":"ROUND(IF(Calc_WHDHC!H1553<0,Calc_WHDHC!I1553*IF(Input!$B$4=\"Other\",0.95*0.95,0.98*0.95),2*PI()*Calc_WHDHC!G1553/60*Calc_WHDHC!H1553/1000),3)","v":78.236000000000004},null,null,1547,null,"-",null,null,{"$f":"Calc_WHDHC!J1553/3.6/(2*Input!$B$5*PI())*60","v":241.69511103847503},null,null,{"$f":"ROUND(IF(Calc_WHDHC!H1553<0,Calc_WHDHC!I1553,2*PI()*Calc_WHDHC!G1553/60*Calc_WHDHC!H1553/1000*IF(Input!$B$4=\"Other\",0.95*0.95,0.98*0.95)),3)","v":72.837999999999994}]
[1548,null,{"$f":"Calc_WHDHC!G1554","v":1311},null,null,{"$f":"ROUND(IF(Calc_WHDHC!H1554<0,Calc_WHDHC!I1554*IF(Input!$B$4=\"Other\",0.95*0.95,0.98*0.95),2*PI()*Calc_WHDHC!G1554/60*Calc_WHDHC!H1554/1000),3)","v":75.783000000000001},null,null,1548,null,"-",null,null,{"$f":"Calc_WHDHC!J1554/3.6/(2*Input!$B$5*PI())*60","v":241.27977976735841},null,null,{"$f":"ROUND(IF(Calc_WHDHC!H1554<0,Calc_WHDHC!I1554,2*PI()*Calc_WHDHC!G1554/60*Calc_WHDHC!H1554/1000*IF(Input!$B$4=\"Other\",0.95*0.95,0.98*0.95)),3)","v":70.554000000000002}]
[1549,null,{"$f":"Calc_WHDHC!G1555","v":1309},null,null,{"$f":"ROUND(IF(Calc_WHDHC!H1555<0,Calc_WHDHC!I1555*IF(Input!$B$4=\"Other\",0.95*0.95,0.98*0.95),2*PI()*Calc_WHDHC!G1555/60*Calc_WHDHC!H1555/1000),3)","v":75.667000000000002},null,null,1549,null,"-",null,null,{"$f":"Calc_WHDHC!J1555/3.6/(2*Input!$B$5*PI())*60","v":240.97520350187287},null,null,{"$f":"ROUND(IF(Calc_WHDHC!H1555<0,Calc_WHDHC!I1555,2*PI()*Calc_WHDHC!G1555/60*Calc_WHDHC!H1555/1000*IF(Input!$B$4=\"Other\",0.95*0.95,0.98*0.95)),3)","v":70.445999999999998}]
[1550,null,{"$f":"Calc_WHDHC!G1556","v":1313},null,null,{"$f":"ROUND(IF(Calc_WHDHC!H1556<0,Calc_WHDHC!I1556*IF(Input!$B$4=\"Other\",0.95*0.95,0.98*0.95),2*PI()*Calc_WHDHC!G1556/60*Calc_WHDHC!H1556/1000),3)","v":77.135999999999996},null,null,1550,null,"-",null,null,{"$f":"Calc_WHDHC!J1556/3.6/(2*Input!$B$5*PI())*60","v":241.58435603284394},null,null,{"$f":"ROUND(IF(Calc_WHDHC!H1556<0,Calc_WHDHC!I1556,2*PI()*Calc_WHDHC!G1556/60*Calc_WHDHC!H1556/1000*IF(Input!$B$4=\"Other\",0.95*0.95,0.98*0.95)),3)","v":71.813000000000002}]
[1551,null,{"$f":"Calc_WHDHC!G1557","v":1309},null,null,{"$f":"ROUND(IF(Calc_WHDHC!H1557<0,Calc_WHDHC!I1557*IF(Input!$B$4=\"Other\",0.95*0.95,0.98*0.95),2*PI()*Calc_WHDHC!G1557/60*Calc_WHDHC!H1557/1000),3)","v":80.328000000000003},null,null,1551,null,"-",null,null,{"$f":"Calc_WHDHC!J1557/3.6/(2*Input!$B$5*PI())*60","v":240.97520350187287},null,null,{"$f":"ROUND(IF(Calc_WHDHC!H1557<0,Calc_WHDHC!I1557,2*PI()*Calc_WHDHC!G1557/60*Calc_WHDHC!H1557/1000*IF(Input!$B$4=\"Other\",0.95*0.95,0.98*0.95)),3)","v":74.784999999999997}]
[1552,null,{"$f":"Calc_WHDHC!G1558","v":1309},null,null,{"$f":"ROUND(IF(Calc_WHDHC!H1558<0,Calc_WHDHC!I1558*IF(Input!$B$4=\"Other\",0.95*0.95,0.98*0.95),2*PI()*Calc_WHDHC!G1558/60*Calc_WHDHC!H1558/1000),3)","v":85.811000000000007},null,null,1552,null,"-",null,null,{"$f":"Calc_WHDHC!J1558/3.6/(2*Input!$B$5*PI())*60","v":240.97520350187287},null,null,{"$f":"ROUND(IF(Calc_WHDHC!H1558<0,Calc_WHDHC!I1558,2*PI()*Calc_WHDHC!G1558/60*Calc_WHDHC!H1558/1000*IF(Input!$B$4=\"Other\",0.95*0.95,0.98*0.95)),3)","v":79.89}]
[1553,null,{"$f":"Calc_WHDHC!G1559","v":1310},null,null,{"$f":"ROUND(IF(Calc_WHDHC!H1559<0,Calc_WHDHC!I1559*IF(Input!$B$4=\"Other\",0.95*0.95,0.98*0.95),2*PI()*Calc_WHDHC!G1559/60*Calc_WHDHC!H1559/1000),3)","v":92.873000000000005},null,null,1553,null,"-",null,null,{"$f":"Calc_WHDHC!J1559/3.6/(2*Input!$B$5*PI())*60","v":241.08595850750396},null,null,{"$f":"ROUND(IF(Calc_WHDHC!H1559<0,Calc_WHDHC!I1559,2*PI()*Calc_WHDHC!G1559/60*Calc_WHDHC!H1559/1000*IF(Input!$B$4=\"Other\",0.95*0.95,0.98*0.95)),3)","v":86.465000000000003}]
[1554,null,{"$f":"Calc_WHDHC!G1560","v":1306},null,null,{"$f":"ROUND(IF(Calc_WHDHC!H1560<0,Calc_WHDHC!I1560*IF(Input!$B$4=\"Other\",0.95*0.95,0.98*0.95),2*PI()*Calc_WHDHC!G1560/60*Calc_WHDHC!H1560/1000),3)","v":100.658},null,null,1554,null,"-",null,null,{"$f":"Calc_WHDHC!J1560/3.6/(2*Input!$B$5*PI())*60","v":240.3660509709018},null,null,{"$f":"ROUND(IF(Calc_WHDHC!H1560<0,Calc_WHDHC!I1560,2*PI()*Calc_WHDHC!G1560/60*Calc_WHDHC!H1560/1000*IF(Input!$B$4=\"Other\",0.95*0.95,0.98*0.95)),3)","v":93.712999999999994}]
[1555,null,{"$f":"Calc_WHDHC!G1561","v":1307},null,null,{"$f":"ROUND(IF(Calc_WHDHC!H1561<0,Calc_WHDHC!I1561*IF(Input!$B$4=\"Other\",0.95*0.95,0.98*0.95),2*PI()*Calc_WHDHC!G1561/60*Calc_WHDHC!H1561/1000),3)","v":100.735},null,null,1555,null,"-",null,null,{"$f":"Calc_WHDHC!J1561/3.6/(2*Input!$B$5*PI())*60","v":240.67062723638733},null,null,{"$f":"ROUND(IF(Calc_WHDHC!H1561<0,Calc_WHDHC!I1561,2*PI()*Calc_WHDHC!G1561/60*Calc_WHDHC!H1561/1000*IF(Input!$B$4=\"Other\",0.95*0.95,0.98*0.95)),3)","v":93.784999999999997}]
[1556,null,{"$f":"Calc_WHDHC!G1562","v":1304},null,null,{"$f":"ROUND(IF(Calc_WHDHC!H1562<0,Calc_WHDHC!I1562*IF(Input!$B$4=\"Other\",0.95*0.95,0.98*0.95),2*PI()*Calc_WHDHC!G1562/60*Calc_WHDHC!H1562/1000),3)","v":103.099},null,null,1556,null,"-",null,null,{"$f":"Calc_WHDHC!J1562/3.6/(2*Input!$B$5*PI())*60","v":239.95071969978514},null,null,{"$f":"ROUND(IF(Calc_WHDHC!H1562<0,Calc_WHDHC!I1562,2*PI()*Calc_WHDHC!G1562/60*Calc_WHDHC!H1562/1000*IF(Input!$B$4=\"Other\",0.95*0.95,0.98*0.95)),3)","v":95.984999999999999}]
[1557,null,{"$f":"Calc_WHDHC!G1563","v":1307},null,null,{"$f":"ROUND(IF(Calc_WHDHC!H1563<0,Calc_WHDHC!I1563*IF(Input!$B$4=\"Other\",0.95*0.95,0.98*0.95),2*PI()*Calc_WHDHC!G1563/60*Calc_WHDHC!H1563/1000),3)","v":105.663},null,null,1557,null,"-",null,null,{"$f":"Calc_WHDHC!J1563/3.6/(2*Input!$B$5*PI())*60","v":240.67062723638733},null,null,{"$f":"ROUND(IF(Calc_WHDHC!H1563<0,Calc_WHDHC!I1563,2*PI()*Calc_WHDHC!G1563/60*Calc_WHDHC!H1563/1000*IF(Input!$B$4=\"Other\",0.95*0.95,0.98*0.95)),3)","v":98.372}]
[1558,null,{"$f":"Calc_WHDHC!G1564","v":1302},null,null,{"$f":"ROUND(IF(Calc_WHDHC!H1564<0,Calc_WHDHC!I1564*IF(Input!$B$4=\"Other\",0.95*0.95,0.98*0.95),2*PI()*Calc_WHDHC!G1564/60*Calc_WHDHC!H1564/1000),3)","v":108.122},null,null,1558,null,"-",null,null,{"$f":"Calc_WHDHC!J1564/3.6/(2*Input!$B$5*PI())*60","v":239.75689843993072},null,null,{"$f":"ROUND(IF(Calc_WHDHC!H1564<0,Calc_WHDHC!I1564,2*PI()*Calc_WHDHC!G1564/60*Calc_WHDHC!H1564/1000*IF(Input!$B$4=\"Other\",0.95*0.95,0.98*0.95)),3)","v":100.661}]
[1559,null,{"$f":"Calc_WHDHC!G1565","v":1307},null,null,{"$f":"ROUND(IF(Calc_WHDHC!H1565<0,Calc_WHDHC!I1565*IF(Input!$B$4=\"Other\",0.95*0.95,0.98*0.95),2*PI()*Calc_WHDHC!G1565/60*Calc_WHDHC!H1565/1000),3)","v":110.179},null,null,1559,null,"-",null,null,{"$f":"Calc_WHDHC!J1565/3.6/(2*Input!$B$5*PI())*60","v":240.67062723638733},null,null,{"$f":"ROUND(IF(Calc_WHDHC!H1565<0,Calc_WHDHC!I1565,2*PI()*Calc_WHDHC!G1565/60*Calc_WHDHC!H1565/1000*IF(Input!$B$4=\"Other\",0.95*0.95,0.98*0.95)),3)","v":102.577}]
[1560,null,{"$f":"Calc_WHDHC!G1566","v":1302},null,null,{"$f":"ROUND(IF(Calc_WHDHC!H1566<0,Calc_WHDHC!I1566*IF(Input!$B$4=\"Other\",0.95*0.95,0.98*0.95),2*PI()*Calc_WHDHC!G1566/60*Calc_WHDHC!H1566/1000),3)","v":108.94},null,null,1560,null,"-",null,null,{"$f":"Calc_WHDHC!J1566/3.6/(2*Input!$B$5*PI())*60","v":239.75689843993072},null,null,{"$f":"ROUND(IF(Calc_WHDHC!H1566<0,Calc_WHDHC!I1566,2*PI()*Calc_WHDHC!G1566/60*Calc_WHDHC!H1566/1000*IF(Input!$B$4=\"Other\",0.95*0.95,0.98*0.95)),3)","v":101.423}]
[1561,null,{"$f":"Calc_WHDHC!G1567","v":1307},null,null,{"$f":"ROUND(IF(Calc_WHDHC!H1567<0,Calc_WHDHC!I1567*IF(Input!$B$4=\"Other\",0.95*0.95,0.98*0.95),2*PI()*Calc_WHDHC!G1567/60*Calc_WHDHC!H1567/1000),3)","v":108.126},null,null,1561,null,"-",null,null,{"$f":"Calc_WHDHC!J1567/3.6/(2*Input!$B$5*PI())*60","v":240.55987223075621},null,null,{"$f":"ROUND(IF(Calc_WHDHC!H1567<0,Calc_WHDHC!I1567,2*PI()*Calc_WHDHC!G1567/60*Calc_WHDHC!H1567/1000*IF(Input!$B$4=\"Other\",0.95*0.95,0.98*0.95)),3)","v":100.666}]
[1562,null,{"$f":"Calc_WHDHC!G1568","v":1305},null,null,{"$f":"ROUND(IF(Calc_WHDHC!H1568<0,Calc_WHDHC!I1568*IF(Input!$B$4=\"Other\",0.95*0.95,0.98*0.95),2*PI()*Calc_WHDHC!G1568/60*Calc_WHDHC!H1568/1000),3)","v":105.774},null,null,1562,null,"-",null,null,{"$f":"Calc_WHDHC!J1568/3.6/(2*Input!$B$5*PI())*60","v":240.06147470541626},null,null,{"$f":"ROUND(IF(Calc_WHDHC!H1568<0,Calc_WHDHC!I1568,2*PI()*Calc_WHDHC!G1568/60*Calc_WHDHC!H1568/1000*IF(Input!$B$4=\"Other\",0.95*0.95,0.98*0.95)),3)","v":98.475999999999999}]
[1563,null,{"$f":"Calc_WHDHC!G1569","v":1306},null,null,{"$f":"ROUND(IF(Calc_WHDHC!H1569<0,Calc_WHDHC!I1569*IF(Input!$B$4=\"Other\",0.95*0.95,0.98*0.95),2*PI()*Calc_WHDHC!G1569/60*Calc_WHDHC!H1569/1000),3)","v":100.38500000000001},null,null,1563,null,"-",null,null,{"$f":"Calc_WHDHC!J1569/3.6/(2*Input!$B$5*PI())*60","v":240.3660509709018},null,null,{"$f":"ROUND(IF(Calc_WHDHC!H1569<0,Calc_WHDHC!I1569,2*PI()*Calc_WHDHC!G1569/60*Calc_WHDHC!H1569/1000*IF(Input!$B$4=\"Other\",0.95*0.95,0.98*0.95)),3)","v":93.457999999999998}]
[1564,null,{"$f":"Calc_WHDHC!G1570","v":1306},null,null,{"$f":"ROUND(IF(Calc_WHDHC!H1570<0,Calc_WHDHC!I1570*IF(Input!$B$4=\"Other\",0.95*0.95,0.98*0.95),2*PI()*Calc_WHDHC!G1570/60*Calc_WHDHC!H1570/1000),3)","v":103.25700000000001},null,null,1564,null,"-",null,null,{"$f":"Calc_WHDHC!J1570/3.6/(2*Input!$B$5*PI())*60","v":240.3660509709018},null,null,{"$f":"ROUND(IF(Calc_WHDHC!H1570<0,Calc_WHDHC!I1570,2*PI()*Calc_WHDHC!G1570/60*Calc_WHDHC!H1570/1000*IF(Input!$B$4=\"Other\",0.95*0.95,0.98*0.95)),3)","v":96.132000000000005}]
[1565,null,{"$f":"Calc_WHDHC!G1571","v":1306},null,null,{"$f":"ROUND(IF(Calc_WHDHC!H1571<0,Calc_WHDHC!I1571*IF(Input!$B$4=\"Other\",0.95*0.95,0.98*0.95),2*PI()*Calc_WHDHC!G1571/60*Calc_WHDHC!H1571/1000),3)","v":104.351},null,null,1565,null,"-",null,null,{"$f":"Calc_WHDHC!J1571/3.6/(2*Input!$B$5*PI())*60","v":240.3660509709018},null,null,{"$f":"ROUND(IF(Calc_WHDHC!H1571<0,Calc_WHDHC!I1571,2*PI()*Calc_WHDHC!G1571/60*Calc_WHDHC!H1571/1000*IF(Input!$B$4=\"Other\",0.95*0.95,0.98*0.95)),3)","v":97.150999999999996}]
[1566,null,{"$f":"Calc_WHDHC!G1572","v":1306},null,null,{"$f":"ROUND(IF(Calc_WHDHC!H1572<0,Calc_WHDHC!I1572*IF(Input!$B$4=\"Other\",0.95*0.95,0.98*0.95),2*PI()*Calc_WHDHC!G1572/60*Calc_WHDHC!H1572/1000),3)","v":105.855},null,null,1566,null,"-",null,null,{"$f":"Calc_WHDHC!J1572/3.6/(2*Input!$B$5*PI())*60","v":240.3660509709018},null,null,{"$f":"ROUND(IF(Calc_WHDHC!H1572<0,Calc_WHDHC!I1572,2*PI()*Calc_WHDHC!G1572/60*Calc_WHDHC!H1572/1000*IF(Input!$B$4=\"Other\",0.95*0.95,0.98*0.95)),3)","v":98.551000000000002}]
[1567,null,{"$f":"Calc_WHDHC!G1573","v":1309},null,null,{"$f":"ROUND(IF(Calc_WHDHC!H1573<0,Calc_WHDHC!I1573*IF(Input!$B$4=\"Other\",0.95*0.95,0.98*0.95),2*PI()*Calc_WHDHC!G1573/60*Calc_WHDHC!H1573/1000),3)","v":109.251},null,null,1567,null,"-",null,null,{"$f":"Calc_WHDHC!J1573/3.6/(2*Input!$B$5*PI())*60","v":240.86444849624175},null,null,{"$f":"ROUND(IF(Calc_WHDHC!H1573<0,Calc_WHDHC!I1573,2*PI()*Calc_WHDHC!G1573/60*Calc_WHDHC!H1573/1000*IF(Input!$B$4=\"Other\",0.95*0.95,0.98*0.95)),3)","v":101.71299999999999}]
[1568,null,{"$f":"Calc_WHDHC!G1574","v":1309},null,null,{"$f":"ROUND(IF(Calc_WHDHC!H1574<0,Calc_WHDHC!I1574*IF(Input!$B$4=\"Other\",0.95*0.95,0.98*0.95),2*PI()*Calc_WHDHC!G1574/60*Calc_WHDHC!H1574/1000),3)","v":109.251},null,null,1568,null,"-",null,null,{"$f":"Calc_WHDHC!J1574/3.6/(2*Input!$B$5*PI())*60","v":240.97520350187287},null,null,{"$f":"ROUND(IF(Calc_WHDHC!H1574<0,Calc_WHDHC!I1574,2*PI()*Calc_WHDHC!G1574/60*Calc_WHDHC!H1574/1000*IF(Input!$B$4=\"Other\",0.95*0.95,0.98*0.95)),3)","v":101.71299999999999}]
[1569,null,{"$f":"Calc_WHDHC!G1575","v":1307},null,null,{"$f":"ROUND(IF(Calc_WHDHC!H1575<0,Calc_WHDHC!I1575*IF(Input!$B$4=\"Other\",0.95*0.95,0.98*0.95),2*PI()*Calc_WHDHC!G1575/60*Calc_WHDHC!H1575/1000),3)","v":105.663},null,null,1569,null,"-",null,null,{"$f":"Calc_WHDHC!J1575/3.6/(2*Input!$B$5*PI())*60","v":240.67062723638733},null,null,{"$f":"ROUND(IF(Calc_WHDHC!H1575<0,Calc_WHDHC!I1575,2*PI()*Calc_WHDHC!G1575/60*Calc_WHDHC!H1575/1000*IF(Input!$B$4=\"Other\",0.95*0.95,0.98*0.95)),3)","v":98.372}]
[1570,null,{"$f":"Calc_WHDHC!G1576","v":1310},null,null,{"$f":"ROUND(IF(Calc_WHDHC!H1576<0,Calc_WHDHC!I1576*IF(Input!$B$4=\"Other\",0.95*0.95,0.98*0.95),2*PI()*Calc_WHDHC!G1576/60*Calc_WHDHC!H1576/1000),3)","v":104.396},null,null,1570,null,"-",null,null,{"$f":"Calc_WHDHC!J1576/3.6/(2*Input!$B$5*PI())*60","v":241.16902476172729},null,null,{"$f":"ROUND(IF(Calc_WHDHC!H1576<0,Calc_WHDHC!I1576,2*PI()*Calc_WHDHC!G1576/60*Calc_WHDHC!H1576/1000*IF(Input!$B$4=\"Other\",0.95*0.95,0.98*0.95)),3)","v":97.192999999999998}]
[1571,null,{"$f":"Calc_WHDHC!G1577","v":1306},null,null,{"$f":"ROUND(IF(Calc_WHDHC!H1577<0,Calc_WHDHC!I1577*IF(Input!$B$4=\"Other\",0.95*0.95,0.98*0.95),2*PI()*Calc_WHDHC!G1577/60*Calc_WHDHC!H1577/1000),3)","v":106.129},null,null,1571,null,"-",null,null,{"$f":"Calc_WHDHC!J1577/3.6/(2*Input!$B$5*PI())*60","v":240.47680597653286},null,null,{"$f":"ROUND(IF(Calc_WHDHC!H1577<0,Calc_WHDHC!I1577,2*PI()*Calc_WHDHC!G1577/60*Calc_WHDHC!H1577/1000*IF(Input!$B$4=\"Other\",0.95*0.95,0.98*0.95)),3)","v":98.805999999999997}]
[1572,null,{"$f":"Calc_WHDHC!G1578","v":1311},null,null,{"$f":"ROUND(IF(Calc_WHDHC!H1578<0,Calc_WHDHC!I1578*IF(Input!$B$4=\"Other\",0.95*0.95,0.98*0.95),2*PI()*Calc_WHDHC!G1578/60*Calc_WHDHC!H1578/1000),3)","v":103.92700000000001},null,null,1572,null,"-",null,null,{"$f":"Calc_WHDHC!J1578/3.6/(2*Input!$B$5*PI())*60","v":241.27977976735841},null,null,{"$f":"ROUND(IF(Calc_WHDHC!H1578<0,Calc_WHDHC!I1578,2*PI()*Calc_WHDHC!G1578/60*Calc_WHDHC!H1578/1000*IF(Input!$B$4=\"Other\",0.95*0.95,0.98*0.95)),3)","v":96.756}]
[1573,null,{"$f":"Calc_WHDHC!G1579","v":1309},null,null,{"$f":"ROUND(IF(Calc_WHDHC!H1579<0,Calc_WHDHC!I1579*IF(Input!$B$4=\"Other\",0.95*0.95,0.98*0.95),2*PI()*Calc_WHDHC!G1579/60*Calc_WHDHC!H1579/1000),3)","v":101.164},null,null,1573,null,"-",null,null,{"$f":"Calc_WHDHC!J1579/3.6/(2*Input!$B$5*PI())*60","v":240.7813822420184},null,null,{"$f":"ROUND(IF(Calc_WHDHC!H1579<0,Calc_WHDHC!I1579,2*PI()*Calc_WHDHC!G1579/60*Calc_WHDHC!H1579/1000*IF(Input!$B$4=\"Other\",0.95*0.95,0.98*0.95)),3)","v":94.183000000000007}]
[1574,null,{"$f":"Calc_WHDHC!G1580","v":1306},null,null,{"$f":"ROUND(IF(Calc_WHDHC!H1580<0,Calc_WHDHC!I1580*IF(Input!$B$4=\"Other\",0.95*0.95,0.98*0.95),2*PI()*Calc_WHDHC!G1580/60*Calc_WHDHC!H1580/1000),3)","v":103.804},null,null,1574,null,"-",null,null,{"$f":"Calc_WHDHC!J1580/3.6/(2*Input!$B$5*PI())*60","v":240.47680597653286},null,null,{"$f":"ROUND(IF(Calc_WHDHC!H1580<0,Calc_WHDHC!I1580,2*PI()*Calc_WHDHC!G1580/60*Calc_WHDHC!H1580/1000*IF(Input!$B$4=\"Other\",0.95*0.95,0.98*0.95)),3)","v":96.641000000000005}]
[1575,null,{"$f":"Calc_WHDHC!G1581","v":1305},null,null,{"$f":"ROUND(IF(Calc_WHDHC!H1581<0,Calc_WHDHC!I1581*IF(Input!$B$4=\"Other\",0.95*0.95,0.98*0.95),2*PI()*Calc_WHDHC!G1581/60*Calc_WHDHC!H1581/1000),3)","v":105.09099999999999},null,null,1575,null,"-",null,null,{"$f":"Calc_WHDHC!J1581/3.6/(2*Input!$B$5*PI())*60","v":240.25529596527068},null,null,{"$f":"ROUND(IF(Calc_WHDHC!H1581<0,Calc_WHDHC!I1581,2*PI()*Calc_WHDHC!G1581/60*Calc_WHDHC!H1581/1000*IF(Input!$B$4=\"Other\",0.95*0.95,0.98*0.95)),3)","v":97.84}]
[1576,null,{"$f":"Calc_WHDHC!G1582","v":1306},null,null,{"$f":"ROUND(IF(Calc_WHDHC!H1582<0,Calc_WHDHC!I1582*IF(Input!$B$4=\"Other\",0.95*0.95,0.98*0.95),2*PI()*Calc_WHDHC!G1582/60*Calc_WHDHC!H1582/1000),3)","v":109.548},null,null,1576,null,"-",null,null,{"$f":"Calc_WHDHC!J1582/3.6/(2*Input!$B$5*PI())*60","v":240.3660509709018},null,null,{"$f":"ROUND(IF(Calc_WHDHC!H1582<0,Calc_WHDHC!I1582,2*PI()*Calc_WHDHC!G1582/60*Calc_WHDHC!H1582/1000*IF(Input!$B$4=\"Other\",0.95*0.95,0.98*0.95)),3)","v":101.989}]
[1577,null,{"$f":"Calc_WHDHC!G1583","v":1306},null,null,{"$f":"ROUND(IF(Calc_WHDHC!H1583<0,Calc_WHDHC!I1583*IF(Input!$B$4=\"Other\",0.95*0.95,0.98*0.95),2*PI()*Calc_WHDHC!G1583/60*Calc_WHDHC!H1583/1000),3)","v":115.01900000000001},null,null,1577,null,"-",null,null,{"$f":"Calc_WHDHC!J1583/3.6/(2*Input!$B$5*PI())*60","v":240.47680597653286},null,null,{"$f":"ROUND(IF(Calc_WHDHC!H1583<0,Calc_WHDHC!I1583,2*PI()*Calc_WHDHC!G1583/60*Calc_WHDHC!H1583/1000*IF(Input!$B$4=\"Other\",0.95*0.95,0.98*0.95)),3)","v":107.08199999999999}]
[1578,null,{"$f":"Calc_WHDHC!G1584","v":1305},null,null,{"$f":"ROUND(IF(Calc_WHDHC!H1584<0,Calc_WHDHC!I1584*IF(Input!$B$4=\"Other\",0.95*0.95,0.98*0.95),2*PI()*Calc_WHDHC!G1584/60*Calc_WHDHC!H1584/1000),3)","v":121.217},null,null,1578,null,"-",null,null,{"$f":"Calc_WHDHC!J1584/3.6/(2*Input!$B$5*PI())*60","v":240.17222971104735},null,null,{"$f":"ROUND(IF(Calc_WHDHC!H1584<0,Calc_WHDHC!I1584,2*PI()*Calc_WHDHC!G1584/60*Calc_WHDHC!H1584/1000*IF(Input!$B$4=\"Other\",0.95*0.95,0.98*0.95)),3)","v":112.85299999999999}]
[1579,null,{"$f":"Calc_WHDHC!G1585","v":1306},null,null,{"$f":"ROUND(IF(Calc_WHDHC!H1585<0,Calc_WHDHC!I1585*IF(Input!$B$4=\"Other\",0.95*0.95,0.98*0.95),2*PI()*Calc_WHDHC!G1585/60*Calc_WHDHC!H1585/1000),3)","v":135.53299999999999},null,null,1579,null,"-",null,null,{"$f":"Calc_WHDHC!J1585/3.6/(2*Input!$B$5*PI())*60","v":240.3660509709018},null,null,{"$f":"ROUND(IF(Calc_WHDHC!H1585<0,Calc_WHDHC!I1585,2*PI()*Calc_WHDHC!G1585/60*Calc_WHDHC!H1585/1000*IF(Input!$B$4=\"Other\",0.95*0.95,0.98*0.95)),3)","v":126.181}]
[1580,null,{"$f":"Calc_WHDHC!G1586","v":1305},null,null,{"$f":"ROUND(IF(Calc_WHDHC!H1586<0,Calc_WHDHC!I1586*IF(Input!$B$4=\"Other\",0.95*0.95,0.98*0.95),2*PI()*Calc_WHDHC!G1586/60*Calc_WHDHC!H1586/1000),3)","v":138.29900000000001},null,null,1580,null,"-",null,null,{"$f":"Calc_WHDHC!J1586/3.6/(2*Input!$B$5*PI())*60","v":240.06147470541626},null,null,{"$f":"ROUND(IF(Calc_WHDHC!H1586<0,Calc_WHDHC!I1586,2*PI()*Calc_WHDHC!G1586/60*Calc_WHDHC!H1586/1000*IF(Input!$B$4=\"Other\",0.95*0.95,0.98*0.95)),3)","v":128.75700000000001}]
[1581,null,{"$f":"Calc_WHDHC!G1587","v":1301},null,null,{"$f":"ROUND(IF(Calc_WHDHC!H1587<0,Calc_WHDHC!I1587*IF(Input!$B$4=\"Other\",0.95*0.95,0.98*0.95),2*PI()*Calc_WHDHC!G1587/60*Calc_WHDHC!H1587/1000),3)","v":141.00899999999999},null,null,1581,null,"-",null,null,{"$f":"Calc_WHDHC!J1587/3.6/(2*Input!$B$5*PI())*60","v":239.56307718007628},null,null,{"$f":"ROUND(IF(Calc_WHDHC!H1587<0,Calc_WHDHC!I1587,2*PI()*Calc_WHDHC!G1587/60*Calc_WHDHC!H1587/1000*IF(Input!$B$4=\"Other\",0.95*0.95,0.98*0.95)),3)","v":131.279}]
[1582,null,{"$f":"Calc_WHDHC!G1588","v":1305},null,null,{"$f":"ROUND(IF(Calc_WHDHC!H1588<0,Calc_WHDHC!I1588*IF(Input!$B$4=\"Other\",0.95*0.95,0.98*0.95),2*PI()*Calc_WHDHC!G1588/60*Calc_WHDHC!H1588/1000),3)","v":140.89599999999999},null,null,1582,null,"-",null,null,{"$f":"Calc_WHDHC!J1588/3.6/(2*Input!$B$5*PI())*60","v":240.06147470541626},null,null,{"$f":"ROUND(IF(Calc_WHDHC!H1588<0,Calc_WHDHC!I1588,2*PI()*Calc_WHDHC!G1588/60*Calc_WHDHC!H1588/1000*IF(Input!$B$4=\"Other\",0.95*0.95,0.98*0.95)),3)","v":131.17400000000001}]
[1583,null,{"$f":"Calc_WHDHC!G1589","v":1305},null,null,{"$f":"ROUND(IF(Calc_WHDHC!H1589<0,Calc_WHDHC!I1589*IF(Input!$B$4=\"Other\",0.95*0.95,0.98*0.95),2*PI()*Calc_WHDHC!G1589/60*Calc_WHDHC!H1589/1000),3)","v":138.846},null,null,1583,null,"-",null,null,{"$f":"Calc_WHDHC!J1589/3.6/(2*Input!$B$5*PI())*60","v":240.17222971104735},null,null,{"$f":"ROUND(IF(Calc_WHDHC!H1589<0,Calc_WHDHC!I1589,2*PI()*Calc_WHDHC!G1589/60*Calc_WHDHC!H1589/1000*IF(Input!$B$4=\"Other\",0.95*0.95,0.98*0.95)),3)","v":129.26499999999999}]
[1584,null,{"$f":"Calc_WHDHC!G1590","v":1306},null,null,{"$f":"ROUND(IF(Calc_WHDHC!H1590<0,Calc_WHDHC!I1590*IF(Input!$B$4=\"Other\",0.95*0.95,0.98*0.95),2*PI()*Calc_WHDHC!G1590/60*Calc_WHDHC!H1590/1000),3)","v":139.226},null,null,1584,null,"-",null,null,{"$f":"Calc_WHDHC!J1590/3.6/(2*Input!$B$5*PI())*60","v":240.3660509709018},null,null,{"$f":"ROUND(IF(Calc_WHDHC!H1590<0,Calc_WHDHC!I1590,2*PI()*Calc_WHDHC!G1590/60*Calc_WHDHC!H1590/1000*IF(Input!$B$4=\"Other\",0.95*0.95,0.98*0.95)),3)","v":129.619}]
[1585,null,{"$f":"Calc_WHDHC!G1591","v":1306},null,null,{"$f":"ROUND(IF(Calc_WHDHC!H1591<0,Calc_WHDHC!I1591*IF(Input!$B$4=\"Other\",0.95*0.95,0.98*0.95),2*PI()*Calc_WHDHC!G1591/60*Calc_WHDHC!H1591/1000),3)","v":138.13200000000001},null,null,1585,null,"-",null,null,{"$f":"Calc_WHDHC!J1591/3.6/(2*Input!$B$5*PI())*60","v":240.47680597653286},null,null,{"$f":"ROUND(IF(Calc_WHDHC!H1591<0,Calc_WHDHC!I1591,2*PI()*Calc_WHDHC!G1591/60*Calc_WHDHC!H1591/1000*IF(Input!$B$4=\"Other\",0.95*0.95,0.98*0.95)),3)","v":128.601}]
[1586,null,{"$f":"Calc_WHDHC!G1592","v":1307},null,null,{"$f":"ROUND(IF(Calc_WHDHC!H1592<0,Calc_WHDHC!I1592*IF(Input!$B$4=\"Other\",0.95*0.95,0.98*0.95),2*PI()*Calc_WHDHC!G1592/60*Calc_WHDHC!H1592/1000),3)","v":135.089},null,null,1586,null,"-",null,null,{"$f":"Calc_WHDHC!J1592/3.6/(2*Input!$B$5*PI())*60","v":240.67062723638733},null,null,{"$f":"ROUND(IF(Calc_WHDHC!H1592<0,Calc_WHDHC!I1592,2*PI()*Calc_WHDHC!G1592/60*Calc_WHDHC!H1592/1000*IF(Input!$B$4=\"Other\",0.95*0.95,0.98*0.95)),3)","v":125.768}]
[1587,null,{"$f":"Calc_WHDHC!G1593","v":1307},null,null,{"$f":"ROUND(IF(Calc_WHDHC!H1593<0,Calc_WHDHC!I1593*IF(Input!$B$4=\"Other\",0.95*0.95,0.98*0.95),2*PI()*Calc_WHDHC!G1593/60*Calc_WHDHC!H1593/1000),3)","v":133.31},null,null,1587,null,"-",null,null,{"$f":"Calc_WHDHC!J1593/3.6/(2*Input!$B$5*PI())*60","v":240.55987223075621},null,null,{"$f":"ROUND(IF(Calc_WHDHC!H1593<0,Calc_WHDHC!I1593,2*PI()*Calc_WHDHC!G1593/60*Calc_WHDHC!H1593/1000*IF(Input!$B$4=\"Other\",0.95*0.95,0.98*0.95)),3)","v":124.11199999999999}]
[1588,null,{"$f":"Calc_WHDHC!G1594","v":1306},null,null,{"$f":"ROUND(IF(Calc_WHDHC!H1594<0,Calc_WHDHC!I1594*IF(Input!$B$4=\"Other\",0.95*0.95,0.98*0.95),2*PI()*Calc_WHDHC!G1594/60*Calc_WHDHC!H1594/1000),3)","v":128.011},null,null,1588,null,"-",null,null,{"$f":"Calc_WHDHC!J1594/3.6/(2*Input!$B$5*PI())*60","v":240.47680597653286},null,null,{"$f":"ROUND(IF(Calc_WHDHC!H1594<0,Calc_WHDHC!I1594,2*PI()*Calc_WHDHC!G1594/60*Calc_WHDHC!H1594/1000*IF(Input!$B$4=\"Other\",0.95*0.95,0.98*0.95)),3)","v":119.178}]
[1589,null,{"$f":"Calc_WHDHC!G1595","v":1310},null,null,{"$f":"ROUND(IF(Calc_WHDHC!H1595<0,Calc_WHDHC!I1595*IF(Input!$B$4=\"Other\",0.95*0.95,0.98*0.95),2*PI()*Calc_WHDHC!G1595/60*Calc_WHDHC!H1595/1000),3)","v":124.01300000000001},null,null,1589,null,"-",null,null,{"$f":"Calc_WHDHC!J1595/3.6/(2*Input!$B$5*PI())*60","v":241.16902476172729},null,null,{"$f":"ROUND(IF(Calc_WHDHC!H1595<0,Calc_WHDHC!I1595,2*PI()*Calc_WHDHC!G1595/60*Calc_WHDHC!H1595/1000*IF(Input!$B$4=\"Other\",0.95*0.95,0.98*0.95)),3)","v":115.456}]
[1590,null,{"$f":"Calc_WHDHC!G1596","v":1306},null,null,{"$f":"ROUND(IF(Calc_WHDHC!H1596<0,Calc_WHDHC!I1596*IF(Input!$B$4=\"Other\",0.95*0.95,0.98*0.95),2*PI()*Calc_WHDHC!G1596/60*Calc_WHDHC!H1596/1000),3)","v":123.361},null,null,1590,null,"-",null,null,{"$f":"Calc_WHDHC!J1596/3.6/(2*Input!$B$5*PI())*60","v":240.3660509709018},null,null,{"$f":"ROUND(IF(Calc_WHDHC!H1596<0,Calc_WHDHC!I1596,2*PI()*Calc_WHDHC!G1596/60*Calc_WHDHC!H1596/1000*IF(Input!$B$4=\"Other\",0.95*0.95,0.98*0.95)),3)","v":114.849}]
[1591,null,{"$f":"Calc_WHDHC!G1597","v":1309},null,null,{"$f":"ROUND(IF(Calc_WHDHC!H1597<0,Calc_WHDHC!I1597*IF(Input!$B$4=\"Other\",0.95*0.95,0.98*0.95),2*PI()*Calc_WHDHC!G1597/60*Calc_WHDHC!H1597/1000),3)","v":124.878},null,null,1591,null,"-",null,null,{"$f":"Calc_WHDHC!J1597/3.6/(2*Input!$B$5*PI())*60","v":240.86444849624175},null,null,{"$f":"ROUND(IF(Calc_WHDHC!H1597<0,Calc_WHDHC!I1597,2*PI()*Calc_WHDHC!G1597/60*Calc_WHDHC!H1597/1000*IF(Input!$B$4=\"Other\",0.95*0.95,0.98*0.95)),3)","v":116.262}]
[1592,null,{"$f":"Calc_WHDHC!G1598","v":1306},null,null,{"$f":"ROUND(IF(Calc_WHDHC!H1598<0,Calc_WHDHC!I1598*IF(Input!$B$4=\"Other\",0.95*0.95,0.98*0.95),2*PI()*Calc_WHDHC!G1598/60*Calc_WHDHC!H1598/1000),3)","v":123.361},null,null,1592,null,"-",null,null,{"$f":"Calc_WHDHC!J1598/3.6/(2*Input!$B$5*PI())*60","v":240.3660509709018},null,null,{"$f":"ROUND(IF(Calc_WHDHC!H1598<0,Calc_WHDHC!I1598,2*PI()*Calc_WHDHC!G1598/60*Calc_WHDHC!H1598/1000*IF(Input!$B$4=\"Other\",0.95*0.95,0.98*0.95)),3)","v":114.849}]
[1593,null,{"$f":"Calc_WHDHC!G1599","v":1311},null,null,{"$f":"ROUND(IF(Calc_WHDHC!H1599<0,Calc_WHDHC!I1599*IF(Input!$B$4=\"Other\",0.95*0.95,0.98*0.95),2*PI()*Calc_WHDHC!G1599/60*Calc_WHDHC!H1599/1000),3)","v":122.18600000000001},null,null,1593,null,"-",null,null,{"$f":"Calc_WHDHC!J1599/3.6/(2*Input!$B$5*PI())*60","v":241.27977976735841},null,null,{"$f":"ROUND(IF(Calc_WHDHC!H1599<0,Calc_WHDHC!I1599,2*PI()*Calc_WHDHC!G1599/60*Calc_WHDHC!H1599/1000*IF(Input!$B$4=\"Other\",0.95*0.95,0.98*0.95)),3)","v":113.755}]
[1594,null,{"$f":"Calc_WHDHC!G1600","v":1306},null,null,{"$f":"ROUND(IF(Calc_WHDHC!H1600<0,Calc_WHDHC!I1600*IF(Input!$B$4=\"Other\",0.95*0.95,0.98*0.95),2*PI()*Calc_WHDHC!G1600/60*Calc_WHDHC!H1600/1000),3)","v":124.318},null,null,1594,null,"-",null,null,{"$f":"Calc_WHDHC!J1600/3.6/(2*Input!$B$5*PI())*60","v":240.3660509709018},null,null,{"$f":"ROUND(IF(Calc_WHDHC!H1600<0,Calc_WHDHC!I1600,2*PI()*Calc_WHDHC!G1600/60*Calc_WHDHC!H1600/1000*IF(Input!$B$4=\"Other\",0.95*0.95,0.98*0.95)),3)","v":115.741}]
[1595,null,{"$f":"Calc_WHDHC!G1601","v":1306},null,null,{"$f":"ROUND(IF(Calc_WHDHC!H1601<0,Calc_WHDHC!I1601*IF(Input!$B$4=\"Other\",0.95*0.95,0.98*0.95),2*PI()*Calc_WHDHC!G1601/60*Calc_WHDHC!H1601/1000),3)","v":123.63500000000001},null,null,1595,null,"-",null,null,{"$f":"Calc_WHDHC!J1601/3.6/(2*Input!$B$5*PI())*60","v":240.47680597653286},null,null,{"$f":"ROUND(IF(Calc_WHDHC!H1601<0,Calc_WHDHC!I1601,2*PI()*Calc_WHDHC!G1601/60*Calc_WHDHC!H1601/1000*IF(Input!$B$4=\"Other\",0.95*0.95,0.98*0.95)),3)","v":115.104}]
[1596,null,{"$f":"Calc_WHDHC!G1602","v":1309},null,null,{"$f":"ROUND(IF(Calc_WHDHC!H1602<0,Calc_WHDHC!I1602*IF(Input!$B$4=\"Other\",0.95*0.95,0.98*0.95),2*PI()*Calc_WHDHC!G1602/60*Calc_WHDHC!H1602/1000),3)","v":123.37},null,null,1596,null,"-",null,null,{"$f":"Calc_WHDHC!J1602/3.6/(2*Input!$B$5*PI())*60","v":240.97520350187287},null,null,{"$f":"ROUND(IF(Calc_WHDHC!H1602<0,Calc_WHDHC!I1602,2*PI()*Calc_WHDHC!G1602/60*Calc_WHDHC!H1602/1000*IF(Input!$B$4=\"Other\",0.95*0.95,0.98*0.95)),3)","v":114.858}]
[1597,null,{"$f":"Calc_WHDHC!G1603","v":1307},null,null,{"$f":"ROUND(IF(Calc_WHDHC!H1603<0,Calc_WHDHC!I1603*IF(Input!$B$4=\"Other\",0.95*0.95,0.98*0.95),2*PI()*Calc_WHDHC!G1603/60*Calc_WHDHC!H1603/1000),3)","v":119.76},null,null,1597,null,"-",null,null,{"$f":"Calc_WHDHC!J1603/3.6/(2*Input!$B$5*PI())*60","v":240.67062723638733},null,null,{"$f":"ROUND(IF(Calc_WHDHC!H1603<0,Calc_WHDHC!I1603,2*PI()*Calc_WHDHC!G1603/60*Calc_WHDHC!H1603/1000*IF(Input!$B$4=\"Other\",0.95*0.95,0.98*0.95)),3)","v":111.497}]
[1598,null,{"$f":"Calc_WHDHC!G1604","v":1311},null,null,{"$f":"ROUND(IF(Calc_WHDHC!H1604<0,Calc_WHDHC!I1604*IF(Input!$B$4=\"Other\",0.95*0.95,0.98*0.95),2*PI()*Calc_WHDHC!G1604/60*Calc_WHDHC!H1604/1000),3)","v":120.95},null,null,1598,null,"-",null,null,{"$f":"Calc_WHDHC!J1604/3.6/(2*Input!$B$5*PI())*60","v":241.27977976735841},null,null,{"$f":"ROUND(IF(Calc_WHDHC!H1604<0,Calc_WHDHC!I1604,2*PI()*Calc_WHDHC!G1604/60*Calc_WHDHC!H1604/1000*IF(Input!$B$4=\"Other\",0.95*0.95,0.98*0.95)),3)","v":112.605}]
[1599,null,{"$f":"Calc_WHDHC!G1605","v":1307},null,null,{"$f":"ROUND(IF(Calc_WHDHC!H1605<0,Calc_WHDHC!I1605*IF(Input!$B$4=\"Other\",0.95*0.95,0.98*0.95),2*PI()*Calc_WHDHC!G1605/60*Calc_WHDHC!H1605/1000),3)","v":120.855},null,null,1599,null,"-",null,null,{"$f":"Calc_WHDHC!J1605/3.6/(2*Input!$B$5*PI())*60","v":240.67062723638733},null,null,{"$f":"ROUND(IF(Calc_WHDHC!H1605<0,Calc_WHDHC!I1605,2*PI()*Calc_WHDHC!G1605/60*Calc_WHDHC!H1605/1000*IF(Input!$B$4=\"Other\",0.95*0.95,0.98*0.95)),3)","v":112.51600000000001}]
[1600,null,{"$f":"Calc_WHDHC!G1606","v":1309},null,null,{"$f":"ROUND(IF(Calc_WHDHC!H1606<0,Calc_WHDHC!I1606*IF(Input!$B$4=\"Other\",0.95*0.95,0.98*0.95),2*PI()*Calc_WHDHC!G1606/60*Calc_WHDHC!H1606/1000),3)","v":123.096},null,null,1600,null,"-",null,null,{"$f":"Calc_WHDHC!J1606/3.6/(2*Input!$B$5*PI())*60","v":240.97520350187287},null,null,{"$f":"ROUND(IF(Calc_WHDHC!H1606<0,Calc_WHDHC!I1606,2*PI()*Calc_WHDHC!G1606/60*Calc_WHDHC!H1606/1000*IF(Input!$B$4=\"Other\",0.95*0.95,0.98*0.95)),3)","v":114.60299999999999}]
[1601,null,{"$f":"Calc_WHDHC!G1607","v":1309},null,null,{"$f":"ROUND(IF(Calc_WHDHC!H1607<0,Calc_WHDHC!I1607*IF(Input!$B$4=\"Other\",0.95*0.95,0.98*0.95),2*PI()*Calc_WHDHC!G1607/60*Calc_WHDHC!H1607/1000),3)","v":123.096},null,null,1601,null,"-",null,null,{"$f":"Calc_WHDHC!J1607/3.6/(2*Input!$B$5*PI())*60","v":240.86444849624175},null,null,{"$f":"ROUND(IF(Calc_WHDHC!H1607<0,Calc_WHDHC!I1607,2*PI()*Calc_WHDHC!G1607/60*Calc_WHDHC!H1607/1000*IF(Input!$B$4=\"Other\",0.95*0.95,0.98*0.95)),3)","v":114.60299999999999}]
[1602,null,{"$f":"Calc_WHDHC!G1608","v":1309},null,null,{"$f":"ROUND(IF(Calc_WHDHC!H1608<0,Calc_WHDHC!I1608*IF(Input!$B$4=\"Other\",0.95*0.95,0.98*0.95),2*PI()*Calc_WHDHC!G1608/60*Calc_WHDHC!H1608/1000),3)","v":119.943},null,null,1602,null,"-",null,null,{"$f":"Calc_WHDHC!J1608/3.6/(2*Input!$B$5*PI())*60","v":240.7813822420184},null,null,{"$f":"ROUND(IF(Calc_WHDHC!H1608<0,Calc_WHDHC!I1608,2*PI()*Calc_WHDHC!G1608/60*Calc_WHDHC!H1608/1000*IF(Input!$B$4=\"Other\",0.95*0.95,0.98*0.95)),3)","v":111.667}]
[1603,null,{"$f":"Calc_WHDHC!G1609","v":1309},null,null,{"$f":"ROUND(IF(Calc_WHDHC!H1609<0,Calc_WHDHC!I1609*IF(Input!$B$4=\"Other\",0.95*0.95,0.98*0.95),2*PI()*Calc_WHDHC!G1609/60*Calc_WHDHC!H1609/1000),3)","v":122},null,null,1603,null,"-",null,null,{"$f":"Calc_WHDHC!J1609/3.6/(2*Input!$B$5*PI())*60","v":240.97520350187287},null,null,{"$f":"ROUND(IF(Calc_WHDHC!H1609<0,Calc_WHDHC!I1609,2*PI()*Calc_WHDHC!G1609/60*Calc_WHDHC!H1609/1000*IF(Input!$B$4=\"Other\",0.95*0.95,0.98*0.95)),3)","v":113.58199999999999}]
[1604,null,{"$f":"Calc_WHDHC!G1610","v":1306},null,null,{"$f":"ROUND(IF(Calc_WHDHC!H1610<0,Calc_WHDHC!I1610*IF(Input!$B$4=\"Other\",0.95*0.95,0.98*0.95),2*PI()*Calc_WHDHC!G1610/60*Calc_WHDHC!H1610/1000),3)","v":121.72},null,null,1604,null,"-",null,null,{"$f":"Calc_WHDHC!J1610/3.6/(2*Input!$B$5*PI())*60","v":240.47680597653286},null,null,{"$f":"ROUND(IF(Calc_WHDHC!H1610<0,Calc_WHDHC!I1610,2*PI()*Calc_WHDHC!G1610/60*Calc_WHDHC!H1610/1000*IF(Input!$B$4=\"Other\",0.95*0.95,0.98*0.95)),3)","v":113.321}]
[1605,null,{"$f":"Calc_WHDHC!G1611","v":1310},null,null,{"$f":"ROUND(IF(Calc_WHDHC!H1611<0,Calc_WHDHC!I1611*IF(Input!$B$4=\"Other\",0.95*0.95,0.98*0.95),2*PI()*Calc_WHDHC!G1611/60*Calc_WHDHC!H1611/1000),3)","v":121.13200000000001},null,null,1605,null,"-",null,null,{"$f":"Calc_WHDHC!J1611/3.6/(2*Input!$B$5*PI())*60","v":241.16902476172729},null,null,{"$f":"ROUND(IF(Calc_WHDHC!H1611<0,Calc_WHDHC!I1611,2*PI()*Calc_WHDHC!G1611/60*Calc_WHDHC!H1611/1000*IF(Input!$B$4=\"Other\",0.95*0.95,0.98*0.95)),3)","v":112.774}]
[1606,null,{"$f":"Calc_WHDHC!G1612","v":1306},null,null,{"$f":"ROUND(IF(Calc_WHDHC!H1612<0,Calc_WHDHC!I1612*IF(Input!$B$4=\"Other\",0.95*0.95,0.98*0.95),2*PI()*Calc_WHDHC!G1612/60*Calc_WHDHC!H1612/1000),3)","v":121.036},null,null,1606,null,"-",null,null,{"$f":"Calc_WHDHC!J1612/3.6/(2*Input!$B$5*PI())*60","v":240.3660509709018},null,null,{"$f":"ROUND(IF(Calc_WHDHC!H1612<0,Calc_WHDHC!I1612,2*PI()*Calc_WHDHC!G1612/60*Calc_WHDHC!H1612/1000*IF(Input!$B$4=\"Other\",0.95*0.95,0.98*0.95)),3)","v":112.685}]
[1607,null,{"$f":"Calc_WHDHC!G1613","v":1309},null,null,{"$f":"ROUND(IF(Calc_WHDHC!H1613<0,Calc_WHDHC!I1613*IF(Input!$B$4=\"Other\",0.95*0.95,0.98*0.95),2*PI()*Calc_WHDHC!G1613/60*Calc_WHDHC!H1613/1000),3)","v":121.58799999999999},null,null,1607,null,"-",null,null,{"$f":"Calc_WHDHC!J1613/3.6/(2*Input!$B$5*PI())*60","v":240.97520350187287},null,null,{"$f":"ROUND(IF(Calc_WHDHC!H1613<0,Calc_WHDHC!I1613,2*PI()*Calc_WHDHC!G1613/60*Calc_WHDHC!H1613/1000*IF(Input!$B$4=\"Other\",0.95*0.95,0.98*0.95)),3)","v":113.199}]
[1608,null,{"$f":"Calc_WHDHC!G1614","v":1305},null,null,{"$f":"ROUND(IF(Calc_WHDHC!H1614<0,Calc_WHDHC!I1614*IF(Input!$B$4=\"Other\",0.95*0.95,0.98*0.95),2*PI()*Calc_WHDHC!G1614/60*Calc_WHDHC!H1614/1000),3)","v":120.67},null,null,1608,null,"-",null,null,{"$f":"Calc_WHDHC!J1614/3.6/(2*Input!$B$5*PI())*60","v":240.25529596527068},null,null,{"$f":"ROUND(IF(Calc_WHDHC!H1614<0,Calc_WHDHC!I1614,2*PI()*Calc_WHDHC!G1614/60*Calc_WHDHC!H1614/1000*IF(Input!$B$4=\"Other\",0.95*0.95,0.98*0.95)),3)","v":112.34399999999999}]
[1609,null,{"$f":"Calc_WHDHC!G1615","v":1309},null,null,{"$f":"ROUND(IF(Calc_WHDHC!H1615<0,Calc_WHDHC!I1615*IF(Input!$B$4=\"Other\",0.95*0.95,0.98*0.95),2*PI()*Calc_WHDHC!G1615/60*Calc_WHDHC!H1615/1000),3)","v":123.919},null,null,1609,null,"-",null,null,{"$f":"Calc_WHDHC!J1615/3.6/(2*Input!$B$5*PI())*60","v":240.86444849624175},null,null,{"$f":"ROUND(IF(Calc_WHDHC!H1615<0,Calc_WHDHC!I1615,2*PI()*Calc_WHDHC!G1615/60*Calc_WHDHC!H1615/1000*IF(Input!$B$4=\"Other\",0.95*0.95,0.98*0.95)),3)","v":115.36799999999999}]
[1610,null,{"$f":"Calc_WHDHC!G1616","v":1309},null,null,{"$f":"ROUND(IF(Calc_WHDHC!H1616<0,Calc_WHDHC!I1616*IF(Input!$B$4=\"Other\",0.95*0.95,0.98*0.95),2*PI()*Calc_WHDHC!G1616/60*Calc_WHDHC!H1616/1000),3)","v":120.76600000000001},null,null,1610,null,"-",null,null,{"$f":"Calc_WHDHC!J1616/3.6/(2*Input!$B$5*PI())*60","v":240.7813822420184},null,null,{"$f":"ROUND(IF(Calc_WHDHC!H1616<0,Calc_WHDHC!I1616,2*PI()*Calc_WHDHC!G1616/60*Calc_WHDHC!H1616/1000*IF(Input!$B$4=\"Other\",0.95*0.95,0.98*0.95)),3)","v":112.43300000000001}]
[1611,null,{"$f":"Calc_WHDHC!G1617","v":1309},null,null,{"$f":"ROUND(IF(Calc_WHDHC!H1617<0,Calc_WHDHC!I1617*IF(Input!$B$4=\"Other\",0.95*0.95,0.98*0.95),2*PI()*Calc_WHDHC!G1617/60*Calc_WHDHC!H1617/1000),3)","v":121.04},null,null,1611,null,"-",null,null,{"$f":"Calc_WHDHC!J1617/3.6/(2*Input!$B$5*PI())*60","v":240.7813822420184},null,null,{"$f":"ROUND(IF(Calc_WHDHC!H1617<0,Calc_WHDHC!I1617,2*PI()*Calc_WHDHC!G1617/60*Calc_WHDHC!H1617/1000*IF(Input!$B$4=\"Other\",0.95*0.95,0.98*0.95)),3)","v":112.688}]
[1612,null,{"$f":"Calc_WHDHC!G1618","v":1310},null,null,{"$f":"ROUND(IF(Calc_WHDHC!H1618<0,Calc_WHDHC!I1618*IF(Input!$B$4=\"Other\",0.95*0.95,0.98*0.95),2*PI()*Calc_WHDHC!G1618/60*Calc_WHDHC!H1618/1000),3)","v":121.407},null,null,1612,null,"-",null,null,{"$f":"Calc_WHDHC!J1618/3.6/(2*Input!$B$5*PI())*60","v":241.08595850750396},null,null,{"$f":"ROUND(IF(Calc_WHDHC!H1618<0,Calc_WHDHC!I1618,2*PI()*Calc_WHDHC!G1618/60*Calc_WHDHC!H1618/1000*IF(Input!$B$4=\"Other\",0.95*0.95,0.98*0.95)),3)","v":113.03}]
[1613,null,{"$f":"Calc_WHDHC!G1619","v":1309},null,null,{"$f":"ROUND(IF(Calc_WHDHC!H1619<0,Calc_WHDHC!I1619*IF(Input!$B$4=\"Other\",0.95*0.95,0.98*0.95),2*PI()*Calc_WHDHC!G1619/60*Calc_WHDHC!H1619/1000),3)","v":119.943},null,null,1613,null,"-",null,null,{"$f":"Calc_WHDHC!J1619/3.6/(2*Input!$B$5*PI())*60","v":240.7813822420184},null,null,{"$f":"ROUND(IF(Calc_WHDHC!H1619<0,Calc_WHDHC!I1619,2*PI()*Calc_WHDHC!G1619/60*Calc_WHDHC!H1619/1000*IF(Input!$B$4=\"Other\",0.95*0.95,0.98*0.95)),3)","v":111.667}]
[1614,null,{"$f":"Calc_WHDHC!G1620","v":1307},null,null,{"$f":"ROUND(IF(Calc_WHDHC!H1620<0,Calc_WHDHC!I1620*IF(Input!$B$4=\"Other\",0.95*0.95,0.98*0.95),2*PI()*Calc_WHDHC!G1620/60*Calc_WHDHC!H1620/1000),3)","v":120.855},null,null,1614,null,"-",null,null,{"$f":"Calc_WHDHC!J1620/3.6/(2*Input!$B$5*PI())*60","v":240.67062723638733},null,null,{"$f":"ROUND(IF(Calc_WHDHC!H1620<0,Calc_WHDHC!I1620,2*PI()*Calc_WHDHC!G1620/60*Calc_WHDHC!H1620/1000*IF(Input!$B$4=\"Other\",0.95*0.95,0.98*0.95)),3)","v":112.51600000000001}]
[1615,null,{"$f":"Calc_WHDHC!G1621","v":1310},null,null,{"$f":"ROUND(IF(Calc_WHDHC!H1621<0,Calc_WHDHC!I1621*IF(Input!$B$4=\"Other\",0.95*0.95,0.98*0.95),2*PI()*Calc_WHDHC!G1621/60*Calc_WHDHC!H1621/1000),3)","v":120.309},null,null,1615,null,"-",null,null,{"$f":"Calc_WHDHC!J1621/3.6/(2*Input!$B$5*PI())*60","v":241.08595850750396},null,null,{"$f":"ROUND(IF(Calc_WHDHC!H1621<0,Calc_WHDHC!I1621,2*PI()*Calc_WHDHC!G1621/60*Calc_WHDHC!H1621/1000*IF(Input!$B$4=\"Other\",0.95*0.95,0.98*0.95)),3)","v":112.008}]
[1616,null,{"$f":"Calc_WHDHC!G1622","v":1307},null,null,{"$f":"ROUND(IF(Calc_WHDHC!H1622<0,Calc_WHDHC!I1622*IF(Input!$B$4=\"Other\",0.95*0.95,0.98*0.95),2*PI()*Calc_WHDHC!G1622/60*Calc_WHDHC!H1622/1000),3)","v":120.03400000000001},null,null,1616,null,"-",null,null,{"$f":"Calc_WHDHC!J1622/3.6/(2*Input!$B$5*PI())*60","v":240.67062723638733},null,null,{"$f":"ROUND(IF(Calc_WHDHC!H1622<0,Calc_WHDHC!I1622,2*PI()*Calc_WHDHC!G1622/60*Calc_WHDHC!H1622/1000*IF(Input!$B$4=\"Other\",0.95*0.95,0.98*0.95)),3)","v":111.752}]
[1617,null,{"$f":"Calc_WHDHC!G1623","v":1311},null,null,{"$f":"ROUND(IF(Calc_WHDHC!H1623<0,Calc_WHDHC!I1623*IF(Input!$B$4=\"Other\",0.95*0.95,0.98*0.95),2*PI()*Calc_WHDHC!G1623/60*Calc_WHDHC!H1623/1000),3)","v":121.5},null,null,1617,null,"-",null,null,{"$f":"Calc_WHDHC!J1623/3.6/(2*Input!$B$5*PI())*60","v":241.27977976735841},null,null,{"$f":"ROUND(IF(Calc_WHDHC!H1623<0,Calc_WHDHC!I1623,2*PI()*Calc_WHDHC!G1623/60*Calc_WHDHC!H1623/1000*IF(Input!$B$4=\"Other\",0.95*0.95,0.98*0.95)),3)","v":113.116}]
[1618,null,{"$f":"Calc_WHDHC!G1624","v":1309},null,null,{"$f":"ROUND(IF(Calc_WHDHC!H1624<0,Calc_WHDHC!I1624*IF(Input!$B$4=\"Other\",0.95*0.95,0.98*0.95),2*PI()*Calc_WHDHC!G1624/60*Calc_WHDHC!H1624/1000),3)","v":117.613},null,null,1618,null,"-",null,null,{"$f":"Calc_WHDHC!J1624/3.6/(2*Input!$B$5*PI())*60","v":240.7813822420184},null,null,{"$f":"ROUND(IF(Calc_WHDHC!H1624<0,Calc_WHDHC!I1624,2*PI()*Calc_WHDHC!G1624/60*Calc_WHDHC!H1624/1000*IF(Input!$B$4=\"Other\",0.95*0.95,0.98*0.95)),3)","v":109.498}]
[1619,null,{"$f":"Calc_WHDHC!G1625","v":1309},null,null,{"$f":"ROUND(IF(Calc_WHDHC!H1625<0,Calc_WHDHC!I1625*IF(Input!$B$4=\"Other\",0.95*0.95,0.98*0.95),2*PI()*Calc_WHDHC!G1625/60*Calc_WHDHC!H1625/1000),3)","v":113.501},null,null,1619,null,"-",null,null,{"$f":"Calc_WHDHC!J1625/3.6/(2*Input!$B$5*PI())*60","v":240.97520350187287},null,null,{"$f":"ROUND(IF(Calc_WHDHC!H1625<0,Calc_WHDHC!I1625,2*PI()*Calc_WHDHC!G1625/60*Calc_WHDHC!H1625/1000*IF(Input!$B$4=\"Other\",0.95*0.95,0.98*0.95)),3)","v":105.669}]
[1620,null,{"$f":"Calc_WHDHC!G1626","v":1306},null,null,{"$f":"ROUND(IF(Calc_WHDHC!H1626<0,Calc_WHDHC!I1626*IF(Input!$B$4=\"Other\",0.95*0.95,0.98*0.95),2*PI()*Calc_WHDHC!G1626/60*Calc_WHDHC!H1626/1000),3)","v":119.395},null,null,1620,null,"-",null,null,{"$f":"Calc_WHDHC!J1626/3.6/(2*Input!$B$5*PI())*60","v":240.47680597653286},null,null,{"$f":"ROUND(IF(Calc_WHDHC!H1626<0,Calc_WHDHC!I1626,2*PI()*Calc_WHDHC!G1626/60*Calc_WHDHC!H1626/1000*IF(Input!$B$4=\"Other\",0.95*0.95,0.98*0.95)),3)","v":111.157}]
[1621,null,{"$f":"Calc_WHDHC!G1627","v":1305},null,null,{"$f":"ROUND(IF(Calc_WHDHC!H1627<0,Calc_WHDHC!I1627*IF(Input!$B$4=\"Other\",0.95*0.95,0.98*0.95),2*PI()*Calc_WHDHC!G1627/60*Calc_WHDHC!H1627/1000),3)","v":129.28},null,null,1621,null,"-",null,null,{"$f":"Calc_WHDHC!J1627/3.6/(2*Input!$B$5*PI())*60","v":240.25529596527068},null,null,{"$f":"ROUND(IF(Calc_WHDHC!H1627<0,Calc_WHDHC!I1627,2*PI()*Calc_WHDHC!G1627/60*Calc_WHDHC!H1627/1000*IF(Input!$B$4=\"Other\",0.95*0.95,0.98*0.95)),3)","v":120.35899999999999}]
[1622,null,{"$f":"Calc_WHDHC!G1628","v":1310},null,null,{"$f":"ROUND(IF(Calc_WHDHC!H1628<0,Calc_WHDHC!I1628*IF(Input!$B$4=\"Other\",0.95*0.95,0.98*0.95),2*PI()*Calc_WHDHC!G1628/60*Calc_WHDHC!H1628/1000),3)","v":130.73500000000001},null,null,1622,null,"-",null,null,{"$f":"Calc_WHDHC!J1628/3.6/(2*Input!$B$5*PI())*60","v":241.16902476172729},null,null,{"$f":"ROUND(IF(Calc_WHDHC!H1628<0,Calc_WHDHC!I1628,2*PI()*Calc_WHDHC!G1628/60*Calc_WHDHC!H1628/1000*IF(Input!$B$4=\"Other\",0.95*0.95,0.98*0.95)),3)","v":121.715}]
[1623,null,{"$f":"Calc_WHDHC!G1629","v":1307},null,null,{"$f":"ROUND(IF(Calc_WHDHC!H1629<0,Calc_WHDHC!I1629*IF(Input!$B$4=\"Other\",0.95*0.95,0.98*0.95),2*PI()*Calc_WHDHC!G1629/60*Calc_WHDHC!H1629/1000),3)","v":125.782},null,null,1623,null,"-",null,null,{"$f":"Calc_WHDHC!J1629/3.6/(2*Input!$B$5*PI())*60","v":240.67062723638733},null,null,{"$f":"ROUND(IF(Calc_WHDHC!H1629<0,Calc_WHDHC!I1629,2*PI()*Calc_WHDHC!G1629/60*Calc_WHDHC!H1629/1000*IF(Input!$B$4=\"Other\",0.95*0.95,0.98*0.95)),3)","v":117.10299999999999}]
[1624,null,{"$f":"Calc_WHDHC!G1630","v":1310},null,null,{"$f":"ROUND(IF(Calc_WHDHC!H1630<0,Calc_WHDHC!I1630*IF(Input!$B$4=\"Other\",0.95*0.95,0.98*0.95),2*PI()*Calc_WHDHC!G1630/60*Calc_WHDHC!H1630/1000),3)","v":122.093},null,null,1624,null,"-",null,null,{"$f":"Calc_WHDHC!J1630/3.6/(2*Input!$B$5*PI())*60","v":241.08595850750396},null,null,{"$f":"ROUND(IF(Calc_WHDHC!H1630<0,Calc_WHDHC!I1630,2*PI()*Calc_WHDHC!G1630/60*Calc_WHDHC!H1630/1000*IF(Input!$B$4=\"Other\",0.95*0.95,0.98*0.95)),3)","v":113.66800000000001}]
[1625,null,{"$f":"Calc_WHDHC!G1631","v":1306},null,null,{"$f":"ROUND(IF(Calc_WHDHC!H1631<0,Calc_WHDHC!I1631*IF(Input!$B$4=\"Other\",0.95*0.95,0.98*0.95),2*PI()*Calc_WHDHC!G1631/60*Calc_WHDHC!H1631/1000),3)","v":121.99299999999999},null,null,1625,null,"-",null,null,{"$f":"Calc_WHDHC!J1631/3.6/(2*Input!$B$5*PI())*60","v":240.47680597653286},null,null,{"$f":"ROUND(IF(Calc_WHDHC!H1631<0,Calc_WHDHC!I1631,2*PI()*Calc_WHDHC!G1631/60*Calc_WHDHC!H1631/1000*IF(Input!$B$4=\"Other\",0.95*0.95,0.98*0.95)),3)","v":113.57599999999999}]
[1626,null,{"$f":"Calc_WHDHC!G1632","v":1306},null,null,{"$f":"ROUND(IF(Calc_WHDHC!H1632<0,Calc_WHDHC!I1632*IF(Input!$B$4=\"Other\",0.95*0.95,0.98*0.95),2*PI()*Calc_WHDHC!G1632/60*Calc_WHDHC!H1632/1000),3)","v":128.011},null,null,1626,null,"-",null,null,{"$f":"Calc_WHDHC!J1632/3.6/(2*Input!$B$5*PI())*60","v":240.3660509709018},null,null,{"$f":"ROUND(IF(Calc_WHDHC!H1632<0,Calc_WHDHC!I1632,2*PI()*Calc_WHDHC!G1632/60*Calc_WHDHC!H1632/1000*IF(Input!$B$4=\"Other\",0.95*0.95,0.98*0.95)),3)","v":119.178}]
[1627,null,{"$f":"Calc_WHDHC!G1633","v":1311},null,null,{"$f":"ROUND(IF(Calc_WHDHC!H1633<0,Calc_WHDHC!I1633*IF(Input!$B$4=\"Other\",0.95*0.95,0.98*0.95),2*PI()*Calc_WHDHC!G1633/60*Calc_WHDHC!H1633/1000),3)","v":130.56100000000001},null,null,1627,null,"-",null,null,{"$f":"Calc_WHDHC!J1633/3.6/(2*Input!$B$5*PI())*60","v":241.27977976735841},null,null,{"$f":"ROUND(IF(Calc_WHDHC!H1633<0,Calc_WHDHC!I1633,2*PI()*Calc_WHDHC!G1633/60*Calc_WHDHC!H1633/1000*IF(Input!$B$4=\"Other\",0.95*0.95,0.98*0.95)),3)","v":121.55200000000001}]
[1628,null,{"$f":"Calc_WHDHC!G1634","v":1305},null,null,{"$f":"ROUND(IF(Calc_WHDHC!H1634<0,Calc_WHDHC!I1634*IF(Input!$B$4=\"Other\",0.95*0.95,0.98*0.95),2*PI()*Calc_WHDHC!G1634/60*Calc_WHDHC!H1634/1000),3)","v":129.69},null,null,1628,null,"-",null,null,{"$f":"Calc_WHDHC!J1634/3.6/(2*Input!$B$5*PI())*60","v":240.25529596527068},null,null,{"$f":"ROUND(IF(Calc_WHDHC!H1634<0,Calc_WHDHC!I1634,2*PI()*Calc_WHDHC!G1634/60*Calc_WHDHC!H1634/1000*IF(Input!$B$4=\"Other\",0.95*0.95,0.98*0.95)),3)","v":120.741}]
[1629,null,{"$f":"Calc_WHDHC!G1635","v":1309},null,null,{"$f":"ROUND(IF(Calc_WHDHC!H1635<0,Calc_WHDHC!I1635*IF(Input!$B$4=\"Other\",0.95*0.95,0.98*0.95),2*PI()*Calc_WHDHC!G1635/60*Calc_WHDHC!H1635/1000),3)","v":133.78800000000001},null,null,1629,null,"-",null,null,{"$f":"Calc_WHDHC!J1635/3.6/(2*Input!$B$5*PI())*60","v":240.97520350187287},null,null,{"$f":"ROUND(IF(Calc_WHDHC!H1635<0,Calc_WHDHC!I1635,2*PI()*Calc_WHDHC!G1635/60*Calc_WHDHC!H1635/1000*IF(Input!$B$4=\"Other\",0.95*0.95,0.98*0.95)),3)","v":124.557}]
[1630,null,{"$f":"Calc_WHDHC!G1636","v":1309},null,null,{"$f":"ROUND(IF(Calc_WHDHC!H1636<0,Calc_WHDHC!I1636*IF(Input!$B$4=\"Other\",0.95*0.95,0.98*0.95),2*PI()*Calc_WHDHC!G1636/60*Calc_WHDHC!H1636/1000),3)","v":131.458},null,null,1630,null,"-",null,null,{"$f":"Calc_WHDHC!J1636/3.6/(2*Input!$B$5*PI())*60","v":240.7813822420184},null,null,{"$f":"ROUND(IF(Calc_WHDHC!H1636<0,Calc_WHDHC!I1636,2*PI()*Calc_WHDHC!G1636/60*Calc_WHDHC!H1636/1000*IF(Input!$B$4=\"Other\",0.95*0.95,0.98*0.95)),3)","v":122.387}]
[1631,null,{"$f":"Calc_WHDHC!G1637","v":1310},null,null,{"$f":"ROUND(IF(Calc_WHDHC!H1637<0,Calc_WHDHC!I1637*IF(Input!$B$4=\"Other\",0.95*0.95,0.98*0.95),2*PI()*Calc_WHDHC!G1637/60*Calc_WHDHC!H1637/1000),3)","v":130.18700000000001},null,null,1631,null,"-",null,null,{"$f":"Calc_WHDHC!J1637/3.6/(2*Input!$B$5*PI())*60","v":241.16902476172729},null,null,{"$f":"ROUND(IF(Calc_WHDHC!H1637<0,Calc_WHDHC!I1637,2*PI()*Calc_WHDHC!G1637/60*Calc_WHDHC!H1637/1000*IF(Input!$B$4=\"Other\",0.95*0.95,0.98*0.95)),3)","v":121.20399999999999}]
[1632,null,{"$f":"Calc_WHDHC!G1638","v":1309},null,null,{"$f":"ROUND(IF(Calc_WHDHC!H1638<0,Calc_WHDHC!I1638*IF(Input!$B$4=\"Other\",0.95*0.95,0.98*0.95),2*PI()*Calc_WHDHC!G1638/60*Calc_WHDHC!H1638/1000),3)","v":129.67599999999999},null,null,1632,null,"-",null,null,{"$f":"Calc_WHDHC!J1638/3.6/(2*Input!$B$5*PI())*60","v":240.86444849624175},null,null,{"$f":"ROUND(IF(Calc_WHDHC!H1638<0,Calc_WHDHC!I1638,2*PI()*Calc_WHDHC!G1638/60*Calc_WHDHC!H1638/1000*IF(Input!$B$4=\"Other\",0.95*0.95,0.98*0.95)),3)","v":120.72799999999999}]
[1633,null,{"$f":"Calc_WHDHC!G1639","v":1307},null,null,{"$f":"ROUND(IF(Calc_WHDHC!H1639<0,Calc_WHDHC!I1639*IF(Input!$B$4=\"Other\",0.95*0.95,0.98*0.95),2*PI()*Calc_WHDHC!G1639/60*Calc_WHDHC!H1639/1000),3)","v":130.43600000000001},null,null,1633,null,"-",null,null,{"$f":"Calc_WHDHC!J1639/3.6/(2*Input!$B$5*PI())*60","v":240.67062723638733},null,null,{"$f":"ROUND(IF(Calc_WHDHC!H1639<0,Calc_WHDHC!I1639,2*PI()*Calc_WHDHC!G1639/60*Calc_WHDHC!H1639/1000*IF(Input!$B$4=\"Other\",0.95*0.95,0.98*0.95)),3)","v":121.43600000000001}]
[1634,null,{"$f":"Calc_WHDHC!G1640","v":1310},null,null,{"$f":"ROUND(IF(Calc_WHDHC!H1640<0,Calc_WHDHC!I1640*IF(Input!$B$4=\"Other\",0.95*0.95,0.98*0.95),2*PI()*Calc_WHDHC!G1640/60*Calc_WHDHC!H1640/1000),3)","v":133.06700000000001},null,null,1634,null,"-",null,null,{"$f":"Calc_WHDHC!J1640/3.6/(2*Input!$B$5*PI())*60","v":241.16902476172729},null,null,{"$f":"ROUND(IF(Calc_WHDHC!H1640<0,Calc_WHDHC!I1640,2*PI()*Calc_WHDHC!G1640/60*Calc_WHDHC!H1640/1000*IF(Input!$B$4=\"Other\",0.95*0.95,0.98*0.95)),3)","v":123.886}]
[1635,null,{"$f":"Calc_WHDHC!G1641","v":1306},null,null,{"$f":"ROUND(IF(Calc_WHDHC!H1641<0,Calc_WHDHC!I1641*IF(Input!$B$4=\"Other\",0.95*0.95,0.98*0.95),2*PI()*Calc_WHDHC!G1641/60*Calc_WHDHC!H1641/1000),3)","v":134.30199999999999},null,null,1635,null,"-",null,null,{"$f":"Calc_WHDHC!J1641/3.6/(2*Input!$B$5*PI())*60","v":240.47680597653286},null,null,{"$f":"ROUND(IF(Calc_WHDHC!H1641<0,Calc_WHDHC!I1641,2*PI()*Calc_WHDHC!G1641/60*Calc_WHDHC!H1641/1000*IF(Input!$B$4=\"Other\",0.95*0.95,0.98*0.95)),3)","v":125.035}]
[1636,null,{"$f":"Calc_WHDHC!G1642","v":1307},null,null,{"$f":"ROUND(IF(Calc_WHDHC!H1642<0,Calc_WHDHC!I1642*IF(Input!$B$4=\"Other\",0.95*0.95,0.98*0.95),2*PI()*Calc_WHDHC!G1642/60*Calc_WHDHC!H1642/1000),3)","v":139.33199999999999},null,null,1636,null,"-",null,null,{"$f":"Calc_WHDHC!J1642/3.6/(2*Input!$B$5*PI())*60","v":240.67062723638733},null,null,{"$f":"ROUND(IF(Calc_WHDHC!H1642<0,Calc_WHDHC!I1642,2*PI()*Calc_WHDHC!G1642/60*Calc_WHDHC!H1642/1000*IF(Input!$B$4=\"Other\",0.95*0.95,0.98*0.95)),3)","v":129.71799999999999}]
[1637,null,{"$f":"Calc_WHDHC!G1643","v":1305},null,null,{"$f":"ROUND(IF(Calc_WHDHC!H1643<0,Calc_WHDHC!I1643*IF(Input!$B$4=\"Other\",0.95*0.95,0.98*0.95),2*PI()*Calc_WHDHC!G1643/60*Calc_WHDHC!H1643/1000),3)","v":139.93899999999999},null,null,1637,null,"-",null,null,{"$f":"Calc_WHDHC!J1643/3.6/(2*Input!$B$5*PI())*60","v":240.25529596527068},null,null,{"$f":"ROUND(IF(Calc_WHDHC!H1643<0,Calc_WHDHC!I1643,2*PI()*Calc_WHDHC!G1643/60*Calc_WHDHC!H1643/1000*IF(Input!$B$4=\"Other\",0.95*0.95,0.98*0.95)),3)","v":130.28299999999999}]
[1638,null,{"$f":"Calc_WHDHC!G1644","v":1307},null,null,{"$f":"ROUND(IF(Calc_WHDHC!H1644<0,Calc_WHDHC!I1644*IF(Input!$B$4=\"Other\",0.95*0.95,0.98*0.95),2*PI()*Calc_WHDHC!G1644/60*Calc_WHDHC!H1644/1000),3)","v":145.08099999999999},null,null,1638,null,"-",null,null,{"$f":"Calc_WHDHC!J1644/3.6/(2*Input!$B$5*PI())*60","v":240.55987223075621},null,null,{"$f":"ROUND(IF(Calc_WHDHC!H1644<0,Calc_WHDHC!I1644,2*PI()*Calc_WHDHC!G1644/60*Calc_WHDHC!H1644/1000*IF(Input!$B$4=\"Other\",0.95*0.95,0.98*0.95)),3)","v":135.07}]
[1639,null,{"$f":"Calc_WHDHC!G1645","v":1304},null,null,{"$f":"ROUND(IF(Calc_WHDHC!H1645<0,Calc_WHDHC!I1645*IF(Input!$B$4=\"Other\",0.95*0.95,0.98*0.95),2*PI()*Calc_WHDHC!G1645/60*Calc_WHDHC!H1645/1000),3)","v":149.39099999999999},null,null,1639,null,"-",null,null,{"$f":"Calc_WHDHC!J1645/3.6/(2*Input!$B$5*PI())*60","v":239.86765344556181},null,null,{"$f":"ROUND(IF(Calc_WHDHC!H1645<0,Calc_WHDHC!I1645,2*PI()*Calc_WHDHC!G1645/60*Calc_WHDHC!H1645/1000*IF(Input!$B$4=\"Other\",0.95*0.95,0.98*0.95)),3)","v":139.083}]
[1640,null,{"$f":"Calc_WHDHC!G1646","v":1306},null,null,{"$f":"ROUND(IF(Calc_WHDHC!H1646<0,Calc_WHDHC!I1646*IF(Input!$B$4=\"Other\",0.95*0.95,0.98*0.95),2*PI()*Calc_WHDHC!G1646/60*Calc_WHDHC!H1646/1000),3)","v":155.911},null,null,1640,null,"-",null,null,{"$f":"Calc_WHDHC!J1646/3.6/(2*Input!$B$5*PI())*60","v":240.47680597653286},null,null,{"$f":"ROUND(IF(Calc_WHDHC!H1646<0,Calc_WHDHC!I1646,2*PI()*Calc_WHDHC!G1646/60*Calc_WHDHC!H1646/1000*IF(Input!$B$4=\"Other\",0.95*0.95,0.98*0.95)),3)","v":145.15299999999999}]
[1641,null,{"$f":"Calc_WHDHC!G1647","v":1304},null,null,{"$f":"ROUND(IF(Calc_WHDHC!H1647<0,Calc_WHDHC!I1647*IF(Input!$B$4=\"Other\",0.95*0.95,0.98*0.95),2*PI()*Calc_WHDHC!G1647/60*Calc_WHDHC!H1647/1000),3)","v":157.994},null,null,1641,null,"-",null,null,{"$f":"Calc_WHDHC!J1647/3.6/(2*Input!$B$5*PI())*60","v":239.86765344556181},null,null,{"$f":"ROUND(IF(Calc_WHDHC!H1647<0,Calc_WHDHC!I1647,2*PI()*Calc_WHDHC!G1647/60*Calc_WHDHC!H1647/1000*IF(Input!$B$4=\"Other\",0.95*0.95,0.98*0.95)),3)","v":147.09200000000001}]
[1642,null,{"$f":"Calc_WHDHC!G1648","v":1305},null,null,{"$f":"ROUND(IF(Calc_WHDHC!H1648<0,Calc_WHDHC!I1648*IF(Input!$B$4=\"Other\",0.95*0.95,0.98*0.95),2*PI()*Calc_WHDHC!G1648/60*Calc_WHDHC!H1648/1000),3)","v":158.38800000000001},null,null,1642,null,"-",null,null,{"$f":"Calc_WHDHC!J1648/3.6/(2*Input!$B$5*PI())*60","v":240.25529596527068},null,null,{"$f":"ROUND(IF(Calc_WHDHC!H1648<0,Calc_WHDHC!I1648,2*PI()*Calc_WHDHC!G1648/60*Calc_WHDHC!H1648/1000*IF(Input!$B$4=\"Other\",0.95*0.95,0.98*0.95)),3)","v":147.459}]
[1643,null,{"$f":"Calc_WHDHC!G1649","v":1305},null,null,{"$f":"ROUND(IF(Calc_WHDHC!H1649<0,Calc_WHDHC!I1649*IF(Input!$B$4=\"Other\",0.95*0.95,0.98*0.95),2*PI()*Calc_WHDHC!G1649/60*Calc_WHDHC!H1649/1000),3)","v":161.941},null,null,1643,null,"-",null,null,{"$f":"Calc_WHDHC!J1649/3.6/(2*Input!$B$5*PI())*60","v":240.25529596527068},null,null,{"$f":"ROUND(IF(Calc_WHDHC!H1649<0,Calc_WHDHC!I1649,2*PI()*Calc_WHDHC!G1649/60*Calc_WHDHC!H1649/1000*IF(Input!$B$4=\"Other\",0.95*0.95,0.98*0.95)),3)","v":150.767}]
[1644,null,{"$f":"Calc_WHDHC!G1650","v":1302},null,null,{"$f":"ROUND(IF(Calc_WHDHC!H1650<0,Calc_WHDHC!I1650*IF(Input!$B$4=\"Other\",0.95*0.95,0.98*0.95),2*PI()*Calc_WHDHC!G1650/60*Calc_WHDHC!H1650/1000),3)","v":168.386},null,null,1644,null,"-",null,null,{"$f":"Calc_WHDHC!J1650/3.6/(2*Input!$B$5*PI())*60","v":239.6461434342996},null,null,{"$f":"ROUND(IF(Calc_WHDHC!H1650<0,Calc_WHDHC!I1650,2*PI()*Calc_WHDHC!G1650/60*Calc_WHDHC!H1650/1000*IF(Input!$B$4=\"Other\",0.95*0.95,0.98*0.95)),3)","v":156.768}]
[1645,null,{"$f":"Calc_WHDHC!G1651","v":1302},null,null,{"$f":"ROUND(IF(Calc_WHDHC!H1651<0,Calc_WHDHC!I1651*IF(Input!$B$4=\"Other\",0.95*0.95,0.98*0.95),2*PI()*Calc_WHDHC!G1651/60*Calc_WHDHC!H1651/1000),3)","v":169.886},null,null,1645,null,"-",null,null,{"$f":"Calc_WHDHC!J1651/3.6/(2*Input!$B$5*PI())*60","v":239.75689843993072},null,null,{"$f":"ROUND(IF(Calc_WHDHC!H1651<0,Calc_WHDHC!I1651,2*PI()*Calc_WHDHC!G1651/60*Calc_WHDHC!H1651/1000*IF(Input!$B$4=\"Other\",0.95*0.95,0.98*0.95)),3)","v":158.16399999999999}]
[1646,null,{"$f":"Calc_WHDHC!G1652","v":1302},null,null,{"$f":"ROUND(IF(Calc_WHDHC!H1652<0,Calc_WHDHC!I1652*IF(Input!$B$4=\"Other\",0.95*0.95,0.98*0.95),2*PI()*Calc_WHDHC!G1652/60*Calc_WHDHC!H1652/1000),3)","v":179.703},null,null,1646,null,"-",null,null,{"$f":"Calc_WHDHC!J1652/3.6/(2*Input!$B$5*PI())*60","v":239.6461434342996},null,null,{"$f":"ROUND(IF(Calc_WHDHC!H1652<0,Calc_WHDHC!I1652,2*PI()*Calc_WHDHC!G1652/60*Calc_WHDHC!H1652/1000*IF(Input!$B$4=\"Other\",0.95*0.95,0.98*0.95)),3)","v":167.303}]
[1647,null,{"$f":"Calc_WHDHC!G1653","v":1305},null,null,{"$f":"ROUND(IF(Calc_WHDHC!H1653<0,Calc_WHDHC!I1653*IF(Input!$B$4=\"Other\",0.95*0.95,0.98*0.95),2*PI()*Calc_WHDHC!G1653/60*Calc_WHDHC!H1653/1000),3)","v":180.93700000000001},null,null,1647,null,"-",null,null,{"$f":"Calc_WHDHC!J1653/3.6/(2*Input!$B$5*PI())*60","v":240.06147470541626},null,null,{"$f":"ROUND(IF(Calc_WHDHC!H1653<0,Calc_WHDHC!I1653,2*PI()*Calc_WHDHC!G1653/60*Calc_WHDHC!H1653/1000*IF(Input!$B$4=\"Other\",0.95*0.95,0.98*0.95)),3)","v":168.452}]
[1648,null,{"$f":"Calc_WHDHC!G1654","v":1300},null,null,{"$f":"ROUND(IF(Calc_WHDHC!H1654<0,Calc_WHDHC!I1654*IF(Input!$B$4=\"Other\",0.95*0.95,0.98*0.95),2*PI()*Calc_WHDHC!G1654/60*Calc_WHDHC!H1654/1000),3)","v":185.68899999999999},null,null,1648,null,"-",null,null,{"$f":"Calc_WHDHC!J1654/3.6/(2*Input!$B$5*PI())*60","v":239.34156716881407},null,null,{"$f":"ROUND(IF(Calc_WHDHC!H1654<0,Calc_WHDHC!I1654,2*PI()*Calc_WHDHC!G1654/60*Calc_WHDHC!H1654/1000*IF(Input!$B$4=\"Other\",0.95*0.95,0.98*0.95)),3)","v":172.87700000000001}]
[1649,null,{"$f":"Calc_WHDHC!G1655","v":1305},null,null,{"$f":"ROUND(IF(Calc_WHDHC!H1655<0,Calc_WHDHC!I1655*IF(Input!$B$4=\"Other\",0.95*0.95,0.98*0.95),2*PI()*Calc_WHDHC!G1655/60*Calc_WHDHC!H1655/1000),3)","v":189},null,null,1649,null,"-",null,null,{"$f":"Calc_WHDHC!J1655/3.6/(2*Input!$B$5*PI())*60","v":240.06147470541626},null,null,{"$f":"ROUND(IF(Calc_WHDHC!H1655<0,Calc_WHDHC!I1655,2*PI()*Calc_WHDHC!G1655/60*Calc_WHDHC!H1655/1000*IF(Input!$B$4=\"Other\",0.95*0.95,0.98*0.95)),3)","v":175.959}]
[1650,null,{"$f":"Calc_WHDHC!G1656","v":1302},null,null,{"$f":"ROUND(IF(Calc_WHDHC!H1656<0,Calc_WHDHC!I1656*IF(Input!$B$4=\"Other\",0.95*0.95,0.98*0.95),2*PI()*Calc_WHDHC!G1656/60*Calc_WHDHC!H1656/1000),3)","v":194.56399999999999},null,null,1650,null,"-",null,null,{"$f":"Calc_WHDHC!J1656/3.6/(2*Input!$B$5*PI())*60","v":239.6461434342996},null,null,{"$f":"ROUND(IF(Calc_WHDHC!H1656<0,Calc_WHDHC!I1656,2*PI()*Calc_WHDHC!G1656/60*Calc_WHDHC!H1656/1000*IF(Input!$B$4=\"Other\",0.95*0.95,0.98*0.95)),3)","v":181.14}]
[1651,null,{"$f":"Calc_WHDHC!G1657","v":1298},null,null,{"$f":"ROUND(IF(Calc_WHDHC!H1657<0,Calc_WHDHC!I1657*IF(Input!$B$4=\"Other\",0.95*0.95,0.98*0.95),2*PI()*Calc_WHDHC!G1657/60*Calc_WHDHC!H1657/1000),3)","v":197.36500000000001},null,null,1651,null,"-",null,null,{"$f":"Calc_WHDHC!J1657/3.6/(2*Input!$B$5*PI())*60","v":239.03699090332856},null,null,{"$f":"ROUND(IF(Calc_WHDHC!H1657<0,Calc_WHDHC!I1657,2*PI()*Calc_WHDHC!G1657/60*Calc_WHDHC!H1657/1000*IF(Input!$B$4=\"Other\",0.95*0.95,0.98*0.95)),3)","v":183.74700000000001}]
[1652,null,{"$f":"Calc_WHDHC!G1658","v":1301},null,null,{"$f":"ROUND(IF(Calc_WHDHC!H1658<0,Calc_WHDHC!I1658*IF(Input!$B$4=\"Other\",0.95*0.95,0.98*0.95),2*PI()*Calc_WHDHC!G1658/60*Calc_WHDHC!H1658/1000),3)","v":197.821},null,null,1652,null,"-",null,null,{"$f":"Calc_WHDHC!J1658/3.6/(2*Input!$B$5*PI())*60","v":239.45232217444521},null,null,{"$f":"ROUND(IF(Calc_WHDHC!H1658<0,Calc_WHDHC!I1658,2*PI()*Calc_WHDHC!G1658/60*Calc_WHDHC!H1658/1000*IF(Input!$B$4=\"Other\",0.95*0.95,0.98*0.95)),3)","v":184.17099999999999}]
[1653,null,{"$f":"Calc_WHDHC!G1659","v":1297},null,null,{"$f":"ROUND(IF(Calc_WHDHC!H1659<0,Calc_WHDHC!I1659*IF(Input!$B$4=\"Other\",0.95*0.95,0.98*0.95),2*PI()*Calc_WHDHC!G1659/60*Calc_WHDHC!H1659/1000),3)","v":198.97900000000001},null,null,1653,null,"-",null,null,{"$f":"Calc_WHDHC!J1659/3.6/(2*Input!$B$5*PI())*60","v":238.6493483836197},null,null,{"$f":"ROUND(IF(Calc_WHDHC!H1659<0,Calc_WHDHC!I1659,2*PI()*Calc_WHDHC!G1659/60*Calc_WHDHC!H1659/1000*IF(Input!$B$4=\"Other\",0.95*0.95,0.98*0.95)),3)","v":185.249}]
[1654,null,{"$f":"Calc_WHDHC!G1660","v":1300},null,null,{"$f":"ROUND(IF(Calc_WHDHC!H1660<0,Calc_WHDHC!I1660*IF(Input!$B$4=\"Other\",0.95*0.95,0.98*0.95),2*PI()*Calc_WHDHC!G1660/60*Calc_WHDHC!H1660/1000),3)","v":200.256},null,null,1654,null,"-",null,null,{"$f":"Calc_WHDHC!J1660/3.6/(2*Input!$B$5*PI())*60","v":239.14774590895968},null,null,{"$f":"ROUND(IF(Calc_WHDHC!H1660<0,Calc_WHDHC!I1660,2*PI()*Calc_WHDHC!G1660/60*Calc_WHDHC!H1660/1000*IF(Input!$B$4=\"Other\",0.95*0.95,0.98*0.95)),3)","v":186.43799999999999}]
[1655,null,{"$f":"Calc_WHDHC!G1661","v":1302},null,null,{"$f":"ROUND(IF(Calc_WHDHC!H1661<0,Calc_WHDHC!I1661*IF(Input!$B$4=\"Other\",0.95*0.95,0.98*0.95),2*PI()*Calc_WHDHC!G1661/60*Calc_WHDHC!H1661/1000),3)","v":199.2},null,null,1655,null,"-",null,null,{"$f":"Calc_WHDHC!J1661/3.6/(2*Input!$B$5*PI())*60","v":239.75689843993072},null,null,{"$f":"ROUND(IF(Calc_WHDHC!H1661<0,Calc_WHDHC!I1661,2*PI()*Calc_WHDHC!G1661/60*Calc_WHDHC!H1661/1000*IF(Input!$B$4=\"Other\",0.95*0.95,0.98*0.95)),3)","v":185.45500000000001}]
[1656,null,{"$f":"Calc_WHDHC!G1662","v":1302},null,null,{"$f":"ROUND(IF(Calc_WHDHC!H1662<0,Calc_WHDHC!I1662*IF(Input!$B$4=\"Other\",0.95*0.95,0.98*0.95),2*PI()*Calc_WHDHC!G1662/60*Calc_WHDHC!H1662/1000),3)","v":200.56399999999999},null,null,1656,null,"-",null,null,{"$f":"Calc_WHDHC!J1662/3.6/(2*Input!$B$5*PI())*60","v":239.6461434342996},null,null,{"$f":"ROUND(IF(Calc_WHDHC!H1662<0,Calc_WHDHC!I1662,2*PI()*Calc_WHDHC!G1662/60*Calc_WHDHC!H1662/1000*IF(Input!$B$4=\"Other\",0.95*0.95,0.98*0.95)),3)","v":186.72499999999999}]
[1657,null,{"$f":"Calc_WHDHC!G1663","v":1305},null,null,{"$f":"ROUND(IF(Calc_WHDHC!H1663<0,Calc_WHDHC!I1663*IF(Input!$B$4=\"Other\",0.95*0.95,0.98*0.95),2*PI()*Calc_WHDHC!G1663/60*Calc_WHDHC!H1663/1000),3)","v":199.386},null,null,1657,null,"-",null,null,{"$f":"Calc_WHDHC!J1663/3.6/(2*Input!$B$5*PI())*60","v":240.06147470541626},null,null,{"$f":"ROUND(IF(Calc_WHDHC!H1663<0,Calc_WHDHC!I1663,2*PI()*Calc_WHDHC!G1663/60*Calc_WHDHC!H1663/1000*IF(Input!$B$4=\"Other\",0.95*0.95,0.98*0.95)),3)","v":185.62799999999999}]
[1658,null,{"$f":"Calc_WHDHC!G1664","v":1304},null,null,{"$f":"ROUND(IF(Calc_WHDHC!H1664<0,Calc_WHDHC!I1664*IF(Input!$B$4=\"Other\",0.95*0.95,0.98*0.95),2*PI()*Calc_WHDHC!G1664/60*Calc_WHDHC!H1664/1000),3)","v":197.73099999999999},null,null,1658,null,"-",null,null,{"$f":"Calc_WHDHC!J1664/3.6/(2*Input!$B$5*PI())*60","v":239.86765344556181},null,null,{"$f":"ROUND(IF(Calc_WHDHC!H1664<0,Calc_WHDHC!I1664,2*PI()*Calc_WHDHC!G1664/60*Calc_WHDHC!H1664/1000*IF(Input!$B$4=\"Other\",0.95*0.95,0.98*0.95)),3)","v":184.08799999999999}]
[1659,null,{"$f":"Calc_WHDHC!G1665","v":1302},null,null,{"$f":"ROUND(IF(Calc_WHDHC!H1665<0,Calc_WHDHC!I1665*IF(Input!$B$4=\"Other\",0.95*0.95,0.98*0.95),2*PI()*Calc_WHDHC!G1665/60*Calc_WHDHC!H1665/1000),3)","v":199.47300000000001},null,null,1659,null,"-",null,null,{"$f":"Calc_WHDHC!J1665/3.6/(2*Input!$B$5*PI())*60","v":239.6461434342996},null,null,{"$f":"ROUND(IF(Calc_WHDHC!H1665<0,Calc_WHDHC!I1665,2*PI()*Calc_WHDHC!G1665/60*Calc_WHDHC!H1665/1000*IF(Input!$B$4=\"Other\",0.95*0.95,0.98*0.95)),3)","v":185.709}]
[1660,null,{"$f":"Calc_WHDHC!G1666","v":1302},null,null,{"$f":"ROUND(IF(Calc_WHDHC!H1666<0,Calc_WHDHC!I1666*IF(Input!$B$4=\"Other\",0.95*0.95,0.98*0.95),2*PI()*Calc_WHDHC!G1666/60*Calc_WHDHC!H1666/1000),3)","v":199.74600000000001},null,null,1660,null,"-",null,null,{"$f":"Calc_WHDHC!J1666/3.6/(2*Input!$B$5*PI())*60","v":239.75689843993072},null,null,{"$f":"ROUND(IF(Calc_WHDHC!H1666<0,Calc_WHDHC!I1666,2*PI()*Calc_WHDHC!G1666/60*Calc_WHDHC!H1666/1000*IF(Input!$B$4=\"Other\",0.95*0.95,0.98*0.95)),3)","v":185.96299999999999}]
[1661,null,{"$f":"Calc_WHDHC!G1667","v":1302},null,null,{"$f":"ROUND(IF(Calc_WHDHC!H1667<0,Calc_WHDHC!I1667*IF(Input!$B$4=\"Other\",0.95*0.95,0.98*0.95),2*PI()*Calc_WHDHC!G1667/60*Calc_WHDHC!H1667/1000),3)","v":201.245},null,null,1661,null,"-",null,null,{"$f":"Calc_WHDHC!J1667/3.6/(2*Input!$B$5*PI())*60","v":239.6461434342996},null,null,{"$f":"ROUND(IF(Calc_WHDHC!H1667<0,Calc_WHDHC!I1667,2*PI()*Calc_WHDHC!G1667/60*Calc_WHDHC!H1667/1000*IF(Input!$B$4=\"Other\",0.95*0.95,0.98*0.95)),3)","v":187.35900000000001}]
[1662,null,{"$f":"Calc_WHDHC!G1668","v":1305},null,null,{"$f":"ROUND(IF(Calc_WHDHC!H1668<0,Calc_WHDHC!I1668*IF(Input!$B$4=\"Other\",0.95*0.95,0.98*0.95),2*PI()*Calc_WHDHC!G1668/60*Calc_WHDHC!H1668/1000),3)","v":200.75200000000001},null,null,1662,null,"-",null,null,{"$f":"Calc_WHDHC!J1668/3.6/(2*Input!$B$5*PI())*60","v":240.06147470541626},null,null,{"$f":"ROUND(IF(Calc_WHDHC!H1668<0,Calc_WHDHC!I1668,2*PI()*Calc_WHDHC!G1668/60*Calc_WHDHC!H1668/1000*IF(Input!$B$4=\"Other\",0.95*0.95,0.98*0.95)),3)","v":186.90100000000001}]
[1663,null,{"$f":"Calc_WHDHC!G1669","v":1302},null,null,{"$f":"ROUND(IF(Calc_WHDHC!H1669<0,Calc_WHDHC!I1669*IF(Input!$B$4=\"Other\",0.95*0.95,0.98*0.95),2*PI()*Calc_WHDHC!G1669/60*Calc_WHDHC!H1669/1000),3)","v":201.791},null,null,1663,null,"-",null,null,{"$f":"Calc_WHDHC!J1669/3.6/(2*Input!$B$5*PI())*60","v":239.6461434342996},null,null,{"$f":"ROUND(IF(Calc_WHDHC!H1669<0,Calc_WHDHC!I1669,2*PI()*Calc_WHDHC!G1669/60*Calc_WHDHC!H1669/1000*IF(Input!$B$4=\"Other\",0.95*0.95,0.98*0.95)),3)","v":187.86699999999999}]
[1664,null,{"$f":"Calc_WHDHC!G1670","v":1305},null,null,{"$f":"ROUND(IF(Calc_WHDHC!H1670<0,Calc_WHDHC!I1670*IF(Input!$B$4=\"Other\",0.95*0.95,0.98*0.95),2*PI()*Calc_WHDHC!G1670/60*Calc_WHDHC!H1670/1000),3)","v":203.07599999999999},null,null,1664,null,"-",null,null,{"$f":"Calc_WHDHC!J1670/3.6/(2*Input!$B$5*PI())*60","v":240.06147470541626},null,null,{"$f":"ROUND(IF(Calc_WHDHC!H1670<0,Calc_WHDHC!I1670,2*PI()*Calc_WHDHC!G1670/60*Calc_WHDHC!H1670/1000*IF(Input!$B$4=\"Other\",0.95*0.95,0.98*0.95)),3)","v":189.06299999999999}]
[1665,null,{"$f":"Calc_WHDHC!G1671","v":1301},null,null,{"$f":"ROUND(IF(Calc_WHDHC!H1671<0,Calc_WHDHC!I1671*IF(Input!$B$4=\"Other\",0.95*0.95,0.98*0.95),2*PI()*Calc_WHDHC!G1671/60*Calc_WHDHC!H1671/1000),3)","v":202.453},null,null,1665,null,"-",null,null,{"$f":"Calc_WHDHC!J1671/3.6/(2*Input!$B$5*PI())*60","v":239.56307718007628},null,null,{"$f":"ROUND(IF(Calc_WHDHC!H1671<0,Calc_WHDHC!I1671,2*PI()*Calc_WHDHC!G1671/60*Calc_WHDHC!H1671/1000*IF(Input!$B$4=\"Other\",0.95*0.95,0.98*0.95)),3)","v":188.48400000000001}]
[1666,null,{"$f":"Calc_WHDHC!G1672","v":1306},null,null,{"$f":"ROUND(IF(Calc_WHDHC!H1672<0,Calc_WHDHC!I1672*IF(Input!$B$4=\"Other\",0.95*0.95,0.98*0.95),2*PI()*Calc_WHDHC!G1672/60*Calc_WHDHC!H1672/1000),3)","v":200.90600000000001},null,null,1666,null,"-",null,null,{"$f":"Calc_WHDHC!J1672/3.6/(2*Input!$B$5*PI())*60","v":240.47680597653286},null,null,{"$f":"ROUND(IF(Calc_WHDHC!H1672<0,Calc_WHDHC!I1672,2*PI()*Calc_WHDHC!G1672/60*Calc_WHDHC!H1672/1000*IF(Input!$B$4=\"Other\",0.95*0.95,0.98*0.95)),3)","v":187.04400000000001}]
[1667,null,{"$f":"Calc_WHDHC!G1673","v":1302},null,null,{"$f":"ROUND(IF(Calc_WHDHC!H1673<0,Calc_WHDHC!I1673*IF(Input!$B$4=\"Other\",0.95*0.95,0.98*0.95),2*PI()*Calc_WHDHC!G1673/60*Calc_WHDHC!H1673/1000),3)","v":199.2},null,null,1667,null,"-",null,null,{"$f":"Calc_WHDHC!J1673/3.6/(2*Input!$B$5*PI())*60","v":239.6461434342996},null,null,{"$f":"ROUND(IF(Calc_WHDHC!H1673<0,Calc_WHDHC!I1673,2*PI()*Calc_WHDHC!G1673/60*Calc_WHDHC!H1673/1000*IF(Input!$B$4=\"Other\",0.95*0.95,0.98*0.95)),3)","v":185.45500000000001}]
[1668,null,{"$f":"Calc_WHDHC!G1674","v":1306},null,null,{"$f":"ROUND(IF(Calc_WHDHC!H1674<0,Calc_WHDHC!I1674*IF(Input!$B$4=\"Other\",0.95*0.95,0.98*0.95),2*PI()*Calc_WHDHC!G1674/60*Calc_WHDHC!H1674/1000),3)","v":204.46199999999999},null,null,1668,null,"-",null,null,{"$f":"Calc_WHDHC!J1674/3.6/(2*Input!$B$5*PI())*60","v":240.3660509709018},null,null,{"$f":"ROUND(IF(Calc_WHDHC!H1674<0,Calc_WHDHC!I1674,2*PI()*Calc_WHDHC!G1674/60*Calc_WHDHC!H1674/1000*IF(Input!$B$4=\"Other\",0.95*0.95,0.98*0.95)),3)","v":190.35400000000001}]
[1669,null,{"$f":"Calc_WHDHC!G1675","v":1305},null,null,{"$f":"ROUND(IF(Calc_WHDHC!H1675<0,Calc_WHDHC!I1675*IF(Input!$B$4=\"Other\",0.95*0.95,0.98*0.95),2*PI()*Calc_WHDHC!G1675/60*Calc_WHDHC!H1675/1000),3)","v":203.89599999999999},null,null,1669,null,"-",null,null,{"$f":"Calc_WHDHC!J1675/3.6/(2*Input!$B$5*PI())*60","v":240.17222971104735},null,null,{"$f":"ROUND(IF(Calc_WHDHC!H1675<0,Calc_WHDHC!I1675,2*PI()*Calc_WHDHC!G1675/60*Calc_WHDHC!H1675/1000*IF(Input!$B$4=\"Other\",0.95*0.95,0.98*0.95)),3)","v":189.827}]
[1670,null,{"$f":"Calc_WHDHC!G1676","v":1304},null,null,{"$f":"ROUND(IF(Calc_WHDHC!H1676<0,Calc_WHDHC!I1676*IF(Input!$B$4=\"Other\",0.95*0.95,0.98*0.95),2*PI()*Calc_WHDHC!G1676/60*Calc_WHDHC!H1676/1000),3)","v":204.69499999999999},null,null,1670,null,"-",null,null,{"$f":"Calc_WHDHC!J1676/3.6/(2*Input!$B$5*PI())*60","v":239.86765344556181},null,null,{"$f":"ROUND(IF(Calc_WHDHC!H1676<0,Calc_WHDHC!I1676,2*PI()*Calc_WHDHC!G1676/60*Calc_WHDHC!H1676/1000*IF(Input!$B$4=\"Other\",0.95*0.95,0.98*0.95)),3)","v":190.571}]
[1671,null,{"$f":"Calc_WHDHC!G1677","v":1305},null,null,{"$f":"ROUND(IF(Calc_WHDHC!H1677<0,Calc_WHDHC!I1677*IF(Input!$B$4=\"Other\",0.95*0.95,0.98*0.95),2*PI()*Calc_WHDHC!G1677/60*Calc_WHDHC!H1677/1000),3)","v":204.57900000000001},null,null,1671,null,"-",null,null,{"$f":"Calc_WHDHC!J1677/3.6/(2*Input!$B$5*PI())*60","v":240.25529596527068},null,null,{"$f":"ROUND(IF(Calc_WHDHC!H1677<0,Calc_WHDHC!I1677,2*PI()*Calc_WHDHC!G1677/60*Calc_WHDHC!H1677/1000*IF(Input!$B$4=\"Other\",0.95*0.95,0.98*0.95)),3)","v":190.46299999999999}]
[1672,null,{"$f":"Calc_WHDHC!G1678","v":1309},null,null,{"$f":"ROUND(IF(Calc_WHDHC!H1678<0,Calc_WHDHC!I1678*IF(Input!$B$4=\"Other\",0.95*0.95,0.98*0.95),2*PI()*Calc_WHDHC!G1678/60*Calc_WHDHC!H1678/1000),3)","v":198.215},null,null,1672,null,"-",null,null,{"$f":"Calc_WHDHC!J1678/3.6/(2*Input!$B$5*PI())*60","v":240.97520350187287},null,null,{"$f":"ROUND(IF(Calc_WHDHC!H1678<0,Calc_WHDHC!I1678,2*PI()*Calc_WHDHC!G1678/60*Calc_WHDHC!H1678/1000*IF(Input!$B$4=\"Other\",0.95*0.95,0.98*0.95)),3)","v":184.53800000000001}]
[1673,null,{"$f":"Calc_WHDHC!G1679","v":1310},null,null,{"$f":"ROUND(IF(Calc_WHDHC!H1679<0,Calc_WHDHC!I1679*IF(Input!$B$4=\"Other\",0.95*0.95,0.98*0.95),2*PI()*Calc_WHDHC!G1679/60*Calc_WHDHC!H1679/1000),3)","v":198.36600000000001},null,null,1673,null,"-",null,null,{"$f":"Calc_WHDHC!J1679/3.6/(2*Input!$B$5*PI())*60","v":241.08595850750396},null,null,{"$f":"ROUND(IF(Calc_WHDHC!H1679<0,Calc_WHDHC!I1679,2*PI()*Calc_WHDHC!G1679/60*Calc_WHDHC!H1679/1000*IF(Input!$B$4=\"Other\",0.95*0.95,0.98*0.95)),3)","v":184.679}]
[1674,null,{"$f":"Calc_WHDHC!G1680","v":1307},null,null,{"$f":"ROUND(IF(Calc_WHDHC!H1680<0,Calc_WHDHC!I1680*IF(Input!$B$4=\"Other\",0.95*0.95,0.98*0.95),2*PI()*Calc_WHDHC!G1680/60*Calc_WHDHC!H1680/1000),3)","v":196.13300000000001},null,null,1674,null,"-",null,null,{"$f":"Calc_WHDHC!J1680/3.6/(2*Input!$B$5*PI())*60","v":240.67062723638733},null,null,{"$f":"ROUND(IF(Calc_WHDHC!H1680<0,Calc_WHDHC!I1680,2*PI()*Calc_WHDHC!G1680/60*Calc_WHDHC!H1680/1000*IF(Input!$B$4=\"Other\",0.95*0.95,0.98*0.95)),3)","v":182.6}]
[1675,null,{"$f":"Calc_WHDHC!G1681","v":1310},null,null,{"$f":"ROUND(IF(Calc_WHDHC!H1681<0,Calc_WHDHC!I1681*IF(Input!$B$4=\"Other\",0.95*0.95,0.98*0.95),2*PI()*Calc_WHDHC!G1681/60*Calc_WHDHC!H1681/1000),3)","v":188.215},null,null,1675,null,"-",null,null,{"$f":"Calc_WHDHC!J1681/3.6/(2*Input!$B$5*PI())*60","v":241.08595850750396},null,null,{"$f":"ROUND(IF(Calc_WHDHC!H1681<0,Calc_WHDHC!I1681,2*PI()*Calc_WHDHC!G1681/60*Calc_WHDHC!H1681/1000*IF(Input!$B$4=\"Other\",0.95*0.95,0.98*0.95)),3)","v":175.22800000000001}]
[1676,null,{"$f":"Calc_WHDHC!G1682","v":1311},null,null,{"$f":"ROUND(IF(Calc_WHDHC!H1682<0,Calc_WHDHC!I1682*IF(Input!$B$4=\"Other\",0.95*0.95,0.98*0.95),2*PI()*Calc_WHDHC!G1682/60*Calc_WHDHC!H1682/1000),3)","v":176.27699999999999},null,null,1676,null,"-",null,null,{"$f":"Calc_WHDHC!J1682/3.6/(2*Input!$B$5*PI())*60","v":241.3905347729895},null,null,{"$f":"ROUND(IF(Calc_WHDHC!H1682<0,Calc_WHDHC!I1682,2*PI()*Calc_WHDHC!G1682/60*Calc_WHDHC!H1682/1000*IF(Input!$B$4=\"Other\",0.95*0.95,0.98*0.95)),3)","v":164.114}]
[1677,null,{"$f":"Calc_WHDHC!G1683","v":1314},null,null,{"$f":"ROUND(IF(Calc_WHDHC!H1683<0,Calc_WHDHC!I1683*IF(Input!$B$4=\"Other\",0.95*0.95,0.98*0.95),2*PI()*Calc_WHDHC!G1683/60*Calc_WHDHC!H1683/1000),3)","v":166.49799999999999},null,null,1677,null,"-",null,null,{"$f":"Calc_WHDHC!J1683/3.6/(2*Input!$B$5*PI())*60","v":241.77817729269836},null,null,{"$f":"ROUND(IF(Calc_WHDHC!H1683<0,Calc_WHDHC!I1683,2*PI()*Calc_WHDHC!G1683/60*Calc_WHDHC!H1683/1000*IF(Input!$B$4=\"Other\",0.95*0.95,0.98*0.95)),3)","v":155.01}]
[1678,null,{"$f":"Calc_WHDHC!G1684","v":1314},null,null,{"$f":"ROUND(IF(Calc_WHDHC!H1684<0,Calc_WHDHC!I1684*IF(Input!$B$4=\"Other\",0.95*0.95,0.98*0.95),2*PI()*Calc_WHDHC!G1684/60*Calc_WHDHC!H1684/1000),3)","v":157.554},null,null,1678,null,"-",null,null,{"$f":"Calc_WHDHC!J1684/3.6/(2*Input!$B$5*PI())*60","v":241.88893229832948},null,null,{"$f":"ROUND(IF(Calc_WHDHC!H1684<0,Calc_WHDHC!I1684,2*PI()*Calc_WHDHC!G1684/60*Calc_WHDHC!H1684/1000*IF(Input!$B$4=\"Other\",0.95*0.95,0.98*0.95)),3)","v":146.68299999999999}]
[1679,null,{"$f":"Calc_WHDHC!G1685","v":1313},null,null,{"$f":"ROUND(IF(Calc_WHDHC!H1685<0,Calc_WHDHC!I1685*IF(Input!$B$4=\"Other\",0.95*0.95,0.98*0.95),2*PI()*Calc_WHDHC!G1685/60*Calc_WHDHC!H1685/1000),3)","v":140.797},null,null,1679,null,"-",null,null,{"$f":"Calc_WHDHC!J1685/3.6/(2*Input!$B$5*PI())*60","v":241.69511103847503},null,null,{"$f":"ROUND(IF(Calc_WHDHC!H1685<0,Calc_WHDHC!I1685,2*PI()*Calc_WHDHC!G1685/60*Calc_WHDHC!H1685/1000*IF(Input!$B$4=\"Other\",0.95*0.95,0.98*0.95)),3)","v":131.08199999999999}]
[1680,null,{"$f":"Calc_WHDHC!G1686","v":1318},null,null,{"$f":"ROUND(IF(Calc_WHDHC!H1686<0,Calc_WHDHC!I1686*IF(Input!$B$4=\"Other\",0.95*0.95,0.98*0.95),2*PI()*Calc_WHDHC!G1686/60*Calc_WHDHC!H1686/1000),3)","v":128.35900000000001},null,null,1680,null,"-",null,null,{"$f":"Calc_WHDHC!J1686/3.6/(2*Input!$B$5*PI())*60","v":242.4980848293005},null,null,{"$f":"ROUND(IF(Calc_WHDHC!H1686<0,Calc_WHDHC!I1686,2*PI()*Calc_WHDHC!G1686/60*Calc_WHDHC!H1686/1000*IF(Input!$B$4=\"Other\",0.95*0.95,0.98*0.95)),3)","v":119.502}]
[1681,null,{"$f":"Calc_WHDHC!G1687","v":1318},null,null,{"$f":"ROUND(IF(Calc_WHDHC!H1687<0,Calc_WHDHC!I1687*IF(Input!$B$4=\"Other\",0.95*0.95,0.98*0.95),2*PI()*Calc_WHDHC!G1687/60*Calc_WHDHC!H1687/1000),3)","v":116.90300000000001},null,null,1681,null,"-",null,null,{"$f":"Calc_WHDHC!J1687/3.6/(2*Input!$B$5*PI())*60","v":242.58115108352388},null,null,{"$f":"ROUND(IF(Calc_WHDHC!H1687<0,Calc_WHDHC!I1687,2*PI()*Calc_WHDHC!G1687/60*Calc_WHDHC!H1687/1000*IF(Input!$B$4=\"Other\",0.95*0.95,0.98*0.95)),3)","v":108.837}]
[1682,null,{"$f":"Calc_WHDHC!G1688","v":1321},null,null,{"$f":"ROUND(IF(Calc_WHDHC!H1688<0,Calc_WHDHC!I1688*IF(Input!$B$4=\"Other\",0.95*0.95,0.98*0.95),2*PI()*Calc_WHDHC!G1688/60*Calc_WHDHC!H1688/1000),3)","v":107.624},null,null,1682,null,"-",null,null,{"$f":"Calc_WHDHC!J1688/3.6/(2*Input!$B$5*PI())*60","v":242.99648235464051},null,null,{"$f":"ROUND(IF(Calc_WHDHC!H1688<0,Calc_WHDHC!I1688,2*PI()*Calc_WHDHC!G1688/60*Calc_WHDHC!H1688/1000*IF(Input!$B$4=\"Other\",0.95*0.95,0.98*0.95)),3)","v":100.19799999999999}]
[1683,null,{"$f":"Calc_WHDHC!G1689","v":1319},null,null,{"$f":"ROUND(IF(Calc_WHDHC!H1689<0,Calc_WHDHC!I1689*IF(Input!$B$4=\"Other\",0.95*0.95,0.98*0.95),2*PI()*Calc_WHDHC!G1689/60*Calc_WHDHC!H1689/1000),3)","v":99.587999999999994},null,null,1683,null,"-",null,null,{"$f":"Calc_WHDHC!J1689/3.6/(2*Input!$B$5*PI())*60","v":242.69190608915497},null,null,{"$f":"ROUND(IF(Calc_WHDHC!H1689<0,Calc_WHDHC!I1689,2*PI()*Calc_WHDHC!G1689/60*Calc_WHDHC!H1689/1000*IF(Input!$B$4=\"Other\",0.95*0.95,0.98*0.95)),3)","v":92.716999999999999}]
[1684,null,{"$f":"Calc_WHDHC!G1690","v":1318},null,null,{"$f":"ROUND(IF(Calc_WHDHC!H1690<0,Calc_WHDHC!I1690*IF(Input!$B$4=\"Other\",0.95*0.95,0.98*0.95),2*PI()*Calc_WHDHC!G1690/60*Calc_WHDHC!H1690/1000),3)","v":90.542000000000002},null,null,1684,null,"-",null,null,{"$f":"Calc_WHDHC!J1690/3.6/(2*Input!$B$5*PI())*60","v":242.58115108352388},null,null,{"$f":"ROUND(IF(Calc_WHDHC!H1690<0,Calc_WHDHC!I1690,2*PI()*Calc_WHDHC!G1690/60*Calc_WHDHC!H1690/1000*IF(Input!$B$4=\"Other\",0.95*0.95,0.98*0.95)),3)","v":84.293999999999997}]
[1685,null,{"$f":"Calc_WHDHC!G1691","v":1319},null,null,{"$f":"ROUND(IF(Calc_WHDHC!H1691<0,Calc_WHDHC!I1691*IF(Input!$B$4=\"Other\",0.95*0.95,0.98*0.95),2*PI()*Calc_WHDHC!G1691/60*Calc_WHDHC!H1691/1000),3)","v":75.415999999999997},null,null,1685,null,"-",null,null,{"$f":"Calc_WHDHC!J1691/3.6/(2*Input!$B$5*PI())*60","v":242.69190608915497},null,null,{"$f":"ROUND(IF(Calc_WHDHC!H1691<0,Calc_WHDHC!I1691,2*PI()*Calc_WHDHC!G1691/60*Calc_WHDHC!H1691/1000*IF(Input!$B$4=\"Other\",0.95*0.95,0.98*0.95)),3)","v":70.212999999999994}]
[1686,null,{"$f":"Calc_WHDHC!G1692","v":1319},null,null,{"$f":"ROUND(IF(Calc_WHDHC!H1692<0,Calc_WHDHC!I1692*IF(Input!$B$4=\"Other\",0.95*0.95,0.98*0.95),2*PI()*Calc_WHDHC!G1692/60*Calc_WHDHC!H1692/1000),3)","v":60.222999999999999},null,null,1686,null,"-",null,null,{"$f":"Calc_WHDHC!J1692/3.6/(2*Input!$B$5*PI())*60","v":242.69190608915497},null,null,{"$f":"ROUND(IF(Calc_WHDHC!H1692<0,Calc_WHDHC!I1692,2*PI()*Calc_WHDHC!G1692/60*Calc_WHDHC!H1692/1000*IF(Input!$B$4=\"Other\",0.95*0.95,0.98*0.95)),3)","v":56.067}]
[1687,null,{"$f":"Calc_WHDHC!G1693","v":1321},null,null,{"$f":"ROUND(IF(Calc_WHDHC!H1693<0,Calc_WHDHC!I1693*IF(Input!$B$4=\"Other\",0.95*0.95,0.98*0.95),2*PI()*Calc_WHDHC!G1693/60*Calc_WHDHC!H1693/1000),3)","v":47.863999999999997},null,null,1687,null,"-",null,null,{"$f":"Calc_WHDHC!J1693/3.6/(2*Input!$B$5*PI())*60","v":242.99648235464051},null,null,{"$f":"ROUND(IF(Calc_WHDHC!H1693<0,Calc_WHDHC!I1693,2*PI()*Calc_WHDHC!G1693/60*Calc_WHDHC!H1693/1000*IF(Input!$B$4=\"Other\",0.95*0.95,0.98*0.95)),3)","v":44.561}]
[1688,null,{"$f":"Calc_WHDHC!G1694","v":1321},null,null,{"$f":"ROUND(IF(Calc_WHDHC!H1694<0,Calc_WHDHC!I1694*IF(Input!$B$4=\"Other\",0.95*0.95,0.98*0.95),2*PI()*Calc_WHDHC!G1694/60*Calc_WHDHC!H1694/1000),3)","v":36.104999999999997},null,null,1688,null,"-",null,null,{"$f":"Calc_WHDHC!J1694/3.6/(2*Input!$B$5*PI())*60","v":242.99648235464051},null,null,{"$f":"ROUND(IF(Calc_WHDHC!H1694<0,Calc_WHDHC!I1694,2*PI()*Calc_WHDHC!G1694/60*Calc_WHDHC!H1694/1000*IF(Input!$B$4=\"Other\",0.95*0.95,0.98*0.95)),3)","v":33.613999999999997}]
[1689,null,{"$f":"Calc_WHDHC!G1695","v":1321},null,null,{"$f":"ROUND(IF(Calc_WHDHC!H1695<0,Calc_WHDHC!I1695*IF(Input!$B$4=\"Other\",0.95*0.95,0.98*0.95),2*PI()*Calc_WHDHC!G1695/60*Calc_WHDHC!H1695/1000),3)","v":26.007000000000001},null,null,1689,null,"-",null,null,{"$f":"Calc_WHDHC!J1695/3.6/(2*Input!$B$5*PI())*60","v":243.10723736027157},null,null,{"$f":"ROUND(IF(Calc_WHDHC!H1695<0,Calc_WHDHC!I1695,2*PI()*Calc_WHDHC!G1695/60*Calc_WHDHC!H1695/1000*IF(Input!$B$4=\"Other\",0.95*0.95,0.98*0.95)),3)","v":24.212}]
[1690,null,{"$f":"Calc_WHDHC!G1696","v":1319},null,null,{"$f":"ROUND(IF(Calc_WHDHC!H1696<0,Calc_WHDHC!I1696*IF(Input!$B$4=\"Other\",0.95*0.95,0.98*0.95),2*PI()*Calc_WHDHC!G1696/60*Calc_WHDHC!H1696/1000),3)","v":23.343},null,null,1690,null,"-",null,null,{"$f":"Calc_WHDHC!J1696/3.6/(2*Input!$B$5*PI())*60","v":242.88572734900941},null,null,{"$f":"ROUND(IF(Calc_WHDHC!H1696<0,Calc_WHDHC!I1696,2*PI()*Calc_WHDHC!G1696/60*Calc_WHDHC!H1696/1000*IF(Input!$B$4=\"Other\",0.95*0.95,0.98*0.95)),3)","v":21.733000000000001}]
[1691,null,{"$f":"Calc_WHDHC!G1697","v":1319},null,null,{"$f":"ROUND(IF(Calc_WHDHC!H1697<0,Calc_WHDHC!I1697*IF(Input!$B$4=\"Other\",0.95*0.95,0.98*0.95),2*PI()*Calc_WHDHC!G1697/60*Calc_WHDHC!H1697/1000),3)","v":16.850999999999999},null,null,1691,null,"-",null,null,{"$f":"Calc_WHDHC!J1697/3.6/(2*Input!$B$5*PI())*60","v":242.80266109478603},null,null,{"$f":"ROUND(IF(Calc_WHDHC!H1697<0,Calc_WHDHC!I1697,2*PI()*Calc_WHDHC!G1697/60*Calc_WHDHC!H1697/1000*IF(Input!$B$4=\"Other\",0.95*0.95,0.98*0.95)),3)","v":15.689}]
[1692,null,{"$f":"Calc_WHDHC!G1698","v":1317},null,null,{"$f":"ROUND(IF(Calc_WHDHC!H1698<0,Calc_WHDHC!I1698*IF(Input!$B$4=\"Other\",0.95*0.95,0.98*0.95),2*PI()*Calc_WHDHC!G1698/60*Calc_WHDHC!H1698/1000),3)","v":16.826000000000001},null,null,1692,null,"-",null,null,{"$f":"Calc_WHDHC!J1698/3.6/(2*Input!$B$5*PI())*60","v":242.38732982366943},null,null,{"$f":"ROUND(IF(Calc_WHDHC!H1698<0,Calc_WHDHC!I1698,2*PI()*Calc_WHDHC!G1698/60*Calc_WHDHC!H1698/1000*IF(Input!$B$4=\"Other\",0.95*0.95,0.98*0.95)),3)","v":15.664999999999999}]
[1693,null,{"$f":"Calc_WHDHC!G1699","v":1321},null,null,{"$f":"ROUND(IF(Calc_WHDHC!H1699<0,Calc_WHDHC!I1699*IF(Input!$B$4=\"Other\",0.95*0.95,0.98*0.95),2*PI()*Calc_WHDHC!G1699/60*Calc_WHDHC!H1699/1000),3)","v":16.047000000000001},null,null,1693,null,"-",null,null,{"$f":"Calc_WHDHC!J1699/3.6/(2*Input!$B$5*PI())*60","v":242.99648235464051},null,null,{"$f":"ROUND(IF(Calc_WHDHC!H1699<0,Calc_WHDHC!I1699,2*PI()*Calc_WHDHC!G1699/60*Calc_WHDHC!H1699/1000*IF(Input!$B$4=\"Other\",0.95*0.95,0.98*0.95)),3)","v":14.94}]
[1694,null,{"$f":"Calc_WHDHC!G1700","v":1317},null,null,{"$f":"ROUND(IF(Calc_WHDHC!H1700<0,Calc_WHDHC!I1700*IF(Input!$B$4=\"Other\",0.95*0.95,0.98*0.95),2*PI()*Calc_WHDHC!G1700/60*Calc_WHDHC!H1700/1000),3)","v":13.102},null,null,1694,null,"-",null,null,{"$f":"Calc_WHDHC!J1700/3.6/(2*Input!$B$5*PI())*60","v":242.27657481803834},null,null,{"$f":"ROUND(IF(Calc_WHDHC!H1700<0,Calc_WHDHC!I1700,2*PI()*Calc_WHDHC!G1700/60*Calc_WHDHC!H1700/1000*IF(Input!$B$4=\"Other\",0.95*0.95,0.98*0.95)),3)","v":12.198}]
[1695,null,{"$f":"Calc_WHDHC!G1701","v":1315},null,null,{"$f":"ROUND(IF(Calc_WHDHC!H1701<0,Calc_WHDHC!I1701*IF(Input!$B$4=\"Other\",0.95*0.95,0.98*0.95),2*PI()*Calc_WHDHC!G1701/60*Calc_WHDHC!H1701/1000),3)","v":9.2260000000000009},null,null,1695,null,"-",null,null,{"$f":"Calc_WHDHC!J1701/3.6/(2*Input!$B$5*PI())*60","v":242.0827535581839},null,null,{"$f":"ROUND(IF(Calc_WHDHC!H1701<0,Calc_WHDHC!I1701,2*PI()*Calc_WHDHC!G1701/60*Calc_WHDHC!H1701/1000*IF(Input!$B$4=\"Other\",0.95*0.95,0.98*0.95)),3)","v":8.59}]
[1696,null,{"$f":"Calc_WHDHC!G1702","v":1315},null,null,{"$f":"ROUND(IF(Calc_WHDHC!H1702<0,Calc_WHDHC!I1702*IF(Input!$B$4=\"Other\",0.95*0.95,0.98*0.95),2*PI()*Calc_WHDHC!G1702/60*Calc_WHDHC!H1702/1000),3)","v":8.9510000000000005},null,null,1696,null,"-",null,null,{"$f":"Calc_WHDHC!J1702/3.6/(2*Input!$B$5*PI())*60","v":242.19350856381502},null,null,{"$f":"ROUND(IF(Calc_WHDHC!H1702<0,Calc_WHDHC!I1702,2*PI()*Calc_WHDHC!G1702/60*Calc_WHDHC!H1702/1000*IF(Input!$B$4=\"Other\",0.95*0.95,0.98*0.95)),3)","v":8.3330000000000002}]
[1697,null,{"$f":"Calc_WHDHC!G1703","v":1317},null,null,{"$f":"ROUND(IF(Calc_WHDHC!H1703<0,Calc_WHDHC!I1703*IF(Input!$B$4=\"Other\",0.95*0.95,0.98*0.95),2*PI()*Calc_WHDHC!G1703/60*Calc_WHDHC!H1703/1000),3)","v":14.205},null,null,1697,null,"-",null,null,{"$f":"Calc_WHDHC!J1703/3.6/(2*Input!$B$5*PI())*60","v":242.27657481803834},null,null,{"$f":"ROUND(IF(Calc_WHDHC!H1703<0,Calc_WHDHC!I1703,2*PI()*Calc_WHDHC!G1703/60*Calc_WHDHC!H1703/1000*IF(Input!$B$4=\"Other\",0.95*0.95,0.98*0.95)),3)","v":13.225}]
[1698,null,{"$f":"Calc_WHDHC!G1704","v":1317},null,null,{"$f":"ROUND(IF(Calc_WHDHC!H1704<0,Calc_WHDHC!I1704*IF(Input!$B$4=\"Other\",0.95*0.95,0.98*0.95),2*PI()*Calc_WHDHC!G1704/60*Calc_WHDHC!H1704/1000),3)","v":12.275},null,null,1698,null,"-",null,null,{"$f":"Calc_WHDHC!J1704/3.6/(2*Input!$B$5*PI())*60","v":242.27657481803834},null,null,{"$f":"ROUND(IF(Calc_WHDHC!H1704<0,Calc_WHDHC!I1704,2*PI()*Calc_WHDHC!G1704/60*Calc_WHDHC!H1704/1000*IF(Input!$B$4=\"Other\",0.95*0.95,0.98*0.95)),3)","v":11.428000000000001}]
[1699,null,{"$f":"Calc_WHDHC!G1705","v":1311},null,null,{"$f":"ROUND(IF(Calc_WHDHC!H1705<0,Calc_WHDHC!I1705*IF(Input!$B$4=\"Other\",0.95*0.95,0.98*0.95),2*PI()*Calc_WHDHC!G1705/60*Calc_WHDHC!H1705/1000),3)","v":15.925000000000001},null,null,1699,null,"-",null,null,{"$f":"Calc_WHDHC!J1705/3.6/(2*Input!$B$5*PI())*60","v":241.3905347729895},null,null,{"$f":"ROUND(IF(Calc_WHDHC!H1705<0,Calc_WHDHC!I1705,2*PI()*Calc_WHDHC!G1705/60*Calc_WHDHC!H1705/1000*IF(Input!$B$4=\"Other\",0.95*0.95,0.98*0.95)),3)","v":14.827}]
[1700,null,{"$f":"Calc_WHDHC!G1706","v":1314},null,null,{"$f":"ROUND(IF(Calc_WHDHC!H1706<0,Calc_WHDHC!I1706*IF(Input!$B$4=\"Other\",0.95*0.95,0.98*0.95),2*PI()*Calc_WHDHC!G1706/60*Calc_WHDHC!H1706/1000),3)","v":14.861000000000001},null,null,1700,null,"-",null,null,{"$f":"Calc_WHDHC!J1706/3.6/(2*Input!$B$5*PI())*60","v":241.88893229832948},null,null,{"$f":"ROUND(IF(Calc_WHDHC!H1706<0,Calc_WHDHC!I1706,2*PI()*Calc_WHDHC!G1706/60*Calc_WHDHC!H1706/1000*IF(Input!$B$4=\"Other\",0.95*0.95,0.98*0.95)),3)","v":13.836}]
[1701,null,{"$f":"Calc_WHDHC!G1707","v":1313},null,null,{"$f":"ROUND(IF(Calc_WHDHC!H1707<0,Calc_WHDHC!I1707*IF(Input!$B$4=\"Other\",0.95*0.95,0.98*0.95),2*PI()*Calc_WHDHC!G1707/60*Calc_WHDHC!H1707/1000),3)","v":15.125},null,null,1701,null,"-",null,null,{"$f":"Calc_WHDHC!J1707/3.6/(2*Input!$B$5*PI())*60","v":241.69511103847503},null,null,{"$f":"ROUND(IF(Calc_WHDHC!H1707<0,Calc_WHDHC!I1707,2*PI()*Calc_WHDHC!G1707/60*Calc_WHDHC!H1707/1000*IF(Input!$B$4=\"Other\",0.95*0.95,0.98*0.95)),3)","v":14.081}]
[1702,null,{"$f":"Calc_WHDHC!G1708","v":1311},null,null,{"$f":"ROUND(IF(Calc_WHDHC!H1708<0,Calc_WHDHC!I1708*IF(Input!$B$4=\"Other\",0.95*0.95,0.98*0.95),2*PI()*Calc_WHDHC!G1708/60*Calc_WHDHC!H1708/1000),3)","v":15.925000000000001},null,null,1702,null,"-",null,null,{"$f":"Calc_WHDHC!J1708/3.6/(2*Input!$B$5*PI())*60","v":241.3905347729895},null,null,{"$f":"ROUND(IF(Calc_WHDHC!H1708<0,Calc_WHDHC!I1708,2*PI()*Calc_WHDHC!G1708/60*Calc_WHDHC!H1708/1000*IF(Input!$B$4=\"Other\",0.95*0.95,0.98*0.95)),3)","v":14.827}]
[1703,null,{"$f":"Calc_WHDHC!G1709","v":1307},null,null,{"$f":"ROUND(IF(Calc_WHDHC!H1709<0,Calc_WHDHC!I1709*IF(Input!$B$4=\"Other\",0.95*0.95,0.98*0.95),2*PI()*Calc_WHDHC!G1709/60*Calc_WHDHC!H1709/1000),3)","v":15.603},null,null,1703,null,"-",null,null,{"$f":"Calc_WHDHC!J1709/3.6/(2*Input!$B$5*PI())*60","v":240.67062723638733},null,null,{"$f":"ROUND(IF(Calc_WHDHC!H1709<0,Calc_WHDHC!I1709,2*PI()*Calc_WHDHC!G1709/60*Calc_WHDHC!H1709/1000*IF(Input!$B$4=\"Other\",0.95*0.95,0.98*0.95)),3)","v":14.526}]
[1704,null,{"$f":"Calc_WHDHC!G1710","v":1314},null,null,{"$f":"ROUND(IF(Calc_WHDHC!H1710<0,Calc_WHDHC!I1710*IF(Input!$B$4=\"Other\",0.95*0.95,0.98*0.95),2*PI()*Calc_WHDHC!G1710/60*Calc_WHDHC!H1710/1000),3)","v":17.751000000000001},null,null,1704,null,"-",null,null,{"$f":"Calc_WHDHC!J1710/3.6/(2*Input!$B$5*PI())*60","v":241.88893229832948},null,null,{"$f":"ROUND(IF(Calc_WHDHC!H1710<0,Calc_WHDHC!I1710,2*PI()*Calc_WHDHC!G1710/60*Calc_WHDHC!H1710/1000*IF(Input!$B$4=\"Other\",0.95*0.95,0.98*0.95)),3)","v":16.526}]
[1705,null,{"$f":"Calc_WHDHC!G1711","v":1309},null,null,{"$f":"ROUND(IF(Calc_WHDHC!H1711<0,Calc_WHDHC!I1711*IF(Input!$B$4=\"Other\",0.95*0.95,0.98*0.95),2*PI()*Calc_WHDHC!G1711/60*Calc_WHDHC!H1711/1000),3)","v":16.449000000000002},null,null,1705,null,"-",null,null,{"$f":"Calc_WHDHC!J1711/3.6/(2*Input!$B$5*PI())*60","v":240.97520350187287},null,null,{"$f":"ROUND(IF(Calc_WHDHC!H1711<0,Calc_WHDHC!I1711,2*PI()*Calc_WHDHC!G1711/60*Calc_WHDHC!H1711/1000*IF(Input!$B$4=\"Other\",0.95*0.95,0.98*0.95)),3)","v":15.314}]
[1706,null,{"$f":"Calc_WHDHC!G1712","v":1310},null,null,{"$f":"ROUND(IF(Calc_WHDHC!H1712<0,Calc_WHDHC!I1712*IF(Input!$B$4=\"Other\",0.95*0.95,0.98*0.95),2*PI()*Calc_WHDHC!G1712/60*Calc_WHDHC!H1712/1000),3)","v":16.736000000000001},null,null,1706,null,"-",null,null,{"$f":"Calc_WHDHC!J1712/3.6/(2*Input!$B$5*PI())*60","v":241.08595850750396},null,null,{"$f":"ROUND(IF(Calc_WHDHC!H1712<0,Calc_WHDHC!I1712,2*PI()*Calc_WHDHC!G1712/60*Calc_WHDHC!H1712/1000*IF(Input!$B$4=\"Other\",0.95*0.95,0.98*0.95)),3)","v":15.582000000000001}]
[1707,null,{"$f":"Calc_WHDHC!G1713","v":1313},null,null,{"$f":"ROUND(IF(Calc_WHDHC!H1713<0,Calc_WHDHC!I1713*IF(Input!$B$4=\"Other\",0.95*0.95,0.98*0.95),2*PI()*Calc_WHDHC!G1713/60*Calc_WHDHC!H1713/1000),3)","v":17.736999999999998},null,null,1707,null,"-",null,null,{"$f":"Calc_WHDHC!J1713/3.6/(2*Input!$B$5*PI())*60","v":241.69511103847503},null,null,{"$f":"ROUND(IF(Calc_WHDHC!H1713<0,Calc_WHDHC!I1713,2*PI()*Calc_WHDHC!G1713/60*Calc_WHDHC!H1713/1000*IF(Input!$B$4=\"Other\",0.95*0.95,0.98*0.95)),3)","v":16.513000000000002}]
[1708,null,{"$f":"Calc_WHDHC!G1714","v":1309},null,null,{"$f":"ROUND(IF(Calc_WHDHC!H1714<0,Calc_WHDHC!I1714*IF(Input!$B$4=\"Other\",0.95*0.95,0.98*0.95),2*PI()*Calc_WHDHC!G1714/60*Calc_WHDHC!H1714/1000),3)","v":16.998000000000001},null,null,1708,null,"-",null,null,{"$f":"Calc_WHDHC!J1714/3.6/(2*Input!$B$5*PI())*60","v":240.86444849624175},null,null,{"$f":"ROUND(IF(Calc_WHDHC!H1714<0,Calc_WHDHC!I1714,2*PI()*Calc_WHDHC!G1714/60*Calc_WHDHC!H1714/1000*IF(Input!$B$4=\"Other\",0.95*0.95,0.98*0.95)),3)","v":15.824999999999999}]
[1709,null,{"$f":"Calc_WHDHC!G1715","v":1313},null,null,{"$f":"ROUND(IF(Calc_WHDHC!H1715<0,Calc_WHDHC!I1715*IF(Input!$B$4=\"Other\",0.95*0.95,0.98*0.95),2*PI()*Calc_WHDHC!G1715/60*Calc_WHDHC!H1715/1000),3)","v":19.111999999999998},null,null,1709,null,"-",null,null,{"$f":"Calc_WHDHC!J1715/3.6/(2*Input!$B$5*PI())*60","v":241.58435603284394},null,null,{"$f":"ROUND(IF(Calc_WHDHC!H1715<0,Calc_WHDHC!I1715,2*PI()*Calc_WHDHC!G1715/60*Calc_WHDHC!H1715/1000*IF(Input!$B$4=\"Other\",0.95*0.95,0.98*0.95)),3)","v":17.792999999999999}]
[1710,null,{"$f":"Calc_WHDHC!G1716","v":1311},null,null,{"$f":"ROUND(IF(Calc_WHDHC!H1716<0,Calc_WHDHC!I1716*IF(Input!$B$4=\"Other\",0.95*0.95,0.98*0.95),2*PI()*Calc_WHDHC!G1716/60*Calc_WHDHC!H1716/1000),3)","v":18.533999999999999},null,null,1710,null,"-",null,null,{"$f":"Calc_WHDHC!J1716/3.6/(2*Input!$B$5*PI())*60","v":241.27977976735841},null,null,{"$f":"ROUND(IF(Calc_WHDHC!H1716<0,Calc_WHDHC!I1716,2*PI()*Calc_WHDHC!G1716/60*Calc_WHDHC!H1716/1000*IF(Input!$B$4=\"Other\",0.95*0.95,0.98*0.95)),3)","v":17.254999999999999}]
[1711,null,{"$f":"Calc_WHDHC!G1717","v":1309},null,null,{"$f":"ROUND(IF(Calc_WHDHC!H1717<0,Calc_WHDHC!I1717*IF(Input!$B$4=\"Other\",0.95*0.95,0.98*0.95),2*PI()*Calc_WHDHC!G1717/60*Calc_WHDHC!H1717/1000),3)","v":19.327999999999999},null,null,1711,null,"-",null,null,{"$f":"Calc_WHDHC!J1717/3.6/(2*Input!$B$5*PI())*60","v":240.7813822420184},null,null,{"$f":"ROUND(IF(Calc_WHDHC!H1717<0,Calc_WHDHC!I1717,2*PI()*Calc_WHDHC!G1717/60*Calc_WHDHC!H1717/1000*IF(Input!$B$4=\"Other\",0.95*0.95,0.98*0.95)),3)","v":17.994}]
[1712,null,{"$f":"Calc_WHDHC!G1718","v":1311},null,null,{"$f":"ROUND(IF(Calc_WHDHC!H1718<0,Calc_WHDHC!I1718*IF(Input!$B$4=\"Other\",0.95*0.95,0.98*0.95),2*PI()*Calc_WHDHC!G1718/60*Calc_WHDHC!H1718/1000),3)","v":19.907},null,null,1712,null,"-",null,null,{"$f":"Calc_WHDHC!J1718/3.6/(2*Input!$B$5*PI())*60","v":241.27977976735841},null,null,{"$f":"ROUND(IF(Calc_WHDHC!H1718<0,Calc_WHDHC!I1718,2*PI()*Calc_WHDHC!G1718/60*Calc_WHDHC!H1718/1000*IF(Input!$B$4=\"Other\",0.95*0.95,0.98*0.95)),3)","v":18.533000000000001}]
[1713,null,{"$f":"Calc_WHDHC!G1719","v":1310},null,null,{"$f":"ROUND(IF(Calc_WHDHC!H1719<0,Calc_WHDHC!I1719*IF(Input!$B$4=\"Other\",0.95*0.95,0.98*0.95),2*PI()*Calc_WHDHC!G1719/60*Calc_WHDHC!H1719/1000),3)","v":16.187999999999999},null,null,1713,null,"-",null,null,{"$f":"Calc_WHDHC!J1719/3.6/(2*Input!$B$5*PI())*60","v":241.08595850750396},null,null,{"$f":"ROUND(IF(Calc_WHDHC!H1719<0,Calc_WHDHC!I1719,2*PI()*Calc_WHDHC!G1719/60*Calc_WHDHC!H1719/1000*IF(Input!$B$4=\"Other\",0.95*0.95,0.98*0.95)),3)","v":15.071}]
[1714,null,{"$f":"Calc_WHDHC!G1720","v":1307},null,null,{"$f":"ROUND(IF(Calc_WHDHC!H1720<0,Calc_WHDHC!I1720*IF(Input!$B$4=\"Other\",0.95*0.95,0.98*0.95),2*PI()*Calc_WHDHC!G1720/60*Calc_WHDHC!H1720/1000),3)","v":14.782},null,null,1714,null,"-",null,null,{"$f":"Calc_WHDHC!J1720/3.6/(2*Input!$B$5*PI())*60","v":240.67062723638733},null,null,{"$f":"ROUND(IF(Calc_WHDHC!H1720<0,Calc_WHDHC!I1720,2*PI()*Calc_WHDHC!G1720/60*Calc_WHDHC!H1720/1000*IF(Input!$B$4=\"Other\",0.95*0.95,0.98*0.95)),3)","v":13.762}]
[1715,null,{"$f":"Calc_WHDHC!G1721","v":1307},null,null,{"$f":"ROUND(IF(Calc_WHDHC!H1721<0,Calc_WHDHC!I1721*IF(Input!$B$4=\"Other\",0.95*0.95,0.98*0.95),2*PI()*Calc_WHDHC!G1721/60*Calc_WHDHC!H1721/1000),3)","v":18.751000000000001},null,null,1715,null,"-",null,null,{"$f":"Calc_WHDHC!J1721/3.6/(2*Input!$B$5*PI())*60","v":240.55987223075621},null,null,{"$f":"ROUND(IF(Calc_WHDHC!H1721<0,Calc_WHDHC!I1721,2*PI()*Calc_WHDHC!G1721/60*Calc_WHDHC!H1721/1000*IF(Input!$B$4=\"Other\",0.95*0.95,0.98*0.95)),3)","v":17.457000000000001}]
[1716,null,{"$f":"Calc_WHDHC!G1722","v":1306},null,null,{"$f":"ROUND(IF(Calc_WHDHC!H1722<0,Calc_WHDHC!I1722*IF(Input!$B$4=\"Other\",0.95*0.95,0.98*0.95),2*PI()*Calc_WHDHC!G1722/60*Calc_WHDHC!H1722/1000),3)","v":28.856999999999999},null,null,1716,null,"-",null,null,{"$f":"Calc_WHDHC!J1722/3.6/(2*Input!$B$5*PI())*60","v":240.47680597653286},null,null,{"$f":"ROUND(IF(Calc_WHDHC!H1722<0,Calc_WHDHC!I1722,2*PI()*Calc_WHDHC!G1722/60*Calc_WHDHC!H1722/1000*IF(Input!$B$4=\"Other\",0.95*0.95,0.98*0.95)),3)","v":26.866}]
[1717,null,{"$f":"Calc_WHDHC!G1723","v":1307},null,null,{"$f":"ROUND(IF(Calc_WHDHC!H1723<0,Calc_WHDHC!I1723*IF(Input!$B$4=\"Other\",0.95*0.95,0.98*0.95),2*PI()*Calc_WHDHC!G1723/60*Calc_WHDHC!H1723/1000),3)","v":35.722999999999999},null,null,1717,null,"-",null,null,{"$f":"Calc_WHDHC!J1723/3.6/(2*Input!$B$5*PI())*60","v":240.67062723638733},null,null,{"$f":"ROUND(IF(Calc_WHDHC!H1723<0,Calc_WHDHC!I1723,2*PI()*Calc_WHDHC!G1723/60*Calc_WHDHC!H1723/1000*IF(Input!$B$4=\"Other\",0.95*0.95,0.98*0.95)),3)","v":33.258000000000003}]
[1718,null,{"$f":"Calc_WHDHC!G1724","v":1306},null,null,{"$f":"ROUND(IF(Calc_WHDHC!H1724<0,Calc_WHDHC!I1724*IF(Input!$B$4=\"Other\",0.95*0.95,0.98*0.95),2*PI()*Calc_WHDHC!G1724/60*Calc_WHDHC!H1724/1000),3)","v":41.85},null,null,1718,null,"-",null,null,{"$f":"Calc_WHDHC!J1724/3.6/(2*Input!$B$5*PI())*60","v":240.3660509709018},null,null,{"$f":"ROUND(IF(Calc_WHDHC!H1724<0,Calc_WHDHC!I1724,2*PI()*Calc_WHDHC!G1724/60*Calc_WHDHC!H1724/1000*IF(Input!$B$4=\"Other\",0.95*0.95,0.98*0.95)),3)","v":38.962000000000003}]
[1719,null,{"$f":"Calc_WHDHC!G1725","v":1307},null,null,{"$f":"ROUND(IF(Calc_WHDHC!H1725<0,Calc_WHDHC!I1725*IF(Input!$B$4=\"Other\",0.95*0.95,0.98*0.95),2*PI()*Calc_WHDHC!G1725/60*Calc_WHDHC!H1725/1000),3)","v":47.082999999999998},null,null,1719,null,"-",null,null,{"$f":"Calc_WHDHC!J1725/3.6/(2*Input!$B$5*PI())*60","v":240.55987223075621},null,null,{"$f":"ROUND(IF(Calc_WHDHC!H1725<0,Calc_WHDHC!I1725,2*PI()*Calc_WHDHC!G1725/60*Calc_WHDHC!H1725/1000*IF(Input!$B$4=\"Other\",0.95*0.95,0.98*0.95)),3)","v":43.834000000000003}]
[1720,null,{"$f":"Calc_WHDHC!G1726","v":1304},null,null,{"$f":"ROUND(IF(Calc_WHDHC!H1726<0,Calc_WHDHC!I1726*IF(Input!$B$4=\"Other\",0.95*0.95,0.98*0.95),2*PI()*Calc_WHDHC!G1726/60*Calc_WHDHC!H1726/1000),3)","v":52.164000000000001},null,null,1720,null,"-",null,null,{"$f":"Calc_WHDHC!J1726/3.6/(2*Input!$B$5*PI())*60","v":239.95071969978514},null,null,{"$f":"ROUND(IF(Calc_WHDHC!H1726<0,Calc_WHDHC!I1726,2*PI()*Calc_WHDHC!G1726/60*Calc_WHDHC!H1726/1000*IF(Input!$B$4=\"Other\",0.95*0.95,0.98*0.95)),3)","v":48.564999999999998}]
[1721,null,{"$f":"Calc_WHDHC!G1727","v":1307},null,null,{"$f":"ROUND(IF(Calc_WHDHC!H1727<0,Calc_WHDHC!I1727*IF(Input!$B$4=\"Other\",0.95*0.95,0.98*0.95),2*PI()*Calc_WHDHC!G1727/60*Calc_WHDHC!H1727/1000),3)","v":59.674999999999997},null,null,1721,null,"-",null,null,{"$f":"Calc_WHDHC!J1727/3.6/(2*Input!$B$5*PI())*60","v":240.67062723638733},null,null,{"$f":"ROUND(IF(Calc_WHDHC!H1727<0,Calc_WHDHC!I1727,2*PI()*Calc_WHDHC!G1727/60*Calc_WHDHC!H1727/1000*IF(Input!$B$4=\"Other\",0.95*0.95,0.98*0.95)),3)","v":55.557000000000002}]
[1722,null,{"$f":"Calc_WHDHC!G1728","v":1301},null,null,{"$f":"ROUND(IF(Calc_WHDHC!H1728<0,Calc_WHDHC!I1728*IF(Input!$B$4=\"Other\",0.95*0.95,0.98*0.95),2*PI()*Calc_WHDHC!G1728/60*Calc_WHDHC!H1728/1000),3)","v":64.849999999999994},null,null,1722,null,"-",null,null,{"$f":"Calc_WHDHC!J1728/3.6/(2*Input!$B$5*PI())*60","v":239.45232217444521},null,null,{"$f":"ROUND(IF(Calc_WHDHC!H1728<0,Calc_WHDHC!I1728,2*PI()*Calc_WHDHC!G1728/60*Calc_WHDHC!H1728/1000*IF(Input!$B$4=\"Other\",0.95*0.95,0.98*0.95)),3)","v":60.375999999999998}]
[1723,null,{"$f":"Calc_WHDHC!G1729","v":1304},null,null,{"$f":"ROUND(IF(Calc_WHDHC!H1729<0,Calc_WHDHC!I1729*IF(Input!$B$4=\"Other\",0.95*0.95,0.98*0.95),2*PI()*Calc_WHDHC!G1729/60*Calc_WHDHC!H1729/1000),3)","v":74.286000000000001},null,null,1723,null,"-",null,null,{"$f":"Calc_WHDHC!J1729/3.6/(2*Input!$B$5*PI())*60","v":239.95071969978514},null,null,{"$f":"ROUND(IF(Calc_WHDHC!H1729<0,Calc_WHDHC!I1729,2*PI()*Calc_WHDHC!G1729/60*Calc_WHDHC!H1729/1000*IF(Input!$B$4=\"Other\",0.95*0.95,0.98*0.95)),3)","v":69.16}]
[1724,null,{"$f":"Calc_WHDHC!G1730","v":1305},null,null,{"$f":"ROUND(IF(Calc_WHDHC!H1730<0,Calc_WHDHC!I1730*IF(Input!$B$4=\"Other\",0.95*0.95,0.98*0.95),2*PI()*Calc_WHDHC!G1730/60*Calc_WHDHC!H1730/1000),3)","v":79.808999999999997},null,null,1724,null,"-",null,null,{"$f":"Calc_WHDHC!J1730/3.6/(2*Input!$B$5*PI())*60","v":240.17222971104735},null,null,{"$f":"ROUND(IF(Calc_WHDHC!H1730<0,Calc_WHDHC!I1730,2*PI()*Calc_WHDHC!G1730/60*Calc_WHDHC!H1730/1000*IF(Input!$B$4=\"Other\",0.95*0.95,0.98*0.95)),3)","v":74.302000000000007}]
[1725,null,{"$f":"Calc_WHDHC!G1731","v":1300},null,null,{"$f":"ROUND(IF(Calc_WHDHC!H1731<0,Calc_WHDHC!I1731*IF(Input!$B$4=\"Other\",0.95*0.95,0.98*0.95),2*PI()*Calc_WHDHC!G1731/60*Calc_WHDHC!H1731/1000),3)","v":85.221000000000004},null,null,1725,null,"-",null,null,{"$f":"Calc_WHDHC!J1731/3.6/(2*Input!$B$5*PI())*60","v":239.14774590895968},null,null,{"$f":"ROUND(IF(Calc_WHDHC!H1731<0,Calc_WHDHC!I1731,2*PI()*Calc_WHDHC!G1731/60*Calc_WHDHC!H1731/1000*IF(Input!$B$4=\"Other\",0.95*0.95,0.98*0.95)),3)","v":79.340999999999994}]
[1726,null,{"$f":"Calc_WHDHC!G1732","v":1301},null,null,{"$f":"ROUND(IF(Calc_WHDHC!H1732<0,Calc_WHDHC!I1732*IF(Input!$B$4=\"Other\",0.95*0.95,0.98*0.95),2*PI()*Calc_WHDHC!G1732/60*Calc_WHDHC!H1732/1000),3)","v":93.596999999999994},null,null,1726,null,"-",null,null,{"$f":"Calc_WHDHC!J1732/3.6/(2*Input!$B$5*PI())*60","v":239.45232217444521},null,null,{"$f":"ROUND(IF(Calc_WHDHC!H1732<0,Calc_WHDHC!I1732,2*PI()*Calc_WHDHC!G1732/60*Calc_WHDHC!H1732/1000*IF(Input!$B$4=\"Other\",0.95*0.95,0.98*0.95)),3)","v":87.138999999999996}]
[1727,null,{"$f":"Calc_WHDHC!G1733","v":1298},null,null,{"$f":"ROUND(IF(Calc_WHDHC!H1733<0,Calc_WHDHC!I1733*IF(Input!$B$4=\"Other\",0.95*0.95,0.98*0.95),2*PI()*Calc_WHDHC!G1733/60*Calc_WHDHC!H1733/1000),3)","v":100.042},null,null,1727,null,"-",null,null,{"$f":"Calc_WHDHC!J1733/3.6/(2*Input!$B$5*PI())*60","v":239.03699090332856},null,null,{"$f":"ROUND(IF(Calc_WHDHC!H1733<0,Calc_WHDHC!I1733,2*PI()*Calc_WHDHC!G1733/60*Calc_WHDHC!H1733/1000*IF(Input!$B$4=\"Other\",0.95*0.95,0.98*0.95)),3)","v":93.138999999999996}]
[1728,null,{"$f":"Calc_WHDHC!G1734","v":1298},null,null,{"$f":"ROUND(IF(Calc_WHDHC!H1734<0,Calc_WHDHC!I1734*IF(Input!$B$4=\"Other\",0.95*0.95,0.98*0.95),2*PI()*Calc_WHDHC!G1734/60*Calc_WHDHC!H1734/1000),3)","v":104.255},null,null,1728,null,"-",null,null,{"$f":"Calc_WHDHC!J1734/3.6/(2*Input!$B$5*PI())*60","v":238.9539246491052},null,null,{"$f":"ROUND(IF(Calc_WHDHC!H1734<0,Calc_WHDHC!I1734,2*PI()*Calc_WHDHC!G1734/60*Calc_WHDHC!H1734/1000*IF(Input!$B$4=\"Other\",0.95*0.95,0.98*0.95)),3)","v":97.061999999999998}]
[1729,null,{"$f":"Calc_WHDHC!G1735","v":1300},null,null,{"$f":"ROUND(IF(Calc_WHDHC!H1735<0,Calc_WHDHC!I1735*IF(Input!$B$4=\"Other\",0.95*0.95,0.98*0.95),2*PI()*Calc_WHDHC!G1735/60*Calc_WHDHC!H1735/1000),3)","v":112.44799999999999},null,null,1729,null,"-",null,null,{"$f":"Calc_WHDHC!J1735/3.6/(2*Input!$B$5*PI())*60","v":239.34156716881407},null,null,{"$f":"ROUND(IF(Calc_WHDHC!H1735<0,Calc_WHDHC!I1735,2*PI()*Calc_WHDHC!G1735/60*Calc_WHDHC!H1735/1000*IF(Input!$B$4=\"Other\",0.95*0.95,0.98*0.95)),3)","v":104.68899999999999}]
[1730,null,{"$f":"Calc_WHDHC!G1736","v":1298},null,null,{"$f":"ROUND(IF(Calc_WHDHC!H1736<0,Calc_WHDHC!I1736*IF(Input!$B$4=\"Other\",0.95*0.95,0.98*0.95),2*PI()*Calc_WHDHC!G1736/60*Calc_WHDHC!H1736/1000),3)","v":118.664},null,null,1730,null,"-",null,null,{"$f":"Calc_WHDHC!J1736/3.6/(2*Input!$B$5*PI())*60","v":239.03699090332856},null,null,{"$f":"ROUND(IF(Calc_WHDHC!H1736<0,Calc_WHDHC!I1736,2*PI()*Calc_WHDHC!G1736/60*Calc_WHDHC!H1736/1000*IF(Input!$B$4=\"Other\",0.95*0.95,0.98*0.95)),3)","v":110.476}]
[1731,null,{"$f":"Calc_WHDHC!G1737","v":1293},null,null,{"$f":"ROUND(IF(Calc_WHDHC!H1737<0,Calc_WHDHC!I1737*IF(Input!$B$4=\"Other\",0.95*0.95,0.98*0.95),2*PI()*Calc_WHDHC!G1737/60*Calc_WHDHC!H1737/1000),3)","v":126.19499999999999},null,null,1731,null,"-",null,null,{"$f":"Calc_WHDHC!J1737/3.6/(2*Input!$B$5*PI())*60","v":238.12326210687198},null,null,{"$f":"ROUND(IF(Calc_WHDHC!H1737<0,Calc_WHDHC!I1737,2*PI()*Calc_WHDHC!G1737/60*Calc_WHDHC!H1737/1000*IF(Input!$B$4=\"Other\",0.95*0.95,0.98*0.95)),3)","v":117.488}]
[1732,null,{"$f":"Calc_WHDHC!G1738","v":1298},null,null,{"$f":"ROUND(IF(Calc_WHDHC!H1738<0,Calc_WHDHC!I1738*IF(Input!$B$4=\"Other\",0.95*0.95,0.98*0.95),2*PI()*Calc_WHDHC!G1738/60*Calc_WHDHC!H1738/1000),3)","v":132.93600000000001},null,null,1732,null,"-",null,null,{"$f":"Calc_WHDHC!J1738/3.6/(2*Input!$B$5*PI())*60","v":239.03699090332856},null,null,{"$f":"ROUND(IF(Calc_WHDHC!H1738<0,Calc_WHDHC!I1738,2*PI()*Calc_WHDHC!G1738/60*Calc_WHDHC!H1738/1000*IF(Input!$B$4=\"Other\",0.95*0.95,0.98*0.95)),3)","v":123.76300000000001}]
[1733,null,{"$f":"Calc_WHDHC!G1739","v":1297},null,null,{"$f":"ROUND(IF(Calc_WHDHC!H1739<0,Calc_WHDHC!I1739*IF(Input!$B$4=\"Other\",0.95*0.95,0.98*0.95),2*PI()*Calc_WHDHC!G1739/60*Calc_WHDHC!H1739/1000),3)","v":138.26599999999999},null,null,1733,null,"-",null,null,{"$f":"Calc_WHDHC!J1739/3.6/(2*Input!$B$5*PI())*60","v":238.73241463784302},null,null,{"$f":"ROUND(IF(Calc_WHDHC!H1739<0,Calc_WHDHC!I1739,2*PI()*Calc_WHDHC!G1739/60*Calc_WHDHC!H1739/1000*IF(Input!$B$4=\"Other\",0.95*0.95,0.98*0.95)),3)","v":128.726}]
[1734,null,{"$f":"Calc_WHDHC!G1740","v":1294},null,null,{"$f":"ROUND(IF(Calc_WHDHC!H1740<0,Calc_WHDHC!I1740*IF(Input!$B$4=\"Other\",0.95*0.95,0.98*0.95),2*PI()*Calc_WHDHC!G1740/60*Calc_WHDHC!H1740/1000),3)","v":140.25},null,null,1734,null,"-",null,null,{"$f":"Calc_WHDHC!J1740/3.6/(2*Input!$B$5*PI())*60","v":238.34477211813416},null,null,{"$f":"ROUND(IF(Calc_WHDHC!H1740<0,Calc_WHDHC!I1740,2*PI()*Calc_WHDHC!G1740/60*Calc_WHDHC!H1740/1000*IF(Input!$B$4=\"Other\",0.95*0.95,0.98*0.95)),3)","v":130.57300000000001}]
[1735,null,{"$f":"Calc_WHDHC!G1741","v":1297},null,null,{"$f":"ROUND(IF(Calc_WHDHC!H1741<0,Calc_WHDHC!I1741*IF(Input!$B$4=\"Other\",0.95*0.95,0.98*0.95),2*PI()*Calc_WHDHC!G1741/60*Calc_WHDHC!H1741/1000),3)","v":141.119},null,null,1735,null,"-",null,null,{"$f":"Calc_WHDHC!J1741/3.6/(2*Input!$B$5*PI())*60","v":238.73241463784302},null,null,{"$f":"ROUND(IF(Calc_WHDHC!H1741<0,Calc_WHDHC!I1741,2*PI()*Calc_WHDHC!G1741/60*Calc_WHDHC!H1741/1000*IF(Input!$B$4=\"Other\",0.95*0.95,0.98*0.95)),3)","v":131.381}]
[1736,null,{"$f":"Calc_WHDHC!G1742","v":1298},null,null,{"$f":"ROUND(IF(Calc_WHDHC!H1742<0,Calc_WHDHC!I1742*IF(Input!$B$4=\"Other\",0.95*0.95,0.98*0.95),2*PI()*Calc_WHDHC!G1742/60*Calc_WHDHC!H1742/1000),3)","v":136.74199999999999},null,null,1736,null,"-",null,null,{"$f":"Calc_WHDHC!J1742/3.6/(2*Input!$B$5*PI())*60","v":239.03699090332856},null,null,{"$f":"ROUND(IF(Calc_WHDHC!H1742<0,Calc_WHDHC!I1742,2*PI()*Calc_WHDHC!G1742/60*Calc_WHDHC!H1742/1000*IF(Input!$B$4=\"Other\",0.95*0.95,0.98*0.95)),3)","v":127.307}]
[1737,null,{"$f":"Calc_WHDHC!G1743","v":1298},null,null,{"$f":"ROUND(IF(Calc_WHDHC!H1743<0,Calc_WHDHC!I1743*IF(Input!$B$4=\"Other\",0.95*0.95,0.98*0.95),2*PI()*Calc_WHDHC!G1743/60*Calc_WHDHC!H1743/1000),3)","v":135.79},null,null,1737,null,"-",null,null,{"$f":"Calc_WHDHC!J1743/3.6/(2*Input!$B$5*PI())*60","v":239.03699090332856},null,null,{"$f":"ROUND(IF(Calc_WHDHC!H1743<0,Calc_WHDHC!I1743,2*PI()*Calc_WHDHC!G1743/60*Calc_WHDHC!H1743/1000*IF(Input!$B$4=\"Other\",0.95*0.95,0.98*0.95)),3)","v":126.42100000000001}]
[1738,null,{"$f":"Calc_WHDHC!G1744","v":1297},null,null,{"$f":"ROUND(IF(Calc_WHDHC!H1744<0,Calc_WHDHC!I1744*IF(Input!$B$4=\"Other\",0.95*0.95,0.98*0.95),2*PI()*Calc_WHDHC!G1744/60*Calc_WHDHC!H1744/1000),3)","v":134.327},null,null,1738,null,"-",null,null,{"$f":"Calc_WHDHC!J1744/3.6/(2*Input!$B$5*PI())*60","v":238.84316964347414},null,null,{"$f":"ROUND(IF(Calc_WHDHC!H1744<0,Calc_WHDHC!I1744,2*PI()*Calc_WHDHC!G1744/60*Calc_WHDHC!H1744/1000*IF(Input!$B$4=\"Other\",0.95*0.95,0.98*0.95)),3)","v":125.059}]
[1739,null,{"$f":"Calc_WHDHC!G1745","v":1301},null,null,{"$f":"ROUND(IF(Calc_WHDHC!H1745<0,Calc_WHDHC!I1745*IF(Input!$B$4=\"Other\",0.95*0.95,0.98*0.95),2*PI()*Calc_WHDHC!G1745/60*Calc_WHDHC!H1745/1000),3)","v":134.46899999999999},null,null,1739,null,"-",null,null,{"$f":"Calc_WHDHC!J1745/3.6/(2*Input!$B$5*PI())*60","v":239.45232217444521},null,null,{"$f":"ROUND(IF(Calc_WHDHC!H1745<0,Calc_WHDHC!I1745,2*PI()*Calc_WHDHC!G1745/60*Calc_WHDHC!H1745/1000*IF(Input!$B$4=\"Other\",0.95*0.95,0.98*0.95)),3)","v":125.191}]
[1740,null,{"$f":"Calc_WHDHC!G1746","v":1301},null,null,{"$f":"ROUND(IF(Calc_WHDHC!H1746<0,Calc_WHDHC!I1746*IF(Input!$B$4=\"Other\",0.95*0.95,0.98*0.95),2*PI()*Calc_WHDHC!G1746/60*Calc_WHDHC!H1746/1000),3)","v":131.47200000000001},null,null,1740,null,"-",null,null,{"$f":"Calc_WHDHC!J1746/3.6/(2*Input!$B$5*PI())*60","v":239.45232217444521},null,null,{"$f":"ROUND(IF(Calc_WHDHC!H1746<0,Calc_WHDHC!I1746,2*PI()*Calc_WHDHC!G1746/60*Calc_WHDHC!H1746/1000*IF(Input!$B$4=\"Other\",0.95*0.95,0.98*0.95)),3)","v":122.4}]
[1741,null,{"$f":"Calc_WHDHC!G1747","v":1302},null,null,{"$f":"ROUND(IF(Calc_WHDHC!H1747<0,Calc_WHDHC!I1747*IF(Input!$B$4=\"Other\",0.95*0.95,0.98*0.95),2*PI()*Calc_WHDHC!G1747/60*Calc_WHDHC!H1747/1000),3)","v":132.255},null,null,1741,null,"-",null,null,{"$f":"Calc_WHDHC!J1747/3.6/(2*Input!$B$5*PI())*60","v":239.6461434342996},null,null,{"$f":"ROUND(IF(Calc_WHDHC!H1747<0,Calc_WHDHC!I1747,2*PI()*Calc_WHDHC!G1747/60*Calc_WHDHC!H1747/1000*IF(Input!$B$4=\"Other\",0.95*0.95,0.98*0.95)),3)","v":123.129}]
[1742,null,{"$f":"Calc_WHDHC!G1748","v":1304},null,null,{"$f":"ROUND(IF(Calc_WHDHC!H1748<0,Calc_WHDHC!I1748*IF(Input!$B$4=\"Other\",0.95*0.95,0.98*0.95),2*PI()*Calc_WHDHC!G1748/60*Calc_WHDHC!H1748/1000),3)","v":132.185},null,null,1742,null,"-",null,null,{"$f":"Calc_WHDHC!J1748/3.6/(2*Input!$B$5*PI())*60","v":239.95071969978514},null,null,{"$f":"ROUND(IF(Calc_WHDHC!H1748<0,Calc_WHDHC!I1748,2*PI()*Calc_WHDHC!G1748/60*Calc_WHDHC!H1748/1000*IF(Input!$B$4=\"Other\",0.95*0.95,0.98*0.95)),3)","v":123.06399999999999}]
[1743,null,{"$f":"Calc_WHDHC!G1749","v":1304},null,null,{"$f":"ROUND(IF(Calc_WHDHC!H1749<0,Calc_WHDHC!I1749*IF(Input!$B$4=\"Other\",0.95*0.95,0.98*0.95),2*PI()*Calc_WHDHC!G1749/60*Calc_WHDHC!H1749/1000),3)","v":132.185},null,null,1743,null,"-",null,null,{"$f":"Calc_WHDHC!J1749/3.6/(2*Input!$B$5*PI())*60","v":239.95071969978514},null,null,{"$f":"ROUND(IF(Calc_WHDHC!H1749<0,Calc_WHDHC!I1749,2*PI()*Calc_WHDHC!G1749/60*Calc_WHDHC!H1749/1000*IF(Input!$B$4=\"Other\",0.95*0.95,0.98*0.95)),3)","v":123.06399999999999}]
[1744,null,{"$f":"Calc_WHDHC!G1750","v":1302},null,null,{"$f":"ROUND(IF(Calc_WHDHC!H1750<0,Calc_WHDHC!I1750*IF(Input!$B$4=\"Other\",0.95*0.95,0.98*0.95),2*PI()*Calc_WHDHC!G1750/60*Calc_WHDHC!H1750/1000),3)","v":128.16399999999999},null,null,1744,null,"-",null,null,{"$f":"Calc_WHDHC!J1750/3.6/(2*Input!$B$5*PI())*60","v":239.75689843993072},null,null,{"$f":"ROUND(IF(Calc_WHDHC!H1750<0,Calc_WHDHC!I1750,2*PI()*Calc_WHDHC!G1750/60*Calc_WHDHC!H1750/1000*IF(Input!$B$4=\"Other\",0.95*0.95,0.98*0.95)),3)","v":119.321}]
[1745,null,{"$f":"Calc_WHDHC!G1751","v":1302},null,null,{"$f":"ROUND(IF(Calc_WHDHC!H1751<0,Calc_WHDHC!I1751*IF(Input!$B$4=\"Other\",0.95*0.95,0.98*0.95),2*PI()*Calc_WHDHC!G1751/60*Calc_WHDHC!H1751/1000),3)","v":132.255},null,null,1745,null,"-",null,null,{"$f":"Calc_WHDHC!J1751/3.6/(2*Input!$B$5*PI())*60","v":239.6461434342996},null,null,{"$f":"ROUND(IF(Calc_WHDHC!H1751<0,Calc_WHDHC!I1751,2*PI()*Calc_WHDHC!G1751/60*Calc_WHDHC!H1751/1000*IF(Input!$B$4=\"Other\",0.95*0.95,0.98*0.95)),3)","v":123.129}]
[1746,null,{"$f":"Calc_WHDHC!G1752","v":1305},null,null,{"$f":"ROUND(IF(Calc_WHDHC!H1752<0,Calc_WHDHC!I1752*IF(Input!$B$4=\"Other\",0.95*0.95,0.98*0.95),2*PI()*Calc_WHDHC!G1752/60*Calc_WHDHC!H1752/1000),3)","v":133.10599999999999},null,null,1746,null,"-",null,null,{"$f":"Calc_WHDHC!J1752/3.6/(2*Input!$B$5*PI())*60","v":240.17222971104735},null,null,{"$f":"ROUND(IF(Calc_WHDHC!H1752<0,Calc_WHDHC!I1752,2*PI()*Calc_WHDHC!G1752/60*Calc_WHDHC!H1752/1000*IF(Input!$B$4=\"Other\",0.95*0.95,0.98*0.95)),3)","v":123.922}]
[1747,null,{"$f":"Calc_WHDHC!G1753","v":1297},null,null,{"$f":"ROUND(IF(Calc_WHDHC!H1753<0,Calc_WHDHC!I1753*IF(Input!$B$4=\"Other\",0.95*0.95,0.98*0.95),2*PI()*Calc_WHDHC!G1753/60*Calc_WHDHC!H1753/1000),3)","v":0},null,null,1747,null,"-",null,null,{"$f":"Calc_WHDHC!J1753/3.6/(2*Input!$B$5*PI())*60","v":238.70472588643523},null,null,{"$f":"ROUND(IF(Calc_WHDHC!H1753<0,Calc_WHDHC!I1753,2*PI()*Calc_WHDHC!G1753/60*Calc_WHDHC!H1753/1000*IF(Input!$B$4=\"Other\",0.95*0.95,0.98*0.95)),3)","v":0}]
[1748,null,{"$f":"Calc_WHDHC!G1754","v":1293},null,null,{"$f":"ROUND(IF(Calc_WHDHC!H1754<0,Calc_WHDHC!I1754*IF(Input!$B$4=\"Other\",0.95*0.95,0.98*0.95),2*PI()*Calc_WHDHC!G1754/60*Calc_WHDHC!H1754/1000),3)","v":-0.30399999999999999},null,null,1748,null,"-",null,null,{"$f":"Calc_WHDHC!J1754/3.6/(2*Input!$B$5*PI())*60","v":238.01250710124086},null,null,{"$f":"ROUND(IF(Calc_WHDHC!H1754<0,Calc_WHDHC!I1754,2*PI()*Calc_WHDHC!G1754/60*Calc_WHDHC!H1754/1000*IF(Input!$B$4=\"Other\",0.95*0.95,0.98*0.95)),3)","v":-0.32600000000000001}]
[1749,null,{"$f":"Calc_WHDHC!G1755","v":1286},null,null,{"$f":"ROUND(IF(Calc_WHDHC!H1755<0,Calc_WHDHC!I1755*IF(Input!$B$4=\"Other\",0.95*0.95,0.98*0.95),2*PI()*Calc_WHDHC!G1755/60*Calc_WHDHC!H1755/1000),3)","v":-5.359},null,null,1749,null,"-",null,null,{"$f":"Calc_WHDHC!J1755/3.6/(2*Input!$B$5*PI())*60","v":236.73882453648318},null,null,{"$f":"ROUND(IF(Calc_WHDHC!H1755<0,Calc_WHDHC!I1755,2*PI()*Calc_WHDHC!G1755/60*Calc_WHDHC!H1755/1000*IF(Input!$B$4=\"Other\",0.95*0.95,0.98*0.95)),3)","v":-5.7560000000000002}]
[1750,null,{"$f":"Calc_WHDHC!G1756","v":1274},null,null,{"$f":"ROUND(IF(Calc_WHDHC!H1756<0,Calc_WHDHC!I1756*IF(Input!$B$4=\"Other\",0.95*0.95,0.98*0.95),2*PI()*Calc_WHDHC!G1756/60*Calc_WHDHC!H1756/1000),3)","v":0},null,null,1750,null,"-",null,null,{"$f":"Calc_WHDHC!J1756/3.6/(2*Input!$B$5*PI())*60","v":234.71754568371551},null,null,{"$f":"ROUND(IF(Calc_WHDHC!H1756<0,Calc_WHDHC!I1756,2*PI()*Calc_WHDHC!G1756/60*Calc_WHDHC!H1756/1000*IF(Input!$B$4=\"Other\",0.95*0.95,0.98*0.95)),3)","v":0}]
[1751,null,{"$f":"Calc_WHDHC!G1757","v":1273},null,null,{"$f":"ROUND(IF(Calc_WHDHC!H1757<0,Calc_WHDHC!I1757*IF(Input!$B$4=\"Other\",0.95*0.95,0.98*0.95),2*PI()*Calc_WHDHC!G1757/60*Calc_WHDHC!H1757/1000),3)","v":-1.157},null,null,1751,null,"-",null,null,{"$f":"Calc_WHDHC!J1757/3.6/(2*Input!$B$5*PI())*60","v":234.38528066682221},null,null,{"$f":"ROUND(IF(Calc_WHDHC!H1757<0,Calc_WHDHC!I1757,2*PI()*Calc_WHDHC!G1757/60*Calc_WHDHC!H1757/1000*IF(Input!$B$4=\"Other\",0.95*0.95,0.98*0.95)),3)","v":-1.2430000000000001}]
[1752,null,{"$f":"Calc_WHDHC!G1758","v":1264},null,null,{"$f":"ROUND(IF(Calc_WHDHC!H1758<0,Calc_WHDHC!I1758*IF(Input!$B$4=\"Other\",0.95*0.95,0.98*0.95),2*PI()*Calc_WHDHC!G1758/60*Calc_WHDHC!H1758/1000),3)","v":-2.9750000000000001},null,null,1752,null,"-",null,null,{"$f":"Calc_WHDHC!J1758/3.6/(2*Input!$B$5*PI())*60","v":232.86239933939456},null,null,{"$f":"ROUND(IF(Calc_WHDHC!H1758<0,Calc_WHDHC!I1758,2*PI()*Calc_WHDHC!G1758/60*Calc_WHDHC!H1758/1000*IF(Input!$B$4=\"Other\",0.95*0.95,0.98*0.95)),3)","v":-3.1960000000000002}]
[1753,null,{"$f":"Calc_WHDHC!G1759","v":1255},null,null,{"$f":"ROUND(IF(Calc_WHDHC!H1759<0,Calc_WHDHC!I1759*IF(Input!$B$4=\"Other\",0.95*0.95,0.98*0.95),2*PI()*Calc_WHDHC!G1759/60*Calc_WHDHC!H1759/1000),3)","v":-4.3419999999999996},null,null,1753,null,"-",null,null,{"$f":"Calc_WHDHC!J1759/3.6/(2*Input!$B$5*PI())*60","v":231.09031924929687},null,null,{"$f":"ROUND(IF(Calc_WHDHC!H1759<0,Calc_WHDHC!I1759,2*PI()*Calc_WHDHC!G1759/60*Calc_WHDHC!H1759/1000*IF(Input!$B$4=\"Other\",0.95*0.95,0.98*0.95)),3)","v":-4.6639999999999997}]
[1754,null,{"$f":"Calc_WHDHC!G1760","v":1244},null,null,{"$f":"ROUND(IF(Calc_WHDHC!H1760<0,Calc_WHDHC!I1760*IF(Input!$B$4=\"Other\",0.95*0.95,0.98*0.95),2*PI()*Calc_WHDHC!G1760/60*Calc_WHDHC!H1760/1000),3)","v":-14.813000000000001},null,null,1754,null,"-",null,null,{"$f":"Calc_WHDHC!J1760/3.6/(2*Input!$B$5*PI())*60","v":229.17979540216032},null,null,{"$f":"ROUND(IF(Calc_WHDHC!H1760<0,Calc_WHDHC!I1760,2*PI()*Calc_WHDHC!G1760/60*Calc_WHDHC!H1760/1000*IF(Input!$B$4=\"Other\",0.95*0.95,0.98*0.95)),3)","v":-15.911}]
[1755,null,{"$f":"Calc_WHDHC!G1761","v":1230},null,null,{"$f":"ROUND(IF(Calc_WHDHC!H1761<0,Calc_WHDHC!I1761*IF(Input!$B$4=\"Other\",0.95*0.95,0.98*0.95),2*PI()*Calc_WHDHC!G1761/60*Calc_WHDHC!H1761/1000),3)","v":-2.6520000000000001},null,null,1755,null,"-",null,null,{"$f":"Calc_WHDHC!J1761/3.6/(2*Input!$B$5*PI())*60","v":226.43860901279055},null,null,{"$f":"ROUND(IF(Calc_WHDHC!H1761<0,Calc_WHDHC!I1761,2*PI()*Calc_WHDHC!G1761/60*Calc_WHDHC!H1761/1000*IF(Input!$B$4=\"Other\",0.95*0.95,0.98*0.95)),3)","v":-2.8490000000000002}]
[1756,null,{"$f":"Calc_WHDHC!G1762","v":1219},null,null,{"$f":"ROUND(IF(Calc_WHDHC!H1762<0,Calc_WHDHC!I1762*IF(Input!$B$4=\"Other\",0.95*0.95,0.98*0.95),2*PI()*Calc_WHDHC!G1762/60*Calc_WHDHC!H1762/1000),3)","v":-6.0019999999999998},null,null,1756,null,"-",null,null,{"$f":"Calc_WHDHC!J1762/3.6/(2*Input!$B$5*PI())*60","v":224.72190642550848},null,null,{"$f":"ROUND(IF(Calc_WHDHC!H1762<0,Calc_WHDHC!I1762,2*PI()*Calc_WHDHC!G1762/60*Calc_WHDHC!H1762/1000*IF(Input!$B$4=\"Other\",0.95*0.95,0.98*0.95)),3)","v":-6.4470000000000001}]
[1757,null,{"$f":"Calc_WHDHC!G1763","v":1208},null,null,{"$f":"ROUND(IF(Calc_WHDHC!H1763<0,Calc_WHDHC!I1763*IF(Input!$B$4=\"Other\",0.95*0.95,0.98*0.95),2*PI()*Calc_WHDHC!G1763/60*Calc_WHDHC!H1763/1000),3)","v":-22.945},null,null,1757,null,"-",null,null,{"$f":"Calc_WHDHC!J1763/3.6/(2*Input!$B$5*PI())*60","v":222.67293882133308},null,null,{"$f":"ROUND(IF(Calc_WHDHC!H1763<0,Calc_WHDHC!I1763,2*PI()*Calc_WHDHC!G1763/60*Calc_WHDHC!H1763/1000*IF(Input!$B$4=\"Other\",0.95*0.95,0.98*0.95)),3)","v":-24.646000000000001}]
[1758,null,{"$f":"Calc_WHDHC!G1764","v":1190},null,null,{"$f":"ROUND(IF(Calc_WHDHC!H1764<0,Calc_WHDHC!I1764*IF(Input!$B$4=\"Other\",0.95*0.95,0.98*0.95),2*PI()*Calc_WHDHC!G1764/60*Calc_WHDHC!H1764/1000),3)","v":-5.8449999999999998},null,null,1758,null,"-",null,null,{"$f":"Calc_WHDHC!J1764/3.6/(2*Input!$B$5*PI())*60","v":219.3225999009922},null,null,{"$f":"ROUND(IF(Calc_WHDHC!H1764<0,Calc_WHDHC!I1764,2*PI()*Calc_WHDHC!G1764/60*Calc_WHDHC!H1764/1000*IF(Input!$B$4=\"Other\",0.95*0.95,0.98*0.95)),3)","v":-6.2779999999999996}]
[1759,null,{"$f":"Calc_WHDHC!G1765","v":1178},null,null,{"$f":"ROUND(IF(Calc_WHDHC!H1765<0,Calc_WHDHC!I1765*IF(Input!$B$4=\"Other\",0.95*0.95,0.98*0.95),2*PI()*Calc_WHDHC!G1765/60*Calc_WHDHC!H1765/1000),3)","v":-14.837},null,null,1759,null,"-",null,null,{"$f":"Calc_WHDHC!J1765/3.6/(2*Input!$B$5*PI())*60","v":217.30132104822457},null,null,{"$f":"ROUND(IF(Calc_WHDHC!H1765<0,Calc_WHDHC!I1765,2*PI()*Calc_WHDHC!G1765/60*Calc_WHDHC!H1765/1000*IF(Input!$B$4=\"Other\",0.95*0.95,0.98*0.95)),3)","v":-15.936999999999999}]
[1760,null,{"$f":"Calc_WHDHC!G1766","v":1164},null,null,{"$f":"ROUND(IF(Calc_WHDHC!H1766<0,Calc_WHDHC!I1766*IF(Input!$B$4=\"Other\",0.95*0.95,0.98*0.95),2*PI()*Calc_WHDHC!G1766/60*Calc_WHDHC!H1766/1000),3)","v":-8.2460000000000004},null,null,1760,null,"-",null,null,{"$f":"Calc_WHDHC!J1766/3.6/(2*Input!$B$5*PI())*60","v":214.56013465885474},null,null,{"$f":"ROUND(IF(Calc_WHDHC!H1766<0,Calc_WHDHC!I1766,2*PI()*Calc_WHDHC!G1766/60*Calc_WHDHC!H1766/1000*IF(Input!$B$4=\"Other\",0.95*0.95,0.98*0.95)),3)","v":-8.8569999999999993}]
[1761,null,{"$f":"Calc_WHDHC!G1767","v":1152},null,null,{"$f":"ROUND(IF(Calc_WHDHC!H1767<0,Calc_WHDHC!I1767*IF(Input!$B$4=\"Other\",0.95*0.95,0.98*0.95),2*PI()*Calc_WHDHC!G1767/60*Calc_WHDHC!H1767/1000),3)","v":-7.3079999999999998},null,null,1761,null,"-",null,null,{"$f":"Calc_WHDHC!J1767/3.6/(2*Input!$B$5*PI())*60","v":212.34503454623268},null,null,{"$f":"ROUND(IF(Calc_WHDHC!H1767<0,Calc_WHDHC!I1767,2*PI()*Calc_WHDHC!G1767/60*Calc_WHDHC!H1767/1000*IF(Input!$B$4=\"Other\",0.95*0.95,0.98*0.95)),3)","v":-7.85}]
[1762,null,{"$f":"Calc_WHDHC!G1768","v":1140},null,null,{"$f":"ROUND(IF(Calc_WHDHC!H1768<0,Calc_WHDHC!I1768*IF(Input!$B$4=\"Other\",0.95*0.95,0.98*0.95),2*PI()*Calc_WHDHC!G1768/60*Calc_WHDHC!H1768/1000),3)","v":-9.6379999999999999},null,null,1762,null,"-",null,null,{"$f":"Calc_WHDHC!J1768/3.6/(2*Input!$B$5*PI())*60","v":210.21300068783393},null,null,{"$f":"ROUND(IF(Calc_WHDHC!H1768<0,Calc_WHDHC!I1768,2*PI()*Calc_WHDHC!G1768/60*Calc_WHDHC!H1768/1000*IF(Input!$B$4=\"Other\",0.95*0.95,0.98*0.95)),3)","v":-10.352}]
[1763,null,{"$f":"Calc_WHDHC!G1769","v":1127},null,null,{"$f":"ROUND(IF(Calc_WHDHC!H1769<0,Calc_WHDHC!I1769*IF(Input!$B$4=\"Other\",0.95*0.95,0.98*0.95),2*PI()*Calc_WHDHC!G1769/60*Calc_WHDHC!H1769/1000),3)","v":-22.523},null,null,1763,null,"-",null,null,{"$f":"Calc_WHDHC!J1769/3.6/(2*Input!$B$5*PI())*60","v":207.88714556958078},null,null,{"$f":"ROUND(IF(Calc_WHDHC!H1769<0,Calc_WHDHC!I1769,2*PI()*Calc_WHDHC!G1769/60*Calc_WHDHC!H1769/1000*IF(Input!$B$4=\"Other\",0.95*0.95,0.98*0.95)),3)","v":-24.192}]
[1764,null,{"$f":"Calc_WHDHC!G1770","v":1108},null,null,{"$f":"ROUND(IF(Calc_WHDHC!H1770<0,Calc_WHDHC!I1770*IF(Input!$B$4=\"Other\",0.95*0.95,0.98*0.95),2*PI()*Calc_WHDHC!G1770/60*Calc_WHDHC!H1770/1000),3)","v":-40.427},null,null,1764,null,"-",null,null,{"$f":"Calc_WHDHC!J1770/3.6/(2*Input!$B$5*PI())*60","v":204.53680664923994},null,null,{"$f":"ROUND(IF(Calc_WHDHC!H1770<0,Calc_WHDHC!I1770,2*PI()*Calc_WHDHC!G1770/60*Calc_WHDHC!H1770/1000*IF(Input!$B$4=\"Other\",0.95*0.95,0.98*0.95)),3)","v":-43.423000000000002}]
[1765,null,{"$f":"Calc_WHDHC!G1771","v":1082},null,null,{"$f":"ROUND(IF(Calc_WHDHC!H1771<0,Calc_WHDHC!I1771*IF(Input!$B$4=\"Other\",0.95*0.95,0.98*0.95),2*PI()*Calc_WHDHC!G1771/60*Calc_WHDHC!H1771/1000),3)","v":-65.106999999999999},null,null,1765,null,"-",null,null,{"$f":"Calc_WHDHC!J1771/3.6/(2*Input!$B$5*PI())*60","v":199.77434140710247},null,null,{"$f":"ROUND(IF(Calc_WHDHC!H1771<0,Calc_WHDHC!I1771,2*PI()*Calc_WHDHC!G1771/60*Calc_WHDHC!H1771/1000*IF(Input!$B$4=\"Other\",0.95*0.95,0.98*0.95)),3)","v":-69.932000000000002}]
[1766,null,{"$f":"Calc_WHDHC!G1772","v":1045},null,null,{"$f":"ROUND(IF(Calc_WHDHC!H1772<0,Calc_WHDHC!I1772*IF(Input!$B$4=\"Other\",0.95*0.95,0.98*0.95),2*PI()*Calc_WHDHC!G1772/60*Calc_WHDHC!H1772/1000),3)","v":-65.174999999999997},null,null,1766,null,"-",null,null,{"$f":"Calc_WHDHC!J1772/3.6/(2*Input!$B$5*PI())*60","v":192.9629085607896},null,null,{"$f":"ROUND(IF(Calc_WHDHC!H1772<0,Calc_WHDHC!I1772,2*PI()*Calc_WHDHC!G1772/60*Calc_WHDHC!H1772/1000*IF(Input!$B$4=\"Other\",0.95*0.95,0.98*0.95)),3)","v":-70.004999999999995}]
[1767,null,{"$f":"Calc_WHDHC!G1773","v":1006},null,null,{"$f":"ROUND(IF(Calc_WHDHC!H1773<0,Calc_WHDHC!I1773*IF(Input!$B$4=\"Other\",0.95*0.95,0.98*0.95),2*PI()*Calc_WHDHC!G1773/60*Calc_WHDHC!H1773/1000),3)","v":-59.911999999999999},null,null,1767,null,"-",null,null,{"$f":"Calc_WHDHC!J1773/3.6/(2*Input!$B$5*PI())*60","v":185.98534320603014},null,null,{"$f":"ROUND(IF(Calc_WHDHC!H1773<0,Calc_WHDHC!I1773,2*PI()*Calc_WHDHC!G1773/60*Calc_WHDHC!H1773/1000*IF(Input!$B$4=\"Other\",0.95*0.95,0.98*0.95)),3)","v":-64.352000000000004}]
[1768,null,{"$f":"Calc_WHDHC!G1774","v":969},null,null,{"$f":"ROUND(IF(Calc_WHDHC!H1774<0,Calc_WHDHC!I1774*IF(Input!$B$4=\"Other\",0.95*0.95,0.98*0.95),2*PI()*Calc_WHDHC!G1774/60*Calc_WHDHC!H1774/1000),3)","v":-51.326000000000001},null,null,1768,null,"-",null,null,{"$f":"Calc_WHDHC!J1774/3.6/(2*Input!$B$5*PI())*60","v":179.28466536534836},null,null,{"$f":"ROUND(IF(Calc_WHDHC!H1774<0,Calc_WHDHC!I1774,2*PI()*Calc_WHDHC!G1774/60*Calc_WHDHC!H1774/1000*IF(Input!$B$4=\"Other\",0.95*0.95,0.98*0.95)),3)","v":-55.13}]
[1769,null,{"$f":"Calc_WHDHC!G1775","v":1088},null,null,{"$f":"ROUND(IF(Calc_WHDHC!H1775<0,Calc_WHDHC!I1775*IF(Input!$B$4=\"Other\",0.95*0.95,0.98*0.95),2*PI()*Calc_WHDHC!G1775/60*Calc_WHDHC!H1775/1000),3)","v":0},null,null,1769,null,"-",null,null,{"$f":"Calc_WHDHC!J1775/3.6/(2*Input!$B$5*PI())*60","v":173.19314005563768},null,null,{"$f":"ROUND(IF(Calc_WHDHC!H1775<0,Calc_WHDHC!I1775,2*PI()*Calc_WHDHC!G1775/60*Calc_WHDHC!H1775/1000*IF(Input!$B$4=\"Other\",0.95*0.95,0.98*0.95)),3)","v":0}]
[1770,null,{"$f":"Calc_WHDHC!G1776","v":1208},null,null,{"$f":"ROUND(IF(Calc_WHDHC!H1776<0,Calc_WHDHC!I1776*IF(Input!$B$4=\"Other\",0.95*0.95,0.98*0.95),2*PI()*Calc_WHDHC!G1776/60*Calc_WHDHC!H1776/1000),3)","v":-38.844999999999999},null,null,1770,null,"-",null,null,{"$f":"Calc_WHDHC!J1776/3.6/(2*Input!$B$5*PI())*60","v":167.01854849170368},null,null,{"$f":"ROUND(IF(Calc_WHDHC!H1776<0,Calc_WHDHC!I1776,2*PI()*Calc_WHDHC!G1776/60*Calc_WHDHC!H1776/1000*IF(Input!$B$4=\"Other\",0.95*0.95,0.98*0.95)),3)","v":-41.723999999999997}]
[1771,null,{"$f":"Calc_WHDHC!G1777","v":1170},null,null,{"$f":"ROUND(IF(Calc_WHDHC!H1777<0,Calc_WHDHC!I1777*IF(Input!$B$4=\"Other\",0.95*0.95,0.98*0.95),2*PI()*Calc_WHDHC!G1777/60*Calc_WHDHC!H1777/1000),3)","v":-41.896999999999998},null,null,1771,null,"-",null,null,{"$f":"Calc_WHDHC!J1777/3.6/(2*Input!$B$5*PI())*60","v":161.84075197844959},null,null,{"$f":"ROUND(IF(Calc_WHDHC!H1777<0,Calc_WHDHC!I1777,2*PI()*Calc_WHDHC!G1777/60*Calc_WHDHC!H1777/1000*IF(Input!$B$4=\"Other\",0.95*0.95,0.98*0.95)),3)","v":-45.002000000000002}]
[1772,null,{"$f":"Calc_WHDHC!G1778","v":1129},null,null,{"$f":"ROUND(IF(Calc_WHDHC!H1778<0,Calc_WHDHC!I1778*IF(Input!$B$4=\"Other\",0.95*0.95,0.98*0.95),2*PI()*Calc_WHDHC!G1778/60*Calc_WHDHC!H1778/1000),3)","v":-42.140999999999998},null,null,1772,null,"-",null,null,{"$f":"Calc_WHDHC!J1778/3.6/(2*Input!$B$5*PI())*60","v":156.24762419407887},null,null,{"$f":"ROUND(IF(Calc_WHDHC!H1778<0,Calc_WHDHC!I1778,2*PI()*Calc_WHDHC!G1778/60*Calc_WHDHC!H1778/1000*IF(Input!$B$4=\"Other\",0.95*0.95,0.98*0.95)),3)","v":-45.264000000000003}]
[1773,null,{"$f":"Calc_WHDHC!G1779","v":1087},null,null,{"$f":"ROUND(IF(Calc_WHDHC!H1779<0,Calc_WHDHC!I1779*IF(Input!$B$4=\"Other\",0.95*0.95,0.98*0.95),2*PI()*Calc_WHDHC!G1779/60*Calc_WHDHC!H1779/1000),3)","v":-41.978000000000002},null,null,1773,null,"-",null,null,{"$f":"Calc_WHDHC!J1779/3.6/(2*Input!$B$5*PI())*60","v":150.48836390126152},null,null,{"$f":"ROUND(IF(Calc_WHDHC!H1779<0,Calc_WHDHC!I1779,2*PI()*Calc_WHDHC!G1779/60*Calc_WHDHC!H1779/1000*IF(Input!$B$4=\"Other\",0.95*0.95,0.98*0.95)),3)","v":-45.088999999999999}]
[1774,null,{"$f":"Calc_WHDHC!G1780","v":1043},null,null,{"$f":"ROUND(IF(Calc_WHDHC!H1780<0,Calc_WHDHC!I1780*IF(Input!$B$4=\"Other\",0.95*0.95,0.98*0.95),2*PI()*Calc_WHDHC!G1780/60*Calc_WHDHC!H1780/1000),3)","v":-36.505000000000003},null,null,1774,null,"-",null,null,{"$f":"Calc_WHDHC!J1780/3.6/(2*Input!$B$5*PI())*60","v":144.59065985140526},null,null,{"$f":"ROUND(IF(Calc_WHDHC!H1780<0,Calc_WHDHC!I1780,2*PI()*Calc_WHDHC!G1780/60*Calc_WHDHC!H1780/1000*IF(Input!$B$4=\"Other\",0.95*0.95,0.98*0.95)),3)","v":-39.210999999999999}]
[1775,null,{"$f":"Calc_WHDHC!G1781","v":1004},null,null,{"$f":"ROUND(IF(Calc_WHDHC!H1781<0,Calc_WHDHC!I1781*IF(Input!$B$4=\"Other\",0.95*0.95,0.98*0.95),2*PI()*Calc_WHDHC!G1781/60*Calc_WHDHC!H1781/1000),3)","v":-36.341999999999999},null,null,1775,null,"-",null,null,{"$f":"Calc_WHDHC!J1781/3.6/(2*Input!$B$5*PI())*60","v":139.13597582407343},null,null,{"$f":"ROUND(IF(Calc_WHDHC!H1781<0,Calc_WHDHC!I1781,2*PI()*Calc_WHDHC!G1781/60*Calc_WHDHC!H1781/1000*IF(Input!$B$4=\"Other\",0.95*0.95,0.98*0.95)),3)","v":-39.034999999999997}]
[1776,null,{"$f":"Calc_WHDHC!G1782","v":963},null,null,{"$f":"ROUND(IF(Calc_WHDHC!H1782<0,Calc_WHDHC!I1782*IF(Input!$B$4=\"Other\",0.95*0.95,0.98*0.95),2*PI()*Calc_WHDHC!G1782/60*Calc_WHDHC!H1782/1000),3)","v":-28.166},null,null,1776,null,"-",null,null,{"$f":"Calc_WHDHC!J1782/3.6/(2*Input!$B$5*PI())*60","v":133.5428480397027},null,null,{"$f":"ROUND(IF(Calc_WHDHC!H1782<0,Calc_WHDHC!I1782,2*PI()*Calc_WHDHC!G1782/60*Calc_WHDHC!H1782/1000*IF(Input!$B$4=\"Other\",0.95*0.95,0.98*0.95)),3)","v":-30.253}]
[1777,null,{"$f":"Calc_WHDHC!G1783","v":1125},null,null,{"$f":"ROUND(IF(Calc_WHDHC!H1783<0,Calc_WHDHC!I1783*IF(Input!$B$4=\"Other\",0.95*0.95,0.98*0.95),2*PI()*Calc_WHDHC!G1783/60*Calc_WHDHC!H1783/1000),3)","v":0},null,null,1777,null,"-",null,null,{"$f":"Calc_WHDHC!J1783/3.6/(2*Input!$B$5*PI())*60","v":128.7803827975653},null,null,{"$f":"ROUND(IF(Calc_WHDHC!H1783<0,Calc_WHDHC!I1783,2*PI()*Calc_WHDHC!G1783/60*Calc_WHDHC!H1783/1000*IF(Input!$B$4=\"Other\",0.95*0.95,0.98*0.95)),3)","v":0}]
[1778,null,{"$f":"Calc_WHDHC!G1784","v":1289},null,null,{"$f":"ROUND(IF(Calc_WHDHC!H1784<0,Calc_WHDHC!I1784*IF(Input!$B$4=\"Other\",0.95*0.95,0.98*0.95),2*PI()*Calc_WHDHC!G1784/60*Calc_WHDHC!H1784/1000),3)","v":-39.332000000000001},null,null,1778,null,"-",null,null,{"$f":"Calc_WHDHC!J1784/3.6/(2*Input!$B$5*PI())*60","v":122.79961249348572},null,null,{"$f":"ROUND(IF(Calc_WHDHC!H1784<0,Calc_WHDHC!I1784,2*PI()*Calc_WHDHC!G1784/60*Calc_WHDHC!H1784/1000*IF(Input!$B$4=\"Other\",0.95*0.95,0.98*0.95)),3)","v":-42.247}]
[1779,null,{"$f":"Calc_WHDHC!G1785","v":1219},null,null,{"$f":"ROUND(IF(Calc_WHDHC!H1785<0,Calc_WHDHC!I1785*IF(Input!$B$4=\"Other\",0.95*0.95,0.98*0.95),2*PI()*Calc_WHDHC!G1785/60*Calc_WHDHC!H1785/1000),3)","v":-42.192},null,null,1779,null,"-",null,null,{"$f":"Calc_WHDHC!J1785/3.6/(2*Input!$B$5*PI())*60","v":116.20968965843508},null,null,{"$f":"ROUND(IF(Calc_WHDHC!H1785<0,Calc_WHDHC!I1785,2*PI()*Calc_WHDHC!G1785/60*Calc_WHDHC!H1785/1000*IF(Input!$B$4=\"Other\",0.95*0.95,0.98*0.95)),3)","v":-45.319000000000003}]
[1780,null,{"$f":"Calc_WHDHC!G1786","v":1141},null,null,{"$f":"ROUND(IF(Calc_WHDHC!H1786<0,Calc_WHDHC!I1786*IF(Input!$B$4=\"Other\",0.95*0.95,0.98*0.95),2*PI()*Calc_WHDHC!G1786/60*Calc_WHDHC!H1786/1000),3)","v":-43.154000000000003},null,null,1780,null,"-",null,null,{"$f":"Calc_WHDHC!J1786/3.6/(2*Input!$B$5*PI())*60","v":108.89985928678226},null,null,{"$f":"ROUND(IF(Calc_WHDHC!H1786<0,Calc_WHDHC!I1786,2*PI()*Calc_WHDHC!G1786/60*Calc_WHDHC!H1786/1000*IF(Input!$B$4=\"Other\",0.95*0.95,0.98*0.95)),3)","v":-46.351999999999997}]
[1781,null,{"$f":"Calc_WHDHC!G1787","v":1057},null,null,{"$f":"ROUND(IF(Calc_WHDHC!H1787<0,Calc_WHDHC!I1787*IF(Input!$B$4=\"Other\",0.95*0.95,0.98*0.95),2*PI()*Calc_WHDHC!G1787/60*Calc_WHDHC!H1787/1000),3)","v":-36.979999999999997},null,null,1781,null,"-",null,null,{"$f":"Calc_WHDHC!J1787/3.6/(2*Input!$B$5*PI())*60","v":101.00856513556614},null,null,{"$f":"ROUND(IF(Calc_WHDHC!H1787<0,Calc_WHDHC!I1787,2*PI()*Calc_WHDHC!G1787/60*Calc_WHDHC!H1787/1000*IF(Input!$B$4=\"Other\",0.95*0.95,0.98*0.95)),3)","v":-39.720999999999997}]
[1782,null,{"$f":"Calc_WHDHC!G1788","v":1183},null,null,{"$f":"ROUND(IF(Calc_WHDHC!H1788<0,Calc_WHDHC!I1788*IF(Input!$B$4=\"Other\",0.95*0.95,0.98*0.95),2*PI()*Calc_WHDHC!G1788/60*Calc_WHDHC!H1788/1000),3)","v":0},null,null,1782,null,"-",null,null,{"$f":"Calc_WHDHC!J1788/3.6/(2*Input!$B$5*PI())*60","v":93.587979758282216},null,null,{"$f":"ROUND(IF(Calc_WHDHC!H1788<0,Calc_WHDHC!I1788,2*PI()*Calc_WHDHC!G1788/60*Calc_WHDHC!H1788/1000*IF(Input!$B$4=\"Other\",0.95*0.95,0.98*0.95)),3)","v":0}]
[1783,null,{"$f":"Calc_WHDHC!G1789","v":1310},null,null,{"$f":"ROUND(IF(Calc_WHDHC!H1789<0,Calc_WHDHC!I1789*IF(Input!$B$4=\"Other\",0.95*0.95,0.98*0.95),2*PI()*Calc_WHDHC!G1789/60*Calc_WHDHC!H1789/1000),3)","v":-33.408000000000001},null,null,1783,null,"-",null,null,{"$f":"Calc_WHDHC!J1789/3.6/(2*Input!$B$5*PI())*60","v":86.084328126774992},null,null,{"$f":"ROUND(IF(Calc_WHDHC!H1789<0,Calc_WHDHC!I1789,2*PI()*Calc_WHDHC!G1789/60*Calc_WHDHC!H1789/1000*IF(Input!$B$4=\"Other\",0.95*0.95,0.98*0.95)),3)","v":-35.884}]
[1784,null,{"$f":"Calc_WHDHC!G1790","v":1187},null,null,{"$f":"ROUND(IF(Calc_WHDHC!H1790<0,Calc_WHDHC!I1790*IF(Input!$B$4=\"Other\",0.95*0.95,0.98*0.95),2*PI()*Calc_WHDHC!G1790/60*Calc_WHDHC!H1790/1000),3)","v":-12.065},null,null,1784,null,"-",null,null,{"$f":"Calc_WHDHC!J1790/3.6/(2*Input!$B$5*PI())*60","v":78.19303397555889},null,null,{"$f":"ROUND(IF(Calc_WHDHC!H1790<0,Calc_WHDHC!I1790,2*PI()*Calc_WHDHC!G1790/60*Calc_WHDHC!H1790/1000*IF(Input!$B$4=\"Other\",0.95*0.95,0.98*0.95)),3)","v":-12.959}]
[1785,null,{"$f":"Calc_WHDHC!G1791","v":1127},null,null,{"$f":"ROUND(IF(Calc_WHDHC!H1791<0,Calc_WHDHC!I1791*IF(Input!$B$4=\"Other\",0.95*0.95,0.98*0.95),2*PI()*Calc_WHDHC!G1791/60*Calc_WHDHC!H1791/1000),3)","v":-35.375},null,null,1785,null,"-",null,null,{"$f":"Calc_WHDHC!J1791/3.6/(2*Input!$B$5*PI())*60","v":74.233542524246943},null,null,{"$f":"ROUND(IF(Calc_WHDHC!H1791<0,Calc_WHDHC!I1791,2*PI()*Calc_WHDHC!G1791/60*Calc_WHDHC!H1791/1000*IF(Input!$B$4=\"Other\",0.95*0.95,0.98*0.95)),3)","v":-37.997}]
[1786,null,{"$f":"Calc_WHDHC!G1792","v":977},null,null,{"$f":"ROUND(IF(Calc_WHDHC!H1792<0,Calc_WHDHC!I1792*IF(Input!$B$4=\"Other\",0.95*0.95,0.98*0.95),2*PI()*Calc_WHDHC!G1792/60*Calc_WHDHC!H1792/1000),3)","v":-38.097000000000001},null,null,1786,null,"-",null,null,{"$f":"Calc_WHDHC!J1792/3.6/(2*Input!$B$5*PI())*60","v":64.597857034340961},null,null,{"$f":"ROUND(IF(Calc_WHDHC!H1792<0,Calc_WHDHC!I1792,2*PI()*Calc_WHDHC!G1792/60*Calc_WHDHC!H1792/1000*IF(Input!$B$4=\"Other\",0.95*0.95,0.98*0.95)),3)","v":-40.92}]
[1787,null,{"$f":"Calc_WHDHC!G1793","v":901},null,null,{"$f":"ROUND(IF(Calc_WHDHC!H1793<0,Calc_WHDHC!I1793*IF(Input!$B$4=\"Other\",0.95*0.95,0.98*0.95),2*PI()*Calc_WHDHC!G1793/60*Calc_WHDHC!H1793/1000),3)","v":-27.312999999999999},null,null,1787,null,"-",null,null,{"$f":"Calc_WHDHC!J1793/3.6/(2*Input!$B$5*PI())*60","v":52.636316426181814},null,null,{"$f":"ROUND(IF(Calc_WHDHC!H1793<0,Calc_WHDHC!I1793,2*PI()*Calc_WHDHC!G1793/60*Calc_WHDHC!H1793/1000*IF(Input!$B$4=\"Other\",0.95*0.95,0.98*0.95)),3)","v":-29.337}]
[1788,null,{"$f":"Calc_WHDHC!G1794","v":823},null,null,{"$f":"ROUND(IF(Calc_WHDHC!H1794<0,Calc_WHDHC!I1794*IF(Input!$B$4=\"Other\",0.95*0.95,0.98*0.95),2*PI()*Calc_WHDHC!G1794/60*Calc_WHDHC!H1794/1000),3)","v":-14.789},null,null,1788,null,"-",null,null,{"$f":"Calc_WHDHC!J1794/3.6/(2*Input!$B$5*PI())*60","v":41.671570868702588},null,null,{"$f":"ROUND(IF(Calc_WHDHC!H1794<0,Calc_WHDHC!I1794,2*PI()*Calc_WHDHC!G1794/60*Calc_WHDHC!H1794/1000*IF(Input!$B$4=\"Other\",0.95*0.95,0.98*0.95)),3)","v":-15.885}]
[1789,null,{"$f":"Calc_WHDHC!G1795","v":745},null,null,{"$f":"ROUND(IF(Calc_WHDHC!H1795<0,Calc_WHDHC!I1795*IF(Input!$B$4=\"Other\",0.95*0.95,0.98*0.95),2*PI()*Calc_WHDHC!G1795/60*Calc_WHDHC!H1795/1000),3)","v":-9.3109999999999999},null,null,1789,null,"-",null,null,{"$f":"Calc_WHDHC!J1795/3.6/(2*Input!$B$5*PI())*60","v":33.47570045200095},null,null,{"$f":"ROUND(IF(Calc_WHDHC!H1795<0,Calc_WHDHC!I1795,2*PI()*Calc_WHDHC!G1795/60*Calc_WHDHC!H1795/1000*IF(Input!$B$4=\"Other\",0.95*0.95,0.98*0.95)),3)","v":-10.000999999999999}]
[1790,null,{"$f":"Calc_WHDHC!G1796","v":667},null,null,{"$f":"ROUND(IF(Calc_WHDHC!H1796<0,Calc_WHDHC!I1796*IF(Input!$B$4=\"Other\",0.95*0.95,0.98*0.95),2*PI()*Calc_WHDHC!G1796/60*Calc_WHDHC!H1796/1000),3)","v":-6.74},null,null,1790,null,"-",null,null,{"$f":"Calc_WHDHC!J1796/3.6/(2*Input!$B$5*PI())*60","v":26.276625085979241},null,null,{"$f":"ROUND(IF(Calc_WHDHC!H1796<0,Calc_WHDHC!I1796,2*PI()*Calc_WHDHC!G1796/60*Calc_WHDHC!H1796/1000*IF(Input!$B$4=\"Other\",0.95*0.95,0.98*0.95)),3)","v":-7.24}]
[1791,null,{"$f":"Calc_WHDHC!G1797","v":589},null,null,{"$f":"ROUND(IF(Calc_WHDHC!H1797<0,Calc_WHDHC!I1797*IF(Input!$B$4=\"Other\",0.95*0.95,0.98*0.95),2*PI()*Calc_WHDHC!G1797/60*Calc_WHDHC!H1797/1000),3)","v":-3.2850000000000001},null,null,1791,null,"-",null,null,{"$f":"Calc_WHDHC!J1797/3.6/(2*Input!$B$5*PI())*60","v":18.856039708695327},null,null,{"$f":"ROUND(IF(Calc_WHDHC!H1797<0,Calc_WHDHC!I1797,2*PI()*Calc_WHDHC!G1797/60*Calc_WHDHC!H1797/1000*IF(Input!$B$4=\"Other\",0.95*0.95,0.98*0.95)),3)","v":-3.5289999999999999}]
[1792,null,{"$f":"Calc_WHDHC!G1798","v":560},null,null,{"$f":"ROUND(IF(Calc_WHDHC!H1798<0,Calc_WHDHC!I1798*IF(Input!$B$4=\"Other\",0.95*0.95,0.98*0.95),2*PI()*Calc_WHDHC!G1798/60*Calc_WHDHC!H1798/1000),3)","v":0},null,null,1792,null,"-",null,null,{"$f":"Calc_WHDHC!J1798/3.6/(2*Input!$B$5*PI())*60","v":11.850785602528045},null,null,{"$f":"ROUND(IF(Calc_WHDHC!H1798<0,Calc_WHDHC!I1798,2*PI()*Calc_WHDHC!G1798/60*Calc_WHDHC!H1798/1000*IF(Input!$B$4=\"Other\",0.95*0.95,0.98*0.95)),3)","v":0}]
[1793,null,{"$f":"Calc_WHDHC!G1799","v":560},null,null,{"$f":"ROUND(IF(Calc_WHDHC!H1799<0,Calc_WHDHC!I1799*IF(Input!$B$4=\"Other\",0.95*0.95,0.98*0.95),2*PI()*Calc_WHDHC!G1799/60*Calc_WHDHC!H1799/1000),3)","v":0},null,null,1793,null,"-",null,null,{"$f":"Calc_WHDHC!J1799/3.6/(2*Input!$B$5*PI())*60","v":5.7869490442251434},null,null,{"$f":"ROUND(IF(Calc_WHDHC!H1799<0,Calc_WHDHC!I1799,2*PI()*Calc_WHDHC!G1799/60*Calc_WHDHC!H1799/1000*IF(Input!$B$4=\"Other\",0.95*0.95,0.98*0.95)),3)","v":0}]
[1794,null,{"$f":"Calc_WHDHC!G1800","v":560},null,null,{"$f":"ROUND(IF(Calc_WHDHC!H1800<0,Calc_WHDHC!I1800*IF(Input!$B$4=\"Other\",0.95*0.95,0.98*0.95),2*PI()*Calc_WHDHC!G1800/60*Calc_WHDHC!H1800/1000),3)","v":0},null,null,1794,null,"-",null,null,{"$f":"Calc_WHDHC!J1800/3.6/(2*Input!$B$5*PI())*60","v":2.4366101238842712},null,null,{"$f":"ROUND(IF(Calc_WHDHC!H1800<0,Calc_WHDHC!I1800,2*PI()*Calc_WHDHC!G1800/60*Calc_WHDHC!H1800/1000*IF(Input!$B$4=\"Other\",0.95*0.95,0.98*0.95)),3)","v":0}]
[1795,null,{"$f":"Calc_WHDHC!G1801","v":560},null,null,{"$f":"ROUND(IF(Calc_WHDHC!H1801<0,Calc_WHDHC!I1801*IF(Input!$B$4=\"Other\",0.95*0.95,0.98*0.95),2*PI()*Calc_WHDHC!G1801/60*Calc_WHDHC!H1801/1000),3)","v":0},null,null,1795,null,"-",null,null,{"$f":"Calc_WHDHC!J1801/3.6/(2*Input!$B$5*PI())*60","v":2.4366101238842712},null,null,{"$f":"ROUND(IF(Calc_WHDHC!H1801<0,Calc_WHDHC!I1801,2*PI()*Calc_WHDHC!G1801/60*Calc_WHDHC!H1801/1000*IF(Input!$B$4=\"Other\",0.95*0.95,0.98*0.95)),3)","v":0}]
[1796,null,{"$f":"Calc_WHDHC!G1802","v":560},null,null,{"$f":"ROUND(IF(Calc_WHDHC!H1802<0,Calc_WHDHC!I1802*IF(Input!$B$4=\"Other\",0.95*0.95,0.98*0.95),2*PI()*Calc_WHDHC!G1802/60*Calc_WHDHC!H1802/1000),3)","v":0},null,null,1796,null,"-",null,null,{"$f":"Calc_WHDHC!J1802/3.6/(2*Input!$B$5*PI())*60","v":0},null,null,{"$f":"ROUND(IF(Calc_WHDHC!H1802<0,Calc_WHDHC!I1802,2*PI()*Calc_WHDHC!G1802/60*Calc_WHDHC!H1802/1000*IF(Input!$B$4=\"Other\",0.95*0.95,0.98*0.95)),3)","v":0}]
[1797,null,{"$f":"Calc_WHDHC!G1803","v":560},null,null,{"$f":"ROUND(IF(Calc_WHDHC!H1803<0,Calc_WHDHC!I1803*IF(Input!$B$4=\"Other\",0.95*0.95,0.98*0.95),2*PI()*Calc_WHDHC!G1803/60*Calc_WHDHC!H1803/1000),3)","v":0},null,null,1797,null,"-",null,null,{"$f":"Calc_WHDHC!J1803/3.6/(2*Input!$B$5*PI())*60","v":0},null,null,{"$f":"ROUND(IF(Calc_WHDHC!H1803<0,Calc_WHDHC!I1803,2*PI()*Calc_WHDHC!G1803/60*Calc_WHDHC!H1803/1000*IF(Input!$B$4=\"Other\",0.95*0.95,0.98*0.95)),3)","v":0}]
[1798,null,{"$f":"Calc_WHDHC!G1804","v":560},null,null,{"$f":"ROUND(IF(Calc_WHDHC!H1804<0,Calc_WHDHC!I1804*IF(Input!$B$4=\"Other\",0.95*0.95,0.98*0.95),2*PI()*Calc_WHDHC!G1804/60*Calc_WHDHC!H1804/1000),3)","v":0},null,null,1798,null,"-",null,null,{"$f":"Calc_WHDHC!J1804/3.6/(2*Input!$B$5*PI())*60","v":0},null,null,{"$f":"ROUND(IF(Calc_WHDHC!H1804<0,Calc_WHDHC!I1804,2*PI()*Calc_WHDHC!G1804/60*Calc_WHDHC!H1804/1000*IF(Input!$B$4=\"Other\",0.95*0.95,0.98*0.95)),3)","v":0}]
[1799,null,{"$f":"Calc_WHDHC!G1805","v":560},null,null,{"$f":"ROUND(IF(Calc_WHDHC!H1805<0,Calc_WHDHC!I1805*IF(Input!$B$4=\"Other\",0.95*0.95,0.98*0.95),2*PI()*Calc_WHDHC!G1805/60*Calc_WHDHC!H1805/1000),3)","v":0},null,null,1799,null,"-",null,null,{"$f":"Calc_WHDHC!J1805/3.6/(2*Input!$B$5*PI())*60","v":0},null,null,{"$f":"ROUND(IF(Calc_WHDHC!H1805<0,Calc_WHDHC!I1805,2*PI()*Calc_WHDHC!G1805/60*Calc_WHDHC!H1805/1000*IF(Input!$B$4=\"Other\",0.95*0.95,0.98*0.95)),3)","v":0}]
[1800,null,{"$f":"Calc_WHDHC!G1806","v":560},null,null,{"$f":"ROUND(IF(Calc_WHDHC!H1806<0,Calc_WHDHC!I1806*IF(Input!$B$4=\"Other\",0.95*0.95,0.98*0.95),2*PI()*Calc_WHDHC!G1806/60*Calc_WHDHC!H1806/1000),3)","v":0},null,null,1800,null,"-",null,null,{"$f":"Calc_WHDHC!J1806/3.6/(2*Input!$B$5*PI())*60","v":0},null,null,{"$f":"ROUND(IF(Calc_WHDHC!H1806<0,Calc_WHDHC!I1806,2*PI()*Calc_WHDHC!G1806/60*Calc_WHDHC!H1806/1000*IF(Input!$B$4=\"Other\",0.95*0.95,0.98*0.95)),3)","v":0}]